{"text_format":"1","workbook":"xlsx","n_sheets":7,"sheets":["课程名称及编码","教学计划表","自动生成的开课信息","说明","Sheet1","序号","Sheet2"],"not_rendered":{"charts":0,"images":0,"macros":1,"external_links":0,"defined_names":16,"comments":0,"pivot_tables":0},"unopened":[],"bounds":{"document_bytes":16777216,"sheet_cells":100000,"rows_first":2000,"rows_last":500,"rows_between":2000,"halvings":0,"cell_chars":16384,"cell_head_chars":4096},"cells_cut":0,"cells_raw":0,"read":"whole","date_system":"1900"}

{"sheet":"课程名称及编码","index":0,"n_rows":232,"n_cols":62,"rows_kept":232,"cut":false,"hidden":true,"merged":[]}
[1,1,2,2,3,3,4,4,5,5,6,6,7,7,8,8,9,9,10,10,11,11,12,12,13,13,14,14,15,15,16,16,17,17,18,18,19,19,20,20,21,21,22,22,23,23,24,24,25,25,26,26]
["石化专业课程名称","石化专业课程编码","精化专业课程名称","精化专业课程编码","材料专业课程名称","材料专业课程编码","化工专业课程名称","化工专业课程编码","炼油技术课程名称","炼油技术课程编码","油储课程名称","油储课程编码","分析专业课程名称","分析专业课程编码","环境专业课程名称","环境专业课程编码","化工生物技术专业课程名称","化工生物技术专业课程编码","装备专业课程名称","装备专业课程编码","制冷专业课程名称","制冷专业课程编码","数控专业课程名称","数控专业课程编码","机制专业课程名称","机制专业课程编码","热动专业课程名称","热动专业课程编码","新能源汽车专业课程名称","新能源汽车课程编码","自动化专业课程名称","自动化专业课程编码","电气专业课程名称","电气专业课程编码","机电专业课程名称","机电专业课程编码","智能控制技术","智能控制技术专业课程编码","供电","供电","自动化仪表","自动化仪表","网络专业课程名称","网络专业课程编码","移动专业课程名称","移动专业课程编码","国贸专业课程名称","国贸专业课程编码","英语专业课程名称","英语专业课程编码","社管专业课程名称","社管专业课程编码","商务数据分析与应用\n专业课程名称","商务数据分析与应用\n专业课程编码",null,{"$f":"教学计划表!V18","v":0},"行","列",null,null,"表课程名称","表课程编码"]
["C程序设计","gg051002","石化产品加工概论","gg011001","C程序设计","gg051002","C程序设计","gg051002","AutoCAD","sh051003","CAD制图测绘实训","gg032001","石化产品加工概论","gg011001","CAD实训","yh022001","CAD制图测绘实训","gg032001","石化产品加工概论","gg011001","C程序设计","gg051002","CAD/CAM应用","jx031008","CAD/CAM应用","jx041010","C程序设计","gg051002","石化产品加工概论","gg011001","CAD综合实训","zd012004","石化产品加工概论","gg011001","CAD实训","zd032001","#","#","石化产品加工概论","gg011001","石化产品加工概论","gg011001","C程序设计","gg051002","CAD制图测绘实训","gg032001","C程序设计","gg051002","C程序设计","gg051002","C程序设计","gg051002","C程序设计","gg051002",null,null,1,{"$f":"2*$BD$2-2","v":-2},{"$f":"OFFSET($A$2,BE3,BF3)","v":{"$error":"#REF!"}},{"$f":"OFFSET($A$2,BE3,BF3+1)","v":{"$error":"#REF!"}},{"$f":"IF(教学计划表!N19<>\"\",教学计划表!N19,\"\")","v":""},{"$f":"IF(BI3<>\"\",VLOOKUP(BI3,$BG$3:$BH$140,2,FALSE),\"\")","v":""}]
["C程序设计综合实训","gg052001","化工安全技术","gg011002","C程序设计综合实训","gg052001","C程序设计综合实训","gg052001","CAD制图测绘实训","sh052001","C程序设计","gg051002","化工安全技术","gg011002","C程序设计","gg051002","C程序设计","gg051002","化工安全技术","gg011002","C程序设计综合实训","gg052001","C程序设计","gg051002","C程序设计","gg051002","C程序设计综合实训","gg052001","化工安全技术","gg011002","C程序设计","gg051002","化工安全技术","gg011002","C程序设计","gg051002","石化产品加工概论","gg011001","化工安全技术","gg011002","化工安全技术","gg011002","C程序设计综合实训","gg052001","C程序设计","gg051002","C程序设计综合实训","gg052001","C程序设计综合实训","gg052001","C程序设计综合实训","gg052001","C程序设计综合实训","gg052001",null,null,2,-2,{"$error":"#REF!"},{"$error":"#REF!"},{"$f":"IF(教学计划表!N20<>\"\",教学计划表!N20,\"\")","v":""},{"$f":"IF(BI4<>\"\",VLOOKUP(BI4,$BG$3:$BH$140,2,FALSE),\"\")","v":""}]
["HSE","gg081019","电工技术","gg041001","HSE","gg081019","HSE","gg081019","C程序设计","gg051002","C程序设计综合实训","gg052001","电工技术","gg041001","C程序设计综合实训","gg052001","C程序设计综合实训","gg052001","电工技术","gg041001","HSE","gg081019","C程序设计综合实训","gg052001","C程序设计综合实训","gg052001","HSE","gg081019","电工技术","gg041001","C程序设计综合实训","gg052001","电工技术","gg041001","C程序设计综合实训","gg052001","电工技术","gg041001","制图与CAD","gg031004","电工技术","gg041001","HSE","gg081019","C程序设计综合实训","gg052001","HSE","gg081019","HSE","gg081019","HSE","gg081019","HSE","gg081019",null,null,3,-2,{"$error":"#REF!"},{"$error":"#REF!"},{"$f":"IF(教学计划表!N21<>\"\",教学计划表!N21,\"\")","v":""},""]
["HSE综合实训","sh012013","电子技术","gg041002","Photoshop","gg051005","Photoshop","gg051005","C程序设计综合实训","gg052001","HSE","gg081019","电子技术","gg041002","HSE","gg081019","HSE","gg081019","电子技术","gg041002","Photoshop","gg051005","HSE","gg081019","HSE","gg081019","Photoshop","gg051005",null,null,"DCS控制系统的构成与操作","zd011012","电子CAD","gg041003","C程序设计综合实训","zd032002","电子技术","gg041002","电工技术","gg041001","电子技术","gg041002","Java程序设计","js011001","HSE","gg081019","Photoshop","gg051005","Photoshop","gg051005","Photoshop","gg051005","Photoshop","gg051005",null,null,4,-2,{"$error":"#REF!"},{"$error":"#REF!"},{"$f":"IF(教学计划表!N22<>\"\",教学计划表!N22,\"\")","v":""},""]
["Photoshop","gg051005","电子CAD","gg041003","VFP程序设计","gg051003","VFP程序设计","gg051003","HSE","gg081019","HSE实训","sh062012","电子CAD","gg041003","Photoshop","gg051005","Photoshop","gg051005","电子CAD","gg041003","VFP程序设计","gg051003","Photoshop","gg051005","Photoshop","gg051005","VFP程序设计","gg051003","电子CAD","gg041003","HSE","gg081019","单片机技术","gg041005","HSE","gg081019","电子CAD","gg041003","电子CAD","gg041003","电子CAD","gg041003","JaVa程序设计综合实训","js012010","Photoshop","gg051005","VFP程序设计","gg051003","VFP程序设计","gg051003","VFP程序设计","gg051003","VFP程序设计","gg051003",null,null,5,-2,{"$error":"#REF!"},{"$error":"#REF!"},{"$f":"IF(教学计划表!N23<>\"\",教学计划表!N23,\"\")","v":""},""]
["VFP程序设计","gg051003","变频器技术","gg041004","VFP程序设计综合实训","gg052002","VFP程序设计综合实训","gg052002","HSE实训操作","sh052027","Photoshop","gg051005","变频器技术","gg041004","VFP程序设计","gg051003","VFP程序设计","gg051003","变频器技术","gg041004","VFP程序设计综合实训","gg052002","VFP程序设计","gg051003","VFP程序设计","gg051003","VFP程序设计综合实训","gg052002","变频器技术","gg041004","Photoshop","gg051005","计算机应用基础","gg051001","Photoshop","gg051005","变频器技术","gg041004","变频器技术","gg041004","变频器技术","gg041004","Linux网络服务与管理","js011005","VFP程序设计","gg051003","VFP程序设计综合实训","gg052002","VFP程序设计综合实训","gg052002","VFP程序设计综合实训","gg052002","VFP程序设计综合实训","gg052002",null,null,6,-2,{"$error":"#REF!"},{"$error":"#REF!"},{"$f":"IF(教学计划表!N24<>\"\",教学计划表!N24,\"\")","v":""},""]
["VFP程序设计综合实训","gg052002","单片机技术","gg041005","毕业教育","sh032009","苯乙烯仿真工厂实训","sh042008","Photoshop","gg051005","VFP程序设计","gg051003","单片机技术","gg041005","VFP程序设计综合实训","gg052002","VFP程序设计综合实训","gg052002","单片机技术","gg041005","毕业教育","jx022010","VFP程序设计综合实训","gg052002","VFP程序设计综合实训","gg052002","毕业教育","jx052008","单片机技术","gg041005","PLC控制系统的构成与调试","zd011008","C程序设计","gg051002","VFP程序设计","gg051003","单片机技术","gg041005","单片机技术","gg041005","单片机技术","gg041005","Photoshop","gg051005","VFP程序设计综合实训","gg052002","办公自动化","yw011007","办公自动化","yw021006","办公自动化","yw041016","变频器技术","gg041004",null,null,7,-2,{"$error":"#REF!"},{"$error":"#REF!"},{"$f":"IF(教学计划表!N25<>\"\",教学计划表!N25,\"\")","v":""},""]
["苯乙烯仿真工厂实训","sh012004","可编程控制器应用技术","gg041006","毕业课题","sh032007","毕业教育","sh042011","VFP程序设计","gg051003","VFP程序设计综合实训","gg052002","可编程控制器应用技术","gg041006","毕业教育","yh022012","毕业教育","yh032007","可编程控制器应用技术","gg041006","变频器技术","gg041004","毕业教育","jx032009","毕业教育","jx042010","变频器技术","gg041004","可编程控制器应用技术","gg041006","VFP程序设计","gg051003","VFP程序设计","gg051003","VFP程序设计综合实训","gg052002","可编程控制器应用技术","gg041006","可编程控制器应用技术","gg041006","可编程控制器应用技术","gg041006","VFP程序设计","gg051003","变频器技术","gg041004","办公自动化综合实训","yw012006","办公自动化综合实训","yw022005","毕业教育","yw042012","创新创业","gg081008",null,null,8,-2,{"$error":"#REF!"},{"$error":"#REF!"},{"$f":"IF(教学计划表!N26<>\"\",教学计划表!N26,\"\")","v":""},""]
["毕业教育","sh012008","计算机应用基础","gg051001","毕业综合实训","sh032006","变频器技术","gg041004","VFP程序设计综合实训","gg052002","苯乙烯实训","sh062005","计算机应用基础","gg051001","毕业课题","yh022009","毕业课题","yh032006","计算机应用基础","gg051001","创新创业","gg081008","变频器技术","gg041004","变频器技术","gg041004","创新创业","gg081008","计算机应用基础","gg051001","VFP程序设计综合实训","gg052002","网络技术","gg051004","毕业教育","zd032015","计算机应用基础","gg051001","计算机应用基础","gg051001","计算机应用基础","gg051001","VFP程序设计综合实训","gg052002","创新创业","gg081008","报关报检综合实训","yw012012","毕业教育","yw022012","变频器技术","gg041004","单片机技术","gg041005",null,null,9,-2,{"$error":"#REF!"},{"$error":"#REF!"},{"$f":"IF(教学计划表!N27<>\"\",教学计划表!N27,\"\")","v":""},""]
["变频器技术","gg041004","C程序设计","gg051002","变频器技术","gg041004","创新创业","gg081008","苯乙烯工艺仿真操作","sh052035","泵和压缩机维护","sh061012","C程序设计","gg051002","毕业综合实训","yh022010","变频器技术","gg041004","C程序设计","gg051002","单片机技术","gg041005","创新创业","gg081008","创新创业","gg081008","单片机技术","gg041005","C程序设计","gg051002","毕业教育","zd012016","Photoshop","gg051005","变频器技术","gg041004","C程序设计","gg051002","C程序设计","gg051002","C程序设计","gg051002","Web前端设计","js011007","创新创业教育与创业实务","gg081008","报关实务","yw011014","变频器技术","gg041004","处理社区工作案例再现综合实训","yw042002","电工技术","gg041001",null,null,10,-2,{"$error":"#REF!"},{"$error":"#REF!"},{"$f":"IF(教学计划表!N28<>\"\",教学计划表!N28,\"\")","v":""},""]
["柴油加氢装置实训","sh012009","VFP程序设计","gg051003","创新创业","gg081008","单片机技术","gg041005","苯乙烯实训操作","sh052005","毕业教育","sh062013","VFP程序设计","gg051003","变频器技术","gg041004","创新创业","gg081008","VFP程序设计","gg051003","单片机与变频器","jx021007","单片机技术","gg041005","单片机技术","gg041005","电工电子实训","jx052002","VFP程序设计","gg051003","毕业设计","zd012010","高等数学","gg051006","常见机床故障检测与维修实训","zd032006","VFP程序设计","gg051003","VFP程序设计","gg051003","VFP程序设计","gg051003","WindowsServer服务器架设","js011004","单片机技术","gg041005","报检实务","yw011015","创新创业","gg081008","创新创业","gg081008","电子CAD","gg041003",null,null,11,-2,{"$error":"#REF!"},{"$error":"#REF!"},{"$f":"IF(教学计划表!N29<>\"\",教学计划表!N29,\"\")","v":""},""]
["常减压工艺","sh011022","网络技术","gg051004","单片机技术","gg041005","电工技术","gg041001","毕业教育","sh052018","毕业论文","sh062008","网络技术","gg051004","创新创业","gg081008","创新创业教育与创业实务","gg081008","网络技术","gg051004","电工电子实训","jx022003","典型零部件测绘","jx032002","典型零件设计与数控加工","jx041011","电工技术","gg041001","网络技术","gg051004","变频器技术","gg041004","C程序设计综合实训","gg052001","传感器技术","zd031012","网络技术","gg051004","网络技术","gg051004","网络技术","gg051004","毕业教育","js012009","电工技术","gg041001","毕业教育","yw012008","单片机技术","gg041005","单片机技术","gg041005","电子技术","gg041002",null,null,12,-2,{"$error":"#REF!"},{"$error":"#REF!"},{"$f":"IF(教学计划表!N30<>\"\",教学计划表!N30,\"\")","v":""},""]
["常减压实训","sh012014","Photoshop","gg051005","电工技术","gg041001","电子CAD","gg041003","毕业课题","sh052013","变频器技术","gg041004","Photoshop","gg051005","大气污染控制技术","yh021011","单片机技术","gg041005","Photoshop","gg051005","电工技术","gg041001","电工技术","gg041001","电工技术","gg041001","电工与电子技术","jx051003","Photoshop","gg051005","创新创业","gg081008","VFP程序设计综合实训","gg052002","创新创业","gg081008","Photoshop","gg051005","Photoshop","gg051005","Photoshop","gg051005","变频器技术","gg041004","电子CAD","gg041003","变频器技术","gg041004","电工技术","gg041001","电工技术","gg041001","高等数学","gg051006",null,null,13,-2,{"$error":"#REF!"},{"$error":"#REF!"},{"$f":"IF(教学计划表!N31<>\"\",教学计划表!N31,\"\")","v":""},""]
["创新创业","gg081008","高等数学","gg051006","电子CAD","gg041003","电子技术","gg041002","变频器技术","gg041004","柴油加氢实训","sh062009","高等数学","gg051006","单片机技术","gg041005","电工技术","gg041001","高等数学","gg051006","电工与电子技术","jx021003","电子CAD","gg041003","电工与电子技术","jx041004","电子CAD","gg041003","高等数学","gg051006","单片机技术","gg041005","计算机应用基础综合实训","gg052003","单片机技术","gg041005","高等数学","gg051006","高等数学","gg051006","高等数学","gg051006","创新创业","gg081008","电子技术","gg041002","出口业务操作","yw011020","电子CAD","gg041003","电子CAD","gg041003","公共卫生与健康","gg081020",null,null,14,-2,{"$error":"#REF!"},{"$error":"#REF!"},{"$f":"IF(教学计划表!N32<>\"\",教学计划表!N32,\"\")","v":""},""]
["催化裂化工艺","sh011023","C程序设计综合实训","gg052001","电子技术","gg041002","顶岗实习","sh042006","柴油加氢实训操作","sh052012","常减压实训","sh062004","C程序设计综合实训","gg052001","单元操作与管路拆装实训","yh022002","电子CAD","gg041003","C程序设计综合实训","gg052001","电子CAD","gg041003","电子技术","gg041002","电子CAD","gg041003","电子技术","gg041002","C程序设计综合实训","gg052001","单片机原理及应用","zd011010","外语","gg061001","单片机实训","zd032018","C程序设计综合实训","gg052001","C程序设计综合实训","gg052001","C程序设计综合实训","gg052001","单片机技术","gg041005","高等数学","gg051006","创新创业","gg081008","电子技术","gg041002","电子技术","gg041002","化工企业管理实务","gg061002",null,null,15,-2,{"$error":"#REF!"},{"$error":"#REF!"},{"$f":"IF(教学计划表!N33<>\"\",教学计划表!N33,\"\")","v":""},""]
["单片机技术","gg041005","VFP程序设计综合实训","gg052002","顶岗实习","sh032010","反应过程与技术","sh041007","常减压工艺仿真操作","sh052039","城市燃气配输技术","sh061016","VFP程序设计综合实训","gg052002","电工技术","gg041001","电子技术","gg041002","VFP程序设计综合实训","gg052002","电子技术","gg041002","顶岗实习","jx032008","电子技术","gg041002","顶岗实习","jx052007","VFP程序设计综合实训","gg052002","电工电路的测试与设计","zd011001","化工企业管理实务","gg061002","单片机应用技术","zd031011","VFP程序设计综合实训","gg052002","VFP程序设计综合实训","gg052002","VFP程序设计综合实训","gg052002","电工技术","gg041001","公共卫生与健康","gg081020","单片机技术","gg041005","电子商务","yw021015","顶岗实习","yw042011","计算机应用基础","gg051001",null,null,16,-2,{"$error":"#REF!"},{"$error":"#REF!"},{"$f":"IF(教学计划表!N34<>\"\",教学计划表!N34,\"\")","v":""},""]
["电工技术","gg041001","计算机应用基础综合实训","gg052003","高等数学","gg051006","高等数学","gg051006","常减压实训操作","sh052004","创新创业","gg081008","计算机应用基础综合实训","gg052003","电子CAD","gg041003","发酵工艺技术","yh031007","计算机应用基础综合实训","gg052003","顶岗实习","jx022009","高等数学","gg051006","顶岗实习","jx042009","高等数学","gg051006","计算机应用基础综合实训","gg052003","电工技术","gg041001","体育","gg071001","电工工艺实训","zd032003","计算机应用基础综合实训","gg052003","计算机应用基础综合实训","gg052003","计算机应用基础综合实训","gg052003","电子CAD","gg041003","化工安全技术","gg011002","电工技术","gg041001","电子商务综合实训","yw022008","高等数学","gg051006","计算机应用基础综合实训","gg052003",null,null,17,-2,{"$error":"#REF!"},{"$error":"#REF!"},{"$f":"IF(教学计划表!N35<>\"\",教学计划表!N35,\"\")","v":""},""]
["电子CAD","gg041003","外语","gg061001","高分子材料分析检测技术","sh031008","公共卫生与健康","gg081020","创新创业","gg081008","催化裂化实训","sh062010","外语","gg061001","电子技术","gg041002","发酵工艺综合实训","yh032004","外语","gg061001","高等数学","gg051006","工程图样识读与绘制","jx031001","高等数学","gg051006","工程图样识读与绘制","jx051001","外语","gg061001","电机控制及维修","zd011022","军事技能","gg072001",null,null,"外语","gg061001","外语","gg061001","外语","gg061001","电子技术","gg041002","化工企业管理实务","gg061002","电子CAD","gg041003","顶岗实习","yw022014","公共卫生与健康","gg081020","军事理论","gg081005",null,null,18,-2,{"$error":"#REF!"},{"$error":"#REF!"},{"$f":"IF(教学计划表!N36<>\"\",教学计划表!N36,\"\")","v":""},""]
["电子技术","gg041002","化工企业管理实务","gg061002","高分子材料概论","sh031010","化工安全技术","gg011002","催化裂化工艺仿真操作","sh052020","单片机技术","gg041005","化工企业管理实务","gg061002","顶岗实习","yh022008","高等数学","gg051006","化工企业管理实务","gg061002","工程图样识读与绘制","jx021001","公共卫生与健康","gg081020","公共卫生与健康","gg081020","公共卫生与健康","gg081020","化工企业管理实务","gg061002","电子CAD","gg041003","思想道德修养与法律基础","gg081001","电工技术","zd031002","化工企业管理实务","gg061002","化工企业管理实务","gg061002","化工企业管理实务","gg061002","顶岗实习","js012007","计算机应用基础","gg051001","电子技术","gg041002","高等数学","gg051006","公文编辑与处理实训","yw042007","可编程控制器应用技术","gg041006",null,null,19,-2,{"$error":"#REF!"},{"$error":"#REF!"},{"$f":"IF(教学计划表!N37<>\"\",教学计划表!N37,\"\")","v":""},""]
["顶岗实习","sh012011","体育","gg071001","高分子材料化学基础-高分子化学","sh031002","化工安全技术","sh041012","催化重整工艺仿真操作","sh052022","电工技术","gg041001","体育","gg071001","高等数学","gg051006","公共卫生与健康","gg081020","体育","gg071001","公共卫生与健康","gg081020","互换性与技术测量","jx031003","互换性与技术测量","jx041003","供热工程","jx051011","体育","gg071001","电子产品装配实习","zd012002","毛思、特色理论概论","gg081002","电机拖动与变频器","zd031014","体育","gg071001","体育","gg071001","体育","gg071001","动画制作","js011013","计算机应用基础综合实训","gg052003","电子商务","yw011013","公共卫生与健康","gg081020","化工安全技术","gg011002","马克思主义哲学","gg081018",null,null,20,-2,{"$error":"#REF!"},{"$error":"#REF!"},{"$f":"IF(教学计划表!N38<>\"\",教学计划表!N38,\"\")","v":""},""]
["顶岗实习与设计","sh012006","军事技能","gg072001","高分子材料化学基础-基础化学","sh031001","化工单元操作技术","sh041006","催化重整实训操作","sh052024","电工与电子操作","sh061003","军事技能","gg072001","公共卫生与健康","gg081020","化工安全技术","gg011002","军事技能","gg072001","供热工程","jx021013","化工安全技术","gg011002","化工安全技术","gg011002","管焊实训","jx052001","军事技能","gg072001","电子技术","gg041002","形势与政策","gg081003","电控实训","zd032004","军事技能","gg072001","军事技能","gg072001","军事技能","gg072001","多媒体制作项目综合实训","js012011","军事理论","gg081005","电子商务综合实训","yw012011","国际贸易实务","yw021007","化工企业管理实务","gg061002","毛思、特色理论概论","gg081002",null,null,21,-2,{"$error":"#REF!"},{"$error":"#REF!"},{"$f":"IF(教学计划表!N39<>\"\",教学计划表!N39,\"\")","v":""},""]
["顶岗实习与设计","sh012006","思想道德修养与法律基础","gg081001","高分子材料化学基础实训","sh032001","化工企业管理实务","gg061002","单片机技术","gg041005","电子CAD","gg041003","思想道德修养与法律基础","gg081001","固体废物处理与处置","yh021012","化工单元操作技术","yh031004","思想道德修养与法律基础","gg081001","管焊实训","jx022002","化工企业管理实务","gg061002","化工企业管理实务","gg061002","锅炉原理与设备","jx051005","思想道德修养与法律基础","gg081001","分析仪表的使用与维护","zd011018","心理健康教育","gg081004","电力电子技术","zd031013","思想道德修养与法律基础","gg081001","思想道德修养与法律基础","gg081001","思想道德修养与法律基础","gg081001","高等数学","gg051006","可编程控制器应用技术","gg041006","顶岗实习","yw012010","国际贸易实务综合实训","yw022002","计算机应用基础","gg051001","美术鉴赏","gg081015",null,null,22,-2,{"$error":"#REF!"},{"$error":"#REF!"},{"$f":"IF(教学计划表!N40<>\"\",教学计划表!N40,\"\")","v":""},""]
["反应过程与技术","sh011007","毛思、特色理论概论","gg081002","高分子材料加工技术","sh031009","化工设备与维护","sh041005","典型装置流程图识读","sh051020","电子技术","gg041002","毛思、特色理论概论","gg081002","化工安全技术","gg011002","化工单元仿真实训","yh032001","毛思、特色理论概论","gg081002","化工安全技术","gg011002","机构零部件设计与应用","jx031002","机床控制系统的运行与维护","jx041007","化工安全技术","gg011002","毛思、特色理论概论","gg081002","岗位实习","zd012011","军事理论","gg081005","电气控制技术","zd031010","毛思、特色理论概论","gg081002","毛思、特色理论概论","gg081002","毛思、特色理论概论","gg081002","公共卫生与健康","gg081020","马克思主义哲学","gg081018","高等数学","gg051006","国际市场营销","yw021003","计算机应用基础综合实训","gg052003","企业文化","gg081010",null,null,23,-2,{"$error":"#REF!"},{"$error":"#REF!"},{"$f":"IF(教学计划表!N41<>\"\",教学计划表!N41,\"\")","v":""},""]
["高等数学","gg051006","形势与政策","gg081003","高分子材料加工与检测实训","sh032005","化工生产过程控制","sh041004","电工技术","gg041001","顶岗实训","sh062003","形势与政策","gg081003","化工企业管理实务","gg061002","化工单元课程设计","yh032002","形势与政策","gg081003","化工企业管理实务","gg061002","机械加工工艺编制及夹具设计","jx032004","机构零部件设计与应用","jx041002","化工企业管理实务","gg061002","形势与政策","gg081003","高等数学","gg051006","职业生涯规划","gg081006","电子CAD","gg041003","形势与政策","gg081003","形势与政策","gg081003","形势与政策","gg081003","化工安全技术","gg011002","毛思、特色理论概论","gg081002","公共卫生与健康","gg081020","化工安全技术","gg011002","就业与创业","yw042010","人文素质教育","gg081009",null,null,24,-2,{"$error":"#REF!"},{"$error":"#REF!"},{"$f":"IF(教学计划表!N42<>\"\",教学计划表!N42,\"\")","v":""},""]
["高分子合成与加工实训","sh012028","心理健康教育","gg081004","高分子材料专业英语","sh031014","化工识图与CAD","sh041003","电机运行与维护","sh051015","高等数学","gg051006","心理健康教育","gg081004","化工生产过程控制","yh021017","化工企业管理实务","gg061002","心理健康教育","gg081004","机构零部件设计与应用","jx021002","机械加工实训","jx032003","机械加工工艺编制及夹具设计","jx042004","机泵拆装与检修实训","jx052006","心理健康教育","gg081004","工程制图与CAD","zd011006","择业与就业指导","gg081007","电子CAD实训","zd032012","心理健康教育","gg081004","心理健康教育","gg081004","心理健康教育","gg081004","化工企业管理实务","gg061002","美术鉴赏","gg081015","国际贸易理论与实务","yw011002","化工企业管理实务","gg061002","军事理论","gg081005","军事技能","gg072001",null,null,25,-2,{"$error":"#REF!"},{"$error":"#REF!"},{"$f":"IF(教学计划表!N43<>\"\",教学计划表!N43,\"\")","v":""},""]
["高聚物生产技术","sh011013","军事理论","gg081005","高聚物合成顶岗实训","sh032003","化工总控工培训","sh042003","电子CAD","gg041003","工程材料力学","sh061002","军事理论","gg081005","化工识图与CAD","yh021006","化工识图与CAD","yh031001","军事理论","gg081005","计算机应用基础","gg051001","计算机应用基础","gg051001","机械加工实训","jx042003","机构零部件设计与应用","jx051002","军事理论","gg081005","公共卫生与健康","gg081020","创新创业","gg081008","电子产品装配实训","zd032019","军事理论","gg081005","军事理论","gg081005","军事理论","gg081005","计算机应用基础","gg051001","企业文化","gg081010","国际贸易实务综合实训","yw012001","化工企业管理实务","yw021014","可编程控制器应用技术","gg041006","商务礼仪","gg081012",null,null,26,-2,{"$error":"#REF!"},{"$error":"#REF!"},{"$f":"IF(教学计划表!N44<>\"\",教学计划表!N44,\"\")","v":""},""]
["公共卫生与健康","gg081020","职业生涯规划","gg081006","高聚物合成技术","sh031007","化学综合实训","sh042001","电子技术","gg041002","公共卫生与健康","gg081020","职业生涯规划","gg081006","化学分析技术","yh021004","化学分析","yh031017","职业生涯规划","gg081006","计算机应用基础综合实训","gg052003","计算机应用基础综合实训","gg052003","机械制图与CAD","jx041001","计算机应用基础","gg051001","职业生涯规划","gg081006","过程检测系统的构成与联校","zd011005","人文素质教育","gg081009","电子技术","gg041002","职业生涯规划","gg081006","职业生涯规划","gg081006","职业生涯规划","gg081006","计算机应用基础综合实训","gg052003","人文素质教育","gg081009","国际市场营销","yw011011","化工商品学","yw021020","老年社会工作 ","yw041019","石化产品加工概论","gg011001",null,null,27,-2,{"$error":"#REF!"},{"$error":"#REF!"},{"$f":"IF(教学计划表!N45<>\"\",教学计划表!N45,\"\")","v":""},""]
["管路拆装综合实训","sh012029","择业与就业指导","gg081007","公共卫生与健康","gg081020","环保概论","sh041013","顶岗实习","sh052019","管道施工技术","sh061018","择业与就业指导","gg081007","环保设备概论","yh021014","环境保护概论","yh031013","择业与就业指导","gg081007","军事理论","gg081005","军事理论","gg081005","机械制图与CAD实训","jx042002","计算机应用基础综合实训","gg052003","择业与就业指导","gg081007","仪表的安装与维护","zd011021","企业文化","gg081010","电子技术","zd031003","择业与就业指导","gg081007","择业与就业指导","gg081007","择业与就业指导","gg081007","计算机组装与维修","js012001","军事技能","gg072001","国际市场营销综合实训","yw012004","化工英语","yw021005","马克思主义哲学","gg081018","书法鉴赏","gg081016",null,null,28,-2,{"$error":"#REF!"},{"$error":"#REF!"},{"$f":"IF(教学计划表!N46<>\"\",教学计划表!N46,\"\")","v":""},""]
["浩业企业管理","sh011019","创新创业","gg081008","功能涂料","sh031013","基础化学实用技术","sh041001","反应过程与操作","sh051004","管工操作技术","sh061017","创新创业","gg081008","环境保护概论","yh021018","基础化学","yh031002","创新创业","gg081008","可编程控制器应用技术","gg041006","可编程控制器应用技术","gg041006","计算机应用基础","gg051001","军事理论","gg081005","创新创业","gg081008","过程控制系统的评价","zd011004","现代礼仪","gg081011","顶岗实习","zd032013","创新创业","gg081008","创新创业","gg081008","创新创业","gg081008","就业与创业","js012008","商务礼仪","gg081012","化工安全技术","gg011002","化工英语翻译综合实训","yw022010","毛思、特色理论概论","gg081002","思想道德修养与法律基础","gg081001",null,null,29,-2,{"$error":"#REF!"},{"$error":"#REF!"},{"$f":"IF(教学计划表!N47<>\"\",教学计划表!N47,\"\")","v":""},""]
["化工安全技术","sh011012","人文素质教育","gg081009","化工安全技术","gg011002","计算机应用基础","gg051001","反应过程与技术","sh051033","化工安全技术","gg011002","人文素质教育","gg081009","环境仿真实训","yh022006","计算机应用基础","gg051001","人文素质教育","gg081009","空调技术","jx021008","零件的钳工制作","jx032001","计算机应用基础综合实训","gg052003","可编程控制器应用技术","gg041006","人文素质教育","gg081009","化工安全技术","gg011002","商务礼仪","gg081012","高等数学","gg051006","人文素质教育","gg081009","人文素质教育","gg081009","人文素质教育","gg081009","军事理论","gg081005","石化产品加工概论","gg011001","化工企业管理实务","gg061002","计算机应用基础","gg051001","美术鉴赏","gg081015","体育","gg071001",null,null,30,-2,{"$error":"#REF!"},{"$error":"#REF!"},{"$f":"IF(教学计划表!N48<>\"\",教学计划表!N48,\"\")","v":""},""]
["化工安全与环保技术","sh011027","企业文化","gg081010","化工安全技术","sh031015","计算机应用基础综合实训","gg052003","高等数学","gg051006","化工单元操作综合实训","sh062014","企业文化","gg081010","环境工程实习","yh022004","计算机应用基础综合实训","gg052003","企业文化","gg081010","流体力学与热工基础","jx021004","零件数控车削加工","jx031006","军事理论","gg081005","空调技术","jx051012","企业文化","gg081010","化工基础及工艺技术","zd011002","中国传统文化选讲选讲选讲","gg081013","工程制图与CAD","zd031001","企业文化","gg081010","企业文化","gg081010","企业文化","gg081010","可编程控制器应用技术","gg041006","书法鉴赏","gg081016","化工商品学","yw011004","计算机应用基础综合实训","gg052003","民政工作","yw041018","外语","gg061001",null,null,31,-2,{"$error":"#REF!"},{"$error":"#REF!"},{"$f":"IF(教学计划表!N49<>\"\",教学计划表!N49,\"\")","v":""},""]
["化工单元操作技术","sh011006","现代礼仪","gg081011","化工单元操作技术","sh031005","就业与创业","sh042012","高聚物生产技术","sh051022","化工单元仿真实训","sh062015","现代礼仪","gg081011","环境工程原理","yh021007","军事理论","gg081005","现代礼仪","gg081011","马克思主义哲学","gg081018","零件数控铣削加工","jx031007","可编程控制器应用技术","gg041006","流体力学与热工基础","jx051004","现代礼仪","gg081011","化工企业管理实务","gg061002","音乐鉴赏","gg081014","公差配合与测量技术","zd031004","现代礼仪","gg081011","现代礼仪","gg081011","现代礼仪","gg081011","马克思主义哲学","gg081018","思想道德修养与法律基础","gg081001","货运代理实务","yw011016","精细化学品推销技术","yw021013","普通话与口语技巧","yw041015","网络技术","gg051004",null,null,32,-2,{"$error":"#REF!"},{"$error":"#REF!"},{"$f":"IF(教学计划表!N50<>\"\",教学计划表!N50,\"\")","v":""},""]
["化工单元操作实训","sh012030","商务礼仪","gg081012","化工企业管理实务","gg061002","军事理论","gg081005","工艺流程图识图与CAD","sh051035",null,null,"商务礼仪","gg081012","环境化学","yh021013","可编程控制器应用技术","gg041006","商务礼仪","gg081012","毛思、特色理论概论","gg081002","马克思主义哲学","gg081018","零件的钳工制作","jx042001","马克思主义哲学","gg081018","商务礼仪","gg081012","化工生产实习","zd012001","美术鉴赏","gg081015","公共卫生与健康","gg081020","商务礼仪","gg081012","商务礼仪","gg081012","商务礼仪","gg081012","毛思、特色理论概论","gg081002","体育","gg071001","计算机应用基础","gg051001","就业与创业训练","yw022013","普通话与口语技巧综合实训","yw042004","无机化学","ggnq1007",null,null,33,{"$f":"2*$BD$2-2","v":-2},{"$f":"OFFSET($A$2,BE35,BF35)","v":{"$error":"#REF!"}},{"$f":"OFFSET($A$2,BE35,BF35+1)","v":{"$error":"#REF!"}},{"$f":"IF(教学计划表!N51<>\"\",教学计划表!N51,\"\")","v":""},""]
["化工腐蚀与防护","sh011029","中国传统文化选讲选讲","gg081013","化工设备与维护","sh031004","可编程控制器应用技术","gg041006","工艺流程图识图与制图","sh051005","化工企业管理实务","sh061019","中国传统文化选讲选讲","gg081013","环境监测技术","yh021009","马克思主义哲学","gg081018","中国传统文化选讲选讲","gg081013","美术鉴赏","gg081015","毛思、特色理论概论","gg081002","马克思主义哲学","gg081018","毛思、特色理论概论","gg081002","中国传统文化选讲选讲","gg081013","计算机应用基础","gg051001","书法鉴赏","gg081016","化工安全技术","gg011002","中国传统文化选讲选讲","gg081013","中国传统文化选讲选讲","gg081013","中国传统文化选讲选讲","gg081013","美术鉴赏","gg081015","外语","gg061001","计算机应用基础综合实训","gg052003","军事理论","gg081005","企业文化","gg081010","现代礼仪","gg081011",null,null,34,-2,{"$error":"#REF!"},{"$error":"#REF!"},{"$f":"IF(教学计划表!N52<>\"\",教学计划表!N52,\"\")","v":""},""]
["化工机械与钳工技术","sh011021","音乐鉴赏","gg081014","化工生产过程控制","sh031006","马克思主义哲学","gg081018","公共卫生与健康","gg081020","化工设备与维护","sh061020","音乐鉴赏","gg081014","环境监测实习","yh022003","毛思、特色理论概论","gg081002","音乐鉴赏","gg081014","企业文化","gg081010","美术鉴赏","gg081015","毛思、特色理论概论","gg081002","美术鉴赏","gg081015","音乐鉴赏","gg081014","计算机应用基础综合实训","gg052003","中国文学作品赏析","gg081017","化工企业管理实务","gg061002","音乐鉴赏","gg081014","音乐鉴赏","gg081014","音乐鉴赏","gg081014","企业网络安全项目实训","js012004","网络技术","gg051004","进口业务操作","yw011021","科技英语翻译（石化产品方向）","yw021017","人力资源管理 ","yw041021","心理健康教育","gg081004",null,null,35,-2,{"$error":"#REF!"},{"$error":"#REF!"},{"$f":"IF(教学计划表!N53<>\"\",教学计划表!N53,\"\")","v":""},""]
["化工控制及电工技术","sh011020","美术鉴赏","gg081015","化工识图与CAD","sh031003","毛思、特色理论概论","gg081002","管式加热炉","sh051034","化工仪表及自动化操作","sh061010","美术鉴赏","gg081015","环境微生物","yh021008","美术鉴赏","gg081015","美术鉴赏","gg081015","钳工实训","jx022008","模具设计与制造","jx031012","美术鉴赏","gg081015","企业文化","gg081010","美术鉴赏","gg081015","金工实习","zd012005","马克思主义哲学","gg081018","机器人技术","zd031016","美术鉴赏","gg081015","美术鉴赏","gg081015","美术鉴赏","gg081015","企业网络服务器架设","js012002","无机化学","ggnq1007","精细化学品推销技术","yw011012","可编程控制器应用技术","gg041006","人文素质教育","gg081009","形势与政策","gg081003",null,null,36,-2,{"$error":"#REF!"},{"$error":"#REF!"},{"$f":"IF(教学计划表!N54<>\"\",教学计划表!N54,\"\")","v":""},""]
["化工企业管理实务","gg061002","书法鉴赏","gg081016","化纤生产技术","sh031012","煤化工装置仿真操作实训","sh042004","化工安全技术","gg011002","化工总控工取证实训","sh062016","书法鉴赏","gg081016","环境专业英语","yh021016","企业文化","gg081010","书法鉴赏","gg081016","人文素质教育","gg081009","企业文化","gg081010","普通机床加工技术","jx041005","汽轮机原理与设备","jx051006","书法鉴赏","gg081016","就业实践","zd012013","HSE","gg081019","机器人技术实训","zd032016","书法鉴赏","gg081016","书法鉴赏","gg081016","书法鉴赏","gg081016","企业网络组建项目实训","js012003","现代礼仪","gg081011","就业与创业","yw012013","客户关系管理","yw021004","军事技能","gg072001","音乐鉴赏","gg081014",null,null,37,-2,{"$error":"#REF!"},{"$error":"#REF!"},{"$f":"IF(教学计划表!N55<>\"\",教学计划表!N55,\"\")","v":""},""]
["化工设备与维护","sh011008","中国文学作品赏析","gg081017","机泵拆装实训","sh032002","煤化工综合实训","sh042010","化工单元操作技术","sh051023","计算机网络技术","sh061021","中国文学作品赏析","gg081017","计算机应用基础","gg051001","人文素质教育","gg081009","中国文学作品赏析","gg081017","认识实训","jx022001","人文素质教育","gg081009","企业文化","gg081010","热力发电厂","jx051009","中国文学作品赏析","gg081017","就业与创业","zd012017","公共卫生与健康","gg081020","机械零件加工实训","zd032009","中国文学作品赏析","gg081017","中国文学作品赏析","gg081017","中国文学作品赏析","gg081017","企业文化","gg081010","心理健康教育","gg081004","就业与创业训练","yw012009","马克思主义哲学","gg081018","商务礼仪","gg081012","有机化学","ggnq1008",null,null,38,-2,{"$error":"#REF!"},{"$error":"#REF!"},{"$f":"IF(教学计划表!N56<>\"\",教学计划表!N56,\"\")","v":""},""]
["化工生产过程控制","sh011009","马克思主义哲学","gg081018","计算机应用基础","gg051001","煤化学","sh041002","化工单元操作实训","sh052038","计算机应用基础","gg051001","马克思主义哲学","gg081018","计算机应用基础综合实训","gg052003","认识实习","yh032003","马克思主义哲学","gg081018","军事技能","gg072001","军事技能","gg072001","人文素质教育","gg081009","热力设备检修","jx051008","马克思主义哲学","gg081018","军事理论","gg081005","工程制图与CAD","zd021001","机械零件与典型机构","zd031005","马克思主义哲学","gg081018","马克思主义哲学","gg081018","马克思主义哲学","gg081018","人文素质教育","gg081009","形势与政策","gg081003","军事理论","gg081005","毛思、特色理论概论","gg081002",null,null,"择业与就业指导","gg081007",null,null,39,-2,{"$error":"#REF!"},{"$error":"#REF!"},{"$f":"IF(教学计划表!N57<>\"\",教学计划表!N57,\"\")","v":""},""]
["化工识图与CAD","sh011004","HSE","gg081019","计算机应用基础综合实训","gg052003","煤化学综合实训","sh042005","化工腐蚀与防护","sh051039","计算机应用基础综合实训","gg052003","HSE","gg081019","就业与创业","yh022011","军事技能","gg072001","HSE","gg081019","商务礼仪","gg081012","商务礼仪","gg081012","军事技能","gg072001","热力设备节能技术应用","jx051010","HSE","gg081019","可编程控制器应用技术","gg041006","电工技术","zd021002","计算机应用基础","gg051001","HSE","gg081019","HSE","gg081019","HSE","gg081019","军事技能","gg072001","音乐鉴赏","gg081014","可编程控制器应用技术","gg041006","美术鉴赏","gg081015","社会保障实务","yw041011","职业生涯规划","gg081006",null,null,40,-2,{"$error":"#REF!"},{"$error":"#REF!"},{"$f":"IF(教学计划表!N58<>\"\",教学计划表!N58,\"\")","v":""},""]
["化工原理","sh011018","公共卫生与健康","gg081020","技能考证综合训练","sh032004","煤气化工艺技术","sh041008","化工环保概论","sh051036","就业与创业","sh062017","公共卫生与健康","gg081020","军事理论","gg081005","商务礼仪","gg081012","公共卫生与健康","gg081020","石化产品加工概论","gg011001","生产实习","jx032007","商务礼仪","gg081012","热力设备运行","jx051007","公共卫生与健康","gg081020","控制工程设计","zd011019","电子技术","zd021003","计算机应用基础综合实训","gg052003","公共卫生与健康","gg081020","公共卫生与健康","gg081020","公共卫生与健康","gg081020","商务礼仪","gg081012","有机化学","ggnq1008","马克思主义哲学","gg081018","企业文化","gg081010","社会保障实务综合实训","yw042014","中国传统文化选讲选讲","gg081013",null,null,41,-2,{"$error":"#REF!"},{"$error":"#REF!"},{"$f":"IF(教学计划表!N59<>\"\",教学计划表!N59,\"\")","v":""},""]
["环境保护","sh011017","无机化学","ggnq1007","就业与创业","sh032008","煤液化工艺技术","sh041009","化工企业管理实务","gg061002","军事理论","gg081005","无机化学","yh011001","可编程控制器应用技术","gg041006","生物产品分析","yh031009","工程图样识读与绘制","jx011001","食品冷藏技术","jx021012","石化产品加工概论","gg011001","生产实习","jx042008","热力设备运行与检修仿真实训","jx052005","电工与电子技术","jx061001","马克思主义哲学","gg081018","电机控制及维修","zd021004","金属切削与加工","zd031006","无机化学","ggnq1007","电工基础","zd051001","工程制图","zd061001","石化产品加工概论","gg011001","择业与就业指导","gg081007","毛思、特色理论概论","gg081002","人文素质教育","gg081009","社会工作方法","yw041003","中国文学作品赏析","gg081017",null,null,42,-2,{"$error":"#REF!"},{"$error":"#REF!"},{"$f":"IF(教学计划表!N60<>\"\",教学计划表!N60,\"\")","v":""},""]
["磺酸盐实训","sh012034","有机化学","ggnq1008","军事理论","gg081005","美术鉴赏","gg081015","化工设备与维护","sh051024","可编程控制器应用技术","gg041006","有机化学","yh011002","马克思主义哲学","gg081018","生物产品分析综合实训","yh032005","机构零部件设计与应用","jx011002","书法鉴赏","gg081016","书法鉴赏","gg081016","石化产品加工概论","gg011001","人文素质教育","gg081009","汽车识图与CAD","jx061002","毛思、特色理论概论","gg081002","电机控制及维修","zd021005","就业与创业","zd032014","有机化学","ggnq1008","PLC及应用技术","zd051002","单片机及接口技术","zd061002","视频制作","js011016","职业生涯规划","gg081006","美术鉴赏","gg081015","军事技能","gg072001","社会调查方法","yw041004","会计基础（会计报表）","yw051001",null,null,43,-2,{"$error":"#REF!"},{"$error":"#REF!"},{"$f":"IF(教学计划表!N61<>\"\",教学计划表!N61,\"\")","v":""},""]
["机泵拆装实训","sh012001","有机化学基础","sh021001","可编程控制器应用技术","gg041006","企业文化","gg081010","化工生产过程控制","sh051025","连续重整装置实训","sh062018","化学分析技术","yh011003","毛思、特色理论概论","gg081002","生物分离纯化技术","yh031008","典型化工单元操作","jx011003","思想道德修养与法律基础","gg081001","数控机床","jx031004","书法鉴赏","gg081016","军事技能","gg072001","机械基础","jx061003","美术鉴赏","gg081015","单片机应用技术","zd021006","军事理论","gg081005","有机化学","ggnq1008","电子技术","zd051003","自动控制技术","zd061003","书法鉴赏","gg081016","制图CAD实训","gg032002","企业文化","gg081010","商务礼仪","gg081012","社会调查方法综合实训","yw042003","经济学基础","yw051002",null,null,44,-2,{"$error":"#REF!"},{"$error":"#REF!"},{"$f":"IF(教学计划表!N62<>\"\",教学计划表!N62,\"\")","v":""},""]
["机泵拆装实训","sh012016","物理化学基础","sh021002","马克思主义哲学","gg081018","燃料油生产技术","sh041010","化工识图与CAD","sh051026","炼油基础工艺","sh061005","仪器分析技术","yh011004","美术鉴赏","gg081015","生物化工设备","yh031006","钳工技术与零件手工制作","jx011004","体育","gg071001","数控加工工艺","jx031005","数控车床编程与操作","jx041008","商务礼仪","gg081012","新能源汽车概论","jx061004","企业文化","gg081010","电力电子技术","zd021007","可编程控制器应用技术","zd031007","传感器技术","zd041001","电工仪表使用与维护","zd051004","传感器与检测技术","zd061004","思想道德修养与法律基础","gg081001","制图CAD实训","gg062002","人文素质教育","gg081009","商务文秘英语综合实训","yw022011","社会心理学","yw041005","电子商务案例解析","yw051003",null,null,45,-2,{"$error":"#REF!"},{"$error":"#REF!"},{"$f":"IF(教学计划表!N63<>\"\",教学计划表!N63,\"\")","v":""},""]
["基础化学实用技术","sh011030","化工识图与CAD","sh021003","毛思、特色理论概论","gg081002","人文素质教育","gg081009","化工总控工实训","sh052040","流体力学","sh061004","文献检索","yh011005","企业文化","gg081010","生物化工专业英语","yh031010","机构创新设计与制作","jx011005","外语","gg061001","数控特种加工技术","jx031010","数控机床","jx041006","石化产品加工概论","gg011001","汽车构造","jx061015","人文素质教育","gg081009","可编程控制器应用技术","zd021008","马克思主义哲学","gg081018","电机控制及维修","zd041002","企业供电与运行","zd051005","控制仪表","zd061005","体育","gg071001","制图与CAD","gg031004","军事技能","gg072001","商务英语","yw021009","社会学基础","yw041001","电子商务概论","yw051004",null,null,46,-2,{"$error":"#REF!"},{"$error":"#REF!"},{"$f":"IF(教学计划表!N64<>\"\",教学计划表!N64,\"\")","v":""},""]
["基础化学实用技术（1）","sh011001","化工生产过程控制","sh021004","美术鉴赏","gg081015","军事技能","gg072001","环境保护","sh051027","马克思主义哲学","gg081018","工业分析专业英语","yh011006","人文素质教育","gg081009","生物化学","yh031003","泵维护与检修","jx011006","网络技术","gg051004","数控线切割实训","jx032006","数控加工实训","jx042005","书法鉴赏","gg081016","电动汽车的构造与原理","jx061006","军事技能","gg072001","工厂供配电技术","zd021009","毛思、特色理论概论","gg081002","电力电子技术","zd041003","电机与控制","zd051006","嵌入式系统应用","zd061006","图形图像处理","js011012","制图与CAD","gg061004","商务礼仪","gg081012","商务英语函电","yw021022","社区导论","yw041002","市场营销","yw051005",null,null,47,-2,{"$error":"#REF!"},{"$error":"#REF!"},{"$f":"IF(教学计划表!N65<>\"\",教学计划表!N65,\"\")","v":""},""]
["基础化学实用技术（2）","sh011002","反应器操作技术","sh021005","企业文化","gg081010","商务礼仪","gg081012","环氧乙烷工艺仿真操作","sh052034","毛思、特色理论概论","gg081002","化验室组织与管理","yh011007","军事技能","gg072001","生物制药技术","yh031011","压缩机维护与检修","jx011007","维修电工考证实训","jx022004","思想道德修养与法律基础","gg081001","数控铣床编程与操作","jx041009","思想道德修养与法律基础","gg081001","新能源汽车电路分析","jx061007","商务礼仪","gg081012","专业英语","zd021010","美术鉴赏","gg081015","工厂供配电技术","zd041004","工厂电气控制技术","zd051007","EMC测试技术","zd061007","外语","gg061001","中国传统文化选讲选讲","gg081013","商务英语听说","yw011005","商务英语谈判","yw021019","社区服务","yw041006","国际贸易理论与实务","yw051006",null,null,48,-2,{"$error":"#REF!"},{"$error":"#REF!"},{"$f":"IF(教学计划表!N66<>\"\",教学计划表!N66,\"\")","v":""},""]
["基础化学实用技术（3）","sh011003","精细化学品分离提纯技术","sh021006","人文素质教育","gg081009","生产实习","sh042002","磺酸盐实训操作","sh052026","美术鉴赏","gg081015","化工识图与CAD","yh011008","商务礼仪","gg081012","石化产品加工概论","gg011001","工业管道安装","jx011008","现代礼仪","gg081011","体育","gg071001","数控线切割实训","jx042007","体育","gg071001","新能源汽车驱动电机及控制技术","jx061008","石化产品加工概论","gg011001","检测与自动化仪表","zd021011","企业文化","gg081010","工程制图与CAD","zd041005","电力电子技术","zd051008","过程控制工程","zd061008","网络安全与防护","js011009","中国文学作品赏析","gg081017","商务英语阅读与写作","yw011003","商务英语听说","yw021010","社区工作礼仪","yw041013","商务英语","yw051007",null,null,49,-2,{"$error":"#REF!"},{"$error":"#REF!"},{"$f":"IF(教学计划表!N67<>\"\",教学计划表!N67,\"\")","v":""},""]
["基础化学实用技术（物化）","sh011028","化工设备与维护","sh021007","军事技能","gg072001","石化产品加工概论","gg011001","机泵拆装实训","sh052014","企业文化","gg081010","化工基础","yh011009","石化产品加工概论","gg011001","食品生物技术","yh031012","化工设备维护与检修","jx011009","心理健康教育","gg081004","外语","gg061001","思想道德修养与法律基础","gg081001","外语","gg061001","新能源汽车综合故障诊断","jx061009","书法鉴赏","gg081016","自动控制技术","zd021012","钳工实训","zd032005","工业组态控制技术","zd041006","建筑电气","zd051009","工业系统计算机网络","zd061009","网络工程规划与实施","js011008","Java程序设计","js021001","商务英语综合实训（一级证书）","yw011019","商务英语听说实训","yw022001","社区管理软件","yw041017","企业电子商务运营","yw051008",null,null,50,-2,{"$error":"#REF!"},{"$error":"#REF!"},{"$f":"IF(教学计划表!N68<>\"\",教学计划表!N68,\"\")","v":""},""]
["计算机应用基础","gg051001","化工单元操作技术","sh021008","商务礼仪","gg081012","催化裂化仿真装置操作","sh042009","基础化学","sh051001","钳工操作技能实训及取证","sh062001","无机分析技术","yh011010","书法鉴赏","gg081016","书法鉴赏","gg081016","化工设备制造安装与检测","jx011010","形势与政策","gg081003","网络技术","gg051004","特种加工技术","jx041012","网络技术","gg051004","汽车使用与保养","jx061010","思想道德修养与法律基础","gg081001","变频器技术","zd021013","人文素质教育","gg081009","运动控制系统安装调试与运行","zd041007","维修电工","zd051010","PLC应用技术","zd061010","网络工程制图","js011014","网络技术基础","js021002","商务英语综合实训（中级证书）","yw012003","商务英语阅读与写作","yw021008","社区行政与管理","yw041008","办公软件高级应用","yw051009",null,null,51,-2,{"$error":"#REF!"},{"$error":"#REF!"},{"$f":"IF(教学计划表!N69<>\"\",教学计划表!N69,\"\")","v":""},""]
["计算机应用基础综合实训","gg052003","精细化学品合成应用技术","sh021009","石化产品加工概论","gg011001","书法鉴赏","gg081016","基础化学（有机、物化）","sh051038","人文素质教育","gg081009","有机分析技术","yh011011","水污染控制仿真实训","yh022005","思想道德修养与法律基础","gg081001","密封技术","jx011011","压缩机拆装实训","jx022007","现代礼仪","gg081011","体育","gg071001","现代礼仪","gg081011","混合动力汽车拆装与检测","jx061011","体育","gg071001","传感器技术","zd021014","军事技能","gg072001","智能化仪器及应用","zd041008","高电压技术与电气绝缘试验","zd051011","集散控制系统","zd061011","网络基础与局域网组建","js011002","Linux网络服务与管理","js021003","石化产品加工概论","gg011001","商务英语综合实训（一级证书）","yw022004","社区活动策划与实施","yw041014","消费者行为分析","yw051010",null,null,52,-2,{"$error":"#REF!"},{"$error":"#REF!"},{"$f":"IF(教学计划表!N70<>\"\",教学计划表!N70,\"\")","v":""},""]
["技能考证综合训练","sh012002","精细化学品配方制剂技术","sh021010","石油化工生产概论","sh031011","思想道德修养与法律基础","gg081001","计算机应用基础","gg051001","军事技能","gg072001","油品分析技术","yh011012","水污染控制技术","yh021010","体育","gg071001","公差配合与测量技术","jx011012","音乐鉴赏","gg081014","心理健康教育","gg081004","外语","gg061001","心理健康教育","gg081004","新能源汽车营销与售后服务","jx061012","外语","gg061001","工业组态控制技术","zd021015","商务礼仪","gg081012","智能控制系统集成","zd041009","发电厂及变电站二次回路","zd051012","总线技术及组态软件","zd061012","网络技术","gg051004","PHP程序设计","js021004","书法鉴赏","gg081016","商务英语综合实训（中级证书）","yw022006","社区活动策划综合实训","yw042016","商务数据分析与应用基础","yw051011",null,null,53,-2,{"$error":"#REF!"},{"$error":"#REF!"},{"$f":"IF(教学计划表!N71<>\"\",教学计划表!N71,\"\")","v":""},""]
["加氢装置实训","sh012032","精细化工生产技术","sh021011","书法鉴赏","gg081016","体育","gg071001","计算机应用基础综合实训","gg052003","商务礼仪","gg081012","食品分析技术","yh011013","思想道德修养与法律基础","gg081001","外语","gg061001","零件普通机床加工","jx011013","择业与就业指导","gg081007","形势与政策","gg081003","网络技术","gg051004","形势与政策","gg081003","汽车文化","jx061013","网络技术","gg051004","变配电所微机综保","zd021017","石化产品加工概论","gg011001","自动化产品营销","zd041010","电力系统及继电保护","zd051013","SIS安全系统","zd061013","网络设备配置与管理","js011006","数据库应用","js021005","思想道德修养与法律基础","gg081001","石化产品概论","yw021002","社区建设理论与实务","yw041007","应用统计","yw051012",null,null,54,-2,{"$error":"#REF!"},{"$error":"#REF!"},{"$f":"IF(教学计划表!N72<>\"\",教学计划表!N72,\"\")","v":""},""]
["甲苯岐化生产实训","sh012012","化工生产技术","sh021012","思想道德修养与法律基础","gg081001","外语","gg061001","加氢裂化工艺仿真操作","sh052023","石化产品加工概论","gg011001","药物分析技术","yh011014","体育","gg071001","网络技术","gg051004","化工腐蚀与防护","jx011014","职业生涯规划","gg081006","音乐鉴赏","gg081014","现代礼仪","gg081011","音乐鉴赏","gg081014","机动车鉴定与评估","jx061014","网络技术","zd012015","专业综述","zd021018","书法鉴赏","gg081016","自动控制技术","zd041011","汽车电气维修技术","zd051014","过程控制系统设计与安装","zd061014","网络数据库管理","js011003","Web前端设计","js021006","体育","gg071001","石化产品加工概论","gg011001","社区建设实务综合实训","yw042013","数据库技术与应用","yw051013",null,null,55,-2,{"$error":"#REF!"},{"$error":"#REF!"},{"$f":"IF(教学计划表!N73<>\"\",教学计划表!N73,\"\")","v":""},""]
["甲苯歧化生产实训","sh012033","化工安全技术","sh021013","体育","gg071001","网络技术","gg051004","甲苯歧化实训操作","sh052025","识图与制图","sh061001","环境分析技术","yh011015","外语","gg061001","微生物基础","yh031005","电工电子技术","jx011015","制冷、空调设计","jx022006","择业与就业指导","gg081007","心理健康教育","gg081004","择业与就业指导","gg081007","新能源汽车认识与使用实训","jx062001","维修电工技术","zd011020","CAD实训","zd022001","数控编程与操作","zd031015","机器人技术","zd041012","安装技术","zd051015","电气控制与变频器技术","zd061015","网络运维综合实训","js012006","Android程序设计","js021007","外贸单证操作","yw011008","实用英语写作","yw021021","社区业务实习","yw042009","网络营销与策划","yw051014",null,null,56,-2,{"$error":"#REF!"},{"$error":"#REF!"},{"$f":"IF(教学计划表!N74<>\"\",教学计划表!N74,\"\")","v":""},""]
["焦化工艺","sh011026","精细化学品销售技术","sh021014","外语","gg061001","现代礼仪","gg081011","锦州石化三催化车间实习","sh052008","书法鉴赏","gg081016","化工产品分析技术","yh011016","网络技术","gg051004","文献检索","yh031014","维修电工实训","jx012001","制冷空调设备维修","jx021010","职业生涯规划","gg081006","形势与政策","gg081003","职业生涯规划","gg081006","电工电子实训","jx062002","维修电工实训","zd012009","电子技术实训","zd022002","数控仿真实训","zd032010","液压气动技术","zd041013","用电营业管理","zd051016","仪表工识图与CAD制图","zd061016","网络组建管理与维护","js011010","JQuery","js021008","外贸单证综合实训","yw012005","书法鉴赏","gg081016","社区应用文写作","yw041012","跨境电子商务实务","yw051015",null,null,57,-2,{"$error":"#REF!"},{"$error":"#REF!"},{"$f":"IF(教学计划表!N75<>\"\",教学计划表!N75,\"\")","v":""},""]
["焦化装置实训","sh012031","文献检索","sh021015","网络技术","gg051004","心理健康教育","gg081004","锦州石化重整车间实习","sh052009","思想道德修养与法律基础","gg081001","动画制作","yh011017","微生物挂膜实训","yh022007","无机化学","ggnq1007","典型零部件测绘","jx012002","制冷空调运行管理","jx021011","职业资格考证实训","jx032005","音乐鉴赏","gg081014","职业资格考证实训","jx052004","新能源汽车维修实训","jx062003","现场总线技术","zd011023","电工工艺实训","zd022003","数控机床机械结构","zd031017","电工工艺实训","zd042001","供配电工程安装与调试","zd051017","化工基础及工艺技术","zd061017","网站建设","js011011","移动App前端设计","js021009","外贸跟单操作","yw011017","思想道德修养与法律基础","gg081001","社区政策法规","yw041010","电子商务数据分析","yw051016",null,null,58,-2,{"$error":"#REF!"},{"$error":"#REF!"},{"$f":"IF(教学计划表!N76<>\"\",教学计划表!N76,\"\")","v":""},""]
["就业与创业","sh012007","精细化学品分析检测技术","sh021016","现代礼仪","gg081011","形势与政策","gg081003","就业与创业","sh052015","体育","gg071001","环境保护","yh011018","污水处理厂的运行与管理","yh021015","物理化学","yh031015","认识实习","jx012003","制冷空调装置控制","jx021006","中国传统文化选讲选讲","gg081013","择业与就业指导","gg081007","中国传统文化选讲选讲","gg081013","新能源汽车检测综合实训","jx062004","现代礼仪","gg081011","电气控制实训","zd022004","数控加工综合实训","zd032011","电子产品装配实习","zd042002","安全用电与操作","zd051018","检测技术及仪表","zd061018","网站设计与开发项目实训","js012005","HTML5+","js021010","外贸会计与国际结算","yw011009","体育","gg071001","石化产品加工概论","gg011001","快速消费品数据分析","yw051017",null,null,59,-2,{"$error":"#REF!"},{"$error":"#REF!"},{"$f":"IF(教学计划表!N77<>\"\",教学计划表!N77,\"\")","v":""},""]
["军事理论","gg081005","专业英语","sh021017","心理健康教育","gg081004","乙酸乙酯生产实训","sh042007","军事理论","gg081005","天然气输送实训","sh062007","样品采集与处理技术","yh011019","污水处理的运行与维护","yh021015","现代礼仪","gg081011","钳工考证实训","jx012004","制冷设备","jx021009","中国文学作品赏析","gg081017","职业生涯规划","gg081006","中国文学作品赏析","gg081017","新能源汽车保养综合实训","jx062005","小型电子产品组装与调试","zd011003","维修电工考证实训","zd022005","思想道德修养与法律基础","gg081001","单片机实训","zd042003","电气安装技术","zd051019","电工实训","zd062001","物联网技术","js011015","图形图像处理","js021011","外贸业务操作","yw011010","外贸单证操作","yw021016","书法鉴赏","gg081016","连锁经营数据分析","yw051018",null,null,60,-2,{"$error":"#REF!"},{"$error":"#REF!"},{"$f":"IF(教学计划表!N78<>\"\",教学计划表!N78,\"\")","v":""},""]
["可编程控制器应用技术","gg041006","环境与保护","sh021018","形势与政策","gg081003","音乐鉴赏","gg081014","可编程控制器应用技术","gg041006","外语","gg061001","日用化学品检验技术","yh011020","无机化学","yh021001","心理健康教育","gg081004","机泵检修实训","jx012005","制冷设备维修中级工考证训练","jx022005","专业英语","jx031011","职业资格考证实训","jx042006","中级电工考证实训","jx052003","就业与创业","jx062006","心理健康教育","gg081004","钳工实训","zd022006","体育","gg071001","CAD综合实训","zd042004","电工基本技能实训","zd052001","电子技术实训","zd062002","现代礼仪","gg081011","网站建设","js021012","外贸业务综合实训","yw012007","外贸单证操作综合实训","yw022009","思想道德修养与法律基础","gg081001","数据采集与处理","yw051019",null,null,61,-2,{"$error":"#REF!"},{"$error":"#REF!"},{"$f":"IF(教学计划表!N79<>\"\",教学计划表!N79,\"\")","v":""},""]
["连续重整工艺","sh011024","石油产品加工概论","sh021019","音乐鉴赏","gg081014","有机化工生产技术","sh041011","口语表达与应用文写作","sh051007","网络技术","gg051004","油品分析实习","yh012001","物理化学","yh021003","形势与政策","gg081003","生产实习","jx012006","制冷原理","jx021005","综合数控加工及工艺应用","jx031009","中国传统文化选讲选讲","gg081013","毕业设计","jx052009","新能源汽车车身修复实训","jx062007","形势与政策","gg081003","变频器实训","zd022007","外语","gg061001","金工实习","zd042005","电子线路安装","zd052002","电子线路CAD实训","zd062003","心理健康教育","gg081004","移动App设计","js021013","外贸英语","yw011001","外贸单证实务","yw021023","体育","gg071001","数据分析技术","yw051020",null,null,62,-2,{"$error":"#REF!"},{"$error":"#REF!"},{"$f":"IF(教学计划表!N80<>\"\",教学计划表!N80,\"\")","v":""},""]
["连续重整装置实训","sh012017","高分子材料概论","sh021020","择业与就业指导","gg081007","择业与就业指导","gg081007","连续重整装置实训","sh052016","维修钳工操作","sh061015","职业技能考证实训","yh012002","现代礼仪","gg081011","仪器分析","yh031016","机械加工实训","jx012007","中国传统文化选讲选讲","gg081013","毕业综合实践","jx032010","中国文学作品赏析","gg081017","就业与创业","jx052010","顶岗实习","jx062008","仪表产品生产管理与营销","zd011014","自动生产线实训","zd022008","网络技术","gg051004","自动化生产线组态实训","zd042006","电工培训及取证","zd052003","智能仪表设计制作实训","zd062004","形势与政策","gg081003","物联网技术","js021014","外贸英语函电","yw011006","外贸单证实务综合实训","yw022015","外语","gg061001","数据可视化技术","yw051021",null,null,63,-2,{"$error":"#REF!"},{"$error":"#REF!"},{"$f":"IF(教学计划表!N81<>\"\",教学计划表!N81,\"\")","v":""},""]
["马克思主义哲学","gg081018","机泵拆装实训","sh022001","职业生涯规划","gg081006","职业生涯规划","gg081006","炼化仿真实训操作","sh052010","现代礼仪","gg081011","毕业课题","yh012003","心理健康教育","gg081004","音乐鉴赏","gg081014","无损检测综合实训","jx012008","中国文学作品赏析","gg081017","就业与创业","jx032011","专业英语","jx041013","电气安全技术","gg041006","毕业教育","jx062009","仪表工考证培训","zd012007","单片机实训","zd022009","维修电工考证实训","zd032007","维修电工实训","zd042007","PLC实训","zd052004","图形化系统设计实训","zd062005","音乐鉴赏","gg081014","实用工具软件","js021015","外语","gg061001","外贸英语函电","yw021011","网络技术","gg051004","供应链数据分析","yw051022",null,null,64,-2,{"$error":"#REF!"},{"$error":"#REF!"},{"$f":"IF(教学计划表!N82<>\"\",教学计划表!N82,\"\")","v":""},""]
["毛思、特色理论概论","gg081002","精细化学品配方与检测实训","sh022002","中国传统文化选讲选讲","gg081013","中国传统文化选讲选讲","gg081013","炼化设备的维护","sh051021","心理健康教育","gg081004","社会调查","yh012004","形势与政策","gg081003","有机化学","ggnq1008","顶岗实习","jx012009","专业英语","jx021014","机构零部件设计与应用","jx031013","毕业综合实践","jx042011","创新方法","gg011002","电气安全技术","gg041006","仪表控制系统的构成与操作","zd011007","电子CAD实训","zd022010","现代礼仪","gg081011","智能制造技术综合实训","zd042008","电机故障修理实训","zd052005","自动化仪表及装置实训","zd062006","择业与就业指导","gg081007","计算机组装与维护实训","js022001","网络技术","gg051004","外语","gg061001","物业管理技能实训","yw042006","运营数据分析","yw051023",null,null,65,{"$f":"2*$BD$2-2","v":-2},{"$f":"OFFSET($A$2,BE67,BF67)","v":{"$error":"#REF!"}},{"$f":"OFFSET($A$2,BE67,BF67+1)","v":{"$error":"#REF!"}},{"$f":"IF(教学计划表!N83<>\"\",教学计划表!N83,\"\")","v":""},""]
["美术鉴赏","gg081015","乙酸乙酯操作实训","sh022003","中国文学作品赏析","gg081017","中国文学作品赏析","gg081017","炼化设备使用与维护","sh051018","形势与政策","gg081003","毕业教育","yh012005","仪器分析技术","yh021005","择业与就业指导","gg081007","毕业教育","jx012010","毕业设计","jx022011","电气安全技术","gg041006","就业与创业","jx042012","#","#","创新方法","gg011002","音乐鉴赏","gg081014","电气CAD实训","zd022011","心理健康教育","gg081004","智能化控制实训","zd042009","机床控制实训","zd052006","执行器实训","zd062007","职业生涯规划","gg081006","Java程序设计综合实训","js022002","现代礼仪","gg081011","网络技术","gg051004","物业管理理论与实务","yw041009","市场数据分析","yw051024",null,null,66,-2,{"$error":"#REF!"},{"$error":"#REF!"},{"$f":"IF(教学计划表!N84<>\"\",教学计划表!N84,\"\")","v":""},{"$f":"IF(BI68<>\"\",VLOOKUP(BI68,$BG$3:$BH$140,2,FALSE),\"\")","v":""}]
["企业文化","gg081010","精细化工顶岗实训","sh022004","无机化学","ggnq1007","甲苯岐化生产实训","sh042013","炼化生产过程调节与控制","sh051019","演讲与口才","sh061006","顶岗实习","yh012006","音乐鉴赏","gg081014","职业生涯规划","gg081006","就业与创业实习","jx012011","就业与创业","jx022012","创新方法","gg011002","先进制造技术","jx041014","#","#",null,null,"择业与就业指导","gg081007","顶岗实习","zd022012","形势与政策","gg081003","电气CAD实训","zd042010","供电系统认识实训","zd052007","工业自动化仪表综合技能实训","zd062008","中国传统文化选讲选讲","gg081013","企业网络组建项目实训","js022003","心理健康教育","gg081004","文秘英语","yw021018","现代办公技能综合实训","yw042008","网店运营（淘宝C店）","yw051025",null,null,67,-2,{"$error":"#REF!"},{"$error":"#REF!"},{"$f":"IF(教学计划表!N85<>\"\",教学计划表!N85,\"\")","v":""},""]
["燃料油生产技术","sh011010","技能考证综合实训","sh022005","有机化学","ggnq1008","柴油加氢实训","sh042014","炼油工艺仿真操作","sh052032","液化天然气供应实训","sh062019","就业与创业","yh012007","有机化学","yh021002","制图CAD实训","gg032002","毕业课题","jx012012","电气安全技术","gg041006","#","#","电气安全技术","gg041006","#","#",null,null,"职业生涯规划","gg081006","就业与创业","zd022013","液压气动技术","zd031008","电子CAD实训","zd042011","顶岗实习","zd052008","钳工实训","zd062009","中国文学作品赏析","gg081017","Web前端设计综合实训","js022004","形势与政策","gg081003","现代礼仪","gg081011","现代礼仪","gg081011","电子商务法规","yw051026",null,null,68,-2,{"$error":"#REF!"},{"$error":"#REF!"},{"$f":"IF(教学计划表!N86<>\"\",教学计划表!N86,\"\")","v":""},""]
["人文素质教育","gg081009","毕业综合实训","sh022006","磺酸盐综合实训","sh032011","HSE实训","sh042015","马克思主义哲学","gg081018","音乐鉴赏","gg081014","有机化学","ggnq1008","择业与就业指导","gg081007","制图CAD实训","gg062002","CAD实训","jx012013","创新方法","gg011002","#","#","创新方法","gg011002","#","#",null,null,"中国传统文化选讲选讲","gg081013","毕业教育","zd022014","音乐鉴赏","gg081014","供配电技术实训","zd042012","企业供电与运行顶岗实习","zd052009","认识实习","zd062010","实用工具软件","js011017","移动App前端设计综合实训","js022005","音乐鉴赏","gg081014","心理健康教育","gg081004","心理健康教育","gg081004","应用文写作","yw051027",null,null,69,-2,{"$error":"#REF!"},{"$error":"#REF!"},{"$f":"IF(教学计划表!N87<>\"\",教学计划表!N87,\"\")","v":""},""]
["军事技能","gg072001","毕业课题","sh022007","甲苯歧化综合实训","sh032012","专业英语","sh041014","毛思、特色理论概论","gg081002","油库设备使用与维护","sh061011","珠宝鉴定","yh012021","职业生涯规划","gg081006","制图与CAD","gg031004","机构创新实训","jx012014","#","#","#","#","#","#","#","#",null,null,"中国文学作品赏析","gg081017","工厂供配电技术实训","zd022015","择业与就业指导","gg081007","毕业教育 ","zd042013","企业供电认识顶岗实习","zd052010","顶岗实习","zd062011","信息安全基础","js011018","PHP程序设计综合实训","js022006","英语综合实训","yw012002","形势与政策","gg081003","形势与政策","gg081003","网店运营（淘宝C店）实训","yw052001",null,null,70,-2,{"$error":"#REF!"},{"$error":"#REF!"},{"$f":"IF(教学计划表!N88<>\"\",教学计划表!N88,\"\")","v":""},""]
["润滑油生产技术","sh011014","就业与创业","sh022008","柴油加氢实训","sh032013","认识实习","sh042016","煤液化工艺技术","sh051028","油库设备维护","sh061008","医学检验","yh012022","中国传统文化选讲选讲","gg081013","制图与CAD","gg061004","管焊实训","jx012015","#","#","#","#","#","#","#","#",null,null,"专业实习","zd012003","工厂变配电所设计","zd022016","职业生涯规划","gg081006","岗位实习","zd042014","发电厂及变电站二次回路顶岗实习","zd052011","毕业教育","zd062012","python程序设计","js011019","Android程序设计综合实训","js022007","油品储运技术","yw011018","音乐鉴赏","gg081014","音乐鉴赏","gg081014","跨境电子商务实务实训","yw052002",null,null,71,-2,{"$error":"#REF!"},{"$error":"#REF!"},{"$f":"IF(教学计划表!N89<>\"\",教学计划表!N89,\"\")","v":""},""]
["商务礼仪","gg081012","毕业教育","sh022009","聚乙烯装置仿真实训","sh032014","机泵拆装","sh042017","美术鉴赏","gg081015","油品储运技术","sh061013","电气安全技术","gg041006","中国文学作品赏析","gg081017","中国传统文化选讲选讲","gg081013","焊工实习","jx012016","#","#","#","#","#","#","#","#",null,null,"专业英语","zd011009","电气综合实训","zd022017","中国传统文化选讲选讲","gg081013","变频器实训","zd042015","电力系统及继电保护顶岗实习","zd052012","金工实训","zd062013","安全设备配置与管理","js011020","物联网技术综合实训","js022008","择业与就业指导","gg081007","英语综合实训","yw022003","英语综合实训","yw042001","电子商务数据分析实训","yw052003",null,null,72,-2,{"$error":"#REF!"},{"$error":"#REF!"},{"$f":"IF(教学计划表!N90<>\"\",教学计划表!N90,\"\")","v":""},""]
["深度加氢工艺","sh011025","认识实习","sh022010","电气安全技术","gg041006","乙烯装置仿真操作","sh042018","企业文化","gg081010","油品储运实训","sh062006","创新方法","gg011002","给水生产技术","yh021019","中国文学作品赏析","gg081017","压缩机拆装实习","jx012017","#","#","#","#","#","#","#","#",null,null,"专业综述","zd011013","可编程控制器实训","zd022019","中国文学作品赏析","gg081017","工厂供配电技术实训","zd042016","毕业课程设计（实践报告)","zd052013","检测仪表技术实训","zd062014","Web攻击与防护","js011021","顶岗实习","js022009","职业生涯规划","gg081006","营销策划实务","yw021012","择业与就业指导","gg081007","顶岗实习","yw052004",null,null,73,-2,{"$error":"#REF!"},{"$error":"#REF!"},{"$f":"IF(教学计划表!N91<>\"\",教学计划表!N91,\"\")","v":""},""]
["生产实习","sh012010","生产实习","sh022011","创新方法","gg011002","化工单元操作实训","sh042019","燃料油生产技术","sh051029","油品分析实训","sh062020","#","#","环境修复技术","yh021020","生物反应工程","yh031018"," 化工机器维护与检修","jx011016","#","#","#","#","#","#","#","#",null,null,"过程检测仪表实训","zd012018","过程控制技术","zd021020","自动生产线安装与调试","zd031018","工业机器人实训","zd042017","工厂变电所倒闸操作","zd052014","就业与创业","zd062015","网络渗透攻击与防护","js011022","毕业教育","js022010","中国传统文化选讲选讲","gg081013","营销实战沙盘模拟综合实训","yw022007","职业生涯规划","gg081006","就业与创业训练","yw052005",null,null,74,-2,{"$error":"#REF!"},{"$error":"#REF!"},{"$f":"IF(教学计划表!N92<>\"\",教学计划表!N92,\"\")","v":""},""]
["石化产品加工概论","gg011001","顶岗实习","sh022012","#","#","燃气输配","sh041015","人文素质教育","gg081009","油品计量","sh061006","#","#","无机化学","ggnq1007","生物分离工程仿真实训","yh032008","化工设备维护及制造安装","jx011017","#","#","#","#","#","#","#","#",null,null,"过程控制仪表实训","zd012019","液压气动实训","zd021021",null,null,null,null,null,null,null,null,null,null,"电气安全技术","gg041006","中国文学作品赏析","gg081017","择业与就业指导","gg081007","职业资格认证实训","yw042005","毕业教育","yw052006",null,null,75,-2,{"$error":"#REF!"},{"$error":"#REF!"},{"$f":"IF(教学计划表!N93<>\"\",教学计划表!N93,\"\")","v":""},""]
["石油及产品分析","sh011005","甲苯岐化生产实训","sh022013","#","#","职业素养教育","sh041016","认识实践","sh052002","油品计量综合实训及取证","sh062002","#","#","有机化学","ggnq1008","微生物综合实训","yh032009","电气安全技术","gg041006","#","#","#","#","#","#","#","#",null,null,"DCS实训","zd012020","电气安全技术","gg041006","自动生产线组态实训","zd032008","过程检测仪表实训","zd042019","低压变配电所综保整定","zd052016","DCS实训","zd062017","Web前端设计综合实训","js012013","创新方法","gg011002","报关报检实务","yw011022","职业生涯规划","gg081006","中国传统文化选讲选讲","gg081013","电气安全技术","gg041006",null,null,76,-2,{"$error":"#REF!"},{"$error":"#REF!"},{"$f":"IF(教学计划表!N94<>\"\",教学计划表!N94,\"\")","v":""},""]
["书法鉴赏","gg081016","磺酸盐综合实训","sh022014","#","#","高聚物生产技术","sh041017","军事技能","gg072001","油品调和实训","sh062011","#","#","室内环境监测技术","yh021021","单元操作与管道拆装实训","yh032010","创新方法","gg011002","#","#","#","#","#","#","#","#",null,null,"控制系统投运实训","zd012021","创新方法","gg011002","电气控制与PLC应用技术","zd031019","过程控制仪表实训","zd042020","毕业教育","zd052017","计算机控制实训","zd062018","电气安全技术","gg041006","#","#","电气安全技术","gg041006","中国传统文化选讲选讲","gg081013","中国传统文化选讲选讲","gg081013","创新方法","gg011002",null,null,77,-2,{"$error":"#REF!"},{"$error":"#REF!"},{"$f":"IF(教学计划表!N95<>\"\",教学计划表!N95,\"\")","v":""},""]
["思想道德修养与法律基础","gg081001","柴油加氢装置实训","sh022015","#","#","化工腐蚀与防护","sh041018","润滑油生产技术","sh051030","油品装卸","sh061009","#","#","噪声控制技术","yh021022","电气安全技术","gg041006","#","#","#","#","#","#","#","#","#","#",null,null,"PLC实训","zd012022","#","#","工厂供配电技术实训","zd031020","DCS实训","zd042021","电控综合实训","zd052018","电气控制实训","zd062019","创新方法","gg011002","#","#","创新方法","gg011002","中国文学作品赏析","gg081017","中国文学作品赏析","gg081017",null,null,null,null,78,-2,{"$error":"#REF!"},{"$error":"#REF!"},{"$f":"IF(教学计划表!N96<>\"\",教学计划表!N96,\"\")","v":""},""]
["体育","gg071001","电气安全技术","gg041006","#","#","管路拆装综合实训","sh042020","三废处理","sh051016","油品装卸设备","sh061007","#","#","基础化学","yh021023","创新方法","gg011002","#","#","#","#","#","#","#","#","#","#",null,null,"在线岗位实训","zd012023","#","#","PLC实训","zd031021","控制系统投运实训","zd042022","电机修理实训","zd052019","毕业设计","zd062020","#","#","#","#","#","#","综合英语","yw021001","岗位认知综合实训","yw042017",null,null,null,null,79,-2,{"$error":"#REF!"},{"$error":"#REF!"},{"$f":"IF(教学计划表!N97<>\"\",教学计划表!N97,\"\")","v":""},""]
["外语","gg061001","创新方法","gg011002","#","#","电气安全技术","gg041006","商务礼仪","gg081012","油气集输","sh061014","#","#","电工技术实训","yh022013","#","#","#","#","#","#","#","#","#","#","#","#",null,null,"SIS系统","zd011024","#","#","电气综合实训","zd031022","PLC实训","zd042023","机器人技术实训","zd052020","CAD综合实训","zd062021","#","#","#","#","#","#","就业与创业","yw022016","就业与创业","yw042018",null,null,null,null,80,-2,{"$error":"#REF!"},{"$error":"#REF!"},{"$f":"IF(教学计划表!N98<>\"\",教学计划表!N98,\"\")","v":""},""]
["网络技术","gg051004","#","#","#","#","创新方法","gg011002","生产实践","sh052007","择业与就业指导","gg081007","#","#","机泵拆装实训","yh022014","#","#","#","#","#","#","#","#","#","#","#","#",null,null,"电气安全技术","gg041006","#","#","单片机与传感器实训","zd031023","在线岗位实习","zd042024","变频器技术实训","zd052021","工程制图与CAD","zd061019","#","#","#","#","#","#","电气安全技术","gg041006","社区民间组织建设与管理","yw041022",null,null,null,null,81,-2,{"$error":"#REF!"},{"$error":"#REF!"},{"$f":"IF(教学计划表!N99<>\"\",教学计划表!N99,\"\")","v":""},""]
["无机化学","ggnq1007","#","#","#","#","#","#","石化产品加工概论","gg011001","职业生涯规划","gg081006","#","#","HSE实训","yh022015","#","#","#","#","#","#","#","#","#","#","#","#",null,null,"创新方法","gg011002","#","#","网络技术","zd031024","电气安全技术","gg041006","工厂供配电技术实训","zd052022","专业英语","zd061020","#","#","#","#","#","#","创新方法","gg011002","电气安全技术","gg041006",null,null,null,null,82,-2,{"$error":"#REF!"},{"$error":"#REF!"},{"$f":"IF(教学计划表!N100<>\"\",教学计划表!N100,\"\")","v":""},""]
["现代礼仪","gg081011","#","#","#","#","#","#","石化装置仿真操作实训","sh052017","制图CAD实训","gg032002","#","#","电气安全技术","gg041006","#","#","#","#","#","#","#","#","#","#","#","#",null,null,"#","#","#","#","计算机组装与维护","zd031025","创新方法","gg011002","工厂变配电所设计","zd052023","电气控制技术","zd061021","#","#","#","#","#","#","#","#","创新方法","gg011002",null,null,null,null,83,-2,{"$error":"#REF!"},{"$error":"#REF!"},{"$f":"IF(教学计划表!N101<>\"\",教学计划表!N101,\"\")","v":""},""]
["心理健康教育","gg081004","#","#","#","#","#","#","石油产品分析实训","sh052030","制图与CAD","gg061004","#","#","创新方法","gg011002","#","#","#","#","#","#","#","#","#","#","#","#",null,null,"#","#","#","#","电机拖动与控制","zd031026","#","#","就业与创业","zd052024","维修电工技术","zd061022","#","#","#","#","#","#","#","#","#","#",null,null,null,null,84,-2,{"$error":"#REF!"},{"$error":"#REF!"},{"$f":"IF(教学计划表!N102<>\"\",教学计划表!N102,\"\")","v":""},""]
["形势与政策","gg081003","#","#","#","#","#","#","石油产品分析与检测","sh051002","中国传统文化选讲选讲","gg081013","#","#","#","#","#","#","#","#","#","#","#","#","#","#","#","#",null,null,"#","#","#","#","工厂供电","zd031027","#","#","单片机实训","zd052025","电气安全技术","gg041006","#","#","#","#","#","#","#","#","#","#",null,null,null,null,85,-2,{"$error":"#REF!"},{"$error":"#REF!"},{"$f":"IF(教学计划表!N103<>\"\",教学计划表!N103,\"\")","v":""},""]
["乙酸乙酯生产实训","sh012003","#","#","#","#","#","#","石油及产品分析","sh051031","中国文学作品赏析","gg081017","#","#","#","#","#","#","#","#","#","#","#","#","#","#","#","#",null,null,"#","#","#","#","高低压变电所导闸操作","zd032020","#","#","电气安全技术","gg041006","创新方法","gg011002","#","#","#","#","#","#","#","#","#","#",null,null,null,null,86,-2,{"$error":"#REF!"},{"$error":"#REF!"},{"$f":"IF(教学计划表!N104<>\"\",教学计划表!N104,\"\")","v":""},""]
["音乐鉴赏","gg081014","#","#","#","#","#","#","书法鉴赏","gg081016","电气安全技术","gg041006","#","#","#","#","#","#","#","#","#","#","#","#","#","#","#","#",null,null,"#","#","#","#","高压综合保护器整定","zd032021","#","#","创新方法","gg011002","#","#","#","#","#","#","#","#","#","#","#","#",null,null,null,null,87,-2,{"$error":"#REF!"},{"$error":"#REF!"},{"$f":"IF(教学计划表!N105<>\"\",教学计划表!N105,\"\")","v":""},""]
["油品分析综合实训","sh012015","#","#","#","#","#","#","思想道德修养与法律基础","gg081001","创新方法","gg011002","#","#","#","#","#","#","#","#","#","#","#","#","#","#","#","#",null,null,"#","#","#","#","低压综合保护器整定","zd032022","#","#","#","#","#","#","#","#","#","#","#","#","#","#","#","#",null,null,null,null,88,-2,{"$error":"#REF!"},{"$error":"#REF!"},{"$f":"IF(教学计划表!N106<>\"\",教学计划表!N106,\"\")","v":""},""]
["油气储运技术","sh011015","#","#","#","#","#","#","体育","gg071001","#","#","#","#","#","#","#","#","#","#","#","#","#","#","#","#","#","#",null,null,"#","#","#","#","电气安全技术","gg041006","#","#","#","#","#","#","#","#","#","#","#","#","#","#","#","#",null,null,null,null,89,-2,{"$error":"#REF!"},{"$error":"#REF!"},{"$f":"IF(教学计划表!N107<>\"\",教学计划表!N107,\"\")","v":""},""]
["有机化工生产技术","sh011011","#","#","#","#","#","#","外语","gg061001","#","#","#","#","#","#","#","#","#","#","#","#","#","#","#","#","#","#",null,null,"#","#","#","#","创新方法","gg011002","#","#","#","#","#","#","#","#","#","#","#","#","#","#","#","#",null,null,null,null,90,-2,{"$error":"#REF!"},{"$error":"#REF!"},{"$f":"IF(教学计划表!N108<>\"\",教学计划表!N108,\"\")","v":""},""]
["有机化学","ggnq1008","#","#","#","#","#","#","网络技术","gg051004","#","#","#","#","#","#","#","#","#","#","#","#","#","#","#","#","#","#",null,null,"#","#","#","#","#","#","#","#","#","#","#","#","#","#","#","#","#","#","#","#","#","#",null,null,null,null,91,-2,{"$error":"#REF!"},{"$error":"#REF!"},{"$f":"IF(教学计划表!N109<>\"\",教学计划表!N109,\"\")","v":""},""]
["择业与就业指导","gg081007","#","#","#","#","#","#","网页制作","sh051008","#","#","#","#","#","#","#","#","#","#","#","#","#","#","#","#","#","#",null,null,"#","#","#","#","#","#","#","#","#","#","#","#","#","#","#","#","#","#","#","#","#","#",null,null,null,null,92,-2,{"$error":"#REF!"},{"$error":"#REF!"},{"$f":"IF(教学计划表!N110<>\"\",教学计划表!N110,\"\")","v":""},""]
["职业生涯规划","gg081006","#","#","#","#","#","#","物料分离过程与操作","sh051011","#","#","#","#","#","#","#","#","#","#","#","#","#","#","#","#","#","#",null,null,"#","#","#","#","#","#","#","#","#","#","#","#","#","#","#","#","#","#","#","#","#","#",null,null,null,null,93,-2,{"$error":"#REF!"},{"$error":"#REF!"},{"$f":"IF(教学计划表!N111<>\"\",教学计划表!N111,\"\")","v":""},""]
["中国传统文化选讲选讲","gg081013","#","#","#","#","#","#","物料输送与传热","sh051009","#","#","#","#","#","#","#","#","#","#","#","#","#","#","#","#","#","#",null,null,"#","#","#","#","#","#","#","#","#","#","#","#","#","#","#","#","#","#","#","#","#","#",null,null,null,null,94,-2,{"$error":"#REF!"},{"$error":"#REF!"},{"$f":"IF(教学计划表!N112<>\"\",教学计划表!N112,\"\")","v":""},""]
["中国文学作品赏析","gg081017","#","#","#","#","#","#","现代礼仪","gg081011","#","#","#","#","#","#","#","#","#","#","#","#","#","#","#","#","#","#",null,null,"#","#","#","#","#","#","#","#","#","#","#","#","#","#","#","#","#","#","#","#","#","#",null,null,null,null,95,-2,{"$error":"#REF!"},{"$error":"#REF!"},{"$f":"IF(教学计划表!N113<>\"\",教学计划表!N113,\"\")","v":""},""]
["专业英语","sh011016","#","#","#","#","#","#","心理健康教育","gg081004","#","#","#","#","#","#","#","#","#","#","#","#","#","#","#","#","#","#",null,null,"#","#","#","#","#","#","#","#","#","#","#","#","#","#","#","#","#","#","#","#","#","#",null,null,null,null,96,-2,{"$error":"#REF!"},{"$error":"#REF!"},{"$f":"IF(教学计划表!N114<>\"\",教学计划表!N114,\"\")","v":""},""]
["装置仿真","sh012005","#","#","#","#","#","#","形势与政策","gg081003","#","#","#","#","#","#","#","#","#","#","#","#","#","#","#","#","#","#",null,null,"#","#","#","#","#","#","#","#","#","#","#","#","#","#","#","#","#","#","#","#","#","#",null,null,null,null,97,{"$f":"2*$BD$2-2","v":-2},{"$f":"OFFSET($A$2,BE99,BF99)","v":{"$error":"#REF!"}},{"$f":"OFFSET($A$2,BE99,BF99+1)","v":{"$error":"#REF!"}},{"$f":"IF(教学计划表!N115<>\"\",教学计划表!N115,\"\")","v":""},""]
["原油一次加工工艺","sh011031 ","#","#","#","#","#","#","延迟焦化工艺仿真操作","sh052021","#","#","#","#","#","#","#","#","#","#","#","#","#","#","#","#","#","#",null,null,"#","#","#","#","#","#","#","#","#","#","#","#","#","#","#","#","#","#","#","#","#","#",null,null,null,null,98,-2,{"$error":"#REF!"},{"$error":"#REF!"},{"$f":"IF(教学计划表!N116<>\"\",教学计划表!N116,\"\")","v":""},""]
["汽柴油加氢装置操作","sh011032 ","#","#","#","#","#","#","演讲与口才","sh051010","#","#","#","#","#","#","#","#","#","#","#","#","#","#","#","#","#","#",null,null,"#","#","#","#","#","#","#","#","#","#","#","#","#","#","#","#","#","#","#","#","#","#",null,null,null,null,99,-2,{"$error":"#REF!"},{"$error":"#REF!"},{"$f":"IF(教学计划表!N117<>\"\",教学计划表!N117,\"\")","v":""},""]
["浩业生产外操岗位实习","sh012035","#","#","#","#","#","#","乙醛氧化制醋酸实训","sh052006","#","#","#","#","#","#","#","#","#","#","#","#","#","#","#","#","#","#",null,null,"#","#","#","#","#","#","#","#","#","#","#","#","#","#","#","#","#","#","#","#","#","#",null,null,null,null,100,-2,{"$error":"#REF!"},{"$error":"#REF!"},null,""]
["电气安全技术","gg041006","#","#","#","#","#","#","乙烯工艺仿真操作","sh052033","#","#","#","#","#","#","#","#","#","#","#","#","#","#","#","#","#","#",null,null,"#","#","#","#","#","#","#","#","#","#","#","#","#","#","#","#","#","#","#","#","#","#",null,null,null,null,101,-2,{"$error":"#REF!"},{"$error":"#REF!"},null,""]
["创新方法","gg011002","#","#","#","#","#","#","音乐鉴赏","gg081014","#","#","#","#","#","#","#","#","#","#","#","#","#","#","#","#","#","#",null,null,"#","#","#","#","#","#","#","#","#","#","#","#","#","#","#","#","#","#","#","#","#","#",null,null,null,null,102,-2,{"$error":"#REF!"},{"$error":"#REF!"},null,""]
["#","#","#","#","#","#","#","#","油品储运技术","sh051017","#","#","#","#","#","#","#","#","#","#","#","#","#","#","#","#","#","#",null,null,"#","#","#","#","#","#","#","#","#","#","#","#","#","#","#","#","#","#","#","#","#","#",null,null,null,null,103,-2,{"$error":"#REF!"},{"$error":"#REF!"},null,""]
["#","#","#","#","#","#","#","#","有机工艺仿真操作","sh052031","#","#","#","#","#","#","#","#","#","#","#","#","#","#","#","#","#","#",null,null,"#","#","#","#","#","#","#","#","#","#","#","#","#","#","#","#","#","#","#","#","#","#",null,null,null,null,104,-2,{"$error":"#REF!"},{"$error":"#REF!"},null,""]
["#","#","#","#","#","#","#","#","有机化工生产技术","sh051014","#","#","#","#","#","#","#","#","#","#","#","#","#","#","#","#","#","#",null,null,"#","#","#","#","#","#","#","#","#","#","#","#","#","#","#","#","#","#","#","#","#","#",null,null,null,null,105,-2,{"$error":"#REF!"},{"$error":"#REF!"},null,""]
["#","#","#","#","#","#","#","#","原油二次加工过程与操作","sh051013","#","#","#","#","#","#","#","#","#","#","#","#","#","#","#","#","#","#",null,null,"#","#","#","#","#","#","#","#","#","#","#","#","#","#","#","#","#","#","#","#","#","#",null,null,null,null,106,-2,{"$error":"#REF!"},{"$error":"#REF!"},null,""]
["#","#","#","#","#","#","#","#","原油一次加工过程与操作","sh051012","#","#","#","#","#","#","#","#","#","#","#","#","#","#","#","#","#","#",null,null,"#","#","#","#","#","#","#","#","#","#","#","#","#","#","#","#","#","#","#","#","#","#",null,null,null,null,107,-2,{"$error":"#REF!"},{"$error":"#REF!"},null,""]
["#","#","#","#","#","#","#","#","择业与就业指导","gg081007","#","#","#","#","#","#","#","#","#","#","#","#","#","#","#","#","#","#",null,null,"#","#","#","#","#","#","#","#","#","#","#","#","#","#","#","#","#","#","#","#","#","#",null,null,null,null,108,-2,{"$error":"#REF!"},{"$error":"#REF!"},null,""]
["#","#","#","#","#","#","#","#","职业生涯规划","gg081006","#","#","#","#","#","#","#","#","#","#","#","#","#","#","#","#","#","#",null,null,"#","#","#","#","#","#","#","#","#","#","#","#","#","#","#","#","#","#","#","#","#","#",null,null,null,null,109,-2,{"$error":"#REF!"},{"$error":"#REF!"},null,""]
["#","#","#","#","#","#","#","#","职业资格证书认证","sh052011","#","#","#","#","#","#","#","#","#","#","#","#","#","#","#","#","#","#",null,null,"#","#","#","#","#","#","#","#","#","#","#","#","#","#","#","#","#","#","#","#","#","#",null,null,null,null,110,-2,{"$error":"#REF!"},{"$error":"#REF!"},null,""]
["#","#","#","#","#","#","#","#","制图CAD实训","sh052003","#","#","#","#","#","#","#","#","#","#","#","#","#","#","#","#","#","#",null,null,"#","#","#","#","#","#","#","#","#","#","#","#","#","#","#","#","#","#","#","#","#","#",null,null,null,null,111,-2,{"$error":"#REF!"},{"$error":"#REF!"},null,""]
["#","#","#","#","#","#","#","#","制图与CAD","sh051006","#","#","#","#","#","#","#","#","#","#","#","#","#","#","#","#","#","#",null,null,"#","#","#","#","#","#","#","#","#","#","#","#","#","#","#","#","#","#","#","#","#","#",null,null,null,null,112,-2,{"$error":"#REF!"},{"$error":"#REF!"},null,""]
["#","#","#","#","#","#","#","#","中国传统文化选讲选讲","gg081013","#","#","#","#","#","#","#","#","#","#","#","#","#","#","#","#","#","#",null,null,"#","#","#","#","#","#","#","#","#","#","#","#","#","#","#","#","#","#","#","#","#","#",null,null,null,null,113,-2,{"$error":"#REF!"},{"$error":"#REF!"},null,""]
["#","#","#","#","#","#","#","#","中国文学作品赏析","gg081017","#","#","#","#","#","#","#","#","#","#","#","#","#","#","#","#","#","#",null,null,"#","#","#","#","#","#","#","#","#","#","#","#","#","#","#","#","#","#","#","#","#","#",null,null,null,null,114,-2,{"$error":"#REF!"},{"$error":"#REF!"},null,""]
["#","#","#","#","#","#","#","#","专业外语","sh051037","#","#","#","#","#","#","#","#","#","#","#","#","#","#","#","#","#","#",null,null,"#","#","#","#","#","#","#","#","#","#","#","#","#","#","#","#","#","#","#","#","#","#",null,null,null,null,115,-2,{"$error":"#REF!"},{"$error":"#REF!"},null,""]
["#","#","#","#","#","#","#","#","电气安全技术","gg041006","#","#","#","#","#","#","#","#","#","#","#","#","#","#","#","#","#","#",null,null,"#","#","#","#","#","#","#","#","#","#","#","#","#","#","#","#","#","#","#","#","#","#",null,null,null,null,116,-2,{"$error":"#REF!"},{"$error":"#REF!"},null,""]
["#","#","#","#","#","#","#","#","创新方法","gg011002","#","#","#","#","#","#","#","#","#","#","#","#","#","#","#","#","#","#",null,null,"#","#","#","#","#","#","#","#","#","#","#","#","#","#","#","#","#","#","#","#","#","#",null,null,null,null,117,-2,{"$error":"#REF!"},{"$error":"#REF!"},null,""]
["#","#","#","#","#","#","#","#","#","#","#","#","#","#","#","#","#","#","#","#","#","#","#","#","#","#","#","#",null,null,"#","#","#","#","#","#","#","#","#","#","#","#","#","#","#","#","#","#","#","#","#","#",null,null,null,null,118,-2,{"$error":"#REF!"},{"$error":"#REF!"},null,""]
["#","#","#","#","#","#","#","#","#","#","#","#","#","#","#","#","#","#","#","#","#","#","#","#","#","#","#","#",null,null,"#","#","#","#","#","#","#","#","#","#","#","#","#","#","#","#","#","#","#","#","#","#",null,null,null,null,119,-2,{"$error":"#REF!"},{"$error":"#REF!"},null,""]
["#","#","#","#","#","#","#","#","#","#","#","#","#","#","#","#","#","#","#","#","#","#","#","#","#","#","#","#",null,null,"#","#","#","#","#","#","#","#","#","#","#","#","#","#","#","#","#","#","#","#","#","#",null,null,null,null,120,-2,{"$error":"#REF!"},{"$error":"#REF!"},null,""]
["#","#","#","#","#","#","#","#","#","#","#","#","#","#","#","#","#","#","#","#","#","#","#","#","#","#","#","#",null,null,"#","#","#","#","#","#","#","#","#","#","#","#","#","#","#","#","#","#","#","#","#","#",null,null,null,null,121,-2,{"$error":"#REF!"},{"$error":"#REF!"},null,""]
["#","#","#","#","#","#","#","#","#","#","#","#","#","#","#","#","#","#","#","#","#","#","#","#","#","#","#","#",null,null,"#","#","#","#","#","#","#","#","#","#","#","#","#","#","#","#","#","#","#","#","#","#",null,null,null,null,122,-2,{"$error":"#REF!"},{"$error":"#REF!"},null,""]
["#","#","#","#","#","#","#","#","#","#","#","#","#","#","#","#","#","#","#","#","#","#","#","#","#","#","#","#",null,null,"#","#","#","#","#","#","#","#","#","#","#","#","#","#","#","#","#","#","#","#","#","#",null,null,null,null,123,-2,{"$error":"#REF!"},{"$error":"#REF!"},null,""]
["#","#","#","#","#","#","#","#","#","#","#","#","#","#","#","#","#","#","#","#","#","#","#","#","#","#","#","#",null,null,"#","#","#","#","#","#","#","#","#","#","#","#","#","#","#","#","#","#","#","#","#","#",null,null,null,null,124,-2,{"$error":"#REF!"},{"$error":"#REF!"},null,""]
["#","#","#","#","#","#","#","#","#","#","#","#","#","#","#","#","#","#","#","#","#","#","#","#","#","#","#","#",null,null,"#","#","#","#","#","#","#","#","#","#","#","#","#","#","#","#","#","#","#","#","#","#",null,null,null,null,125,-2,{"$error":"#REF!"},{"$error":"#REF!"},null,""]
["#","#","#","#","#","#","#","#","#","#","#","#","#","#","#","#","#","#","#","#","#","#","#","#","#","#","#","#",null,null,"#","#","#","#","#","#","#","#","#","#","#","#","#","#","#","#","#","#","#","#","#","#",null,null,null,null,126,-2,{"$error":"#REF!"},{"$error":"#REF!"},null,""]
["#","#","#","#","#","#","#","#","#","#","#","#","#","#","#","#","#","#","#","#","#","#","#","#","#","#","#","#",null,null,"#","#","#","#","#","#","#","#","#","#","#","#","#","#","#","#","#","#","#","#","#","#",null,null,null,null,127,-2,{"$error":"#REF!"},{"$error":"#REF!"},null,""]
["#","#","#","#","#","#","#","#","#","#","#","#","#","#","#","#","#","#","#","#","#","#","#","#","#","#","#","#",null,null,"#","#","#","#","#","#","#","#","#","#","#","#","#","#","#","#","#","#","#","#","#","#",null,null,null,null,128,-2,{"$error":"#REF!"},{"$error":"#REF!"},null,""]
["#","#","#","#","#","#","#","#","#","#","#","#","#","#","#","#","#","#","#","#","#","#","#","#","#","#","#","#",null,null,"#","#","#","#","#","#","#","#","#","#","#","#","#","#","#","#","#","#","#","#","#","#",null,null,null,null,129,{"$f":"2*$BD$2-2","v":-2},{"$f":"OFFSET($A$2,BE131,BF131)","v":{"$error":"#REF!"}},{"$f":"OFFSET($A$2,BE131,BF131+1)","v":{"$error":"#REF!"}},null,""]
["#","#","#","#","#","#","#","#","#","#","#","#","#","#","#","#","#","#","#","#","#","#","#","#","#","#","#","#",null,null,"#","#","#","#","#","#","#","#","#","#","#","#","#","#","#","#","#","#","#","#","#","#",null,null,null,null,130,-2,{"$error":"#REF!"},{"$error":"#REF!"},null,{"$f":"IF(BI132<>\"\",VLOOKUP(BI132,$BG$3:$BH$140,2,FALSE),\"\")","v":""}]
["#","#","#","#","#","#","#","#","#","#","#","#","#","#","#","#","#","#","#","#","#","#","#","#","#","#","#","#",null,null,"#","#","#","#","#","#","#","#","#","#","#","#","#","#","#","#","#","#","#","#","#","#",null,null,null,null,131,-2,{"$error":"#REF!"},{"$error":"#REF!"},null,""]
["#","#","#","#","#","#","#","#","#","#","#","#","#","#","#","#","#","#","#","#","#","#","#","#","#","#","#","#",null,null,"#","#","#","#","#","#","#","#","#","#","#","#","#","#","#","#","#","#","#","#","#","#",null,null,null,null,132,-2,{"$error":"#REF!"},{"$error":"#REF!"},null,""]
["#","#","#","#","#","#","#","#","#","#","#","#","#","#","#","#","#","#","#","#","#","#","#","#","#","#","#","#",null,null,"#","#","#","#","#","#","#","#","#","#","#","#","#","#","#","#","#","#","#","#","#","#",null,null,null,null,133,-2,{"$error":"#REF!"},{"$error":"#REF!"},null,""]
["#","#","#","#","#","#","#","#","#","#","#","#","#","#","#","#","#","#","#","#","#","#","#","#","#","#","#","#",null,null,"#","#","#","#","#","#","#","#","#","#","#","#","#","#","#","#","#","#","#","#","#","#",null,null,null,null,134,-2,{"$error":"#REF!"},{"$error":"#REF!"},null,""]
["#","#","#","#","#","#","#","#","#","#","#","#","#","#","#","#","#","#","#","#","#","#","#","#","#","#","#","#",null,null,"#","#","#","#","#","#","#","#","#","#","#","#","#","#","#","#","#","#","#","#","#","#",null,null,null,null,135,-2,{"$error":"#REF!"},{"$error":"#REF!"},null,""]
["#","#","#","#","#","#","#","#","#","#","#","#","#","#","#","#","#","#","#","#","#","#","#","#","#","#","#","#",null,null,"#","#","#","#","#","#","#","#","#","#","#","#","#","#","#","#","#","#","#","#","#","#",null,null,null,null,136,-2,{"$error":"#REF!"},{"$error":"#REF!"},null,""]
["#","#","#","#","#","#","#","#","#","#","#","#","#","#","#","#","#","#","#","#","#","#","#","#","#","#","#","#",null,null,"#","#","#","#","#","#","#","#","#","#","#","#","#","#","#","#","#","#","#","#","#","#",null,null,null,null,137,-2,{"$error":"#REF!"},{"$error":"#REF!"},null,""]
["#","#","#","#","#","#","#","#","#","#","#","#","#","#","#","#","#","#","#","#","#","#","#","#","#","#","#","#",null,null,"#","#","#","#","#","#","#","#","#","#","#","#","#","#","#","#","#","#","#","#","#","#",null,null,null,null,138,-2,{"$error":"#REF!"},{"$error":"#REF!"},null,""]
[]
[]
[]
[]
[]
[]
[]
[]
[]
[]
[]
[]
[]
[]
[]
[]
[]
[]
[]
[]
[]
[]
[]
[]
[]
[]
[]
[]
[]
[]
[]
[]
[]
[]
[]
[]
[]
[]
[]
[]
[]
[]
[]
[]
[]
[]
[]
[]
[]
[]
[]
[]
[]
[]
[]
[]
[]
[]
[]
[]
[]
[]
[]
[]
[]
[]
[]
[]
[]
[]
[]
[]
[]
[]
[]
[]
[]
[]
[]
[]
[]
[]
[]
[]
[]
[]
[]
[]
[]
[]
[null,null,null,null,null,null,null,null,null,null,null,null,null,null,"电工技术实训","yh022017"]
[null,null,null,null,null,null,null,null,null,null,null,null,null,null,"HSE实训","yh022018"]

{"sheet":"教学计划表","index":1,"n_rows":93,"n_cols":467,"rows_kept":93,"cut":false,"hidden":false,"merged":[[56,3,64,4],[49,3,55,4],[40,3,48,4],[16,307,17,307],[16,308,17,308],[16,309,17,309],[16,310,17,310],[16,311,17,311],[16,312,17,312],[16,313,17,313],[16,314,17,314],[16,315,17,315],[16,316,17,316],[16,317,17,317],[16,318,17,318],[16,319,17,319],[88,59,89,63],[88,64,89,65],[15,285,16,293],[15,1,17,4],[15,62,17,65],[15,33,17,35],[15,13,16,26],[15,8,17,12],[16,27,17,29],[16,30,17,32],[16,36,17,38],[16,39,17,41],[15,42,17,43],[15,5,17,7],[15,280,17,280],[15,281,17,281],[15,282,16,282],[15,283,16,283],[15,284,16,284],[15,294,16,294],[15,295,16,295],[15,296,16,296],[15,297,16,297],[16,299,17,299],[16,300,17,300],[16,301,17,301],[16,302,17,302],[16,303,17,303],[16,304,17,304],[16,305,17,305],[16,306,17,306],[15,261,17,261],[15,262,17,262],[15,263,17,263],[15,264,16,264],[15,265,17,265],[15,267,16,267],[15,268,17,268],[15,269,17,269],[15,270,17,270],[15,271,17,271],[15,272,17,272],[15,273,16,273],[15,274,17,274],[15,276,16,276],[15,277,17,277],[15,278,17,278],[15,279,17,279],[88,1,88,43],[88,44,88,46],[88,47,88,49],[88,50,88,52],[88,53,88,55],[88,56,88,58],[89,1,89,43],[89,44,89,46],[89,47,89,49],[89,50,89,52],[89,53,89,55],[89,56,89,58],[90,1,90,65],[5,57,8,57],[5,58,8,58],[5,59,8,59],[5,60,8,60],[5,61,8,61],[5,62,8,62],[5,63,8,63],[5,64,8,64],[5,65,8,65],[7,1,9,4],[18,1,39,2],[40,1,86,2],[18,3,26,4],[27,3,39,4],[65,3,86,4],[86,5,86,7],[86,8,86,12],[86,13,86,26],[86,27,86,29],[86,30,86,32],[86,33,86,35],[86,36,86,38],[86,39,86,41],[86,42,86,43],[86,44,86,46],[86,47,86,49],[86,50,86,52],[86,53,86,55],[86,56,86,58],[86,59,86,61],[86,62,86,65],[87,1,87,32],[87,33,87,35],[87,36,87,38],[87,39,87,41],[87,42,87,43],[87,44,87,46],[87,47,87,49],[87,50,87,52],[87,53,87,55],[87,56,87,58],[87,59,87,65],[84,5,84,7],[84,8,84,12],[84,13,84,26],[84,27,84,29],[84,30,84,32],[84,33,84,35],[84,36,84,38],[84,39,84,41],[84,42,84,43],[84,44,84,46],[84,47,84,49],[84,50,84,52],[84,53,84,55],[84,56,84,58],[84,59,84,61],[85,5,85,7],[85,8,85,12],[85,13,85,26],[85,27,85,29],[85,30,85,32],[85,33,85,35],[85,36,85,38],[85,39,85,41],[85,42,85,43],[85,44,85,46],[85,47,85,49],[85,50,85,52],[85,53,85,55],[85,56,85,58],[85,59,85,61],[82,5,82,7],[82,8,82,12],[82,13,82,26],[82,27,82,29],[82,30,82,32],[82,33,82,35],[82,36,82,38],[82,39,82,41],[82,42,82,43],[82,44,82,46],[82,47,82,49],[82,50,82,52],[82,53,82,55],[82,56,82,58],[82,59,82,61],[82,62,82,65],[83,5,83,7],[83,8,83,12],[83,13,83,26],[83,27,83,29],[83,30,83,32],[83,33,83,35],[83,36,83,38],[83,39,83,41],[83,42,83,43],[83,44,83,46],[83,47,83,49],[83,50,83,52],[83,53,83,55],[83,56,83,58],[83,59,83,61],[80,5,80,7],[80,8,80,12],[80,13,80,26],[80,27,80,29],[80,30,80,32],[80,33,80,35],[80,36,80,38],[80,39,80,41],[80,42,80,43],[80,44,80,46],[80,47,80,49],[80,50,80,52],[80,53,80,55],[80,56,80,58],[80,59,80,61],[80,62,80,65],[81,5,81,7],[81,8,81,12],[81,13,81,26],[81,27,81,29],[81,30,81,32],[81,33,81,35],[81,36,81,38],[81,39,81,41],[81,42,81,43],[81,44,81,46],[81,47,81,49],[81,50,81,52],[81,53,81,55],[81,56,81,58],[81,59,81,61],[81,62,81,65],[78,5,78,7],[78,8,78,12],[78,13,78,26],[78,27,78,29],[78,30,78,32],[78,33,78,35],[78,36,78,38],[78,39,78,41],[78,42,78,43],[78,44,78,46],[78,47,78,49],[78,50,78,52],[78,53,78,55],[78,56,78,58],[78,59,78,61],[78,62,78,65],[79,5,79,7],[79,8,79,12],[79,13,79,26],[79,27,79,29],[79,30,79,32],[79,33,79,35],[79,36,79,38],[79,39,79,41],[79,42,79,43],[79,44,79,46],[79,47,79,49],[79,50,79,52],[79,53,79,55],[79,56,79,58],[79,59,79,61],[79,62,79,65],[76,5,76,7],[76,8,76,12],[76,13,76,26],[76,27,76,29],[76,30,76,32],[76,33,76,35],[76,36,76,38],[76,39,76,41],[76,42,76,43],[76,44,76,46],[76,47,76,49],[76,50,76,52],[76,53,76,55],[76,56,76,58],[76,59,76,61],[76,62,76,65],[77,5,77,7],[77,8,77,12],[77,13,77,26],[77,27,77,29],[77,30,77,32],[77,33,77,35],[77,36,77,38],[77,39,77,41],[77,42,77,43],[77,44,77,46],[77,47,77,49],[77,50,77,52],[77,53,77,55],[77,56,77,58],[77,59,77,61],[77,62,77,65],[74,5,74,7],[74,8,74,12],[74,13,74,26],[74,27,74,29],[74,30,74,32],[74,33,74,35],[74,36,74,38],[74,39,74,41],[74,42,74,43],[74,44,74,46],[74,47,74,49],[74,50,74,52],[74,53,74,55],[74,56,74,58],[74,59,74,61],[74,62,74,65],[75,5,75,7],[75,8,75,12],[75,13,75,26],[75,27,75,29],[75,30,75,32],[75,33,75,35],[75,36,75,38],[75,39,75,41],[75,42,75,43],[75,44,75,46],[75,47,75,49],[75,50,75,52],[75,53,75,55],[75,56,75,58],[75,59,75,61],[75,62,75,65],[72,5,72,7],[72,8,72,12],[72,13,72,26],[72,27,72,29],[72,30,72,32],[72,33,72,35],[72,36,72,38],[72,39,72,41],[72,42,72,43],[72,44,72,46],[72,47,72,49],[72,50,72,52],[72,53,72,55],[72,56,72,58],[72,59,72,61],[72,62,72,65],[73,5,73,7],[73,8,73,12],[73,13,73,26],[73,27,73,29],[73,30,73,32],[73,33,73,35],[73,36,73,38],[73,39,73,41],[73,42,73,43],[73,44,73,46],[73,47,73,49],[73,50,73,52],[73,53,73,55],[73,56,73,58],[73,59,73,61],[73,62,73,65],[70,5,70,7],[70,8,70,12],[70,13,70,26],[70,27,70,29],[70,30,70,32],[70,33,70,35],[70,36,70,38],[70,39,70,41],[70,42,70,43],[70,44,70,46],[70,47,70,49],[70,50,70,52],[70,53,70,55],[70,56,70,58],[70,59,70,61],[70,62,70,65],[71,5,71,7],[71,8,71,12],[71,13,71,26],[71,27,71,29],[71,30,71,32],[71,33,71,35],[71,36,71,38],[71,39,71,41],[71,42,71,43],[71,44,71,46],[71,47,71,49],[71,50,71,52],[71,53,71,55],[71,56,71,58],[71,59,71,61],[71,62,71,65],[68,5,68,7],[68,8,68,12],[68,13,68,26],[68,27,68,29],[68,30,68,32],[68,33,68,35],[68,36,68,38],[68,39,68,41],[68,42,68,43],[68,44,68,46],[68,47,68,49],[68,50,68,52],[68,53,68,55],[68,56,68,58],[68,59,68,61],[68,62,68,65],[69,5,69,7],[69,8,69,12],[69,13,69,26],[69,27,69,29],[69,30,69,32],[69,33,69,35],[69,36,69,38],[69,39,69,41],[69,42,69,43],[69,44,69,46],[69,47,69,49],[69,50,69,52],[69,53,69,55],[69,56,69,58],[69,59,69,61],[69,62,69,65],[66,5,66,7],[66,8,66,12],[66,13,66,26],[66,27,66,29],[66,30,66,32],[66,33,66,35],[66,36,66,38],[66,39,66,41],[66,42,66,43],[66,44,66,46],[66,47,66,49],[66,50,66,52],[66,53,66,55],[66,56,66,58],[66,59,66,61],[66,62,66,65],[67,5,67,7],[67,8,67,12],[67,13,67,26],[67,27,67,29],[67,30,67,32],[67,33,67,35],[67,36,67,38],[67,39,67,41],[67,42,67,43],[67,44,67,46],[67,47,67,49],[67,50,67,52],[67,53,67,55],[67,56,67,58],[67,59,67,61],[67,62,67,65],[64,5,64,7],[64,8,64,12],[64,13,64,26],[64,27,64,29],[64,30,64,32],[64,33,64,35],[64,36,64,38],[64,39,64,41],[64,42,64,43],[64,44,64,46],[64,47,64,49],[64,50,64,52],[64,53,64,55],[64,56,64,58],[64,59,64,61],[64,62,64,65],[65,5,65,7],[65,8,65,12],[65,13,65,26],[65,27,65,29],[65,30,65,32],[65,33,65,35],[65,36,65,38],[65,39,65,41],[65,42,65,43],[65,44,65,46],[65,47,65,49],[65,50,65,52],[65,53,65,55],[65,56,65,58],[65,59,65,61],[65,62,65,65],[62,5,62,7],[62,8,62,12],[62,13,62,26],[62,27,62,29],[62,30,62,32],[62,33,62,35],[62,36,62,38],[62,39,62,41],[62,42,62,43],[62,44,62,46],[62,47,62,49],[62,50,62,52],[62,53,62,55],[62,56,62,58],[62,59,62,61],[62,62,62,65],[63,5,63,7],[63,8,63,12],[63,13,63,26],[63,27,63,29],[63,30,63,32],[63,33,63,35],[63,36,63,38],[63,39,63,41],[63,42,63,43],[63,44,63,46],[63,47,63,49],[63,50,63,52],[63,53,63,55],[63,56,63,58],[63,59,63,61],[63,62,63,65],[60,5,60,7],[60,8,60,12],[60,13,60,26],[60,27,60,29],[60,30,60,32],[60,33,60,35],[60,36,60,38],[60,39,60,41],[60,42,60,43],[60,44,60,46],[60,47,60,49],[60,50,60,52],[60,53,60,55],[60,56,60,58],[60,59,60,61],[60,62,60,65],[61,5,61,7],[61,8,61,12],[61,13,61,26],[61,27,61,29],[61,30,61,32],[61,33,61,35],[61,36,61,38],[61,39,61,41],[61,42,61,43],[61,44,61,46],[61,47,61,49],[61,50,61,52],[61,53,61,55],[61,56,61,58],[61,59,61,61],[61,62,61,65],[58,5,58,7],[58,8,58,12],[58,13,58,26],[58,27,58,29],[58,30,58,32],[58,33,58,35],[58,36,58,38],[58,39,58,41],[58,42,58,43],[58,44,58,46],[58,47,58,49],[58,50,58,52],[58,53,58,55],[58,56,58,58],[58,59,58,61],[58,62,58,65],[59,5,59,7],[59,8,59,12],[59,13,59,26],[59,27,59,29],[59,30,59,32],[59,33,59,35],[59,36,59,38],[59,39,59,41],[59,42,59,43],[59,44,59,46],[59,47,59,49],[59,50,59,52],[59,53,59,55],[59,56,59,58],[59,59,59,61],[59,62,59,65],[56,5,56,7],[56,8,56,12],[56,13,56,26],[56,27,56,29],[56,30,56,32],[56,33,56,35],[56,36,56,38],[56,39,56,41],[56,42,56,43],[56,44,56,46],[56,47,56,49],[56,50,56,52],[56,53,56,55],[56,56,56,58],[56,59,56,61],[56,62,56,65],[57,5,57,7],[57,8,57,12],[57,13,57,26],[57,27,57,29],[57,30,57,32],[57,33,57,35],[57,36,57,38],[57,39,57,41],[57,42,57,43],[57,44,57,46],[57,47,57,49],[57,50,57,52],[57,53,57,55],[57,56,57,58],[57,59,57,61],[57,62,57,65],[54,5,54,7],[54,8,54,12],[54,13,54,26],[54,27,54,29],[54,30,54,32],[54,33,54,35],[54,36,54,38],[54,39,54,41],[54,42,54,43],[54,44,54,46],[54,47,54,49],[54,50,54,52],[54,53,54,55],[54,56,54,58],[54,59,54,61],[54,62,54,65],[55,5,55,7],[55,8,55,12],[55,13,55,26],[55,27,55,29],[55,30,55,32],[55,33,55,35],[55,36,55,38],[55,39,55,41],[55,42,55,43],[55,44,55,46],[55,47,55,49],[55,50,55,52],[55,53,55,55],[55,56,55,58],[55,59,55,61],[55,62,55,65],[52,5,52,7],[52,8,52,12],[52,13,52,26],[52,27,52,29],[52,30,52,32],[52,33,52,35],[52,36,52,38],[52,39,52,41],[52,42,52,43],[52,44,52,46],[52,47,52,49],[52,50,52,52],[52,53,52,55],[52,56,52,58],[52,59,52,61],[52,62,52,65],[53,5,53,7],[53,8,53,12],[53,13,53,26],[53,27,53,29],[53,30,53,32],[53,33,53,35],[53,36,53,38],[53,39,53,41],[53,42,53,43],[53,44,53,46],[53,47,53,49],[53,50,53,52],[53,53,53,55],[53,56,53,58],[53,59,53,61],[53,62,53,65],[50,5,50,7],[50,8,50,12],[50,13,50,26],[50,27,50,29],[50,30,50,32],[50,33,50,35],[50,36,50,38],[50,39,50,41],[50,42,50,43],[50,44,50,46],[50,47,50,49],[50,50,50,52],[50,53,50,55],[50,56,50,58],[50,59,50,61],[50,62,50,65],[51,5,51,7],[51,8,51,12],[51,13,51,26],[51,27,51,29],[51,30,51,32],[51,33,51,35],[51,36,51,38],[51,39,51,41],[51,42,51,43],[51,44,51,46],[51,47,51,49],[51,50,51,52],[51,53,51,55],[51,56,51,58],[51,59,51,61],[51,62,51,65],[48,5,48,7],[48,8,48,12],[48,13,48,26],[48,27,48,29],[48,30,48,32],[48,33,48,35],[48,36,48,38],[48,39,48,41],[48,42,48,43],[48,44,48,46],[48,47,48,49],[48,50,48,52],[48,53,48,55],[48,56,48,58],[48,59,48,61],[48,62,48,65],[49,5,49,7],[49,8,49,12],[49,13,49,26],[49,27,49,29],[49,30,49,32],[49,33,49,35],[49,36,49,38],[49,39,49,41],[49,42,49,43],[49,44,49,46],[49,47,49,49],[49,50,49,52],[49,53,49,55],[49,56,49,58],[49,59,49,61],[49,62,49,65],[46,5,46,7],[46,8,46,12],[46,13,46,26],[46,27,46,29],[46,30,46,32],[46,33,46,35],[46,36,46,38],[46,39,46,41],[46,42,46,43],[46,44,46,46],[46,47,46,49],[46,50,46,52],[46,53,46,55],[46,56,46,58],[46,59,46,61],[46,62,46,65],[47,5,47,7],[47,8,47,12],[47,13,47,26],[47,27,47,29],[47,30,47,32],[47,33,47,35],[47,36,47,38],[47,39,47,41],[47,42,47,43],[47,44,47,46],[47,47,47,49],[47,50,47,52],[47,53,47,55],[47,56,47,58],[47,59,47,61],[47,62,47,65],[44,5,44,7],[44,8,44,12],[44,13,44,26],[44,27,44,29],[44,30,44,32],[44,33,44,35],[44,36,44,38],[44,39,44,41],[44,42,44,43],[44,44,44,46],[44,47,44,49],[44,50,44,52],[44,53,44,55],[44,56,44,58],[44,59,44,61],[44,62,44,65],[45,5,45,7],[45,8,45,12],[45,13,45,26],[45,27,45,29],[45,30,45,32],[45,33,45,35],[45,36,45,38],[45,39,45,41],[45,42,45,43],[45,44,45,46],[45,47,45,49],[45,50,45,52],[45,53,45,55],[45,56,45,58],[45,59,45,61],[45,62,45,65],[42,5,42,7],[42,8,42,12],[42,13,42,26],[42,27,42,29],[42,30,42,32],[42,33,42,35],[42,36,42,38],[42,39,42,41],[42,42,42,43],[42,44,42,46],[42,47,42,49],[42,50,42,52],[42,53,42,55],[42,56,42,58],[42,59,42,61],[42,62,42,65],[43,5,43,7],[43,8,43,12],[43,13,43,26],[43,27,43,29],[43,30,43,32],[43,33,43,35],[43,36,43,38],[43,39,43,41],[43,42,43,43],[43,44,43,46],[43,47,43,49],[43,50,43,52],[43,53,43,55],[43,56,43,58],[43,59,43,61],[43,62,43,65],[40,5,40,7],[40,8,40,12],[40,13,40,26],[40,27,40,29],[40,30,40,32],[40,33,40,35],[40,36,40,38],[40,39,40,41],[40,42,40,43],[40,44,40,46],[40,47,40,49],[40,50,40,52],[40,53,40,55],[40,56,40,58],[40,59,40,61],[40,62,40,65],[41,5,41,7],[41,8,41,12],[41,13,41,26],[41,27,41,29],[41,30,41,32],[41,33,41,35],[41,36,41,38],[41,39,41,41],[41,42,41,43],[41,44,41,46],[41,47,41,49],[41,50,41,52],[41,53,41,55],[41,56,41,58],[41,59,41,61],[41,62,41,65],[38,5,38,7],[38,8,38,12],[38,13,38,26],[38,27,38,29],[38,30,38,32],[38,33,38,35],[38,36,38,38],[38,39,38,41],[38,42,38,43],[38,44,38,46],[38,47,38,49],[38,50,38,52],[38,53,38,55],[38,56,38,58],[38,59,38,61],[38,62,38,65],[39,5,39,7],[39,8,39,12],[39,13,39,26],[39,27,39,29],[39,30,39,32],[39,33,39,35],[39,36,39,38],[39,39,39,41],[39,42,39,43],[39,44,39,46],[39,47,39,49],[39,50,39,52],[39,53,39,55],[39,56,39,58],[39,59,39,61],[39,62,39,65],[36,5,36,7],[36,8,36,12],[36,13,36,26],[36,27,36,29],[36,30,36,32],[36,33,36,35],[36,36,36,38],[36,39,36,41],[36,42,36,43],[36,44,36,46],[36,47,36,49],[36,50,36,52],[36,53,36,55],[36,56,36,58],[36,59,36,61],[36,62,36,65],[37,5,37,7],[37,8,37,12],[37,13,37,26],[37,27,37,29],[37,30,37,32],[37,33,37,35],[37,36,37,38],[37,39,37,41],[37,42,37,43],[37,44,37,46],[37,47,37,49],[37,50,37,52],[37,53,37,55],[37,56,37,58],[37,59,37,61],[37,62,37,65],[34,5,34,7],[34,8,34,12],[34,13,34,26],[34,27,34,29],[34,30,34,32],[34,33,34,35],[34,36,34,38],[34,39,34,41],[34,42,34,43],[34,44,34,46],[34,47,34,49],[34,50,34,52],[34,53,34,55],[34,56,34,58],[34,59,34,61],[34,62,34,65],[35,5,35,7],[35,8,35,12],[35,13,35,26],[35,27,35,29],[35,30,35,32],[35,33,35,35],[35,36,35,38],[35,39,35,41],[35,42,35,43],[35,44,35,46],[35,47,35,49],[35,50,35,52],[35,53,35,55],[35,56,35,58],[35,59,35,61],[35,62,35,65],[32,5,32,7],[32,8,32,12],[32,13,32,26],[32,27,32,29],[32,30,32,32],[32,33,32,35],[32,36,32,38],[32,39,32,41],[32,42,32,43],[32,44,32,46],[32,47,32,49],[32,50,32,52],[32,53,32,55],[32,56,32,58],[32,59,32,61],[32,62,32,65],[33,5,33,7],[33,8,33,12],[33,13,33,26],[33,27,33,29],[33,30,33,32],[33,33,33,35],[33,36,33,38],[33,39,33,41],[33,42,33,43],[33,44,33,46],[33,47,33,49],[33,50,33,52],[33,53,33,55],[33,56,33,58],[33,59,33,61],[33,62,33,65],[30,5,30,7],[30,8,30,12],[30,13,30,26],[30,27,30,29],[30,30,30,32],[30,33,30,35],[30,36,30,38],[30,39,30,41],[30,42,30,43],[30,44,30,46],[30,47,30,49],[30,50,30,52],[30,53,30,55],[30,56,30,58],[30,59,30,61],[30,62,30,65],[31,5,31,7],[31,8,31,12],[31,13,31,26],[31,27,31,29]],"merged_total":1318,"flags":["merged_cut"]}
[]
[]
[null,"辽 宁 石 化 职 业 技 术 学 院"]
[null,"教 学 计 划（2020级）"]
[null,"专    业:    "]
[null,"学    制：三年（ ）",null,null,null,null,null,null,null,null,null,null,null,null,null,null,null,null,null,null,null,null,null,null,null,null,null,null,null,null,null,null,null,null,null,null,null,null,null,null,null,null,null,null,null,null,null,null,null,null,null,null,null,null,null,null,null,"入\n学\n教\n育","理\n论\n教\n学","实\n践\n教\n学","劳\n\n\n动","考\n\n\n试","毕\n业\n教\n育","机\n\n\n动","假\n\n\n期","合\n\n\n计"]
[null,"制定日期：                         Ⅰ 校历和周数分配表"]
[null,"月份 学期\n学年 周次",null,null,null,"九月",null,null,null,"十月",null,null,null,null,"十一月",null,null,null,"十二月",null,null,null,"一月",null,null,null,null,"二月",null,null,null,"三月",null,null,null,"四月",null,null,null,null,"五月",null,null,null,"六月",null,null,null,"七月",null,null,null,null,"八月"]
[null,null,null,null,null,"第1学期",null,null,null,null,null,null,null,null,null,null,null,null,null,null,null,null,null,null,null,null,null,null,null,null,null,null,"第2学期",null,null,null,null,null,null,null,null,null,null,null,null,null,null,null,null,null,null,null,null,null,null,null,null,null,null,null,null,null,null,null,null,null,null,null,null,null,null,null,null,null,null,null,null,null,null,null,null,null,null,null,null,null,null,null,null,null,null,null,null,null,null,null,null,{"$f":"F10","v":1},{"$f":"G10","v":2},3,4,5,6,7,8,9,10,11,12,13,14,15,16,17,18,19,20,21,22,23,24,25,26,1,2,3,4,5,6,7,8,9,10,11,12,13,14,15,16,17,18,19,20,21,22,23,{"$f":"BC10","v":24},{"$f":"BD10","v":25},{"$f":"BE10","v":26}]
[null,null,null,null,null,1,2,3,4,5,6,7,8,9,10,11,12,13,14,15,16,17,18,19,20,21,22,23,24,25,26,1,2,3,4,5,6,7,8,9,10,11,12,13,14,15,16,17,18,19,20,21,22,23,24,25,26,"×",null,"○","劳",":","※","□","△",null,null,null,null,null,null,null,null,null,null,null,null,null,null,null,null,null,null,null,null,null,null,null,null,null,null,null,null,null,null,null,null,{"$f":"IF(ISNUMBER(F11),F11,TRIM(F11))","v":"×"},{"$f":"IF(ISNUMBER(G11),G11,TRIM(G11))","v":"×"},"×","","□","","","","","","","","","",{"$f":"IF(ISNUMBER(T11),T11,TRIM(T11))","v":""},{"$f":"IF(ISNUMBER(U11),U11,TRIM(U11))","v":""},{"$f":"IF(ISNUMBER(V11),V11,TRIM(V11))","v":""},{"$f":"IF(ISNUMBER(W11),W11,TRIM(W11))","v":""},{"$f":"IF(ISNUMBER(X11),X11,TRIM(X11))","v":""},{"$f":"IF(ISNUMBER(Y11),Y11,TRIM(Y11))","v":":"},{"$f":"IF(ISNUMBER(Z11),Z11,TRIM(Z11))","v":"△"},{"$f":"IF(ISNUMBER(AA11),AA11,TRIM(AA11))","v":"△"},{"$f":"IF(ISNUMBER(AB11),AB11,TRIM(AB11))","v":"△"},{"$f":"IF(ISNUMBER(AC11),AC11,TRIM(AC11))","v":"△"},{"$f":"IF(ISNUMBER(AD11),AD11,TRIM(AD11))","v":"△"},{"$f":"IF(ISNUMBER(AE11),AE11,TRIM(AE11))","v":"△"},"",{"$f":"IF(ISNUMBER(AG11),AG11,TRIM(AG11))","v":""},{"$f":"IF(ISNUMBER(AH11),AH11,TRIM(AH11))","v":""},{"$f":"IF(ISNUMBER(AI11),AI11,TRIM(AI11))","v":""},{"$f":"IF(ISNUMBER(AJ11),AJ11,TRIM(AJ11))","v":""},{"$f":"IF(ISNUMBER(AK11),AK11,TRIM(AK11))","v":""},{"$f":"IF(ISNUMBER(AL11),AL11,TRIM(AL11))","v":""},{"$f":"IF(ISNUMBER(AM11),AM11,TRIM(AM11))","v":""},{"$f":"IF(ISNUMBER(AN11),AN11,TRIM(AN11))","v":""},{"$f":"IF(ISNUMBER(AO11),AO11,TRIM(AO11))","v":""},{"$f":"IF(ISNUMBER(AP11),AP11,TRIM(AP11))","v":"劳"},{"$f":"IF(ISNUMBER(AQ11),AQ11,TRIM(AQ11))","v":""},{"$f":"IF(ISNUMBER(AR11),AR11,TRIM(AR11))","v":""},"",{"$f":"IF(ISNUMBER(AT11),AT11,TRIM(AT11))","v":""},{"$f":"IF(ISNUMBER(AU11),AU11,TRIM(AU11))","v":""},{"$f":"IF(ISNUMBER(AV11),AV11,TRIM(AV11))","v":""},{"$f":"IF(ISNUMBER(AW11),AW11,TRIM(AW11))","v":""},{"$f":"IF(ISNUMBER(AX11),AX11,TRIM(AX11))","v":""},{"$f":"IF(ISNUMBER(AY11),AY11,TRIM(AY11))","v":":"},{"$f":"IF(ISNUMBER(AZ11),AZ11,TRIM(AZ11))","v":"△"},{"$f":"IF(ISNUMBER(BA11),BA11,TRIM(BA11))","v":"△"},{"$f":"IF(ISNUMBER(BB11),BB11,TRIM(BB11))","v":"△"},{"$f":"IF(ISNUMBER(BC11),BC11,TRIM(BC11))","v":"△"},{"$f":"IF(ISNUMBER(BD11),BD11,TRIM(BD11))","v":"△"},{"$f":"IF(ISNUMBER(BE11),BE11,TRIM(BE11))","v":"△"},{"$f":"COUNTA(CT10,CU10,CV10)","v":3},{"$f":"COUNTBLANK(CT10:ES10)+COUNT(CT10:ES10)","v":33},{"$f":"COUNTIF(CT10:ES10,\"=○\")","v":0},{"$f":"COUNTIF(CT10:ES10,\"=劳\")","v":1},{"$f":"COUNTIF(CT10:ES10,\"=:\")","v":2},{"$f":"COUNTIF(BN10:ES10,\"=※\")","v":0},{"$f":"COUNTIF(BN10:ES10,\"=□\")","v":1},{"$f":"COUNTIF(BN10:ES10,\"=△\")","v":12},{"$f":"SUM(ET10:FA10)","v":52},null,{"$f":"TRIM(#REF!)","v":{"$error":"#REF!"}},{"$f":"COUNTBLANK(CT10:DQ10)+COUNT(CT10:DQ10)","v":15},{"$f":"COUNTBLANK(DS10:EP10)+COUNT(DS10:EP10)","v":18},{"$f":"FE10&\"周\"","v":"15周"},{"$f":"FF10&\"周\"","v":"18周"}]
[null,"Ⅰ",null,null,null,"×","×","×",null,"□",null,null,null,null,null,null,null,null,null,null,null,null,null,null,":","△","△","△","△","△","△",null,null,null,null,null,null,null,null,null,null,"劳",null,null,null,null,null,null,null,null,":","△","△","△","△","△","△",{"$f":"ET10","v":3},{"$f":"EU10","v":33},{"$f":"EV10","v":0},1,2,0,1,12,52,null,null,null,null,null,null,null,null,null,null,null,null,null,null,null,null,null,null,null,null,null,null,null,null,null,null,null,null,null,null,null,{"$f":"IF(ISNUMBER(F12),F12,TRIM(F12))","v":""},"","","","□","","","","","","","","","","","","","","",":","△","△","△","△","△","△","","","","","","","","","","","","","","","","","","",{"$f":"IF(ISNUMBER(AX12),AX12,TRIM(AX12))","v":""},{"$f":"IF(ISNUMBER(AY12),AY12,TRIM(AY12))","v":":"},"△","△","△","△","△","△",null,{"$f":"COUNTBLANK(CT11:ES11)+COUNT(CT11:ES11)","v":37},{"$f":"COUNTIF(CT11:ES11,\"=○\")","v":0},{"$f":"COUNTIF(CT11:ES11,\"=劳\")","v":0},{"$f":"COUNTIF(CT11:ES11,\"=:\")","v":2},{"$f":"COUNTIF(BN11:ES11,\"=※\")","v":0},{"$f":"COUNTIF(BN11:ES11,\"=□\")","v":1},{"$f":"COUNTIF(BN11:ES11,\"=△\")","v":12},{"$f":"SUM(EU11:FA11)","v":52},null,null,{"$f":"COUNTBLANK(CT11:DQ11)+COUNT(CT11:DQ11)","v":18},{"$f":"COUNTBLANK(DS11:EP11)+COUNT(DS11:EP11)","v":19},{"$f":"FE11&\"周\"","v":"18周"},{"$f":"FF11&\"周\"","v":"19周"}]
[null,"Ⅱ",null,null,null,null,null,null,null,"□",null,null,null,null,null,null,null,null,null,null,null,null,null,null,":","△","△","△","△","△","△",null,null,null,null,null,null,null,null,null,null,null,null,null,null,null,null,null,null,null,":","△","△","△","△","△","△",{"$f":"ET11","v":0},{"$f":"EU11","v":37},{"$f":"EV11","v":0},{"$f":"EW11","v":0},{"$f":"EX11","v":2},{"$f":"EY11","v":0},{"$f":"EZ11","v":1},{"$f":"FA11","v":12},{"$f":"FB11","v":52},null,null,null,null,null,null,null,null,null,null,null,null,null,null,null,null,null,null,null,null,null,null,null,null,null,null,null,null,null,null,null,{"$f":"IF(ISNUMBER(F13),F13,TRIM(F13))","v":""},"","","","□","","","","","","","","","","","","","","",":","△","△","△","△","△","△","○","○","○","○","○","○","○","○","○","○","○","○","○","○","○","○","○","／","／","／","／","／","／","／","／","／",null,{"$f":"COUNTBLANK(CT12:ES12)+COUNT(CT12:ES12)","v":18},{"$f":"COUNTIF(CT12:ES12,\"=○\")","v":17},{"$f":"COUNTIF(CT12:ES12,\"=劳\")","v":0},{"$f":"COUNTIF(CT12:ES12,\"=:\")","v":1},{"$f":"COUNTIF(BN12:ES12,\"=※\")","v":0},{"$f":"COUNTIF(BN12:ES12,\"=□\")","v":1},{"$f":"COUNTIF(BN12:ES12,\"=△\")","v":6},{"$f":"SUM(EU12:FA12)","v":43},null,null,18,{"$f":"COUNTIF(DR12:EP12,\"*○*\")+COUNTIF(DR12:EP12,\"*※*\")","v":17},"18周","17周"]
[null,"Ⅲ",null,null,null,null,null,null,null,"□",null,null,null,null,null,null,null,null,null,null,null,null,null,null,":","△","△","△","△","△","△","○","○","○","○","○","○","○","○","○","○","○","○","○","○","○","○","○","／","／","／","／","／","／","／","／","／",0,18,17,0,1,0,1,6,43,null,null,null,null,null,null,null,null,null,null,null,null,null,null,null,null,null,null,null,null,null,null,null,null,null,null,null,null,null,null,null,null,null,null,null,null,null,null,null,null,null,null,null,null,null,null,null,null,null,null,null,null,null,null,null,null,null,null,null,null,null,null,null,null,null,null,null,null,null,null,null,null,null,null,null,null,null,null,null,null,null,null,null,"计",{"$f":"SUM(EU10:EU12)","v":88},17,1,5,0,3,30,{"$f":"SUM(ET10:FA12)","v":147}]
[null,null,null,null,null,null,null,null,null,null,null,null,null,null,null,null,null,null,null,null,null,null,null,null,null,null,null,null,null,null,null,null,null,null,null,null,null,null,null,null,null,null,null,null,null,null,null,null,null,null,null,null,null,null,null,"总计",null,{"$f":"SUM(BF11:BF13)","v":3},88,17,1,5,0,3,30,147]
[null,"Ⅱ 教学进程表"]
[null,"课程\n类别",null,null,null,"序号",null,null,"课程编码",null,null,null,null,"课程名称",null,null,null,null,null,null,null,null,null,null,null,null,null,"学期分配",null,null,null,null,null,"总学时",null,null,"学时分配",null,null,null,null,null,"学分",null,"学期学时分布 ",null,null,null,null,null,null,null,null,null,null,null,null,null,null,null,null,null,"对应考证\n及其他相关说明",null,null,null,null,null,null,null,null,null,null,null,null,null,null,null,null,null,null,null,null,null,null,null,null,null,null,null,null,null,null,null,null,null,null,null,null,null,null,null,null,null,null,null,null,null,null,null,null,null,null,null,null,null,null,null,null,null,null,null,null,null,null,null,null,null,null,null,null,null,null,null,null,null,null,null,null,null,null,null,null,null,null,null,null,null,null,null,null,null,null,null,null,null,null,null,null,null,null,null,null,null,null,null,null,null,null,null,null,null,null,null,null,null,null,null,null,null,null,null,null,null,null,null,null,null,null,null,null,null,null,null,null,null,null,null,null,null,null,null,null,null,null,null,null,null,null,null,null,null,null,null,null,null,null,null,null,null,null,null,null,null,null,null,null,null,null,null,null,null,null,null,null,null,null,null,"第1学期理论周学时",null,"第1学期理论周学时","/周学时","/周8学时","/周6学时","/周4学时","/周2学时","接头课门数","第2学期理论周学时",null,"第2学期理论周学时","/周学时","/周8学时","/周6学时","/周4学时","/周2学时","/周学时一半","第3学期理论周学时",null,"第3学期理论周学时","/周学时","/周8学时","/周6学时","/周4学时","/周2学时","/周学时一半","第4学期理论周学时",null,"第4学期理论周学时","/周学时","/周8学时","/周6学时","/周4学时","/周2学时","/周学时一半","第5学期理论周学时",null,"第5学期理论周学时","/周学时","/周8学时","/周6学时","/周4学时","/周2学时","/周学时一半"]
[null,null,null,null,null,null,null,null,null,null,null,null,null,null,null,null,null,null,null,null,null,null,null,null,null,null,null,"考试",null,null,"考查",null,null,null,null,null,"理论学时",null,null,"课内实践",null,null,null,null,"第1学年",null,null,null,null,null,"第2学年",null,null,null,null,null,"第3学年"]
[null,null,null,null,null,null,null,null,null,null,null,null,null,"专业序号",null,null,null,null,null,null,null,null,null,null,null,null,null,null,null,null,null,null,null,null,null,null,null,null,null,null,null,null,null,null,{"$f":"FG10","v":"15周"},null,null,{"$f":"FH10","v":"18周"},null,null,{"$f":"FG11","v":"18周"},null,null,{"$f":"FH11","v":"19周"},null,null,{"$f":"FG12","v":"18周"},null,null,{"$f":"FH12","v":"17周"},null,null,null,null,null,null,null,null,null,null,null,null,null,null,null,null,null,null,null,null,null,null,null,null,null,null,null,null,null,null,null,null,null,null,null,null,null,null,null,null,null,null,null,null,null,null,null,null,null,null,null,null,null,null,null,null,null,null,null,null,null,null,null,null,null,null,null,null,null,null,null,null,null,null,null,null,null,null,null,null,null,null,null,null,null,null,null,null,null,null,null,null,null,null,null,null,null,null,null,null,null,null,null,null,null,null,null,null,null,null,null,null,null,null,null,null,null,null,null,null,null,null,null,null,null,null,null,null,null,null,null,null,null,null,null,null,null,null,null,null,null,null,null,null,null,null,null,null,null,null,null,null,null,null,null,null,null,null,null,null,null,null,null,null,null,null,null,null,null,null,null,null,null,null,null,null,null,null,null,null,{"$f":"SUMPRODUCT(--IF19:IF90)","v":0},null,null,null,null,null,{"$f":"COUNTIF(II19:IL87,\"<>0\")","v":0},null,null,{"$f":"SUMPRODUCT(--IO19:IO90)","v":0},null,null,null,null,null,{"$f":"0.5*SUM(IR19:IU87)","v":0},null,null,{"$f":"SUMPRODUCT(--IX19:IX90)","v":0},null,null,null,null,null,{"$f":"0.5*SUM(JA19:JD87)","v":0},null,null,{"$f":"SUMPRODUCT(--JG19:JG90)","v":0},null,null,null,null,null,{"$f":"0.5*SUM(JJ19:JM87)","v":0},null,null,{"$f":"SUMPRODUCT(--JP19:JP90)","v":0},null,null,null,null,null,{"$f":"0.5*SUM(JS19:JV87)","v":0},{"$f":"COUNTIF(BE20:BG88,\"*/\")","v":0},null,{"$f":"SUMPRODUCT(--JY19:JY90)","v":0},null,{"$f":"SUMPRODUCT(--KA19:KA90)","v":0},null,{"$f":"SUMPRODUCT(--KC19:KC90)","v":0},null,{"$f":"SUMPRODUCT(--KE19:KE90)","v":0},null,{"$f":"SUMPRODUCT(--KG19:KG90)","v":0},null,null,null,null,null,null,null,null,null,null,null,null,null,null,null,null,null,null,null,null,null,null,null,null,null,null,null,null,null,null,null,null,null,null,null,null,null,null,null,null,null,null,null,null,null,null,null,null,null,null,null,null,null,null,null,null,null,null,null,null,null,null,null,null,null,null,null,null,null,null,null,null,null,null,null,null,null,"<0.35","0.35-0.65",">0.65","小数汇总","理论学分","总学分","加括号",null,null,null,null,null,null,null,null,null,"第1学期学分",null,null,null,null,null,null,null,null,null,null,null,"第2学期学分",null,null,null,null,null,null,null,null,null,null,null,"第3学期学分",null,null,null,null,null,null,null,null,null,null,null,"第4学期学分"]
[null,"公共\n基础\n课程",null,"公\n共\n基\n础\n必\n修\n课",null,{"$f":"IF(序号!D2<>\"\",序号!D2,\"\")","v":""},null,null,{"$f":"IF(课程名称及编码!BJ3<>\"\",课程名称及编码!BJ3,\"\")","v":""},null,null,null,null,null,null,null,null,null,null,null,null,null,null,null,null,null,null,{"$f":"IF(LX19<>\"\",LX19,\"\")","v":""},null,null,{"$f":"IF(MW19<>\"\",MW19,\"\")","v":""},null,null,{"$f":"IF(HR19<>0,HR19,\"\")","v":""},null,null,{"$f":"IF(HX19<>0,HX19,IF(AH19=\"\",\"\",0))","v":""},null,null,null,null,null,{"$f":"IF(NV19<>0,NV19,\"\")","v":""},null,null,null,null,null,null,null,null,null,null,null,null,null,null,null,null,null,null,null,null,null,null,null,null,null,null,null,null,null,null,null,null,null,null,null,null,null,null,null,null,null,null,null,null,null,null,null,null,null,null,null,null,null,null,{"$f":"IF(SEARCH(\"/\",AS19&\"/\",1)<=LEN(AS19),1,\"\")","v":""},{"$f":"IF(SEARCH(\"(\",AS19&\"(\",1)<=LEN(AS19),1,\"\")","v":""},{"$f":"IF(SEARCH(\"周\",AS19&\"周\",1)<=LEN(AS19),1,\"\")","v":""},{"$f":"IF(AND(CT19<>1,CU19<>1,CV19<>1,LEN(AS19)>2),1,\"\")","v":""},{"$f":"IF(AND(CT19=1,LEFT(AS19,1)=\"/\"),1,\"\")","v":""},{"$f":"IF(CX19=1,RIGHT(AS19,LEN(AS19)-1),\"\")","v":""},{"$f":"IF(AND(CT19=1,CX19=\"\"),LEFT(AS19,LEN(AS19)-1),\"\")","v":""},{"$f":"CY19&CZ19","v":""},{"$f":"IF(DA19<>\"\",LEFT(DA19,1),\"\")","v":""},{"$f":"IF(CU19=1,MID(AS19,2,1),\"\")","v":""},{"$f":"IF(CV19=1,26,\"\")","v":""},{"$f":"IF(CW19=1,LEFT(AS19,1),\"\")","v":""},{"$f":"DB19&DC19&DD19&DE19","v":""},{"$f":"IF(DF19=\"\",AS19,DF19)","v":0},{"$f":"IF(DA19=\"\",DA19,RIGHT(DA19,LEN(DA19)-2))","v":""},{"$f":"IF(CW19=1,RIGHT(AS19,LEN(AS19)-2),\"\")","v":""},{"$f":"IF(CV19=1,LEFT(AS19,LEN(AS19)-1),\"\")","v":""},{"$f":"DH19&DI19&DJ19","v":""},{"$f":"IF(DK19=\"\",LEFT(AS$18,LEN(AS$18)-1),DK19)","v":"15"},{"$f":"DG19*DL19","v":0},{"$f":"IF(SEARCH(\"/\",AV19&\"/\",1)<=LEN(AV19),1,\"\")","v":""},{"$f":"IF(SEARCH(\"(\",AV19&\"(\",1)<=LEN(AV19),1,\"\")","v":""},{"$f":"IF(SEARCH(\"周\",AV19&\"周\",1)<=LEN(AV19),1,\"\")","v":""},{"$f":"IF(AND(DN19<>1,DO19<>1,DP19<>1,LEN(AV19)>2),1,\"\")","v":""},{"$f":"IF(AND(DN19=1,LEFT(AV19,1)=\"/\"),1,\"\")","v":""},{"$f":"IF(DR19=1,RIGHT(AV19,LEN(AV19)-1),\"\")","v":""},{"$f":"IF(AND(DN19=1,DR19=\"\"),LEFT(AV19,LEN(AV19)-1),\"\")","v":""},{"$f":"DS19&DT19","v":""},{"$f":"IF(DU19<>\"\",LEFT(DU19,1),\"\")","v":""},{"$f":"IF(DO19=1,MID(AV19,2,1),\"\")","v":""},{"$f":"IF(DP19=1,26,\"\")","v":""},{"$f":"IF(DQ19=1,LEFT(AV19,1),\"\")","v":""},{"$f":"DV19&DW19&DX19&DY19","v":""},{"$f":"IF(DZ19=\"\",AV19,DZ19)","v":0},{"$f":"IF(DU19=\"\",DU19,RIGHT(DU19,LEN(DU19)-2))","v":""},{"$f":"IF(DQ19=1,RIGHT(AV19,LEN(AV19)-2),\"\")","v":""},{"$f":"IF(DP19=1,LEFT(AV19,LEN(AV19)-1),\"\")","v":""},{"$f":"EB19&EC19&ED19","v":""},{"$f":"IF(EE19=\"\",LEFT(AV$18,LEN(AV$18)-1),EE19)","v":"18"},{"$f":"EA19*EF19","v":0},null,{"$f":"IF(SEARCH(\"/\",AY19&\"/\",1)<=LEN(AY19),1,\"\")","v":""},{"$f":"IF(SEARCH(\"(\",AY19&\"(\",1)<=LEN(AY19),1,\"\")","v":""},{"$f":"IF(SEARCH(\"周\",AY19&\"周\",1)<=LEN(AY19),1,\"\")","v":""},{"$f":"IF(AND(EI19<>1,EJ19<>1,EK19<>1,LEN(AY19)>2),1,\"\")","v":""},{"$f":"IF(AND(EI19=1,LEFT(AY19)=\"/\"),1,\"\")","v":""},{"$f":"IF(EM19=1,RIGHT(AY19,LEN(AY19)-1),\"\")","v":""},{"$f":"IF(AND(EI19=1,EM19=\"\"),LEFT(AY19,LEN(AY19)-1),\"\")","v":""},{"$f":"EN19&EO19","v":""},{"$f":"IF(EP19<>\"\",LEFT(EP19,1),\"\")","v":""},{"$f":"IF(EJ19=1,MID(AY19,2,1),\"\")","v":""},{"$f":"IF(EK19=1,26,\"\")","v":""},{"$f":"IF(EL19=1,LEFT(AY19,1),\"\")","v":""},{"$f":"EQ19&ER19&ES19&ET19","v":""},{"$f":"IF(EU19=\"\",AY19,EU19)","v":0},{"$f":"IF(EP19=\"\",EP19,RIGHT(EP19,LEN(EP19)-2))","v":""},{"$f":"IF(EL19=1,RIGHT(AY19,LEN(AY19)-2),\"\")","v":""},{"$f":"IF(EK19=1,LEFT(AY19,LEN(AY19)-1),\"\")","v":""},{"$f":"EW19&EX19&EY19","v":""},{"$f":"IF(EZ19=\"\",LEFT(AY$18,LEN(AY$18)-1),EZ19)","v":"18"},{"$f":"EV19*FA19","v":0},null,{"$f":"IF(SEARCH(\"/\",BB19&\"/\",1)<=LEN(BB19),1,\"\")","v":""},{"$f":"IF(SEARCH(\"(\",BB19&\"(\",1)<=LEN(BB19),1,\"\")","v":""},{"$f":"IF(SEARCH(\"周\",BB19&\"周\",1)<=LEN(BB19),1,\"\")","v":""},{"$f":"IF(AND(FD19<>1,FE19<>1,FF19<>1,LEN(BB19)>2),1,\"\")","v":""},{"$f":"IF(AND(FD19=1,LEFT(BB19,1)=\"/\"),1,\"\")","v":""},{"$f":"IF(FH19=1,RIGHT(BB19,LEN(BB19)-1),\"\")","v":""},{"$f":"IF(AND(FD19=1,FH19=\"\"),LEFT(BB19,LEN(BB19)-1),\"\")","v":""},{"$f":"FI19&FJ19","v":""},{"$f":"IF(FK19<>\"\",LEFT(FK19,1),\"\")","v":""},{"$f":"IF(FE19=1,MID(BB19,2,1),\"\")","v":""},{"$f":"IF(FF19=1,26,\"\")","v":""},{"$f":"IF(FG19=1,LEFT(BB19,1),\"\")","v":""},{"$f":"FL19&FM19&FN19&FO19","v":""},{"$f":"IF(FP19=\"\",BB19,FP19)","v":0},{"$f":"IF(FK19=\"\",FK19,RIGHT(FK19,LEN(FK19)-2))","v":""},{"$f":"IF(FG19=1,RIGHT(BB19,LEN(BB19)-2),\"\")","v":""},{"$f":"IF(FF19=1,LEFT(BB19,LEN(BB19)-1),\"\")","v":""},{"$f":"FR19&FS19&FT19","v":""},{"$f":"IF(FU19=\"\",LEFT(BB$18,LEN(BB$18)-1),FU19)","v":"19"},{"$f":"FQ19*FV19","v":0},null,{"$f":"IF(SEARCH(\"/\",BE19&\"/\",1)<=LEN(BE19),1,\"\")","v":""},{"$f":"IF(SEARCH(\"(\",BE19&\"(\",1)<=LEN(BE19),1,\"\")","v":""},{"$f":"IF(SEARCH(\"周\",BE19&\"周\",1)<=LEN(BE19),1,\"\")","v":""},{"$f":"IF(AND(FY19<>1,FZ19<>1,GA19<>1,LEN(BE19)>2),1,\"\")","v":""},{"$f":"IF(AND(FY19=1,LEFT(BE19,1)=\"/\"),1,\"\")","v":""},{"$f":"IF(GC19=1,RIGHT(BE19,LEN(BE19)-1),\"\")","v":""},{"$f":"IF(AND(FY19=1,GC19=\"\"),LEFT(BE19,LEN(BE19)-1),\"\")","v":""},{"$f":"GD19&GE19","v":""},{"$f":"IF(GF19<>\"\",LEFT(GF19,1),\"\")","v":""},{"$f":"IF(FZ19=1,MID(BE19,2,1),\"\")","v":""},{"$f":"IF(GA19=1,26,\"\")","v":""},{"$f":"IF(GB19=1,LEFT(BE19,1),\"\")","v":""},{"$f":"GG19&GH19&GI19&GJ19","v":""},{"$f":"IF(GK19=\"\",BE19,GK19)","v":0},{"$f":"IF(GF19=\"\",GF19,RIGHT(GF19,LEN(GF19)-2))","v":""},{"$f":"IF(GB19=1,RIGHT(BE19,LEN(BE19)-2),\"\")","v":""},{"$f":"IF(GA19=1,LEFT(BE19,LEN(BE19)-1),\"\")","v":""},{"$f":"GM19&GN19&GO19","v":""},{"$f":"IF(GP19=\"\",LEFT(BE$18,LEN(BE$18)-1),GP19)","v":"18"},{"$f":"GL19*GQ19","v":0},null,{"$f":"IF(SEARCH(\"/\",BH19&\"/\",1)<=LEN(BH19),1,\"\")","v":""},{"$f":"IF(SEARCH(\"(\",BH19&\"(\",1)<=LEN(BH19),1,\"\")","v":""},{"$f":"IF(SEARCH(\"周\",BH19&\"周\",1)<=LEN(BH19),1,\"\")","v":""},{"$f":"IF(AND(GT19<>1,GU19<>1,GV19<>1,LEN(BH19)>2),1,\"\")","v":""},{"$f":"IF(AND(GT19=1,LEFT(BH19,1)=\"/\"),1,\"\")","v":""},{"$f":"IF(GX19=1,RIGHT(BH19,LEN(BH19)-1),\"\")","v":""},{"$f":"IF(AND(GT19=1,GX19=\"\"),LEFT(BH19,LEN(BH19)-1),\"\")","v":""},{"$f":"GY19&GZ19","v":""},{"$f":"IF(HA19<>\"\",LEFT(HA19,1),\"\")","v":""},{"$f":"IF(GU19=1,MID(BH19,2,1),\"\")","v":""},{"$f":"IF(GV19=1,26,\"\")","v":""},{"$f":"IF(GW19=1,LEFT(BH19,1),\"\")","v":""},{"$f":"HB19&HC19&HD19&HE19","v":""},{"$f":"IF(HF19=\"\",BH19,HF19)","v":0},{"$f":"IF(HA19=\"\",HA19,RIGHT(HA19,LEN(HA19)-2))","v":""},{"$f":"IF(GW19=1,RIGHT(BH19,LEN(BH19)-2),\"\")","v":""},{"$f":"IF(GV19=1,LEFT(BH19,LEN(BH19)-1),\"\")","v":""},{"$f":"HH19&HI19&HJ19","v":""},{"$f":"IF(HK19=\"\",LEFT(BH$18,LEN(BH$18)-1),HK19)","v":"17"},{"$f":"HG19*HL19","v":0},null,{"$f":"IF(OR(CU19=1,DO19=1,EJ19=1,FE19=1,FZ19=1,GU19=1),1,\"\")","v":""},{"$f":"SUM(DM19,EG19,FB19,FW19,GR19,HM19)","v":0},{"$f":"IF(HO19=\"\",HP19,\"(\"&HP19&\")\")","v":0},{"$f":"IFERROR(HQ19,\"\")","v":0},{"$f":"AN19","v":0},{"$f":"IF(AND(HO19=1,AN19<>\"\"),RIGHT(HS19,LEN(HS19)-1),HS19)","v":0},{"$f":"IF(AND(HO19=1,AN19<>\"\"),LEFT(HT19,LEN(HT19)-1),HT19)","v":0},{"$f":"HP19-HU19","v":0},{"$f":"IF(HO19=1,\"(\"&HV19&\")\",HV19)","v":0},{"$f":"IFERROR(HW19,\"\")","v":0},null,null,null,null,null,null,{"$f":"IF(DG19=\"26\",0,DG19)","v":0},{"$f":"IF(CU19=1,0,IE19)","v":0},null,{"$f":"IF(CT19=1,DG19,0)","v":0},{"$f":"IF(IH19=\"8\",8,0)","v":0},{"$f":"IF(IH19=\"6\",6,0)","v":0},{"$f":"IF(IH19=\"4\",4,0)","v":0},{"$f":"IF(IH19=\"2\",2,0)","v":0},null,{"$f":"IF(EA19=\"26\",0,EA19)","v":0},{"$f":"IF(DO19=1,0,IN19)","v":0},null,{"$f":"IF(DN19=1,EA19,0)","v":0},{"$f":"IF(IQ19=\"8\",8,0)","v":0},{"$f":"IF(IQ19=\"6\",6,0)","v":0},{"$f":"IF(IQ19=\"4\",4,0)","v":0},{"$f":"IF(IQ19=\"2\",2,0)","v":0},null,{"$f":"IF(EV19=\"26\",0,EV19)","v":0},{"$f":"IF(EJ19=1,0,IW19)","v":0},null,{"$f":"IF(EI19=1,EV19,0)","v":0},{"$f":"IF(IZ19=\"8\",8,0)","v":0},{"$f":"IF(IZ19=\"6\",6,0)","v":0},{"$f":"IF(IZ19=\"4\",4,0)","v":0},{"$f":"IF(IZ19=\"2\",2,0)","v":0},null,{"$f":"IF(FQ19=\"26\",0,FQ19)","v":0},{"$f":"IF(FE19=1,0,JF19)","v":0},null,{"$f":"IF(FD19=1,FQ19,0)","v":0},{"$f":"IF(JI19=\"8\",8,0)","v":0},{"$f":"IF(JI19=\"6\",6,0)","v":0},{"$f":"IF(JI19=\"4\",4,0)","v":0},{"$f":"IF(JI19=\"2\",2,0)","v":0},null,{"$f":"IF(GL19=\"26\",0,GL19)","v":0},{"$f":"IF(FZ19=1,0,JO19)","v":0},null,{"$f":"IF(FY19=1,GL19,0)","v":0},{"$f":"IF(JR19=\"8\",8,0)","v":0},{"$f":"IF(JR19=\"6\",6,0)","v":0},{"$f":"IF(JR19=\"4\",4,0)","v":0},{"$f":"IF(JR19=\"2\",2,0)","v":0},null,null,{"$f":"IF(IF19<>0,1,0)","v":0},null,{"$f":"IF(IO19<>0,1,0)","v":0},null,{"$f":"IF(IX19<>0,1,0)","v":0},null,{"$f":"IF(JG19<>0,1,0)","v":0},null,{"$f":"IF(JP19<>0,1,0)","v":0},null,{"$f":"aaa","v":2},{"$f":"bbb","v":2},{"$f":"ccc","v":2},{"$f":"dddd","v":2},null,{"$f":"aaa","v":2},{"$f":"bbb","v":2},{"$f":"ccc","v":2},{"$f":"dddd","v":2},{"$f":"eee","v":2},{"$f":"fff","v":2},{"$f":"IF(AS19<>\"\",1,\"\")","v":""},{"$f":"IF(AV19<>\"\",1,\"\")","v":""},{"$f":"IF(AY19<>\"\",1,\"\")","v":""},{"$f":"IF(BB19<>\"\",1,\"\")","v":""},{"$f":"IF(BE19<>\"\",1,\"\")","v":""},{"$f":"IF(BH19<>\"\",1,\"\")","v":""},{"$f":"IF(AND(KN19<>0,KT19=1),1,\"\")","v":""},{"$f":"IF(AND(KO19<>0,KU19=1),2,\"\")","v":""},{"$f":"IF(AND(KP19<>0,KV19=1),3,\"\")","v":""},{"$f":"IF(AND(KQ19<>0,KW19=1),4,\"\")","v":""},{"$f":"IF(AND(KR19<>0,KX19=1),5,\"\")","v":""},{"$f":"IF(AND(KS19<>0,KY19=1),6,\"\")","v":""},{"$f":"CONCATENATE(KZ19,LA19,LB19,LC19,LD19,LE19)","v":""},{"$f":"LEN(LF19)","v":0},{"$f":"IF(LG19=1,CONCATENATE(KZ19,LA19,LB19,LC19,LD19,LE19),\"\")","v":""},{"$f":"IF(LG19=2,LF19,\"\")","v":""},{"$f":"IF(LI19<>\"\",LEFT(LI19,1),\"\")","v":""},{"$f":"IF(LI19<>\"\",RIGHT(LI19,1),\"\")","v":""},{"$f":"IF(LI19<>\"\",LJ19&\",\"&LK19,\"\")","v":""},{"$f":"IF(LG19=3,LF19,\"\")","v":""},{"$f":"IF(LM19<>\"\",LEFT(LM19,1),\"\")","v":""},{"$f":"IF(LM19<>\"\",MID(LM19,2,1),\"\")","v":""},{"$f":"IF(LM19<>\"\",RIGHT(LM19,1),\"\")","v":""},{"$f":"IF(LM19<>\"\",LN19&\",\"&LO19&\",\"&LP19,\"\")","v":""},{"$f":"IF(LG19=4,LF19,\"\")","v":""},{"$f":"IF(LR19<>\"\",LEFT(LR19,1),\"\")","v":""},{"$f":"IF(LR19<>\"\",MID(LR19,2,1),\"\")","v":""},{"$f":"IF(LR19<>\"\",MID(LR19,3,1),\"\")","v":""},{"$f":"IF(LR19<>\"\",RIGHT(LR19,1),\"\")","v":""},{"$f":"IF(LR19<>\"\",LS19&\",\"&LT19&\",\"&LU19&\",\"&LV19,\"\")","v":""},{"$f":"LH19&LL19&LQ19&LW19","v":""},{"$f":"IF(AND(KT19=1,KZ19=\"\"),1,\"\")","v":""},{"$f":"IF(AND(KU19=1,LA19=\"\"),2,\"\")","v":""},{"$f":"IF(AND(KV19=1,LB19=\"\"),3,\"\")","v":""},{"$f":"IF(AND(KW19=1,LC19=\"\"),4,\"\")","v":""},{"$f":"IF(AND(KX19=1,LD19=\"\"),5,\"\")","v":""},{"$f":"IF(AND(KY19=1,LE19=\"\"),6,\"\")","v":""},{"$f":"CONCATENATE(LY19,LZ19,MA19,MB19,MC19,MD19)","v":""},{"$f":"LEN(ME19)","v":0},{"$f":"IF(MF19=1,ME19,\"\")","v":""},{"$f":"IF(MF19=2,ME19,\"\")","v":""},{"$f":"IF(MH19<>\"\",LEFT(ME19,1),\"\")","v":""},{"$f":"IF(MH19<>\"\",RIGHT(ME19,1),\"\")","v":""},{"$f":"IF(MH19<>\"\",MI19&\",\"&MJ19,\"\")","v":""},{"$f":"IF(MF19=3,ME19,\"\")","v":""},{"$f":"IF(ML19<>\"\",LEFT(ML19,1),\"\")","v":""},{"$f":"IF(ML19<>\"\",MID(ML19,2,1),\"\")","v":""},{"$f":"IF(ML19<>\"\",RIGHT(ML19,1),\"\")","v":""},{"$f":"IF(ML19<>\"\",MM19&\",\"&MN19&\",\"&MO19,\"\")","v":""},{"$f":"IF(MF19=4,ME19,\"\")","v":""},{"$f":"IF(MQ19<>\"\",LEFT(MQ19,1),\"\")","v":""},{"$f":"IF(MQ19<>\"\",MID(MQ19,2,1),\"\")","v":""},{"$f":"IF(MQ19<>\"\",MID(MQ19,3,1),\"\")","v":""},{"$f":"IF(MQ19<>\"\",RIGHT(MQ19,1),\"\")","v":""},{"$f":"IF(MQ19<>\"\",MR19&\",\"&MS19&\",\"&MT19&\",\"&MU19,\"\")","v":""},{"$f":"CONCATENATE(MG19,MK19,MP19,MV19)","v":""},{"$f":"IF(CV19=1,DJ19,0)","v":0},{"$f":"IF(DP19=1,ED19,0)","v":0},{"$f":"IF(EK19=1,EY19,0)","v":0},{"$f":"IF(FF19=1,FT19,0)","v":0},{"$f":"IF(GA19=1,GO19,0)","v":0},{"$f":"IF(GV19=1,HJ19,0)","v":0},{"$f":"MX19+MY19+MZ19+NA19+NB19+NC19","v":0},{"$f":"IF(ND19=0,HP19/18,0)","v":0},{"$f":"INT(NE19)","v":0},{"$f":"NE19-NF19","v":0},{"$f":"IF(NG19<0.35,0,\"\")","v":0},{"$f":"IF(AND(NG19>0.35,NG19<0.65),0.5,\"\")","v":""},{"$f":"IF(NG19>0.65,1,\"\")","v":""},{"$f":"NH19&NI19&NJ19","v":"0"},{"$f":"IF(ND19=0,NF19+NK19,0)","v":0},{"$f":"NL19+ND19","v":0},{"$f":"IF(LEFT(HQ19,1)=\"(\",\"(\"&NM19&\")\",NM19)","v":0},{"$f":"IFERROR(NN19,\"\")","v":0},{"$f":"IF(LEFT(NO19,1)<>\"(\",NO19,MID(NO19,2,LEN(NO19)-2))","v":0},{"$f":"ROUND(NP19,0)","v":0},{"$f":"IF(LEFT(NO19,1)=\"(\",\"(\"&NQ19&\")\",NQ19)","v":0},{"$f":"IF(I19=\"gg081002\",1,\"\")","v":""},{"$f":"VALUE(NR19)","v":0},{"$f":"IF(NS19<>1,NT19,IF(NT19<4,4,NT19))","v":0},{"$f":"IF(N19<>\"毛思、特色理论概述\",NR19,IF(NR19<4,4,NR19))","v":0},{"$f":"IF(LEFT(NR19,1)=\"(\",0,NU19)","v":0},{"$f":"IF(ND19=0,DM19/18,0)","v":0},{"$f":"INT(NX19)","v":0},{"$f":"NX19-NY19","v":0},{"$f":"IF(NZ19<0.35,0,\"\")","v":0},{"$f":"IF(AND(NZ19>0.35,NZ19<0.65),0.5,\"\")","v":""},{"$f":"IF(NZ19>0.65,1,\"\")","v":""},{"$f":"OA19&OB19&OC19","v":"0"},{"$f":"IF(ND19=0,NY19+OD19,0)","v":0},{"$f":"OE19+MX19","v":0},{"$f":"IF(LEFT(HQ19,1)=\"(\",\"(\"&OF19&\")\",OF19)","v":0},{"$f":"IFERROR(OG19,\"\")","v":0},null,{"$f":"IF(ND19=0,EG19/18,0)","v":0},{"$f":"INT(OJ19)","v":0},{"$f":"OJ19-OK19","v":0},{"$f":"IF(OL19<0.35,0,\"\")","v":0},{"$f":"IF(AND(OL19>0.35,OL19<0.65),0.5,\"\")","v":""},{"$f":"IF(OL19>0.65,1,\"\")","v":""},{"$f":"OM19&ON19&OO19","v":"0"},{"$f":"IF(ND19=0,OK19+OP19,0)","v":0},{"$f":"OQ19+MY19","v":0},{"$f":"IF(LEFT(HQ19,1)=\"(\",\"(\"&OR19&\")\",OR19)","v":0},{"$f":"IFERROR(OS19,\"\")","v":0},null,{"$f":"IF(ND19=0,FB19/18,0)","v":0},{"$f":"INT(OV19)","v":0},{"$f":"OV19-OW19","v":0},{"$f":"IF(OX19<0.35,0,\"\")","v":0},{"$f":"IF(AND(OX19>0.35,OX19<0.65),0.5,\"\")","v":""},{"$f":"IF(OX19>0.65,1,\"\")","v":""},{"$f":"OY19&OZ19&PA19","v":"0"},{"$f":"IF(ND19=0,OW19+PB19,0)","v":0},{"$f":"PC19+MZ19","v":0},{"$f":"IF(LEFT(HQ19,1)=\"(\",\"(\"&PD19&\")\",PD19)","v":0},{"$f":"IFERROR(PE19,\"\")","v":0},null,{"$f":"IF(ND19=0,FW19/18,0)","v":0},{"$f":"INT(PH19)","v":0},{"$f":"PH19-PI19","v":0},{"$f":"IF(PJ19<0.35,0,\"\")","v":0},{"$f":"IF(AND(PJ19>0.35,PJ19<0.65),0.5,\"\")","v":""},{"$f":"IF(PJ19>0.65,1,\"\")","v":""},{"$f":"PK19&PL19&PM19","v":"0"},{"$f":"IF(ND19=0,PI19+PN19,0)","v":0},{"$f":"PO19+NA19","v":0},{"$f":"IF(LEFT(HQ19,1)=\"(\",\"(\"&PP19&\")\",PP19)","v":0},{"$f":"IFERROR(PQ19,\"\")","v":0},{"$f":"IF(ND19=0,GR19/18,0)","v":0},{"$f":"INT(PS19)","v":0},{"$f":"PS19-PT19","v":0},{"$f":"IF(PU19<0.35,0,\"\")","v":0},{"$f":"IF(AND(PU19>0.35,PU19<0.65),0.5,\"\")","v":""},{"$f":"IF(PU19>0.65,1,\"\")","v":""},{"$f":"PV19&PW19&PX19","v":"0"},{"$f":"IF(ND19=0,PT19+PY19,0)","v":0},{"$f":"NB19+PZ19","v":0},{"$f":"IF(LEFT(HQ19,1)=\"(\",\"(\"&QA19&\")\",QA19)","v":0},{"$f":"IFERROR(QB19,\"\")","v":0},null,{"$f":"IF(ND19=0,HM19/18,0)","v":0},{"$f":"INT(QE19)","v":0},{"$f":"QE19-QF19","v":0},{"$f":"IF(QG19<0.35,0,\"\")","v":0},{"$f":"IF(AND(QG19>0.35,QG19<0.65),0.5,\"\")","v":""},{"$f":"IF(QG19>0.65,1,\"\")","v":""},{"$f":"QH19&QI19&QJ19","v":"0"},{"$f":"IF(NQ19=0,QF19+QK19,0)","v":0},{"$f":"NC19+QL19","v":0},{"$f":"IF(LEFT(HQ19,1)=\"(\",\"(\"&QM19&\")\",QM19)","v":0},{"$f":"IFERROR(QN19,\"\")","v":0},null,null,null,null,null,null,{"$f":"IF(SEARCH(\"(\",AN19&\"(\",1)<=LEN(AN19),0,VALUE(AN19))","v":0},null,null,"外语A级"]
[null,null,null,null,null,{"$f":"IF(序号!D3<>\"\",序号!D3,\"\")","v":""},null,null,{"$f":"IF(课程名称及编码!BJ4<>\"\",课程名称及编码!BJ4,\"\")","v":""},null,null,null,null,null,null,null,null,null,null,null,null,null,null,null,null,null,null,"",null,null,"",null,null,"",null,null,"",null,null,null,null,null,"",null,null,null,null,null,null,null,null,null,null,null,null,null,null,null,null,null,null,null,null,null,null,null,null,null,null,null,null,null,null,null,null,null,null,null,null,null,null,null,null,null,null,null,null,null,null,null,null,null,null,null,null,null,null,"","","","","","","",{"$f":"CY20&CZ20","v":""},{"$f":"IF(DA20<>\"\",LEFT(DA20,1),\"\")","v":""},"",{"$f":"IF(CV20=1,26,\"\")","v":""},"",{"$f":"DB20&DC20&DD20&DE20","v":""},0,{"$f":"IF(DA20=\"\",DA20,RIGHT(DA20,LEN(DA20)-2))","v":""},"","",{"$f":"DH20&DI20&DJ20","v":""},{"$f":"IF(DK20=\"\",LEFT(AS$18,LEN(AS$18)-1),DK20)","v":"15"},{"$f":"DG20*DL20","v":0},"","","","","","","",{"$f":"DS20&DT20","v":""},{"$f":"IF(DU20<>\"\",LEFT(DU20,1),\"\")","v":""},"",{"$f":"IF(DP20=1,26,\"\")","v":""},"",{"$f":"DV20&DW20&DX20&DY20","v":""},0,{"$f":"IF(DU20=\"\",DU20,RIGHT(DU20,LEN(DU20)-2))","v":""},"","",{"$f":"EB20&EC20&ED20","v":""},{"$f":"IF(EE20=\"\",LEFT(AV$18,LEN(AV$18)-1),EE20)","v":"18"},{"$f":"EA20*EF20","v":0},null,{"$f":"IF(SEARCH(\"/\",AY20&\"/\",1)<=LEN(AY20),1,\"\")","v":""},{"$f":"IF(SEARCH(\"(\",AY20&\"(\",1)<=LEN(AY20),1,\"\")","v":""},{"$f":"IF(SEARCH(\"周\",AY20&\"周\",1)<=LEN(AY20),1,\"\")","v":""},{"$f":"IF(AND(EI20<>1,EJ20<>1,EK20<>1,LEN(AY20)>2),1,\"\")","v":""},{"$f":"IF(AND(EI20=1,LEFT(AY20)=\"/\"),1,\"\")","v":""},{"$f":"IF(EM20=1,RIGHT(AY20,LEN(AY20)-1),\"\")","v":""},{"$f":"IF(AND(EI20=1,EM20=\"\"),LEFT(AY20,LEN(AY20)-1),\"\")","v":""},{"$f":"EN20&EO20","v":""},{"$f":"IF(EP20<>\"\",LEFT(EP20,1),\"\")","v":""},{"$f":"IF(EJ20=1,MID(AY20,2,1),\"\")","v":""},{"$f":"IF(EK20=1,26,\"\")","v":""},{"$f":"IF(EL20=1,LEFT(AY20,1),\"\")","v":""},{"$f":"EQ20&ER20&ES20&ET20","v":""},{"$f":"IF(EU20=\"\",AY20,EU20)","v":0},{"$f":"IF(EP20=\"\",EP20,RIGHT(EP20,LEN(EP20)-2))","v":""},{"$f":"IF(EL20=1,RIGHT(AY20,LEN(AY20)-2),\"\")","v":""},{"$f":"IF(EK20=1,LEFT(AY20,LEN(AY20)-1),\"\")","v":""},{"$f":"EW20&EX20&EY20","v":""},{"$f":"IF(EZ20=\"\",LEFT(AY$18,LEN(AY$18)-1),EZ20)","v":"18"},{"$f":"EV20*FA20","v":0},null,{"$f":"IF(SEARCH(\"/\",BB20&\"/\",1)<=LEN(BB20),1,\"\")","v":""},{"$f":"IF(SEARCH(\"(\",BB20&\"(\",1)<=LEN(BB20),1,\"\")","v":""},{"$f":"IF(SEARCH(\"周\",BB20&\"周\",1)<=LEN(BB20),1,\"\")","v":""},{"$f":"IF(AND(FD20<>1,FE20<>1,FF20<>1,LEN(BB20)>2),1,\"\")","v":""},{"$f":"IF(AND(FD20=1,LEFT(BB20,1)=\"/\"),1,\"\")","v":""},{"$f":"IF(FH20=1,RIGHT(BB20,LEN(BB20)-1),\"\")","v":""},{"$f":"IF(AND(FD20=1,FH20=\"\"),LEFT(BB20,LEN(BB20)-1),\"\")","v":""},{"$f":"FI20&FJ20","v":""},{"$f":"IF(FK20<>\"\",LEFT(FK20,1),\"\")","v":""},{"$f":"IF(FE20=1,MID(BB20,2,1),\"\")","v":""},{"$f":"IF(FF20=1,26,\"\")","v":""},{"$f":"IF(FG20=1,LEFT(BB20,1),\"\")","v":""},{"$f":"FL20&FM20&FN20&FO20","v":""},{"$f":"IF(FP20=\"\",BB20,FP20)","v":0},{"$f":"IF(FK20=\"\",FK20,RIGHT(FK20,LEN(FK20)-2))","v":""},{"$f":"IF(FG20=1,RIGHT(BB20,LEN(BB20)-2),\"\")","v":""},{"$f":"IF(FF20=1,LEFT(BB20,LEN(BB20)-1),\"\")","v":""},{"$f":"FR20&FS20&FT20","v":""},{"$f":"IF(FU20=\"\",LEFT(BB$18,LEN(BB$18)-1),FU20)","v":"19"},{"$f":"FQ20*FV20","v":0},null,{"$f":"IF(SEARCH(\"/\",BE20&\"/\",1)<=LEN(BE20),1,\"\")","v":""},{"$f":"IF(SEARCH(\"(\",BE20&\"(\",1)<=LEN(BE20),1,\"\")","v":""},{"$f":"IF(SEARCH(\"周\",BE20&\"周\",1)<=LEN(BE20),1,\"\")","v":""},{"$f":"IF(AND(FY20<>1,FZ20<>1,GA20<>1,LEN(BE20)>2),1,\"\")","v":""},{"$f":"IF(AND(FY20=1,LEFT(BE20,1)=\"/\"),1,\"\")","v":""},{"$f":"IF(GC20=1,RIGHT(BE20,LEN(BE20)-1),\"\")","v":""},{"$f":"IF(AND(FY20=1,GC20=\"\"),LEFT(BE20,LEN(BE20)-1),\"\")","v":""},{"$f":"GD20&GE20","v":""},{"$f":"IF(GF20<>\"\",LEFT(GF20,1),\"\")","v":""},{"$f":"IF(FZ20=1,MID(BE20,2,1),\"\")","v":""},{"$f":"IF(GA20=1,26,\"\")","v":""},{"$f":"IF(GB20=1,LEFT(BE20,1),\"\")","v":""},{"$f":"GG20&GH20&GI20&GJ20","v":""},{"$f":"IF(GK20=\"\",BE20,GK20)","v":0},{"$f":"IF(GF20=\"\",GF20,RIGHT(GF20,LEN(GF20)-2))","v":""},{"$f":"IF(GB20=1,RIGHT(BE20,LEN(BE20)-2),\"\")","v":""},{"$f":"IF(GA20=1,LEFT(BE20,LEN(BE20)-1),\"\")","v":""},{"$f":"GM20&GN20&GO20","v":""},{"$f":"IF(GP20=\"\",LEFT(BE$18,LEN(BE$18)-1),GP20)","v":"18"},{"$f":"GL20*GQ20","v":0},null,{"$f":"IF(SEARCH(\"/\",BH20&\"/\",1)<=LEN(BH20),1,\"\")","v":""},{"$f":"IF(SEARCH(\"(\",BH20&\"(\",1)<=LEN(BH20),1,\"\")","v":""},{"$f":"IF(SEARCH(\"周\",BH20&\"周\",1)<=LEN(BH20),1,\"\")","v":""},{"$f":"IF(AND(GT20<>1,GU20<>1,GV20<>1,LEN(BH20)>2),1,\"\")","v":""},{"$f":"IF(AND(GT20=1,LEFT(BH20,1)=\"/\"),1,\"\")","v":""},{"$f":"IF(GX20=1,RIGHT(BH20,LEN(BH20)-1),\"\")","v":""},{"$f":"IF(AND(GT20=1,GX20=\"\"),LEFT(BH20,LEN(BH20)-1),\"\")","v":""},{"$f":"GY20&GZ20","v":""},{"$f":"IF(HA20<>\"\",LEFT(HA20,1),\"\")","v":""},{"$f":"IF(GU20=1,MID(BH20,2,1),\"\")","v":""},{"$f":"IF(GV20=1,26,\"\")","v":""},{"$f":"IF(GW20=1,LEFT(BH20,1),\"\")","v":""},{"$f":"HB20&HC20&HD20&HE20","v":""},{"$f":"IF(HF20=\"\",BH20,HF20)","v":0},{"$f":"IF(HA20=\"\",HA20,RIGHT(HA20,LEN(HA20)-2))","v":""},{"$f":"IF(GW20=1,RIGHT(BH20,LEN(BH20)-2),\"\")","v":""},{"$f":"IF(GV20=1,LEFT(BH20,LEN(BH20)-1),\"\")","v":""},{"$f":"HH20&HI20&HJ20","v":""},{"$f":"IF(HK20=\"\",LEFT(BH$18,LEN(BH$18)-1),HK20)","v":"17"},{"$f":"HG20*HL20","v":0},null,{"$f":"IF(OR(CU20=1,DO20=1,EJ20=1,FE20=1,FZ20=1,GU20=1),1,\"\")","v":""},{"$f":"SUM(DM20,EG20,FB20,FW20,GR20,HM20)","v":0},{"$f":"IF(HO20=\"\",HP20,\"(\"&HP20&\")\")","v":0},{"$f":"IFERROR(HQ20,\"\")","v":0},{"$f":"AN20","v":0},{"$f":"IF(AND(HO20=1,AN20<>\"\"),RIGHT(HS20,LEN(HS20)-1),HS20)","v":0},{"$f":"IF(AND(HO20=1,AN20<>\"\"),LEFT(HT20,LEN(HT20)-1),HT20)","v":0},{"$f":"HP20-HU20","v":0},{"$f":"IF(HO20=1,\"(\"&HV20&\")\",HV20)","v":0},{"$f":"IFERROR(HW20,\"\")","v":0},null,null,null,null,null,null,{"$f":"IF(DG20=\"26\",0,DG20)","v":0},{"$f":"IF(CU20=1,0,IE20)","v":0},null,{"$f":"IF(CT20=1,DG20,0)","v":0},{"$f":"IF(IH20=\"8\",8,0)","v":0},{"$f":"IF(IH20=\"6\",6,0)","v":0},{"$f":"IF(IH20=\"4\",4,0)","v":0},{"$f":"IF(IH20=\"2\",2,0)","v":0},null,{"$f":"IF(EA20=\"26\",0,EA20)","v":0},{"$f":"IF(DO20=1,0,IN20)","v":0},null,{"$f":"IF(DN20=1,EA20,0)","v":0},{"$f":"IF(IQ20=\"8\",8,0)","v":0},{"$f":"IF(IQ20=\"6\",6,0)","v":0},{"$f":"IF(IQ20=\"4\",4,0)","v":0},{"$f":"IF(IQ20=\"2\",2,0)","v":0},null,{"$f":"IF(EV20=\"26\",0,EV20)","v":0},0,null,{"$f":"IF(EI20=1,EV20,0)","v":0},{"$f":"IF(IZ20=\"8\",8,0)","v":0},{"$f":"IF(IZ20=\"6\",6,0)","v":0},{"$f":"IF(IZ20=\"4\",4,0)","v":0},{"$f":"IF(IZ20=\"2\",2,0)","v":0},null,{"$f":"IF(FQ20=\"26\",0,FQ20)","v":0},0,null,{"$f":"IF(FD20=1,FQ20,0)","v":0},{"$f":"IF(JI20=\"8\",8,0)","v":0},{"$f":"IF(JI20=\"6\",6,0)","v":0},{"$f":"IF(JI20=\"4\",4,0)","v":0},{"$f":"IF(JI20=\"2\",2,0)","v":0},null,{"$f":"IF(GL20=\"26\",0,GL20)","v":0},0,null,{"$f":"IF(FY20=1,GL20,0)","v":0},{"$f":"IF(JR20=\"8\",8,0)","v":0},{"$f":"IF(JR20=\"6\",6,0)","v":0},{"$f":"IF(JR20=\"4\",4,0)","v":0},{"$f":"IF(JR20=\"2\",2,0)","v":0},null,null,{"$f":"IF(IF20<>0,1,0)","v":0},null,{"$f":"IF(IO20<>0,1,0)","v":0},null,{"$f":"IF(IX20<>0,1,0)","v":0},null,{"$f":"IF(JG20<>0,1,0)","v":0},null,{"$f":"IF(JP20<>0,1,0)","v":0},null,{"$f":"aaa","v":2},{"$f":"bbb","v":2},{"$f":"ccc","v":2},{"$f":"dddd","v":2},null,{"$f":"aaa","v":2},{"$f":"bbb","v":2},{"$f":"ccc","v":2},{"$f":"dddd","v":2},{"$f":"eee","v":2},{"$f":"fff","v":2},"","",{"$f":"IF(AY20<>\"\",1,\"\")","v":""},{"$f":"IF(BB20<>\"\",1,\"\")","v":""},{"$f":"IF(BE20<>\"\",1,\"\")","v":""},{"$f":"IF(BH20<>\"\",1,\"\")","v":""},{"$f":"IF(AND(KN20<>0,KT20=1),1,\"\")","v":""},{"$f":"IF(AND(KO20<>0,KU20=1),2,\"\")","v":""},{"$f":"IF(AND(KP20<>0,KV20=1),3,\"\")","v":""},{"$f":"IF(AND(KQ20<>0,KW20=1),4,\"\")","v":""},{"$f":"IF(AND(KR20<>0,KX20=1),5,\"\")","v":""},{"$f":"IF(AND(KS20<>0,KY20=1),6,\"\")","v":""},{"$f":"CONCATENATE(KZ20,LA20,LB20,LC20,LD20,LE20)","v":""},{"$f":"LEN(LF20)","v":0},{"$f":"IF(LG20=1,CONCATENATE(KZ20,LA20,LB20,LC20,LD20,LE20),\"\")","v":""},{"$f":"IF(LG20=2,LF20,\"\")","v":""},{"$f":"IF(LI20<>\"\",LEFT(LI20,1),\"\")","v":""},{"$f":"IF(LI20<>\"\",RIGHT(LI20,1),\"\")","v":""},{"$f":"IF(LI20<>\"\",LJ20&\",\"&LK20,\"\")","v":""},{"$f":"IF(LG20=3,LF20,\"\")","v":""},{"$f":"IF(LM20<>\"\",LEFT(LM20,1),\"\")","v":""},{"$f":"IF(LM20<>\"\",MID(LM20,2,1),\"\")","v":""},{"$f":"IF(LM20<>\"\",RIGHT(LM20,1),\"\")","v":""},{"$f":"IF(LM20<>\"\",LN20&\",\"&LO20&\",\"&LP20,\"\")","v":""},{"$f":"IF(LG20=4,LF20,\"\")","v":""},{"$f":"IF(LR20<>\"\",LEFT(LR20,1),\"\")","v":""},{"$f":"IF(LR20<>\"\",MID(LR20,2,1),\"\")","v":""},{"$f":"IF(LR20<>\"\",MID(LR20,3,1),\"\")","v":""},{"$f":"IF(LR20<>\"\",RIGHT(LR20,1),\"\")","v":""},{"$f":"IF(LR20<>\"\",LS20&\",\"&LT20&\",\"&LU20&\",\"&LV20,\"\")","v":""},{"$f":"LH20&LL20&LQ20&LW20","v":""},{"$f":"IF(AND(KT20=1,KZ20=\"\"),1,\"\")","v":""},{"$f":"IF(AND(KU20=1,LA20=\"\"),2,\"\")","v":""},{"$f":"IF(AND(KV20=1,LB20=\"\"),3,\"\")","v":""},{"$f":"IF(AND(KW20=1,LC20=\"\"),4,\"\")","v":""},{"$f":"IF(AND(KX20=1,LD20=\"\"),5,\"\")","v":""},{"$f":"IF(AND(KY20=1,LE20=\"\"),6,\"\")","v":""},{"$f":"CONCATENATE(LY20,LZ20,MA20,MB20,MC20,MD20)","v":""},{"$f":"LEN(ME20)","v":0},{"$f":"IF(MF20=1,ME20,\"\")","v":""},{"$f":"IF(MF20=2,ME20,\"\")","v":""},{"$f":"IF(MH20<>\"\",LEFT(ME20,1),\"\")","v":""},{"$f":"IF(MH20<>\"\",RIGHT(ME20,1),\"\")","v":""},{"$f":"IF(MH20<>\"\",MI20&\",\"&MJ20,\"\")","v":""},{"$f":"IF(MF20=3,ME20,\"\")","v":""},{"$f":"IF(ML20<>\"\",LEFT(ML20,1),\"\")","v":""},{"$f":"IF(ML20<>\"\",MID(ML20,2,1),\"\")","v":""},{"$f":"IF(ML20<>\"\",RIGHT(ML20,1),\"\")","v":""},{"$f":"IF(ML20<>\"\",MM20&\",\"&MN20&\",\"&MO20,\"\")","v":""},{"$f":"IF(MF20=4,ME20,\"\")","v":""},{"$f":"IF(MQ20<>\"\",LEFT(MQ20,1),\"\")","v":""},{"$f":"IF(MQ20<>\"\",MID(MQ20,2,1),\"\")","v":""},{"$f":"IF(MQ20<>\"\",MID(MQ20,3,1),\"\")","v":""},{"$f":"IF(MQ20<>\"\",RIGHT(MQ20,1),\"\")","v":""},{"$f":"IF(MQ20<>\"\",MR20&\",\"&MS20&\",\"&MT20&\",\"&MU20,\"\")","v":""},{"$f":"CONCATENATE(MG20,MK20,MP20,MV20)","v":""},{"$f":"IF(CV20=1,DJ20,0)","v":0},{"$f":"IF(DP20=1,ED20,0)","v":0},{"$f":"IF(EK20=1,EY20,0)","v":0},{"$f":"IF(FF20=1,FT20,0)","v":0},{"$f":"IF(GA20=1,GO20,0)","v":0},{"$f":"IF(GV20=1,HJ20,0)","v":0},{"$f":"MX20+MY20+MZ20+NA20+NB20+NC20","v":0},0,{"$f":"INT(NE20)","v":0},{"$f":"NE20-NF20","v":0},{"$f":"IF(NG20<0.35,0,\"\")","v":0},{"$f":"IF(AND(NG20>0.35,NG20<0.65),0.5,\"\")","v":""},{"$f":"IF(NG20>0.65,1,\"\")","v":""},{"$f":"NH20&NI20&NJ20","v":"0"},{"$f":"IF(ND20=0,NF20+NK20,0)","v":0},{"$f":"NL20+ND20","v":0},0,{"$f":"IFERROR(NN20,\"\")","v":0},{"$f":"IF(LEFT(NO20,1)<>\"(\",NO20,MID(NO20,2,LEN(NO20)-2))","v":0},{"$f":"ROUND(NP20,0)","v":0},0,{"$f":"IF(I20=\"gg081002\",1,\"\")","v":""},{"$f":"VALUE(NR20)","v":0},{"$f":"IF(NS20<>1,NT20,IF(NT20<4,4,NT20))","v":0},0,{"$f":"IF(LEFT(NR20,1)=\"(\",0,NU20)","v":0},0,{"$f":"INT(NX20)","v":0},{"$f":"NX20-NY20","v":0},{"$f":"IF(NZ20<0.35,0,\"\")","v":0},{"$f":"IF(AND(NZ20>0.35,NZ20<0.65),0.5,\"\")","v":""},{"$f":"IF(NZ20>0.65,1,\"\")","v":""},{"$f":"OA20&OB20&OC20","v":"0"},0,0,0,{"$f":"IFERROR(OG20,\"\")","v":0},null,0,{"$f":"INT(OJ20)","v":0},{"$f":"OJ20-OK20","v":0},{"$f":"IF(OL20<0.35,0,\"\")","v":0},{"$f":"IF(AND(OL20>0.35,OL20<0.65),0.5,\"\")","v":""},{"$f":"IF(OL20>0.65,1,\"\")","v":""},{"$f":"OM20&ON20&OO20","v":"0"},0,0,0,{"$f":"IFERROR(OS20,\"\")","v":0},null,0,{"$f":"INT(OV20)","v":0},{"$f":"OV20-OW20","v":0},{"$f":"IF(OX20<0.35,0,\"\")","v":0},{"$f":"IF(AND(OX20>0.35,OX20<0.65),0.5,\"\")","v":""},{"$f":"IF(OX20>0.65,1,\"\")","v":""},{"$f":"OY20&OZ20&PA20","v":"0"},0,0,0,{"$f":"IFERROR(PE20,\"\")","v":0},null,0,{"$f":"INT(PH20)","v":0},{"$f":"PH20-PI20","v":0},{"$f":"IF(PJ20<0.35,0,\"\")","v":0},{"$f":"IF(AND(PJ20>0.35,PJ20<0.65),0.5,\"\")","v":""},{"$f":"IF(PJ20>0.65,1,\"\")","v":""},{"$f":"PK20&PL20&PM20","v":"0"},0,0,0,{"$f":"IFERROR(PQ20,\"\")","v":0},0,{"$f":"INT(PS20)","v":0},{"$f":"PS20-PT20","v":0},{"$f":"IF(PU20<0.35,0,\"\")","v":0},{"$f":"IF(AND(PU20>0.35,PU20<0.65),0.5,\"\")","v":""},{"$f":"IF(PU20>0.65,1,\"\")","v":""},{"$f":"PV20&PW20&PX20","v":"0"},0,0,0,{"$f":"IFERROR(QB20,\"\")","v":0},null,0,{"$f":"INT(QE20)","v":0},{"$f":"QE20-QF20","v":0},{"$f":"IF(QG20<0.35,0,\"\")","v":0},{"$f":"IF(AND(QG20>0.35,QG20<0.65),0.5,\"\")","v":""},{"$f":"IF(QG20>0.65,1,\"\")","v":""},{"$f":"QH20&QI20&QJ20","v":"0"},0,0,0,{"$f":"IFERROR(QN20,\"\")","v":0},null,null,null,null,null,null,0,null,null,"计算机二级"]
[null,null,null,null,null,{"$f":"IF(序号!D4<>\"\",序号!D4,\"\")","v":""},null,null,{"$f":"IF(课程名称及编码!BJ5<>\"\",课程名称及编码!BJ5,\"\")","v":""},null,null,null,null,null,null,null,null,null,null,null,null,null,null,null,null,null,null,"",null,null,"",null,null,"",null,null,"",null,null,null,null,null,"",null,null,null,null,null,null,null,null,null,null,null,null,null,null,null,null,null,null,null,null,null,null,null,null,null,null,null,null,null,null,null,null,null,null,null,null,null,null,null,null,null,null,null,null,null,null,null,null,null,null,null,null,null,null,"","","","","","","","","","","","","",0,"","","","","15",0,"","","","","","","","","","","","","",0,"","","","","18",0,null,"","","","","","","","","","","","","",0,"","","","","18",0,null,"","","","","","","","","","","","","",0,"","","","","19",0,null,"","","","","","","","","","","","","",0,"","","","","18",0,null,"","","","","","","","","","","","","",0,"","","","","17",0,null,"",0,0,0,0,0,0,0,0,0,null,null,null,null,null,null,0,0,null,0,0,0,0,0,null,0,0,null,0,0,0,0,0,null,0,0,null,0,0,0,0,0,null,0,0,null,0,0,0,0,0,null,0,0,null,0,0,0,0,0,null,null,0,null,0,null,0,null,0,null,0,null,{"$f":"aaa","v":2},{"$f":"bbb","v":2},{"$f":"ccc","v":2},{"$f":"dddd","v":2},null,{"$f":"aaa","v":2},{"$f":"bbb","v":2},{"$f":"ccc","v":2},{"$f":"dddd","v":2},{"$f":"eee","v":2},{"$f":"fff","v":2},"","","","","","","","","","","","","",0,"","","","","","","","","","","","","","","","","","","","","","","","",0,"","","","","","","","","","","","","","","","","",0,0,0,0,0,0,0,0,0,0,0,"","","0",0,0,0,0,0,0,0,"",0,0,0,0,0,0,0,0,"","","0",0,0,0,0,null,0,0,0,0,"","","0",0,0,0,0,null,0,0,0,0,"","","0",0,0,0,0,null,0,0,0,0,"","","0",0,0,0,0,0,0,0,0,"","","0",0,0,0,0,null,0,0,0,0,"","","0",0,0,0,0,null,null,null,null,null,null,0,null,null,"CAD中级"]
[null,null,null,null,null,{"$f":"IF(序号!D5<>\"\",序号!D5,\"\")","v":""},null,null,{"$f":"IF(课程名称及编码!BJ6<>\"\",课程名称及编码!BJ6,\"\")","v":""},null,null,null,null,null,null,null,null,null,null,null,null,null,null,null,null,null,null,"",null,null,"",null,null,"",null,null,"",null,null,null,null,null,"",null,null,null,null,null,null,null,null,null,null,null,null,null,null,null,null,null,null,null,null,null,null,null,null,null,null,null,null,null,null,null,null,null,null,null,null,null,null,null,null,null,null,null,null,null,null,null,null,null,null,null,null,null,null,"","","","","","","","","","","","","",0,"","","","","15",0,"","","","","","","","","","","","","",0,"","","","","18",0,null,"","","","","","","","","","","","","",0,"","","","","18",0,null,"","","","","","","","","","","","","",0,"","","","","19",0,null,"","","","","","","","","","","","","",0,"","","","","18",0,null,"","","","","","","","","","","","","",0,"","","","","17",0,null,"",0,0,0,0,0,0,0,0,0,null,null,null,null,null,null,0,0,null,0,0,0,0,0,null,0,0,null,0,0,0,0,0,null,0,0,null,0,0,0,0,0,null,0,0,null,0,0,0,0,0,null,0,0,null,0,0,0,0,0,null,null,0,null,0,null,0,null,0,null,0,null,{"$f":"aaa","v":2},{"$f":"bbb","v":2},{"$f":"ccc","v":2},{"$f":"dddd","v":2},null,{"$f":"aaa","v":2},{"$f":"bbb","v":2},{"$f":"ccc","v":2},{"$f":"dddd","v":2},{"$f":"eee","v":2},{"$f":"fff","v":2},"","","","","","","","","","","","","",0,"","","","","","","","","","","","","","","","","","","","","","","","",0,"","","","","","","","","","","","","","","","","",0,0,0,0,0,0,0,0,0,0,0,"","","0",0,0,0,0,0,0,0,"",0,0,0,0,0,0,0,0,"","","0",0,0,0,0,null,0,0,0,0,"","","0",0,0,0,0,null,0,0,0,0,"","","0",0,0,0,0,null,0,0,0,0,"","","0",0,0,0,0,0,0,0,0,"","","0",0,0,0,0,null,0,0,0,0,"","","0",0,0,0,0,null,null,null,null,null,null,0,null,null,"报关员"]
[null,null,null,null,null,{"$f":"IF(序号!D6<>\"\",序号!D6,\"\")","v":""},null,null,{"$f":"IF(课程名称及编码!BJ7<>\"\",课程名称及编码!BJ7,\"\")","v":""},null,null,null,null,null,null,null,null,null,null,null,null,null,null,null,null,null,null,"",null,null,"",null,null,"",null,null,"",null,null,null,null,null,"",null,null,null,null,null,null,null,null,null,null,null,null,null,null,null,null,null,null,null,null,null,null,null,null,null,null,null,null,null,null,null,null,null,null,null,null,null,null,null,null,null,null,null,null,null,null,null,null,null,null,null,null,null,null,"","","","","","","","","","","","","",0,"","","","","15",0,"","","","","","","","","","","","","",0,"","","","","18",0,null,"","","","","","","","","","","","","",0,"","","","","18",0,null,"","","","","","","","","","","","","",0,"","","","","19",0,null,"","","","","","","","","","","","","",0,"","","","","18",0,null,"","","","","","","","","","","","","",0,"","","","","17",0,null,"",0,0,0,0,0,0,0,0,0,null,null,null,null,null,null,0,0,null,0,0,0,0,0,null,0,0,null,0,0,0,0,0,null,0,0,null,0,0,0,0,0,null,0,0,null,0,0,0,0,0,null,0,0,null,0,0,0,0,0,null,null,0,null,0,null,0,null,0,null,0,null,{"$f":"aaa","v":2},{"$f":"bbb","v":2},{"$f":"ccc","v":2},{"$f":"dddd","v":2},null,{"$f":"aaa","v":2},{"$f":"bbb","v":2},{"$f":"ccc","v":2},{"$f":"dddd","v":2},{"$f":"eee","v":2},{"$f":"fff","v":2},"","","","","","","","","","","","","",0,"","","","","","","","","","","","","","","","","","","","","","","","",0,"","","","","","","","","","","","","","","","","",0,0,0,0,0,0,0,0,0,0,0,"","","0",0,0,0,0,0,0,0,"",0,0,0,0,0,0,0,0,"","","0",0,0,0,0,null,0,0,0,0,"","","0",0,0,0,0,null,0,0,0,0,"","","0",0,0,0,0,null,0,0,0,0,"","","0",0,0,0,0,0,0,0,0,"","","0",0,0,0,0,null,0,0,0,0,"","","0",0,0,0,0,null,null,null,null,null,2,0,null,null,"国际商务单证员"]
[null,null,null,null,null,{"$f":"IF(序号!D7<>\"\",序号!D7,\"\")","v":""},null,null,{"$f":"IF(课程名称及编码!BJ8<>\"\",课程名称及编码!BJ8,\"\")","v":""},null,null,null,null,null,null,null,null,null,null,null,null,null,null,null,null,null,null,"",null,null,"",null,null,"",null,null,"",null,null,null,null,null,"",null,null,null,null,null,null,null,null,null,null,null,null,null,null,null,null,null,null,null,null,null,null,null,null,null,null,null,null,null,null,null,null,null,null,null,null,null,null,null,null,null,null,null,null,null,null,null,null,null,null,null,null,null,null,"","","","","","","","","","","","","",0,"","","","","15",0,"","","","","","","","","","","","","",0,"","","","","18",0,null,"","","","","","","","","","","","","",0,"","","","","18",0,null,"","","","","","","","","","","","","",0,"","","","","19",0,null,"","","","","","","","","","","","","",0,"","","","","18",0,null,"","","","","","","","","","","","","",0,"","","","","17",0,null,"",0,0,0,0,0,0,0,0,0,null,null,null,null,null,null,0,0,null,0,0,0,0,0,null,0,0,null,0,0,0,0,0,null,0,0,null,0,0,0,0,0,null,0,0,null,0,0,0,0,0,null,0,0,null,0,0,0,0,0,null,null,0,null,0,null,0,null,0,null,0,null,{"$f":"aaa","v":2},{"$f":"bbb","v":2},{"$f":"ccc","v":2},{"$f":"dddd","v":2},null,{"$f":"aaa","v":2},{"$f":"bbb","v":2},{"$f":"ccc","v":2},{"$f":"dddd","v":2},{"$f":"eee","v":2},{"$f":"fff","v":2},"","","","","","","","","","","","","",0,"","","","","","","","","","","","","","","","","","","","","","","","",0,"","","","","","","","","","","","","","","","","",0,0,0,0,0,0,0,0,0,0,0,"","","0",0,0,0,0,0,0,0,"",0,0,0,0,0,0,0,0,"","","0",0,0,0,0,null,0,0,0,0,"","","0",0,0,0,0,null,0,0,0,0,"","","0",0,0,0,0,null,0,0,0,0,"","","0",0,0,0,0,0,0,0,0,"","","0",0,0,0,0,null,0,0,0,0,"","","0",0,0,0,0,null,null,null,null,null,4,0,null,null,"国际商务英语中级"]
[null,null,null,null,null,{"$f":"IF(序号!D8<>\"\",序号!D8,\"\")","v":""},null,null,{"$f":"IF(课程名称及编码!BJ9<>\"\",课程名称及编码!BJ9,\"\")","v":""},null,null,null,null,null,null,null,null,null,null,null,null,null,null,null,null,null,null,"",null,null,"",null,null,"",null,null,"",null,null,null,null,null,"",null,null,null,null,null,null,null,null,null,null,null,null,null,null,null,null,null,null,null,null,null,null,null,null,null,null,null,null,null,null,null,null,null,null,null,null,null,null,null,null,null,null,null,null,null,null,null,null,null,null,null,null,null,null,"","","","","","","","","","","","","",0,"","","","","15",0,"","","","","","","","","","","","","",0,"","","","","18",0,null,"","","","","","","","","","","","","",0,"","","","","18",0,null,"","","","","","","","","","","","","",0,"","","","","19",0,null,"","","","","","","","","","","","","",0,"","","","","18",0,null,"","","","","","","","","","","","","",0,"","","","","17",0,null,"",0,0,0,0,0,0,0,0,0,null,null,null,null,null,null,0,0,null,0,0,0,0,0,null,0,0,null,0,0,0,0,0,null,0,0,null,0,0,0,0,0,null,0,0,null,0,0,0,0,0,null,0,0,null,0,0,0,0,0,null,null,0,null,0,null,0,null,0,null,0,null,{"$f":"aaa","v":2},{"$f":"bbb","v":2},{"$f":"ccc","v":2},{"$f":"dddd","v":2},null,{"$f":"aaa","v":2},{"$f":"bbb","v":2},{"$f":"ccc","v":2},{"$f":"dddd","v":2},{"$f":"eee","v":2},{"$f":"fff","v":2},"","","","","","","","","","","","","",0,"","","","","","","","","","","","","","","","","","","","","","","","",0,"","","","","","","","","","","","","","","","","",0,0,0,0,0,0,0,0,0,0,0,"","","0",0,0,0,0,0,0,0,"",0,0,0,0,0,0,0,0,"","","0",0,0,0,0,null,0,0,0,0,"","","0",0,0,0,0,null,0,0,0,0,"","","0",0,0,0,0,null,0,0,0,0,"","","0",0,0,0,0,0,0,0,0,"","","0",0,0,0,0,null,0,0,0,0,"","","0",0,0,0,0,null,null,null,null,null,6,0,null,null,"化工检修钳工"]
[null,null,null,null,null,{"$f":"IF(序号!D9<>\"\",序号!D9,\"\")","v":""},null,null,{"$f":"IF(课程名称及编码!BJ10<>\"\",课程名称及编码!BJ10,\"\")","v":""},null,null,null,null,null,null,null,null,null,null,null,null,null,null,null,null,null,null,"",null,null,"",null,null,"",null,null,"",null,null,null,null,null,"",null,null,null,null,null,null,null,null,null,null,null,null,null,null,null,null,null,null,null,null,null,null,null,null,null,null,null,null,null,null,null,null,null,null,null,null,null,null,null,null,null,null,null,null,null,null,null,null,null,null,null,null,null,null,"","","","","","","","","","","","","",0,"","","","","15",0,"","","","","","","","","","","","","",0,"","","","","18",0,null,"","","","","","","","","","","","","",0,"","","","","18",0,null,"","","","","","","","","","","","","",0,"","","","","19",0,null,"","","","","","","","","","","","","",0,"","","","","18",0,null,"","","","","","","","","","","","","",0,"","","","","17",0,null,"",0,0,0,0,0,0,0,0,0,null,null,null,null,null,null,0,0,null,0,0,0,0,0,null,0,0,null,0,0,0,0,0,null,0,0,null,0,0,0,0,0,null,0,0,null,0,0,0,0,0,null,0,0,null,0,0,0,0,0,null,null,0,null,0,null,0,null,0,null,0,null,{"$f":"aaa","v":2},{"$f":"bbb","v":2},{"$f":"ccc","v":2},{"$f":"dddd","v":2},null,{"$f":"aaa","v":2},{"$f":"bbb","v":2},{"$f":"ccc","v":2},{"$f":"dddd","v":2},{"$f":"eee","v":2},{"$f":"fff","v":2},"","","","","","","","","","","","","",0,"","","","","","","","","","","","","","","","","","","","","","","","",0,"","","","","","","","","","","","","","","","","",0,0,0,0,0,0,0,0,0,0,0,"","","0",0,0,0,0,0,0,0,"",0,0,0,0,0,0,0,0,"","","0",0,0,0,0,null,0,0,0,0,"","","0",0,0,0,0,null,0,0,0,0,"","","0",0,0,0,0,null,0,0,0,0,"","","0",0,0,0,0,0,0,0,0,"","","0",0,0,0,0,null,0,0,0,0,"","","0",0,0,0,0,null,null,null,null,null,8,0,null,null,"化工总控工高级"]
[null,null,null,null,null,{"$f":"IF(序号!D10<>\"\",序号!D10,\"\")","v":""},null,null,{"$f":"IF(课程名称及编码!BJ11<>\"\",课程名称及编码!BJ11,\"\")","v":""},null,null,null,null,null,null,null,null,null,null,null,null,null,null,null,null,null,null,"",null,null,"",null,null,"",null,null,"",null,null,null,null,null,"",null,null,null,null,null,null,null,null,null,null,null,null,null,null,null,null,null,null,null,null,null,null,null,null,null,null,null,null,null,null,null,null,null,null,null,null,null,null,null,null,null,null,null,null,null,null,null,null,null,null,null,null,null,null,"","","","","","","","","","","","","",0,"","","","","15",0,"","","","","","","","","","","","","",0,"","","","","18",0,null,"","","","","","","","","","","","","",0,"","","","","18",0,null,"","","","","","","","","","","","","",0,"","","","","19",0,null,"","","","","","","","","","","","","",0,"","","","","18",0,null,"","","","","","","","","","","","","",0,"","","","","17",0,null,"",0,0,0,0,0,0,0,0,0,null,null,null,null,null,null,0,0,null,0,0,0,0,0,null,0,0,null,0,0,0,0,0,null,0,0,null,0,0,0,0,0,null,0,0,null,0,0,0,0,0,null,0,0,null,0,0,0,0,0,null,null,0,null,0,null,0,null,0,null,0,null,{"$f":"aaa","v":2},{"$f":"bbb","v":2},{"$f":"ccc","v":2},{"$f":"dddd","v":2},null,{"$f":"aaa","v":2},{"$f":"bbb","v":2},{"$f":"ccc","v":2},{"$f":"dddd","v":2},{"$f":"eee","v":2},{"$f":"fff","v":2},"","","","","","","","","","","","","",0,"","","","","","","","","","","","","","","","","","","","","","","","",0,"","","","","","","","","","","","","","","","","",0,0,0,0,0,0,0,0,0,0,0,"","","0",0,0,0,0,0,0,0,"",0,0,0,0,0,0,0,0,"","","0",0,0,0,0,null,0,0,0,0,"","","0",0,0,0,0,null,0,0,0,0,"","","0",0,0,0,0,null,0,0,0,0,"","","0",0,0,0,0,0,0,0,0,"","","0",0,0,0,0,null,0,0,0,0,"","","0",0,0,0,0,null,null,null,null,null,10,0,null,null,"化学检验工高级"]
[null,null,null,"限\n定\n选\n修\n课\n程",null,{"$f":"IF(序号!D11<>\"\",序号!D11,\"\")","v":""},null,null,{"$f":"IF(课程名称及编码!BJ12<>\"\",课程名称及编码!BJ12,\"\")","v":""},null,null,null,null,null,null,null,null,null,null,null,null,null,null,null,null,null,null,"",null,null,"",null,null,"",null,null,"",null,null,null,null,null,"",null,null,null,null,null,null,null,null,null,null,null,null,null,null,null,null,null,null,null,null,null,null,null,null,null,null,null,null,null,null,null,null,null,null,null,null,null,null,null,null,null,null,null,null,null,null,null,null,null,null,null,null,null,null,"","","","","","","","","","","","","",0,"","","","","15",0,"","","","","","","","","","","","","",0,"","","","","18",0,null,"","","","","","","","","","","","","",0,"","","","","18",0,null,"","","","","","","","","","","","","",0,"","","","","19",0,null,"","","","","","","","","","","","","",0,"","","","","18",0,null,"","","","","","","","","","","","","",0,"","","","","17",0,null,"",0,0,0,0,0,0,0,0,0,null,null,null,null,null,null,0,0,null,0,0,0,0,0,null,0,0,null,0,0,0,0,0,null,0,0,null,0,0,0,0,0,null,0,0,null,0,0,0,0,0,null,0,0,null,0,0,0,0,0,null,null,0,null,0,null,0,null,0,null,0,null,{"$f":"aaa","v":2},{"$f":"bbb","v":2},{"$f":"ccc","v":2},{"$f":"dddd","v":2},null,{"$f":"aaa","v":2},{"$f":"bbb","v":2},{"$f":"ccc","v":2},{"$f":"dddd","v":2},{"$f":"eee","v":2},{"$f":"fff","v":2},"","","","","","","","","","","","","",0,"","","","","","","","","","","","","","","","","","","","","","","","",0,"","","","","","","","","","","","","","","","","",0,0,0,0,0,0,0,0,0,0,0,"","","0",0,0,0,0,0,0,0,"",0,0,0,0,0,0,0,0,"","","0",0,0,0,0,null,0,0,0,0,"","","0",0,0,0,0,null,0,0,0,0,"","","0",0,0,0,0,null,0,0,0,0,"","","0",0,0,0,0,0,0,0,0,"","","0",0,0,0,0,null,0,0,0,0,"","","0",0,0,0,0,null,null,null,null,null,"2*4",0,null,null,"机械设备安装工"]
[null,null,null,null,null,{"$f":"IF(序号!D12<>\"\",序号!D12,\"\")","v":""},null,null,{"$f":"IF(课程名称及编码!BJ13<>\"\",课程名称及编码!BJ13,\"\")","v":""},null,null,null,null,null,null,null,null,null,null,null,null,null,null,null,null,null,null,"",null,null,"",null,null,"",null,null,"",null,null,null,null,null,"",null,null,null,null,null,null,null,null,null,null,null,null,null,null,null,null,null,null,null,null,null,null,null,null,null,null,null,null,null,null,null,null,null,null,null,null,null,null,null,null,null,null,null,null,null,null,null,null,null,null,null,null,null,null,"","","","","","","","","","","","","",0,"","","","","15",0,"","","","","","","","","","","","","",0,"","","","","18",0,null,"","","","","","","","","","","","","",0,"","","","","18",0,null,"","","","","","","","","","","","","",0,"","","","","19",0,null,"","","","","","","","","","","","","",0,"","","","","18",0,null,"","","","","","","","","","","","","",0,"","","","","17",0,null,"",0,0,0,0,0,0,0,0,0,null,null,null,null,null,null,0,0,null,0,0,0,0,0,null,0,0,null,0,0,0,0,0,null,0,0,null,0,0,0,0,0,null,0,0,null,0,0,0,0,0,null,0,0,null,0,0,0,0,0,null,null,0,null,0,null,0,null,0,null,0,null,{"$f":"aaa","v":2},{"$f":"bbb","v":2},{"$f":"ccc","v":2},{"$f":"dddd","v":2},null,{"$f":"aaa","v":2},{"$f":"bbb","v":2},{"$f":"ccc","v":2},{"$f":"dddd","v":2},{"$f":"eee","v":2},{"$f":"fff","v":2},"","","","","","","","","","","","","",0,"","","","","","","","","","","","","","","","","","","","","","","","",0,"","","","","","","","","","","","","","","","","",0,0,0,0,0,0,0,0,0,0,0,"","","0",0,0,0,0,0,0,0,"",0,0,0,0,0,0,0,0,"","","0",0,0,0,0,null,0,0,0,0,"","","0",0,0,0,0,null,0,0,0,0,"","","0",0,0,0,0,null,0,0,0,0,"","","0",0,0,0,0,0,0,0,0,"","","0",0,0,0,0,null,0,0,0,0,"","","0",0,0,0,0,null,null,null,null,null,"2*5",0,null,null,"聚合工高级"]
[null,null,null,null,null,{"$f":"IF(序号!D13<>\"\",序号!D13,\"\")","v":""},null,null,{"$f":"IF(课程名称及编码!BJ14<>\"\",课程名称及编码!BJ14,\"\")","v":""},null,null,null,null,null,null,null,null,null,null,null,null,null,null,null,null,null,null,"",null,null,"",null,null,"",null,null,"",null,null,null,null,null,"",null,null,null,null,null,null,null,null,null,null,null,null,null,null,null,null,null,null,null,null,null,null,null,null,null,null,null,null,null,null,null,null,null,null,null,null,null,null,null,null,null,null,null,null,null,null,null,null,null,null,null,null,null,null,"","","","","","","","","","","","","",0,"","","","","15",0,"","","","","","","","","","","","","",0,"","","","","18",0,null,"","","","","","","","","","","","","",0,"","","","","18",0,null,"","","","","","","","","","","","","",0,"","","","","19",0,null,"","","","","","","","","","","","","",0,"","","","","18",0,null,"","","","","","","","","","","","","",0,"","","","","17",0,null,"",0,0,0,0,0,0,0,0,0,null,null,null,null,null,null,0,0,null,0,0,0,0,0,null,0,0,null,0,0,0,0,0,null,0,0,null,0,0,0,0,0,null,0,0,null,0,0,0,0,0,null,0,0,null,0,0,0,0,0,null,null,0,null,0,null,0,null,0,null,0,null,{"$f":"aaa","v":2},{"$f":"bbb","v":2},{"$f":"ccc","v":2},{"$f":"dddd","v":2},null,{"$f":"aaa","v":2},{"$f":"bbb","v":2},{"$f":"ccc","v":2},{"$f":"dddd","v":2},{"$f":"eee","v":2},{"$f":"fff","v":2},"","","","","","","","","","","","","",0,"","","","","","","","","","","","","","","","","","","","","","","","",0,"","","","","","","","","","","","","","","","","",0,0,0,0,0,0,0,0,0,0,0,"","","0",0,0,0,0,0,0,0,"",0,0,0,0,0,0,0,0,"","","0",0,0,0,0,null,0,0,0,0,"","","0",0,0,0,0,null,0,0,0,0,"","","0",0,0,0,0,null,0,0,0,0,"","","0",0,0,0,0,0,0,0,0,"","","0",0,0,0,0,null,0,0,0,0,"","","0",0,0,0,0,null,null,null,null,null,"2*6",0,null,null,"全国国际商务英语一级"]
[null,null,null,null,null,{"$f":"IF(序号!D14<>\"\",序号!D14,\"\")","v":""},null,null,{"$f":"IF(课程名称及编码!BJ15<>\"\",课程名称及编码!BJ15,\"\")","v":""},null,null,null,null,null,null,null,null,null,null,null,null,null,null,null,null,null,null,"",null,null,"",null,null,"",null,null,"",null,null,null,null,null,"",null,null,null,null,null,null,null,null,null,null,null,null,null,null,null,null,null,null,null,null,null,null,null,null,null,null,null,null,null,null,null,null,null,null,null,null,null,null,null,null,null,null,null,null,null,null,null,null,null,null,null,null,null,null,"","","","","","","","","","","","","",0,"","","","","15",0,"","","","","","","","","","","","","",0,"","","","","18",0,null,"","","","","","","","","","","","","",0,"","","","","18",0,null,"","","","","","","","","","","","","",0,"","","","","19",0,null,"","","","","","","","","","","","","",0,"","","","","18",0,null,"","","","","","","","","","","","","",0,"","","","","17",0,null,"",0,0,0,0,0,0,0,0,0,null,null,null,null,null,null,0,0,null,0,0,0,0,0,null,0,0,null,0,0,0,0,0,null,0,0,null,0,0,0,0,0,null,0,0,null,0,0,0,0,0,null,0,0,null,0,0,0,0,0,null,null,0,null,0,null,0,null,0,null,0,null,{"$f":"aaa","v":2},{"$f":"bbb","v":2},{"$f":"ccc","v":2},{"$f":"dddd","v":2},null,{"$f":"aaa","v":2},{"$f":"bbb","v":2},{"$f":"ccc","v":2},{"$f":"dddd","v":2},{"$f":"eee","v":2},{"$f":"fff","v":2},"","","","","","","","","","","","","",0,"","","","","","","","","","","","","","","","","","","","","","","","",0,"","","","","","","","","","","","","","","","","",0,0,0,0,0,0,0,0,0,0,0,"","","0",0,0,0,0,0,0,0,"",0,0,0,0,0,0,0,0,"","","0",0,0,0,0,null,0,0,0,0,"","","0",0,0,0,0,null,0,0,0,0,"","","0",0,0,0,0,null,0,0,0,0,"","","0",0,0,0,0,0,0,0,0,"","","0",0,0,0,0,null,0,0,0,0,"","","0",0,0,0,0,null,null,null,null,null,"2*7",0,null,null,"燃料油生产工"]
[null,null,null,null,null,{"$f":"IF(序号!D15<>\"\",序号!D15,\"\")","v":""},null,null,{"$f":"IF(课程名称及编码!BJ16<>\"\",课程名称及编码!BJ16,\"\")","v":""},null,null,null,null,null,null,null,null,null,null,null,null,null,null,null,null,null,null,"",null,null,"",null,null,"",null,null,"",null,null,null,null,null,"",null,null,null,null,null,null,null,null,null,null,null,null,null,null,null,null,null,null,null,null,null,null,null,null,null,null,null,null,null,null,null,null,null,null,null,null,null,null,null,null,null,null,null,null,null,null,null,null,null,null,null,null,null,null,"","","","","","","","","","","","","",0,"","","","","15",0,"","","","","","","","","","","","","",0,"","","","","18",0,null,"","","","","","","","","","","","","",0,"","","","","18",0,null,"","","","","","","","","","","","","",0,"","","","","19",0,null,"","","","","","","","","","","","","",0,"","","","","18",0,null,"","","","","","","","","","","","","",0,"","","","","17",0,null,"",0,0,0,0,0,0,0,0,0,null,null,null,null,null,null,0,0,null,0,0,0,0,0,null,0,0,null,0,0,0,0,0,null,0,0,null,0,0,0,0,0,null,0,0,null,0,0,0,0,0,null,0,0,null,0,0,0,0,0,null,null,0,null,0,null,0,null,0,null,0,null,{"$f":"aaa","v":2},{"$f":"bbb","v":2},{"$f":"ccc","v":2},{"$f":"dddd","v":2},null,{"$f":"aaa","v":2},{"$f":"bbb","v":2},{"$f":"ccc","v":2},{"$f":"dddd","v":2},{"$f":"eee","v":2},{"$f":"fff","v":2},"","","","","","","","","","","","","",0,"","","","","","","","","","","","","","","","","","","","","","","","",0,"","","","","","","","","","","","","","","","","",0,0,0,0,0,0,0,0,0,0,0,"","","0",0,0,0,0,0,0,0,"",0,0,0,0,0,0,0,0,"","","0",0,0,0,0,null,0,0,0,0,"","","0",0,0,0,0,null,0,0,0,0,"","","0",0,0,0,0,null,0,0,0,0,"","","0",0,0,0,0,0,0,0,0,"","","0",0,0,0,0,null,0,0,0,0,"","","0",0,0,0,0,null,null,null,null,null,"2*8",0,null,null,"数控车床操作工"]
[null,null,null,null,null,{"$f":"IF(序号!D16<>\"\",序号!D16,\"\")","v":""},null,null,{"$f":"IF(课程名称及编码!BJ17<>\"\",课程名称及编码!BJ17,\"\")","v":""},null,null,null,null,null,null,null,null,null,null,null,null,null,null,null,null,null,null,"",null,null,"",null,null,"",null,null,"",null,null,null,null,null,"",null,null,null,null,null,null,null,null,null,null,null,null,null,null,null,null,null,null,null,null,null,null,null,null,null,null,null,null,null,null,null,null,null,null,null,null,null,null,null,null,null,null,null,null,null,null,null,null,null,null,null,null,null,null,"","","","","","","",{"$f":"CY33&CZ33","v":""},{"$f":"IF(DA33<>\"\",LEFT(DA33,1),\"\")","v":""},"",{"$f":"IF(CV33=1,26,\"\")","v":""},"",{"$f":"DB33&DC33&DD33&DE33","v":""},0,{"$f":"IF(DA33=\"\",DA33,RIGHT(DA33,LEN(DA33)-2))","v":""},"","",{"$f":"DH33&DI33&DJ33","v":""},{"$f":"IF(DK33=\"\",LEFT(AS$18,LEN(AS$18)-1),DK33)","v":"15"},{"$f":"DG33*DL33","v":0},"","","","","","","",{"$f":"DS33&DT33","v":""},{"$f":"IF(DU33<>\"\",LEFT(DU33,1),\"\")","v":""},"",{"$f":"IF(DP33=1,26,\"\")","v":""},"",{"$f":"DV33&DW33&DX33&DY33","v":""},0,{"$f":"IF(DU33=\"\",DU33,RIGHT(DU33,LEN(DU33)-2))","v":""},"","",{"$f":"EB33&EC33&ED33","v":""},{"$f":"IF(EE33=\"\",LEFT(AV$18,LEN(AV$18)-1),EE33)","v":"18"},{"$f":"EA33*EF33","v":0},null,{"$f":"IF(SEARCH(\"/\",AY33&\"/\",1)<=LEN(AY33),1,\"\")","v":""},{"$f":"IF(SEARCH(\"(\",AY33&\"(\",1)<=LEN(AY33),1,\"\")","v":""},{"$f":"IF(SEARCH(\"周\",AY33&\"周\",1)<=LEN(AY33),1,\"\")","v":""},{"$f":"IF(AND(EI33<>1,EJ33<>1,EK33<>1,LEN(AY33)>2),1,\"\")","v":""},{"$f":"IF(AND(EI33=1,LEFT(AY33)=\"/\"),1,\"\")","v":""},{"$f":"IF(EM33=1,RIGHT(AY33,LEN(AY33)-1),\"\")","v":""},{"$f":"IF(AND(EI33=1,EM33=\"\"),LEFT(AY33,LEN(AY33)-1),\"\")","v":""},{"$f":"EN33&EO33","v":""},{"$f":"IF(EP33<>\"\",LEFT(EP33,1),\"\")","v":""},{"$f":"IF(EJ33=1,MID(AY33,2,1),\"\")","v":""},{"$f":"IF(EK33=1,26,\"\")","v":""},{"$f":"IF(EL33=1,LEFT(AY33,1),\"\")","v":""},{"$f":"EQ33&ER33&ES33&ET33","v":""},{"$f":"IF(EU33=\"\",AY33,EU33)","v":0},{"$f":"IF(EP33=\"\",EP33,RIGHT(EP33,LEN(EP33)-2))","v":""},{"$f":"IF(EL33=1,RIGHT(AY33,LEN(AY33)-2),\"\")","v":""},{"$f":"IF(EK33=1,LEFT(AY33,LEN(AY33)-1),\"\")","v":""},{"$f":"EW33&EX33&EY33","v":""},{"$f":"IF(EZ33=\"\",LEFT(AY$18,LEN(AY$18)-1),EZ33)","v":"18"},{"$f":"EV33*FA33","v":0},null,{"$f":"IF(SEARCH(\"/\",BB33&\"/\",1)<=LEN(BB33),1,\"\")","v":""},{"$f":"IF(SEARCH(\"(\",BB33&\"(\",1)<=LEN(BB33),1,\"\")","v":""},{"$f":"IF(SEARCH(\"周\",BB33&\"周\",1)<=LEN(BB33),1,\"\")","v":""},{"$f":"IF(AND(FD33<>1,FE33<>1,FF33<>1,LEN(BB33)>2),1,\"\")","v":""},{"$f":"IF(AND(FD33=1,LEFT(BB33,1)=\"/\"),1,\"\")","v":""},{"$f":"IF(FH33=1,RIGHT(BB33,LEN(BB33)-1),\"\")","v":""},{"$f":"IF(AND(FD33=1,FH33=\"\"),LEFT(BB33,LEN(BB33)-1),\"\")","v":""},{"$f":"FI33&FJ33","v":""},{"$f":"IF(FK33<>\"\",LEFT(FK33,1),\"\")","v":""},{"$f":"IF(FE33=1,MID(BB33,2,1),\"\")","v":""},{"$f":"IF(FF33=1,26,\"\")","v":""},{"$f":"IF(FG33=1,LEFT(BB33,1),\"\")","v":""},{"$f":"FL33&FM33&FN33&FO33","v":""},{"$f":"IF(FP33=\"\",BB33,FP33)","v":0},{"$f":"IF(FK33=\"\",FK33,RIGHT(FK33,LEN(FK33)-2))","v":""},{"$f":"IF(FG33=1,RIGHT(BB33,LEN(BB33)-2),\"\")","v":""},{"$f":"IF(FF33=1,LEFT(BB33,LEN(BB33)-1),\"\")","v":""},{"$f":"FR33&FS33&FT33","v":""},{"$f":"IF(FU33=\"\",LEFT(BB$18,LEN(BB$18)-1),FU33)","v":"19"},{"$f":"FQ33*FV33","v":0},null,{"$f":"IF(SEARCH(\"/\",BE33&\"/\",1)<=LEN(BE33),1,\"\")","v":""},{"$f":"IF(SEARCH(\"(\",BE33&\"(\",1)<=LEN(BE33),1,\"\")","v":""},{"$f":"IF(SEARCH(\"周\",BE33&\"周\",1)<=LEN(BE33),1,\"\")","v":""},{"$f":"IF(AND(FY33<>1,FZ33<>1,GA33<>1,LEN(BE33)>2),1,\"\")","v":""},{"$f":"IF(AND(FY33=1,LEFT(BE33,1)=\"/\"),1,\"\")","v":""},{"$f":"IF(GC33=1,RIGHT(BE33,LEN(BE33)-1),\"\")","v":""},{"$f":"IF(AND(FY33=1,GC33=\"\"),LEFT(BE33,LEN(BE33)-1),\"\")","v":""},{"$f":"GD33&GE33","v":""},{"$f":"IF(GF33<>\"\",LEFT(GF33,1),\"\")","v":""},{"$f":"IF(FZ33=1,MID(BE33,2,1),\"\")","v":""},{"$f":"IF(GA33=1,26,\"\")","v":""},{"$f":"IF(GB33=1,LEFT(BE33,1),\"\")","v":""},{"$f":"GG33&GH33&GI33&GJ33","v":""},{"$f":"IF(GK33=\"\",BE33,GK33)","v":0},{"$f":"IF(GF33=\"\",GF33,RIGHT(GF33,LEN(GF33)-2))","v":""},{"$f":"IF(GB33=1,RIGHT(BE33,LEN(BE33)-2),\"\")","v":""},{"$f":"IF(GA33=1,LEFT(BE33,LEN(BE33)-1),\"\")","v":""},{"$f":"GM33&GN33&GO33","v":""},{"$f":"IF(GP33=\"\",LEFT(BE$18,LEN(BE$18)-1),GP33)","v":"18"},{"$f":"GL33*GQ33","v":0},null,{"$f":"IF(SEARCH(\"/\",BH33&\"/\",1)<=LEN(BH33),1,\"\")","v":""},{"$f":"IF(SEARCH(\"(\",BH33&\"(\",1)<=LEN(BH33),1,\"\")","v":""},{"$f":"IF(SEARCH(\"周\",BH33&\"周\",1)<=LEN(BH33),1,\"\")","v":""},{"$f":"IF(AND(GT33<>1,GU33<>1,GV33<>1,LEN(BH33)>2),1,\"\")","v":""},{"$f":"IF(AND(GT33=1,LEFT(BH33,1)=\"/\"),1,\"\")","v":""},{"$f":"IF(GX33=1,RIGHT(BH33,LEN(BH33)-1),\"\")","v":""},{"$f":"IF(AND(GT33=1,GX33=\"\"),LEFT(BH33,LEN(BH33)-1),\"\")","v":""},{"$f":"GY33&GZ33","v":""},{"$f":"IF(HA33<>\"\",LEFT(HA33,1),\"\")","v":""},{"$f":"IF(GU33=1,MID(BH33,2,1),\"\")","v":""},{"$f":"IF(GV33=1,26,\"\")","v":""},{"$f":"IF(GW33=1,LEFT(BH33,1),\"\")","v":""},{"$f":"HB33&HC33&HD33&HE33","v":""},{"$f":"IF(HF33=\"\",BH33,HF33)","v":0},{"$f":"IF(HA33=\"\",HA33,RIGHT(HA33,LEN(HA33)-2))","v":""},{"$f":"IF(GW33=1,RIGHT(BH33,LEN(BH33)-2),\"\")","v":""},{"$f":"IF(GV33=1,LEFT(BH33,LEN(BH33)-1),\"\")","v":""},{"$f":"HH33&HI33&HJ33","v":""},{"$f":"IF(HK33=\"\",LEFT(BH$18,LEN(BH$18)-1),HK33)","v":"17"},{"$f":"HG33*HL33","v":0},null,{"$f":"IF(OR(CU33=1,DO33=1,EJ33=1,FE33=1,FZ33=1,GU33=1),1,\"\")","v":""},{"$f":"SUM(DM33,EG33,FB33,FW33,GR33,HM33)","v":0},{"$f":"IF(HO33=\"\",HP33,\"(\"&HP33&\")\")","v":0},{"$f":"IFERROR(HQ33,\"\")","v":0},{"$f":"AN33","v":0},{"$f":"IF(AND(HO33=1,AN33<>\"\"),RIGHT(HS33,LEN(HS33)-1),HS33)","v":0},{"$f":"IF(AND(HO33=1,AN33<>\"\"),LEFT(HT33,LEN(HT33)-1),HT33)","v":0},{"$f":"HP33-HU33","v":0},{"$f":"IF(HO33=1,\"(\"&HV33&\")\",HV33)","v":0},{"$f":"IFERROR(HW33,\"\")","v":0},null,null,null,null,null,null,{"$f":"IF(DG33=\"26\",0,DG33)","v":0},{"$f":"IF(CU33=1,0,IE33)","v":0},null,0,0,0,0,0,null,{"$f":"IF(EA33=\"26\",0,EA33)","v":0},0,null,0,0,0,0,0,null,{"$f":"IF(EV33=\"26\",0,EV33)","v":0},0,null,0,0,0,0,0,null,{"$f":"IF(FQ33=\"26\",0,FQ33)","v":0},0,null,0,0,0,0,0,null,{"$f":"IF(GL33=\"26\",0,GL33)","v":0},0,null,0,0,0,0,0,null,null,{"$f":"IF(IF33<>0,1,0)","v":0},null,{"$f":"IF(IO33<>0,1,0)","v":0},null,{"$f":"IF(IX33<>0,1,0)","v":0},null,0,null,0,null,{"$f":"aaa","v":2},{"$f":"bbb","v":2},{"$f":"ccc","v":2},{"$f":"dddd","v":2},null,{"$f":"aaa","v":2},{"$f":"bbb","v":2},{"$f":"ccc","v":2},{"$f":"dddd","v":2},{"$f":"eee","v":2},{"$f":"fff","v":2},"","",{"$f":"IF(AY33<>\"\",1,\"\")","v":""},{"$f":"IF(BB33<>\"\",1,\"\")","v":""},{"$f":"IF(BE33<>\"\",1,\"\")","v":""},{"$f":"IF(BH33<>\"\",1,\"\")","v":""},{"$f":"IF(AND(KN33<>0,KT33=1),1,\"\")","v":""},{"$f":"IF(AND(KO33<>0,KU33=1),2,\"\")","v":""},{"$f":"IF(AND(KP33<>0,KV33=1),3,\"\")","v":""},{"$f":"IF(AND(KQ33<>0,KW33=1),4,\"\")","v":""},{"$f":"IF(AND(KR33<>0,KX33=1),5,\"\")","v":""},{"$f":"IF(AND(KS33<>0,KY33=1),6,\"\")","v":""},{"$f":"CONCATENATE(KZ33,LA33,LB33,LC33,LD33,LE33)","v":""},{"$f":"LEN(LF33)","v":0},{"$f":"IF(LG33=1,CONCATENATE(KZ33,LA33,LB33,LC33,LD33,LE33),\"\")","v":""},{"$f":"IF(LG33=2,LF33,\"\")","v":""},{"$f":"IF(LI33<>\"\",LEFT(LI33,1),\"\")","v":""},{"$f":"IF(LI33<>\"\",RIGHT(LI33,1),\"\")","v":""},{"$f":"IF(LI33<>\"\",LJ33&\",\"&LK33,\"\")","v":""},{"$f":"IF(LG33=3,LF33,\"\")","v":""},{"$f":"IF(LM33<>\"\",LEFT(LM33,1),\"\")","v":""},{"$f":"IF(LM33<>\"\",MID(LM33,2,1),\"\")","v":""},{"$f":"IF(LM33<>\"\",RIGHT(LM33,1),\"\")","v":""},{"$f":"IF(LM33<>\"\",LN33&\",\"&LO33&\",\"&LP33,\"\")","v":""},{"$f":"IF(LG33=4,LF33,\"\")","v":""},{"$f":"IF(LR33<>\"\",LEFT(LR33,1),\"\")","v":""},{"$f":"IF(LR33<>\"\",MID(LR33,2,1),\"\")","v":""},{"$f":"IF(LR33<>\"\",MID(LR33,3,1),\"\")","v":""},{"$f":"IF(LR33<>\"\",RIGHT(LR33,1),\"\")","v":""},{"$f":"IF(LR33<>\"\",LS33&\",\"&LT33&\",\"&LU33&\",\"&LV33,\"\")","v":""},{"$f":"LH33&LL33&LQ33&LW33","v":""},{"$f":"IF(AND(KT33=1,KZ33=\"\"),1,\"\")","v":""},{"$f":"IF(AND(KU33=1,LA33=\"\"),2,\"\")","v":""},{"$f":"IF(AND(KV33=1,LB33=\"\"),3,\"\")","v":""},{"$f":"IF(AND(KW33=1,LC33=\"\"),4,\"\")","v":""},{"$f":"IF(AND(KX33=1,LD33=\"\"),5,\"\")","v":""},{"$f":"IF(AND(KY33=1,LE33=\"\"),6,\"\")","v":""},{"$f":"CONCATENATE(LY33,LZ33,MA33,MB33,MC33,MD33)","v":""},{"$f":"LEN(ME33)","v":0},{"$f":"IF(MF33=1,ME33,\"\")","v":""},"",{"$f":"IF(MH33<>\"\",LEFT(ME33,1),\"\")","v":""},{"$f":"IF(MH33<>\"\",RIGHT(ME33,1),\"\")","v":""},{"$f":"IF(MH33<>\"\",MI33&\",\"&MJ33,\"\")","v":""},{"$f":"IF(MF33=3,ME33,\"\")","v":""},{"$f":"IF(ML33<>\"\",LEFT(ML33,1),\"\")","v":""},{"$f":"IF(ML33<>\"\",MID(ML33,2,1),\"\")","v":""},{"$f":"IF(ML33<>\"\",RIGHT(ML33,1),\"\")","v":""},{"$f":"IF(ML33<>\"\",MM33&\",\"&MN33&\",\"&MO33,\"\")","v":""},{"$f":"IF(MF33=4,ME33,\"\")","v":""},{"$f":"IF(MQ33<>\"\",LEFT(MQ33,1),\"\")","v":""},{"$f":"IF(MQ33<>\"\",MID(MQ33,2,1),\"\")","v":""},{"$f":"IF(MQ33<>\"\",MID(MQ33,3,1),\"\")","v":""},{"$f":"IF(MQ33<>\"\",RIGHT(MQ33,1),\"\")","v":""},{"$f":"IF(MQ33<>\"\",MR33&\",\"&MS33&\",\"&MT33&\",\"&MU33,\"\")","v":""},{"$f":"CONCATENATE(MG33,MK33,MP33,MV33)","v":""},{"$f":"IF(CV33=1,DJ33,0)","v":0},{"$f":"IF(DP33=1,ED33,0)","v":0},{"$f":"IF(EK33=1,EY33,0)","v":0},{"$f":"IF(FF33=1,FT33,0)","v":0},{"$f":"IF(GA33=1,GO33,0)","v":0},{"$f":"IF(GV33=1,HJ33,0)","v":0},{"$f":"MX33+MY33+MZ33+NA33+NB33+NC33","v":0},0,{"$f":"INT(NE33)","v":0},{"$f":"NE33-NF33","v":0},{"$f":"IF(NG33<0.35,0,\"\")","v":0},{"$f":"IF(AND(NG33>0.35,NG33<0.65),0.5,\"\")","v":""},{"$f":"IF(NG33>0.65,1,\"\")","v":""},{"$f":"NH33&NI33&NJ33","v":"0"},{"$f":"IF(ND33=0,NF33+NK33,0)","v":0},{"$f":"NL33+ND33","v":0},0,{"$f":"IFERROR(NN33,\"\")","v":0},0,0,0,"",0,0,0,0,0,{"$f":"INT(NX33)","v":0},{"$f":"NX33-NY33","v":0},{"$f":"IF(NZ33<0.35,0,\"\")","v":0},{"$f":"IF(AND(NZ33>0.35,NZ33<0.65),0.5,\"\")","v":""},{"$f":"IF(NZ33>0.65,1,\"\")","v":""},{"$f":"OA33&OB33&OC33","v":"0"},0,0,0,{"$f":"IFERROR(OG33,\"\")","v":0},null,0,{"$f":"INT(OJ33)","v":0},{"$f":"OJ33-OK33","v":0},{"$f":"IF(OL33<0.35,0,\"\")","v":0},{"$f":"IF(AND(OL33>0.35,OL33<0.65),0.5,\"\")","v":""},{"$f":"IF(OL33>0.65,1,\"\")","v":""},{"$f":"OM33&ON33&OO33","v":"0"},0,0,0,{"$f":"IFERROR(OS33,\"\")","v":0},null,0,{"$f":"INT(OV33)","v":0},{"$f":"OV33-OW33","v":0},{"$f":"IF(OX33<0.35,0,\"\")","v":0},{"$f":"IF(AND(OX33>0.35,OX33<0.65),0.5,\"\")","v":""},{"$f":"IF(OX33>0.65,1,\"\")","v":""},{"$f":"OY33&OZ33&PA33","v":"0"},0,0,0,{"$f":"IFERROR(PE33,\"\")","v":0},null,0,{"$f":"INT(PH33)","v":0},{"$f":"PH33-PI33","v":0},{"$f":"IF(PJ33<0.35,0,\"\")","v":0},{"$f":"IF(AND(PJ33>0.35,PJ33<0.65),0.5,\"\")","v":""},{"$f":"IF(PJ33>0.65,1,\"\")","v":""},{"$f":"PK33&PL33&PM33","v":"0"},0,0,0,{"$f":"IFERROR(PQ33,\"\")","v":0},0,{"$f":"INT(PS33)","v":0},{"$f":"PS33-PT33","v":0},{"$f":"IF(PU33<0.35,0,\"\")","v":0},{"$f":"IF(AND(PU33>0.35,PU33<0.65),0.5,\"\")","v":""},{"$f":"IF(PU33>0.65,1,\"\")","v":""},{"$f":"PV33&PW33&PX33","v":"0"},0,0,0,{"$f":"IFERROR(QB33,\"\")","v":0},null,0,{"$f":"INT(QE33)","v":0},{"$f":"QE33-QF33","v":0},{"$f":"IF(QG33<0.35,0,\"\")","v":0},{"$f":"IF(AND(QG33>0.35,QG33<0.65),0.5,\"\")","v":""},{"$f":"IF(QG33>0.65,1,\"\")","v":""},{"$f":"QH33&QI33&QJ33","v":"0"},0,0,0,{"$f":"IFERROR(QN33,\"\")","v":0},null,null,null,null,null,"2*9",0,null,null,"数控程序员"]
[null,null,null,null,null,{"$f":"IF(序号!D17<>\"\",序号!D17,\"\")","v":""},null,null,{"$f":"IF(课程名称及编码!BJ18<>\"\",课程名称及编码!BJ18,\"\")","v":""},null,null,null,null,null,null,null,null,null,null,null,null,null,null,null,null,null,null,"",null,null,"",null,null,"",null,null,"",null,null,null,null,null,"",null,null,null,null,null,null,null,null,null,null,null,null,null,null,null,null,null,null,null,null,null,null,null,null,null,null,null,null,null,null,null,null,null,null,null,null,null,null,null,null,null,null,null,null,null,null,null,null,null,null,null,null,null,null,"","","","","","","","","","","","","",0,"","","","","15",0,"","","","","","","","","","","","","",0,"","","","","18",0,null,"","","","","","","","","","","","","",0,"","","","","18",0,null,"","","","","","","","","","","","","",0,"","","","","19",0,null,"","","","","","","","","","","","","",0,"","","","","18",0,null,"","","","","","","","","","","","","",0,"","","","","17",0,null,"",0,0,0,0,0,0,0,0,0,null,null,null,null,null,null,0,0,null,0,0,0,0,0,null,0,0,null,0,0,0,0,0,null,0,0,null,0,0,0,0,0,null,0,0,null,0,0,0,0,0,null,0,0,null,0,0,0,0,0,null,null,0,null,0,null,0,null,0,null,0,null,{"$f":"aaa","v":2},{"$f":"bbb","v":2},{"$f":"ccc","v":2},{"$f":"dddd","v":2},null,{"$f":"aaa","v":2},{"$f":"bbb","v":2},{"$f":"ccc","v":2},{"$f":"dddd","v":2},{"$f":"eee","v":2},{"$f":"fff","v":2},"","","","","","","","","","","","","",0,"","","","","","","","","","","","","","","","","","","","","","","","",0,"","","","","","","","","","","","","","","","","",0,0,0,0,0,0,0,0,0,0,0,"","","0",0,0,0,0,0,0,0,"",0,0,0,0,0,0,0,0,"","","0",0,0,0,0,null,0,0,0,0,"","","0",0,0,0,0,null,0,0,0,0,"","","0",0,0,0,0,null,0,0,0,0,"","","0",0,0,0,0,0,0,0,0,"","","0",0,0,0,0,null,0,0,0,0,"","","0",0,0,0,0,null,null,null,null,null,"2*10",0,null,null,"数控铣床操作工"]
[null,null,null,null,null,{"$f":"IF(序号!D18<>\"\",序号!D18,\"\")","v":""},null,null,{"$f":"IF(课程名称及编码!BJ19<>\"\",课程名称及编码!BJ19,\"\")","v":""},null,null,null,null,null,null,null,null,null,null,null,null,null,null,null,null,null,null,"",null,null,"",null,null,"",null,null,"",null,null,null,null,null,"",null,null,null,null,null,null,null,null,null,null,null,null,null,null,null,null,null,null,null,null,null,null,null,null,null,null,null,null,null,null,null,null,null,null,null,null,null,null,null,null,null,null,null,null,null,null,null,null,null,null,null,null,null,null,"","","","","","","","","","","","","",0,"","","","","15",0,"","","","","","","","","","","","","",0,"","","","","18",0,null,"","","","","","","","","","","","","",0,"","","","","18",0,null,"","","","","","","","","","","","","",0,"","","","","19",0,null,"","","","","","","","","","","","","",0,"","","","","18",0,null,"","","","","","","","","","","","","",0,"","","","","17",0,null,"",0,0,0,0,0,0,0,0,0,null,null,null,null,null,null,0,0,null,0,0,0,0,0,null,0,0,null,0,0,0,0,0,null,0,0,null,0,0,0,0,0,null,0,0,null,0,0,0,0,0,null,0,0,null,0,0,0,0,0,null,null,0,null,0,null,0,null,0,null,0,null,{"$f":"aaa","v":2},{"$f":"bbb","v":2},{"$f":"ccc","v":2},{"$f":"dddd","v":2},null,{"$f":"aaa","v":2},{"$f":"bbb","v":2},{"$f":"ccc","v":2},{"$f":"dddd","v":2},{"$f":"eee","v":2},{"$f":"fff","v":2},"","","","","","","","","","","","","",0,"","","","","","","","","","","","","","","","","","","","","","","","",0,"","","","","","","","","","","","","","","","","",0,0,0,0,0,0,0,0,0,0,0,"","","0",0,0,0,0,0,0,0,"",0,0,0,0,0,0,0,0,"","","0",0,0,0,0,null,0,0,0,0,"","","0",0,0,0,0,null,0,0,0,0,"","","0",0,0,0,0,null,0,0,0,0,"","","0",0,0,0,0,0,0,0,0,"","","0",0,0,0,0,null,0,0,0,0,"","","0",0,0,0,0,null,null,null,null,null,"2*11",0,null,null,"水处理工高级"]
[null,null,null,null,null,{"$f":"IF(序号!D19<>\"\",序号!D19,\"\")","v":""},null,null,{"$f":"IF(课程名称及编码!BJ20<>\"\",课程名称及编码!BJ20,\"\")","v":""},null,null,null,null,null,null,null,null,null,null,null,null,null,null,null,null,null,null,"",null,null,"",null,null,"",null,null,"",null,null,null,null,null,"",null,null,null,null,null,null,null,null,null,null,null,null,null,null,null,null,null,null,null,null,null,null,null,null,null,null,null,null,null,null,null,null,null,null,null,null,null,null,null,null,null,null,null,null,null,null,null,null,null,null,null,null,null,null,"","","","","","","","","","","","","",0,"","","","","15",0,"","","","","","","","","","","","","",0,"","","","","18",0,null,"","","","","","","","","","","","","",0,"","","","","18",0,null,"","","","","","","","","","","","","",0,"","","","","19",0,null,"","","","","","","","","","","","","",0,"","","","","18",0,null,"","","","","","","","","","","","","",0,"","","","","17",0,null,"",0,0,0,0,0,0,0,0,0,null,null,null,null,null,null,0,0,null,0,0,0,0,0,null,0,0,null,0,0,0,0,0,null,0,0,null,0,0,0,0,0,null,0,0,null,0,0,0,0,0,null,0,0,null,0,0,0,0,0,null,null,0,null,0,null,0,null,0,null,0,null,{"$f":"aaa","v":2},{"$f":"bbb","v":2},{"$f":"ccc","v":2},{"$f":"dddd","v":2},null,{"$f":"aaa","v":2},{"$f":"bbb","v":2},{"$f":"ccc","v":2},{"$f":"dddd","v":2},{"$f":"eee","v":2},{"$f":"fff","v":2},"","","","","","","","","","","","","",0,"","","","","","","","","","","","","","","","","","","","","","","","",0,"","","","","","","","","","","","","","","","","",0,0,0,0,0,0,0,0,0,0,0,"","","0",0,0,0,0,0,0,0,"",0,0,0,0,0,0,0,0,"","","0",0,0,0,0,null,0,0,0,0,"","","0",0,0,0,0,null,0,0,0,0,"","","0",0,0,0,0,null,0,0,0,0,"","","0",0,0,0,0,0,0,0,0,"","","0",0,0,0,0,null,0,0,0,0,"","","0",0,0,0,0,null,null,null,null,null,"2*12",0,null,null,"司炉工"]
[null,null,null,null,null,{"$f":"IF(序号!D20<>\"\",序号!D20,\"\")","v":""},null,null,{"$f":"IF(课程名称及编码!BJ21<>\"\",课程名称及编码!BJ21,\"\")","v":""},null,null,null,null,null,null,null,null,null,null,null,null,null,null,null,null,null,null,"",null,null,"",null,null,"",null,null,"",null,null,null,null,null,"",null,null,null,null,null,null,null,null,null,null,null,null,null,null,null,null,null,null,null,null,null,null,null,null,null,null,null,null,null,null,null,null,null,null,null,null,null,null,null,null,null,null,null,null,null,null,null,null,null,null,null,null,null,null,"","","","","","","","","","","","","",0,"","","","","15",0,"","","","","","","","","","","","","",0,"","","","","18",0,null,"","","","","","","","","","","","","",0,"","","","","18",0,null,"","","","","","","","","","","","","",0,"","","","","19",0,null,"","","","","","","","","","","","","",0,"","","","","18",0,null,"","","","","","","","","","","","","",0,"","","","","17",0,null,"",0,0,0,0,0,0,0,0,0,null,null,null,null,null,null,0,0,null,0,0,0,0,0,null,0,0,null,0,0,0,0,0,null,0,0,null,0,0,0,0,0,null,0,0,null,0,0,0,0,0,null,0,0,null,0,0,0,0,0,null,null,0,null,0,null,0,null,0,null,0,null,{"$f":"aaa","v":2},{"$f":"bbb","v":2},{"$f":"ccc","v":2},{"$f":"dddd","v":2},null,{"$f":"aaa","v":2},{"$f":"bbb","v":2},{"$f":"ccc","v":2},{"$f":"dddd","v":2},{"$f":"eee","v":2},{"$f":"fff","v":2},"","","","","","","","","","","","","",0,"","","","","","","","","","","","","","","","","","","","","","","","",0,"","","","","","","","","","","","","","","","","",0,0,0,0,0,0,0,0,0,0,0,"","","0",0,0,0,0,0,0,0,"",0,0,0,0,0,0,0,0,"","","0",0,0,0,0,null,0,0,0,0,"","","0",0,0,0,0,null,0,0,0,0,"","","0",0,0,0,0,null,0,0,0,0,"","","0",0,0,0,0,0,0,0,0,"","","0",0,0,0,0,null,0,0,0,0,"","","0",0,0,0,0,null,null,null,null,null,"2*13",0,null,null,"添加剂高级"]
[null,null,null,null,null,{"$f":"IF(序号!D21<>\"\",序号!D21,\"\")","v":""},null,null,{"$f":"IF(课程名称及编码!BJ22<>\"\",课程名称及编码!BJ22,\"\")","v":""},null,null,null,null,null,null,null,null,null,null,null,null,null,null,null,null,null,null,"",null,null,"",null,null,"",null,null,"",null,null,null,null,null,"",null,null,null,null,null,null,null,null,null,null,null,null,null,null,null,null,null,null,null,null,null,null,null,null,null,null,null,null,null,null,null,null,null,null,null,null,null,null,null,null,null,null,null,null,null,null,null,null,null,null,null,null,null,null,"","","","","","","","","","","","","",0,"","","","","15",0,"","","","","","","","","","","","","",0,"","","","","18",0,null,"","","","","","","","","","","","","",0,"","","","","18",0,null,"","","","","","","","","","","","","",0,"","","","","19",0,null,"","","","","","","","","","","","","",0,"","","","","18",0,null,"","","","","","","","","","","","","",0,"","","","","17",0,null,"",0,0,0,0,0,0,0,0,0,null,null,null,null,null,null,0,0,null,0,0,0,0,0,null,0,0,null,0,0,0,0,0,null,0,0,null,0,0,0,0,0,null,0,0,null,0,0,0,0,0,null,0,0,null,0,0,0,0,0,null,null,0,null,0,null,0,null,0,null,0,null,{"$f":"aaa","v":2},{"$f":"bbb","v":2},{"$f":"ccc","v":2},{"$f":"dddd","v":2},null,{"$f":"aaa","v":2},{"$f":"bbb","v":2},{"$f":"ccc","v":2},{"$f":"dddd","v":2},{"$f":"eee","v":2},{"$f":"fff","v":2},"","","","","","","","","","","","","",0,"","","","","","","","","","","","","","","","","","","","","","","","",0,"","","","","","","","","","","","","","","","","",0,0,0,0,0,0,0,0,0,0,0,"","","0",0,0,0,0,0,0,0,"",0,0,0,0,0,0,0,0,"","","0",0,0,0,0,null,0,0,0,0,"","","0",0,0,0,0,null,0,0,0,0,"","","0",0,0,0,0,null,0,0,0,0,"","","0",0,0,0,0,0,0,0,0,"","","0",0,0,0,0,null,0,0,0,0,"","","0",0,0,0,0,null,null,null,null,null,"2*14",0,null,null,"外贸业务员证书"]
[null,null,null,null,null,{"$f":"IF(序号!D22<>\"\",序号!D22,\"\")","v":""},null,null,{"$f":"IF(课程名称及编码!BJ23<>\"\",课程名称及编码!BJ23,\"\")","v":""},null,null,null,null,null,null,null,null,null,null,null,null,null,null,null,null,null,null,"",null,null,"",null,null,"",null,null,"",null,null,null,null,null,"",null,null,null,null,null,null,null,null,null,null,null,null,null,null,null,null,null,null,null,null,null,null,null,null,null,null,null,null,null,null,null,null,null,null,null,null,null,null,null,null,null,null,null,null,null,null,null,null,null,null,null,null,null,null,"","","","","","","","","","","","","",0,"","","","","15",0,"","","","","","","","","","","","","",0,"","","","","18",0,null,"","","","","","","","","","","","","",0,"","","","","18",0,null,"","","","","","","","","","","","","",0,"","","","","19",0,null,"","","","","","","","","","","","","",0,"","","","","18",0,null,"","","","","","","","","","","","","",0,"","","","","17",0,null,"",0,0,0,0,0,0,0,0,0,null,null,null,null,null,null,0,0,null,0,0,0,0,0,null,0,0,null,0,0,0,0,0,null,0,0,null,0,0,0,0,0,null,0,0,null,0,0,0,0,0,null,0,0,null,0,0,0,0,0,null,null,0,null,0,null,0,null,0,null,0,null,{"$f":"aaa","v":2},{"$f":"bbb","v":2},{"$f":"ccc","v":2},{"$f":"dddd","v":2},null,{"$f":"aaa","v":2},{"$f":"bbb","v":2},{"$f":"ccc","v":2},{"$f":"dddd","v":2},{"$f":"eee","v":2},{"$f":"fff","v":2},"","","","","","","","","","","","","",0,"","","","","","","","","","","","","","","","","","","","","","","","",0,"","","","","","","","","","","","","","","","","",0,0,0,0,0,0,0,0,0,0,0,"","","0",0,0,0,0,0,0,0,"",0,0,0,0,0,0,0,0,"","","0",0,0,0,0,null,0,0,0,0,"","","0",0,0,0,0,null,0,0,0,0,"","","0",0,0,0,0,null,0,0,0,0,"","","0",0,0,0,0,0,0,0,0,"","","0",0,0,0,0,null,0,0,0,0,"","","0",0,0,0,0,null,null,null,null,null,"2*15",0,null,null,"网络工程师"]
[null,null,null,null,null,{"$f":"IF(序号!D23<>\"\",序号!D23,\"\")","v":""},null,null,{"$f":"IF(课程名称及编码!BJ24<>\"\",课程名称及编码!BJ24,\"\")","v":""},null,null,null,null,null,null,null,null,null,null,null,null,null,null,null,null,null,null,"",null,null,"",null,null,"",null,null,"",null,null,null,null,null,"",null,null,null,null,null,null,null,null,null,null,null,null,null,null,null,null,null,null,null,null,null,null,null,null,null,null,null,null,null,null,null,null,null,null,null,null,null,null,null,null,null,null,null,null,null,null,null,null,null,null,null,null,null,null,"","","","","","","","","","","","","",0,"","","","","15",0,"","","","","","","","","","","","","",0,"","","","","18",0,null,"","","","","","","","","","","","","",0,"","","","","18",0,null,"","","","","","","","","","","","","",0,"","","","","19",0,null,"","","","","","","","","","","","","",0,"","","","","18",0,null,"","","","","","","","","","","","","",0,"","","","","17",0,null,"",0,0,0,0,0,0,0,0,0,null,null,null,null,null,null,0,0,null,0,0,0,0,0,null,0,0,null,0,0,0,0,0,null,0,0,null,0,0,0,0,0,null,0,0,null,0,0,0,0,0,null,0,0,null,0,0,0,0,0,null,null,0,null,0,null,0,null,0,null,0,null,{"$f":"aaa","v":2},{"$f":"bbb","v":2},{"$f":"ccc","v":2},{"$f":"dddd","v":2},null,{"$f":"aaa","v":2},{"$f":"bbb","v":2},{"$f":"ccc","v":2},{"$f":"dddd","v":2},{"$f":"eee","v":2},{"$f":"fff","v":2},"","","","","","","","","","","","","",0,"","","","","","","","","","","","","","","","","","","","","","","","",0,"","","","","","","","","","","","","","","","","",0,0,0,0,0,0,0,0,0,0,0,"","","0",0,0,0,0,0,0,0,"",0,0,0,0,0,0,0,0,"","","0",0,0,0,0,null,0,0,0,0,"","","0",0,0,0,0,null,0,0,0,0,"","","0",0,0,0,0,null,0,0,0,0,"","","0",0,0,0,0,0,0,0,0,"","","0",0,0,0,0,null,0,0,0,0,"","","0",0,0,0,0,null,null,null,null,null,"4*4",0,null,null,"维修电工高级"]
[null,"专业（技能）课程",null,"专\n业\n基\n础\n课\n程",null,{"$f":"IF(序号!D24<>\"\",序号!D24,\"\")","v":""},null,null,{"$f":"IF(课程名称及编码!BJ25<>\"\",课程名称及编码!BJ25,\"\")","v":""},null,null,null,null,null,null,null,null,null,null,null,null,null,null,null,null,null,null,"",null,null,"",null,null,"",null,null,"",null,null,null,null,null,"",null,null,null,null,null,null,null,null,null,null,null,null,null,null,null,null,null,null,null,null,null,null,null,null,null,null,null,null,null,null,null,null,null,null,null,null,null,null,null,null,null,null,null,null,null,null,null,null,null,null,null,null,null,null,"","","","","","","","","","","","","",0,"","","","","15",0,"","","","","","","","","","","","","",0,"","","","","18",0,null,"","","","","","","","","","","","","",0,"","","","","18",0,null,"","","","","","","","","","","","","",0,"","","","","19",0,null,"","","","","","","","","","","","","",0,"","","","","18",0,null,"","","","","","","","","","","","","",0,"","","","","17",0,null,"",0,0,0,0,0,0,0,0,0,null,null,null,null,null,null,0,0,null,0,0,0,0,0,null,0,0,null,0,0,0,0,0,null,0,0,null,0,0,0,0,0,null,0,0,null,0,0,0,0,0,null,0,0,null,0,0,0,0,0,null,null,0,null,0,null,0,null,0,null,0,null,{"$f":"aaa","v":2},{"$f":"bbb","v":2},{"$f":"ccc","v":2},{"$f":"dddd","v":2},null,{"$f":"aaa","v":2},{"$f":"bbb","v":2},{"$f":"ccc","v":2},{"$f":"dddd","v":2},{"$f":"eee","v":2},{"$f":"fff","v":2},"","","","","","","","","","","","","",0,"","","","","","","","","","","","","","","","","","","","","","","","",0,"","","","","","","","","","","","","","","","","",0,0,0,0,0,0,0,0,0,0,0,"","","0",0,0,0,0,0,0,0,"",0,0,0,0,0,0,0,0,"","","0",0,0,0,0,null,0,0,0,0,"","","0",0,0,0,0,null,0,0,0,0,"","","0",0,0,0,0,null,0,0,0,0,"","","0",0,0,0,0,0,0,0,0,"","","0",0,0,0,0,null,0,0,0,0,"","","0",0,0,0,0,null,null,null,null,null,"4*5",0,null,null,"维修电工中级"]
[null,null,null,null,null,{"$f":"IF(序号!D25<>\"\",序号!D25,\"\")","v":""},null,null,{"$f":"IF(课程名称及编码!BJ26<>\"\",课程名称及编码!BJ26,\"\")","v":""},null,null,null,null,null,null,null,null,null,null,null,null,null,null,null,null,null,null,"",null,null,"",null,null,"",null,null,"",null,null,null,null,null,"",null,null,null,null,null,null,null,null,null,null,null,null,null,null,null,null,null,null,null,null,null,null,null,null,null,null,null,null,null,null,null,null,null,null,null,null,null,null,null,null,null,null,null,null,null,null,null,null,null,null,null,null,null,null,"","","","","","","","","","","","","",0,"","","","","15",0,"","","","","","","","","","","","","",0,"","","","","18",0,null,"","","","","","","","","","","","","",0,"","","","","18",0,null,"","","","","","","","","","","","","",0,"","","","","19",0,null,"","","","","","","","","","","","","",0,"","","","","18",0,null,"","","","","","","","","","","","","",0,"","","","","17",0,null,"",0,0,0,0,0,0,0,0,0,null,null,null,null,null,null,0,0,null,0,0,0,0,0,null,0,0,null,0,0,0,0,0,null,0,0,null,0,0,0,0,0,null,0,0,null,0,0,0,0,0,null,0,0,null,0,0,0,0,0,null,null,0,null,0,null,0,null,0,null,0,null,{"$f":"aaa","v":2},{"$f":"bbb","v":2},{"$f":"ccc","v":2},{"$f":"dddd","v":2},null,{"$f":"aaa","v":2},{"$f":"bbb","v":2},{"$f":"ccc","v":2},{"$f":"dddd","v":2},{"$f":"eee","v":2},{"$f":"fff","v":2},"","","","","","","","","","","","","",0,"","","","","","","","","","","","","","","","","","","","","","","","",0,"","","","","","","","","","","","","","","","","",0,0,0,0,0,0,0,0,0,0,0,"","","0",0,0,0,0,0,0,0,"",0,0,0,0,0,0,0,0,"","","0",0,0,0,0,null,0,0,0,0,"","","0",0,0,0,0,null,0,0,0,0,"","","0",0,0,0,0,null,0,0,0,0,"","","0",0,0,0,0,0,0,0,0,"","","0",0,0,0,0,null,0,0,0,0,"","","0",0,0,0,0,null,null,null,null,null,"4*6",0,null,null,"仪表维修工高级"]
[null,null,null,null,null,{"$f":"IF(序号!D26<>\"\",序号!D26,\"\")","v":""},null,null,{"$f":"IF(课程名称及编码!BJ27<>\"\",课程名称及编码!BJ27,\"\")","v":""},null,null,null,null,null,null,null,null,null,null,null,null,null,null,null,null,null,null,"",null,null,"",null,null,"",null,null,"",null,null,null,null,null,"",null,null,null,null,null,null,null,null,null,null,null,null,null,null,null,null,null,null,null,null,null,null,null,null,null,null,null,null,null,null,null,null,null,null,null,null,null,null,null,null,null,null,null,null,null,null,null,null,null,null,null,null,null,null,"","","","","","","","","","","","","",0,"","","","","15",0,"","","","","","","","","","","","","",0,"","","","","18",0,null,"","","","","","","","","","","","","",0,"","","","","18",0,null,"","","","","","","","","","","","","",0,"","","","","19",0,null,"","","","","","","","","","","","","",0,"","","","","18",0,null,"","","","","","","","","","","","","",0,"","","","","17",0,null,"",0,0,0,0,0,0,0,0,0,null,null,null,null,null,null,0,0,null,0,0,0,0,0,null,0,0,null,0,0,0,0,0,null,0,0,null,0,0,0,0,0,null,0,0,null,0,0,0,0,0,null,0,0,null,0,0,0,0,0,null,null,0,null,0,null,0,null,0,null,0,null,{"$f":"aaa","v":2},{"$f":"bbb","v":2},{"$f":"ccc","v":2},{"$f":"dddd","v":2},null,{"$f":"aaa","v":2},{"$f":"bbb","v":2},{"$f":"ccc","v":2},{"$f":"dddd","v":2},{"$f":"eee","v":2},{"$f":"fff","v":2},"","","","","","","","","","","","","",0,"","","","","","","","","","","","","","","","","","","","","","","","",0,"","","","","","","","","","","","","","","","","",0,0,0,0,0,0,0,0,0,0,0,"","","0",0,0,0,0,0,0,0,"",0,0,0,0,0,0,0,0,"","","0",0,0,0,0,null,0,0,0,0,"","","0",0,0,0,0,null,0,0,0,0,"","","0",0,0,0,0,null,0,0,0,0,"","","0",0,0,0,0,0,0,0,0,"","","0",0,0,0,0,null,0,0,0,0,"","","0",0,0,0,0,null,null,null,null,null,"4*7",0,null,null,"制冷工中级"]
[null,null,null,null,null,{"$f":"IF(序号!D27<>\"\",序号!D27,\"\")","v":""},null,null,{"$f":"IF(课程名称及编码!BJ28<>\"\",课程名称及编码!BJ28,\"\")","v":""},null,null,null,null,null,null,null,null,null,null,null,null,null,null,null,null,null,null,"",null,null,"",null,null,"",null,null,"",null,null,null,null,null,"",null,null,null,null,null,null,null,null,null,null,null,null,null,null,null,null,null,null,null,null,null,null,null,null,null,null,null,null,null,null,null,null,null,null,null,null,null,null,null,null,null,null,null,null,null,null,null,null,null,null,null,null,null,null,"","","","","","","","","","","","","",0,"","","","","15",0,"","","","","","","","","","","","","",0,"","","","","18",0,null,"","","","","","","","","","","","","",0,"","","","","18",0,null,"","","","","","","","","","","","","",0,"","","","","19",0,null,"","","","","","","","","","","","","",0,"","","","","18",0,null,"","","","","","","","","","","","","",0,"","","","","17",0,null,"",0,0,0,0,0,0,0,0,0,null,null,null,null,null,null,0,0,null,0,0,0,0,0,null,0,0,null,0,0,0,0,0,null,0,0,null,0,0,0,0,0,null,0,0,null,0,0,0,0,0,null,0,0,null,0,0,0,0,0,null,null,0,null,0,null,0,null,0,null,0,null,{"$f":"aaa","v":2},{"$f":"bbb","v":2},{"$f":"ccc","v":2},{"$f":"dddd","v":2},null,{"$f":"aaa","v":2},{"$f":"bbb","v":2},{"$f":"ccc","v":2},{"$f":"dddd","v":2},{"$f":"eee","v":2},{"$f":"fff","v":2},"","","","","","","","","","","","","",0,"","","","","","","","","","","","","","","","","","","","","","","","",0,"","","","","","","","","","","","","","","","","",0,0,0,0,0,0,0,0,0,0,0,"","","0",0,0,0,0,0,0,0,"",0,0,0,0,0,0,0,0,"","","0",0,0,0,0,null,0,0,0,0,"","","0",0,0,0,0,null,0,0,0,0,"","","0",0,0,0,0,null,0,0,0,0,"","","0",0,0,0,0,0,0,0,0,"","","0",0,0,0,0,null,0,0,0,0,"","","0",0,0,0,0,null,null,null,null,null,"4*8",0,null,null,"先上"]
[null,null,null,null,null,{"$f":"IF(序号!D28<>\"\",序号!D28,\"\")","v":""},null,null,{"$f":"IF(课程名称及编码!BJ29<>\"\",课程名称及编码!BJ29,\"\")","v":""},null,null,null,null,null,null,null,null,null,null,null,null,null,null,null,null,null,null,"",null,null,"",null,null,"",null,null,"",null,null,null,null,null,"",null,null,null,null,null,null,null,null,null,null,null,null,null,null,null,null,null,null,null,null,null,null,null,null,null,null,null,null,null,null,null,null,null,null,null,null,null,null,null,null,null,null,null,null,null,null,null,null,null,null,null,null,null,null,"","","","","","","","","","","","","",0,"","","","","15",0,"","","","","","","","","","","","","",0,"","","","","18",0,null,"","","","","","","","","","","","","",0,"","","","","18",0,null,"","","","","","","","","","","","","",0,"","","","","19",0,null,"","","","","","","","","","","","","",0,"","","","","18",0,null,"","","","","","","","","","","","","",0,"","","","","17",0,null,"",0,0,0,0,0,0,0,0,0,null,null,null,null,null,null,0,0,null,0,0,0,0,0,null,0,0,null,0,0,0,0,0,null,0,0,null,0,0,0,0,0,null,0,0,null,0,0,0,0,0,null,0,0,null,0,0,0,0,0,null,null,0,null,0,null,0,null,0,null,0,null,{"$f":"aaa","v":2},{"$f":"bbb","v":2},{"$f":"ccc","v":2},{"$f":"dddd","v":2},null,{"$f":"aaa","v":2},{"$f":"bbb","v":2},{"$f":"ccc","v":2},{"$f":"dddd","v":2},{"$f":"eee","v":2},{"$f":"fff","v":2},"","","","","","","","","","","","","",0,"","","","","","","","","","","","","","","","","","","","","","","","",0,"","","","","","","","","","","","","","","","","",0,0,0,0,0,0,0,0,0,0,0,"","","0",0,0,0,0,0,0,0,"",0,0,0,0,0,0,0,0,"","","0",0,0,0,0,null,0,0,0,0,"","","0",0,0,0,0,null,0,0,0,0,"","","0",0,0,0,0,null,0,0,0,0,"","","0",0,0,0,0,0,0,0,0,"","","0",0,0,0,0,null,0,0,0,0,"","","0",0,0,0,0,null,null,null,null,null,"4*9",0,null,null,"后上"]
[null,null,null,null,null,{"$f":"IF(序号!D29<>\"\",序号!D29,\"\")","v":""},null,null,{"$f":"IF(课程名称及编码!BJ30<>\"\",课程名称及编码!BJ30,\"\")","v":""},null,null,null,null,null,null,null,null,null,null,null,null,null,null,null,null,null,null,"",null,null,"",null,null,"",null,null,"",null,null,null,null,null,"",null,null,null,null,null,null,null,null,null,null,null,null,null,null,null,null,null,null,null,null,null,null,null,null,null,null,null,null,null,null,null,null,null,null,null,null,null,null,null,null,null,null,null,null,null,null,null,null,null,null,null,null,null,null,"","","","","","","","","","","","","",0,"","","","","15",0,"","","","","","","","","","","","","",0,"","","","","18",0,null,"","","","","","","","","","","","","",0,"","","","","18",0,null,"","","","","","","","","","","","","",0,"","","","","19",0,null,"","","","","","","","","","","","","",0,"","","","","18",0,null,"","","","","","","","","","","","","",0,"","","","","17",0,null,"",0,0,0,0,0,0,0,0,0,null,null,null,null,null,null,0,0,null,0,0,0,0,0,null,0,0,null,0,0,0,0,0,null,0,0,null,0,0,0,0,0,null,0,0,null,0,0,0,0,0,null,0,0,null,0,0,0,0,0,null,null,0,null,0,null,0,null,0,null,0,null,{"$f":"aaa","v":2},{"$f":"bbb","v":2},{"$f":"ccc","v":2},{"$f":"dddd","v":2},null,{"$f":"aaa","v":2},{"$f":"bbb","v":2},{"$f":"ccc","v":2},{"$f":"dddd","v":2},{"$f":"eee","v":2},{"$f":"fff","v":2},"","","","","","","","","","","","","",0,"","","","","","","","","","","","","","","","","","","","","","","","",0,"","","","","","","","","","","","","","","","","",0,0,0,0,0,0,0,0,0,0,0,"","","0",0,0,0,0,0,0,0,"",0,0,0,0,0,0,0,0,"","","0",0,0,0,0,null,0,0,0,0,"","","0",0,0,0,0,null,0,0,0,0,"","","0",0,0,0,0,null,0,0,0,0,"","","0",0,0,0,0,0,0,0,0,"","","0",0,0,0,0,null,0,0,0,0,"","","0",0,0,0,0,null,null,null,null,null,"4*10",0]
[null,null,null,null,null,{"$f":"IF(序号!D30<>\"\",序号!D30,\"\")","v":""},null,null,{"$f":"IF(课程名称及编码!BJ31<>\"\",课程名称及编码!BJ31,\"\")","v":""},null,null,null,null,null,null,null,null,null,null,null,null,null,null,null,null,null,null,"",null,null,"",null,null,"",null,null,"",null,null,null,null,null,"",null,null,null,null,null,null,null,null,null,null,null,null,null,null,null,null,null,null,null,null,null,null,null,null,null,null,null,null,null,null,null,null,null,null,null,null,null,null,null,null,null,null,null,null,null,null,null,null,null,null,null,null,null,null,"","","","","","","","","","","","","",0,"","","","","15",0,"","","","","","","","","","","","","",0,"","","","","18",0,null,"","","","","","","","","","","","","",0,"","","","","18",0,null,"","","","","","","","","","","","","",0,"","","","","19",0,null,"","","","","","","","","","","","","",0,"","","","","18",0,null,"","","","","","","","","","","","","",0,"","","","","17",0,null,"",0,0,0,0,0,0,0,0,0,null,null,null,null,null,null,0,0,null,0,0,0,0,0,null,0,0,null,0,0,0,0,0,null,0,0,null,0,0,0,0,0,null,0,0,null,0,0,0,0,0,null,0,0,null,0,0,0,0,0,null,null,0,null,0,null,0,null,0,null,0,null,{"$f":"aaa","v":2},{"$f":"bbb","v":2},{"$f":"ccc","v":2},{"$f":"dddd","v":2},null,{"$f":"aaa","v":2},{"$f":"bbb","v":2},{"$f":"ccc","v":2},{"$f":"dddd","v":2},{"$f":"eee","v":2},{"$f":"fff","v":2},"","","","","","","","","","","","","",0,"","","","","","","","","","","","","","","","","","","","","","","","",0,"","","","","","","","","","","","","","","","","",0,0,0,0,0,0,0,0,0,0,0,"","","0",0,0,0,0,0,0,0,"",0,0,0,0,0,0,0,0,"","","0",0,0,0,0,null,0,0,0,0,"","","0",0,0,0,0,null,0,0,0,0,"","","0",0,0,0,0,null,0,0,0,0,"","","0",0,0,0,0,0,0,0,0,"","","0",0,0,0,0,null,0,0,0,0,"","","0",0,0,0,0,null,null,null,null,null,"4*11",0]
[null,null,null,null,null,{"$f":"IF(序号!D31<>\"\",序号!D31,\"\")","v":""},null,null,{"$f":"IF(课程名称及编码!BJ32<>\"\",课程名称及编码!BJ32,\"\")","v":""},null,null,null,null,null,null,null,null,null,null,null,null,null,null,null,null,null,null,"",null,null,"",null,null,"",null,null,"",null,null,null,null,null,"",null,null,null,null,null,null,null,null,null,null,null,null,null,null,null,null,null,null,null,null,null,null,null,null,null,null,null,null,null,null,null,null,null,null,null,null,null,null,null,null,null,null,null,null,null,null,null,null,null,null,null,null,null,null,"","","","","","","","","","","","","",0,"","","","","15",0,"","","","","","","","","","","","","",0,"","","","","18",0,null,"","","","","","","","","","","","","",0,"","","","","18",0,null,"","","","","","","","","","","","","",0,"","","","","19",0,null,"","","","","","","","","","","","","",0,"","","","","18",0,null,"","","","","","","","","","","","","",0,"","","","","17",0,null,"",0,0,0,0,0,0,0,0,0,null,null,null,null,null,null,0,0,null,0,0,0,0,0,null,0,0,null,0,0,0,0,0,null,0,0,null,0,0,0,0,0,null,0,0,null,0,0,0,0,0,null,0,0,null,0,0,0,0,0,null,null,0,null,0,null,0,null,0,null,0,null,{"$f":"aaa","v":2},{"$f":"bbb","v":2},{"$f":"ccc","v":2},{"$f":"dddd","v":2},null,{"$f":"aaa","v":2},{"$f":"bbb","v":2},{"$f":"ccc","v":2},{"$f":"dddd","v":2},{"$f":"eee","v":2},{"$f":"fff","v":2},"","","","","","","","","","","","","",0,"","","","","","","","","","","","","","","","","","","","","","","","",0,"","","","","","","","","","","","","","","","","",0,0,0,0,0,0,0,0,0,0,0,"","","0",0,0,0,0,0,0,0,"",0,0,0,0,0,0,0,0,"","","0",0,0,0,0,null,0,0,0,0,"","","0",0,0,0,0,null,0,0,0,0,"","","0",0,0,0,0,null,0,0,0,0,"","","0",0,0,0,0,0,0,0,0,"","","0",0,0,0,0,null,0,0,0,0,"","","0",0,0,0,0,null,null,null,null,null,"4*12",0]
[null,null,null,null,null,{"$f":"IF(序号!D32<>\"\",序号!D32,\"\")","v":""},null,null,{"$f":"IF(课程名称及编码!BJ33<>\"\",课程名称及编码!BJ33,\"\")","v":""},null,null,null,null,null,null,null,null,null,null,null,null,null,null,null,null,null,null,"",null,null,"",null,null,"",null,null,"",null,null,null,null,null,"",null,null,null,null,null,null,null,null,null,null,null,null,null,null,null,null,null,null,null,null,null,null,null,null,null,null,null,null,null,null,null,null,null,null,null,null,null,null,null,null,null,null,null,null,null,null,null,null,null,null,null,null,null,null,"","","","","","","","","","","","","",0,"","","","","15",0,"","","","","","","","","","","","","",0,"","","","","18",0,null,"","","","","","","","","","","","","",0,"","","","","18",0,null,"","","","","","","","","","","","","",0,"","","","","19",0,null,"","","","","","","","","","","","","",0,"","","","","18",0,null,"","","","","","","","","","","","","",0,"","","","","17",0,null,"",0,0,0,0,0,0,0,0,0,null,null,null,null,null,null,0,0,null,0,0,0,0,0,null,0,0,null,0,0,0,0,0,null,0,0,null,0,0,0,0,0,null,0,0,null,0,0,0,0,0,null,0,0,null,0,0,0,0,0,null,null,0,null,0,null,0,null,0,null,0,null,{"$f":"aaa","v":2},{"$f":"bbb","v":2},{"$f":"ccc","v":2},{"$f":"dddd","v":2},null,{"$f":"aaa","v":2},{"$f":"bbb","v":2},{"$f":"ccc","v":2},{"$f":"dddd","v":2},{"$f":"eee","v":2},{"$f":"fff","v":2},"","","","","","","","","","","","","",0,"","","","","","","","","","","","","","","","","","","","","","","","",0,"","","","","","","","","","","","","","","","","",0,0,0,0,0,0,0,0,0,0,0,"","","0",0,0,0,0,0,0,0,"",0,0,0,0,0,0,0,0,"","","0",0,0,0,0,null,0,0,0,0,"","","0",0,0,0,0,null,0,0,0,0,"","","0",0,0,0,0,null,0,0,0,0,"","","0",0,0,0,0,0,0,0,0,"","","0",0,0,0,0,null,0,0,0,0,"","","0",0,0,0,0,null,null,null,null,null,"4*13",0]
[null,null,null,"专\n业\n核\n心\n课\n程",null,{"$f":"IF(序号!D33<>\"\",序号!D33,\"\")","v":""},null,null,{"$f":"IF(课程名称及编码!BJ34<>\"\",课程名称及编码!BJ34,\"\")","v":""},null,null,null,null,null,null,null,null,null,null,null,null,null,null,null,null,null,null,"",null,null,"",null,null,"",null,null,"",null,null,null,null,null,"",null,null,null,null,null,null,null,null,null,null,null,null,null,null,null,null,null,null,null,null,null,null,null,null,null,null,null,null,null,null,null,null,null,null,null,null,null,null,null,null,null,null,null,null,null,null,null,null,null,null,null,null,null,null,"","","","","","","","","","","","","",0,"","","","","15",0,"","","","","","","","","","","","","",0,"","","","","18",0,null,"","","","","","","","","","","","","",0,"","","","","18",0,null,"","","","","","","","","","","","","",0,"","","","","19",0,null,"","","","","","","","","","","","","",0,"","","","","18",0,null,"","","","","","","","","","","","","",0,"","","","","17",0,null,"",0,0,0,0,0,0,0,0,0,null,null,null,null,null,null,0,0,null,0,0,0,0,0,null,0,0,null,0,0,0,0,0,null,0,0,null,0,0,0,0,0,null,0,0,null,0,0,0,0,0,null,0,0,null,0,0,0,0,0,null,null,0,null,0,null,0,null,0,null,0,null,{"$f":"aaa","v":2},{"$f":"bbb","v":2},{"$f":"ccc","v":2},{"$f":"dddd","v":2},null,{"$f":"aaa","v":2},{"$f":"bbb","v":2},{"$f":"ccc","v":2},{"$f":"dddd","v":2},{"$f":"eee","v":2},{"$f":"fff","v":2},"","","","","","","","","","","","","",0,"","","","","","","","","","","","","","","","","","","","","","","","",0,"","","","","","","","","","","","","","","","","",0,0,0,0,0,0,0,0,0,0,0,"","","0",0,0,0,0,0,0,0,"",0,0,0,0,0,0,0,0,"","","0",0,0,0,0,null,0,0,0,0,"","","0",0,0,0,0,null,0,0,0,0,"","","0",0,0,0,0,null,0,0,0,0,"","","0",0,0,0,0,0,0,0,0,"","","0",0,0,0,0,null,0,0,0,0,"","","0",0,0,0,0,null,null,null,null,null,"4*14",0]
[null,null,null,null,null,{"$f":"IF(序号!D34<>\"\",序号!D34,\"\")","v":""},null,null,{"$f":"IF(课程名称及编码!BJ35<>\"\",课程名称及编码!BJ35,\"\")","v":""},null,null,null,null,null,null,null,null,null,null,null,null,null,null,null,null,null,null,"",null,null,"",null,null,"",null,null,"",null,null,null,null,null,"",null,null,null,null,null,null,null,null,null,null,null,null,null,null,null,null,null,null,null,null,null,null,null,null,null,null,null,null,null,null,null,null,null,null,null,null,null,null,null,null,null,null,null,null,null,null,null,null,null,null,null,null,null,null,{"$f":"IF(SEARCH(\"/\",AS51&\"/\",1)<=LEN(AS51),1,\"\")","v":""},{"$f":"IF(SEARCH(\"(\",AS51&\"(\",1)<=LEN(AS51),1,\"\")","v":""},{"$f":"IF(SEARCH(\"周\",AS51&\"周\",1)<=LEN(AS51),1,\"\")","v":""},{"$f":"IF(AND(CT51<>1,CU51<>1,CV51<>1,LEN(AS51)>2),1,\"\")","v":""},{"$f":"IF(AND(CT51=1,LEFT(AS51,1)=\"/\"),1,\"\")","v":""},{"$f":"IF(CX51=1,RIGHT(AS51,LEN(AS51)-1),\"\")","v":""},{"$f":"IF(AND(CT51=1,CX51=\"\"),LEFT(AS51,LEN(AS51)-1),\"\")","v":""},"","",{"$f":"IF(CU51=1,MID(AS51,2,1),\"\")","v":""},"",{"$f":"IF(CW51=1,LEFT(AS51,1),\"\")","v":""},"",{"$f":"IF(DF51=\"\",AS51,DF51)","v":0},"",{"$f":"IF(CW51=1,RIGHT(AS51,LEN(AS51)-2),\"\")","v":""},{"$f":"IF(CV51=1,LEFT(AS51,LEN(AS51)-1),\"\")","v":""},"","15",0,{"$f":"IF(SEARCH(\"/\",AV51&\"/\",1)<=LEN(AV51),1,\"\")","v":""},{"$f":"IF(SEARCH(\"(\",AV51&\"(\",1)<=LEN(AV51),1,\"\")","v":""},{"$f":"IF(SEARCH(\"周\",AV51&\"周\",1)<=LEN(AV51),1,\"\")","v":""},{"$f":"IF(AND(DN51<>1,DO51<>1,DP51<>1,LEN(AV51)>2),1,\"\")","v":""},{"$f":"IF(AND(DN51=1,LEFT(AV51,1)=\"/\"),1,\"\")","v":""},{"$f":"IF(DR51=1,RIGHT(AV51,LEN(AV51)-1),\"\")","v":""},{"$f":"IF(AND(DN51=1,DR51=\"\"),LEFT(AV51,LEN(AV51)-1),\"\")","v":""},"","",{"$f":"IF(DO51=1,MID(AV51,2,1),\"\")","v":""},"",{"$f":"IF(DQ51=1,LEFT(AV51,1),\"\")","v":""},"",{"$f":"IF(DZ51=\"\",AV51,DZ51)","v":0},"",{"$f":"IF(DQ51=1,RIGHT(AV51,LEN(AV51)-2),\"\")","v":""},{"$f":"IF(DP51=1,LEFT(AV51,LEN(AV51)-1),\"\")","v":""},"","18",0,null,"","","","","","","","","","","","","",0,"","","","","18",0,null,"","","","","","","","","","","","","",0,"","","","","19",0,null,"","","","","","","","","","","","","",0,"","","","","18",0,null,"","","","","","","","","","","","","",0,"","","","","17",0,null,"",0,0,0,0,0,0,0,0,0,null,null,null,null,null,null,0,0,null,0,0,0,0,0,null,0,0,null,0,0,0,0,0,null,0,{"$f":"IF(EJ51=1,0,IW51)","v":0},null,0,0,0,0,0,null,0,{"$f":"IF(FE51=1,0,JF51)","v":0},null,0,0,0,0,0,null,0,{"$f":"IF(FZ51=1,0,JO51)","v":0},null,0,0,0,0,0,null,null,0,null,0,null,0,null,0,null,0,null,{"$f":"aaa","v":2},{"$f":"bbb","v":2},{"$f":"ccc","v":2},{"$f":"dddd","v":2},null,{"$f":"aaa","v":2},{"$f":"bbb","v":2},{"$f":"ccc","v":2},{"$f":"dddd","v":2},{"$f":"eee","v":2},{"$f":"fff","v":2},{"$f":"IF(AS51<>\"\",1,\"\")","v":""},{"$f":"IF(AV51<>\"\",1,\"\")","v":""},"","","","","","","","","","","",0,"","","","","","","","","","","","","","","","","","","","","","","","",0,"","","","","","","","","","","","","","","","","",0,0,0,0,0,0,0,{"$f":"IF(ND51=0,HP51/18,0)","v":0},0,0,0,"","","0",0,0,{"$f":"IF(LEFT(HQ51,1)=\"(\",\"(\"&NM51&\")\",NM51)","v":0},0,0,0,{"$f":"IF(LEFT(NO51,1)=\"(\",\"(\"&NQ51&\")\",NQ51)","v":0},"",0,0,0,0,{"$f":"IF(ND51=0,DM51/18,0)","v":0},0,0,0,"","","0",{"$f":"IF(ND51=0,NY51+OD51,0)","v":0},{"$f":"OE51+MX51","v":0},{"$f":"IF(LEFT(HQ51,1)=\"(\",\"(\"&OF51&\")\",OF51)","v":0},0,null,{"$f":"IF(ND51=0,EG51/18,0)","v":0},0,0,0,"","","0",{"$f":"IF(ND51=0,OK51+OP51,0)","v":0},{"$f":"OQ51+MY51","v":0},{"$f":"IF(LEFT(HQ51,1)=\"(\",\"(\"&OR51&\")\",OR51)","v":0},0,null,{"$f":"IF(ND51=0,FB51/18,0)","v":0},0,0,0,"","","0",{"$f":"IF(ND51=0,OW51+PB51,0)","v":0},{"$f":"PC51+MZ51","v":0},{"$f":"IF(LEFT(HQ51,1)=\"(\",\"(\"&PD51&\")\",PD51)","v":0},0,null,{"$f":"IF(ND51=0,FW51/18,0)","v":0},0,0,0,"","","0",{"$f":"IF(ND51=0,PI51+PN51,0)","v":0},{"$f":"PO51+NA51","v":0},{"$f":"IF(LEFT(HQ51,1)=\"(\",\"(\"&PP51&\")\",PP51)","v":0},0,{"$f":"IF(ND51=0,GR51/18,0)","v":0},0,0,0,"","","0",{"$f":"IF(ND51=0,PT51+PY51,0)","v":0},{"$f":"NB51+PZ51","v":0},{"$f":"IF(LEFT(HQ51,1)=\"(\",\"(\"&QA51&\")\",QA51)","v":0},0,null,{"$f":"IF(ND51=0,HM51/18,0)","v":0},0,0,0,"","","0",{"$f":"IF(NQ51=0,QF51+QK51,0)","v":0},{"$f":"NC51+QL51","v":0},{"$f":"IF(LEFT(HQ51,1)=\"(\",\"(\"&QM51&\")\",QM51)","v":0},0,null,null,null,null,null,"4*15",{"$f":"IF(SEARCH(\"(\",AN51&\"(\",1)<=LEN(AN51),0,VALUE(AN51))","v":0}]
[null,null,null,null,null,{"$f":"IF(序号!D35<>\"\",序号!D35,\"\")","v":""},null,null,{"$f":"IF(课程名称及编码!BJ36<>\"\",课程名称及编码!BJ36,\"\")","v":""},null,null,null,null,null,null,null,null,null,null,null,null,null,null,null,null,null,null,"",null,null,"",null,null,"",null,null,"",null,null,null,null,null,"",null,null,null,null,null,null,null,null,null,null,null,null,null,null,null,null,null,null,null,null,null,null,null,null,null,null,null,null,null,null,null,null,null,null,null,null,null,null,null,null,null,null,null,null,null,null,null,null,null,null,null,null,null,null,"","","","","","","","","","","","","",0,"","","","","15",0,"","","","","","","","","","","","","",0,"","","","","18",0,null,"","","","","","","","","","","","","",0,"","","","","18",0,null,"","","","","","","","","","","","","",0,"","","","","19",0,null,"","","","","","","","","","","","","",0,"","","","","18",0,null,"","","","","","","","","","","","","",0,"","","","","17",0,null,"",0,0,0,0,0,0,0,0,0,null,null,null,null,null,null,0,0,null,0,0,0,0,0,null,0,0,null,0,0,0,0,0,null,0,0,null,0,0,0,0,0,null,0,0,null,0,0,0,0,0,null,0,0,null,0,0,0,0,0,null,null,0,null,0,null,0,null,0,null,0,null,{"$f":"aaa","v":2},{"$f":"bbb","v":2},{"$f":"ccc","v":2},{"$f":"dddd","v":2},null,{"$f":"aaa","v":2},{"$f":"bbb","v":2},{"$f":"ccc","v":2},{"$f":"dddd","v":2},{"$f":"eee","v":2},{"$f":"fff","v":2},"","","","","","","","","","","","","",0,"","","","","","","","","","","","","","","","","","","","","","","","",0,"","","","","","","","","","","","","","","","","",0,0,0,0,0,0,0,0,0,0,0,"","","0",0,0,0,0,0,0,0,"",0,0,{"$f":"IF(N52<>\"毛思、特色理论概述\",NR52,IF(NR52<4,4,NR52))","v":0},0,0,0,0,0,"","","0",0,0,0,0,null,0,0,0,0,"","","0",0,0,0,0,null,0,0,0,0,"","","0",0,0,0,0,null,0,0,0,0,"","","0",0,0,0,0,0,0,0,0,"","","0",0,0,0,0,null,0,0,0,0,"","","0",0,0,0,0,null,null,null,null,null,"/2*4",0]
[null,null,null,null,null,{"$f":"IF(序号!D36<>\"\",序号!D36,\"\")","v":""},null,null,{"$f":"IF(课程名称及编码!BJ37<>\"\",课程名称及编码!BJ37,\"\")","v":""},null,null,null,null,null,null,null,null,null,null,null,null,null,null,null,null,null,null,"",null,null,"",null,null,"",null,null,"",null,null,null,null,null,"",null,null,null,null,null,null,null,null,null,null,null,null,null,null,null,null,null,null,null,null,null,null,null,null,null,null,null,null,null,null,null,null,null,null,null,null,null,null,null,null,null,null,null,null,null,null,null,null,null,null,null,null,null,null,"","","","","","","","","","","","","",0,"","","","","15",0,"","","","","","","","","","","","","",0,"","","","","18",0,null,"","","","","","","","","","","","","",0,"","","","","18",0,null,"","","","","","","","","","","","","",0,"","","","","19",0,null,"","","","","","","","","","","","","",0,"","","","","18",0,null,"","","","","","","","","","","","","",0,"","","","","17",0,null,"",0,0,0,0,0,0,0,0,0,null,null,null,null,null,null,0,0,null,0,0,0,0,0,null,0,0,null,0,0,0,0,0,null,0,0,null,0,0,0,0,0,null,0,0,null,0,0,0,0,0,null,0,0,null,0,0,0,0,0,null,null,0,null,0,null,0,null,0,null,0,null,{"$f":"aaa","v":2},{"$f":"bbb","v":2},{"$f":"ccc","v":2},{"$f":"dddd","v":2},null,{"$f":"aaa","v":2},{"$f":"bbb","v":2},{"$f":"ccc","v":2},{"$f":"dddd","v":2},{"$f":"eee","v":2},{"$f":"fff","v":2},"","","","","","","","","","","","","",0,"","","","","","","","","","","","","","","","","","","","","","","","",0,"","","","","","","","","","","","","","","","","",0,0,0,0,0,0,0,0,0,0,0,"","","0",0,0,0,0,0,0,0,"",0,0,0,0,0,0,0,0,"","","0",0,0,0,0,null,0,0,0,0,"","","0",0,0,0,0,null,0,0,0,0,"","","0",0,0,0,0,null,0,0,0,0,"","","0",0,0,0,0,0,0,0,0,"","","0",0,0,0,0,null,0,0,0,0,"","","0",0,0,0,0,null,null,null,null,null,"/2*5",0]
[null,null,null,null,null,{"$f":"IF(序号!D37<>\"\",序号!D37,\"\")","v":""},null,null,{"$f":"IF(课程名称及编码!BJ38<>\"\",课程名称及编码!BJ38,\"\")","v":""},null,null,null,null,null,null,null,null,null,null,null,null,null,null,null,null,null,null,"",null,null,"",null,null,"",null,null,"",null,null,null,null,null,"",null,null,null,null,null,null,null,null,null,null,null,null,null,null,null,null,null,null,null,null,null,null,null,null,null,null,null,null,null,null,null,null,null,null,null,null,null,null,null,null,null,null,null,null,null,null,null,null,null,null,null,null,null,null,"","","","","","","","","","","","","",0,"","","","","15",0,"","","","","","","","","","","","","",0,"","","","","18",0,null,"","","","","","","","","","","","","",0,"","","","","18",0,null,"","","","","","","","","","","","","",0,"","","","","19",0,null,"","","","","","","","","","","","","",0,"","","","","18",0,null,"","","","","","","","","","","","","",0,"","","","","17",0,null,"",0,0,0,0,0,0,0,0,0,null,null,null,null,null,null,0,0,null,0,0,0,0,0,null,0,0,null,0,0,0,0,0,null,0,0,null,0,0,0,0,0,null,0,0,null,0,0,0,0,0,null,0,0,null,0,0,0,0,0,null,null,0,null,0,null,0,null,0,null,0,null,{"$f":"aaa","v":2},{"$f":"bbb","v":2},{"$f":"ccc","v":2},{"$f":"dddd","v":2},null,{"$f":"aaa","v":2},{"$f":"bbb","v":2},{"$f":"ccc","v":2},{"$f":"dddd","v":2},{"$f":"eee","v":2},{"$f":"fff","v":2},"","","","","","","","","","","","","",0,"","","","","","","","","","","","","","","","","","","","","","","","",0,"","","","","","","","","","","","","","","","","",0,0,0,0,0,0,0,0,0,0,0,"","","0",0,0,0,0,0,0,0,"",0,0,0,0,0,0,0,0,"","","0",0,0,0,0,null,0,0,0,0,"","","0",0,0,0,0,null,0,0,0,0,"","","0",0,0,0,0,null,0,0,0,0,"","","0",0,0,0,0,0,0,0,0,"","","0",0,0,0,0,null,0,0,0,0,"","","0",0,0,0,0,null,null,null,null,null,"/2*6",0]
[null,null,null,null,null,{"$f":"IF(序号!D38<>\"\",序号!D38,\"\")","v":""},null,null,{"$f":"IF(课程名称及编码!BJ39<>\"\",课程名称及编码!BJ39,\"\")","v":""},null,null,null,null,null,null,null,null,null,null,null,null,null,null,null,null,null,null,"",null,null,"",null,null,"",null,null,"",null,null,null,null,null,"",null,null,null,null,null,null,null,null,null,null,null,null,null,null,null,null,null,null,null,null,null,null,null,null,null,null,null,null,null,null,null,null,null,null,null,null,null,null,null,null,null,null,null,null,null,null,null,null,null,null,null,null,null,null,"","","","","","","","","","","","","",0,"","","","","15",0,"","","","","","","","","","","","","",0,"","","","","18",0,null,"","","","","","","","","","","","","",0,"","","","","18",0,null,"","","","","","","","","","","","","",0,"","","","","19",0,null,"","","","","","","","","","","","","",0,"","","","","18",0,null,"","","","","","","","","","","","","",0,"","","","","17",0,null,"",0,0,0,0,0,0,0,0,0,null,null,null,null,null,null,0,0,null,0,0,0,0,0,null,0,0,null,0,0,0,0,0,null,0,0,null,0,0,0,0,0,null,0,0,null,0,0,0,0,0,null,0,0,null,0,0,0,0,0,null,null,0,null,0,null,0,null,0,null,0,null,{"$f":"aaa","v":2},{"$f":"bbb","v":2},{"$f":"ccc","v":2},{"$f":"dddd","v":2},null,{"$f":"aaa","v":2},{"$f":"bbb","v":2},{"$f":"ccc","v":2},{"$f":"dddd","v":2},{"$f":"eee","v":2},{"$f":"fff","v":2},"","","","","","","","","","","","","",0,"","","","","","","","","","","","","","","","","","","","","","","","",0,"","","","","","","","","","","","","","","","","",0,0,0,0,0,0,0,0,0,0,0,"","","0",0,0,0,0,0,0,0,"",0,0,0,0,0,0,0,0,"","","0",0,0,0,0,null,0,0,0,0,"","","0",0,0,0,0,null,0,0,0,0,"","","0",0,0,0,0,null,0,0,0,0,"","","0",0,0,0,0,0,0,0,0,"","","0",0,0,0,0,null,0,0,0,0,"","","0",0,0,0,0,null,null,null,null,null,"/2*7",0]
[null,null,null,null,null,{"$f":"IF(序号!D39<>\"\",序号!D39,\"\")","v":""},null,null,{"$f":"IF(课程名称及编码!BJ40<>\"\",课程名称及编码!BJ40,\"\")","v":""},null,null,null,null,null,null,null,null,null,null,null,null,null,null,null,null,null,null,"",null,null,"",null,null,"",null,null,"",null,null,null,null,null,"",null,null,null,null,null,null,null,null,null,null,null,null,null,null,null,null,null,null,null,null,null,null,null,null,null,null,null,null,null,null,null,null,null,null,null,null,null,null,null,null,null,null,null,null,null,null,null,null,null,null,null,null,null,null,"","","","","","","","","","","","","",0,"","","","","15",0,"","","","","","","","","","","","","",0,"","","","","18",0,null,"","","","","","","","","","","","","",0,"","","","","18",0,null,"","","","","","","","","","","","","",0,"","","","","19",0,null,"","","","","","","","","","","","","",0,"","","","","18",0,null,"","","","","","","","","","","","","",0,"","","","","17",0,null,"",0,0,0,0,0,0,0,0,0,null,null,null,null,null,null,0,0,null,0,0,0,0,0,null,0,0,null,0,0,0,0,0,null,0,0,null,0,0,0,0,0,null,0,0,null,0,0,0,0,0,null,0,0,null,0,0,0,0,0,null,null,0,null,0,null,0,null,0,null,0,null,{"$f":"aaa","v":2},{"$f":"bbb","v":2},{"$f":"ccc","v":2},{"$f":"dddd","v":2},null,{"$f":"aaa","v":2},{"$f":"bbb","v":2},{"$f":"ccc","v":2},{"$f":"dddd","v":2},{"$f":"eee","v":2},{"$f":"fff","v":2},"","","","","","","","","","","","","",0,"","","","","","","","","","","","","","","","","","","","","","","","",0,"","","","","","","","","","","","","","","","","",0,0,0,0,0,0,0,0,0,0,0,"","","0",0,0,0,0,0,0,0,"",0,0,0,0,0,0,0,0,"","","0",0,0,0,0,null,0,0,0,0,"","","0",0,0,0,0,null,0,0,0,0,"","","0",0,0,0,0,null,0,0,0,0,"","","0",0,0,0,0,0,0,0,0,"","","0",0,0,0,0,null,0,0,0,0,"","","0",0,0,0,0,null,null,null,null,null,"/2*8",0]
[null,null,null,"专\n业\n拓\n展\n课\n程",null,{"$f":"IF(序号!D40<>\"\",序号!D40,\"\")","v":""},null,null,{"$f":"IF(课程名称及编码!BJ41<>\"\",课程名称及编码!BJ41,\"\")","v":""},null,null,null,null,null,null,null,null,null,null,null,null,null,null,null,null,null,null,"",null,null,"",null,null,"",null,null,"",null,null,null,null,null,"",null,null,null,null,null,null,null,null,null,null,null,null,null,null,null,null,null,null,null,null,null,null,null,null,null,null,null,null,null,null,null,null,null,null,null,null,null,null,null,null,null,null,null,null,null,null,null,null,null,null,null,null,null,null,"","","","","","","","","","","","","",0,"","","","","15",0,"","","","","","","","","","","","","",0,"","","","","18",0,null,"","","","","","","","","","","","","",0,"","","","","18",0,null,"","","","","","","","","","","","","",0,"","","","","19",0,null,"","","","","","","","","","","","","",0,"","","","","18",0,null,"","","","","","","","","","","","","",0,"","","","","17",0,null,"",0,0,0,0,0,0,0,0,0,null,null,null,null,null,null,0,0,null,0,0,0,0,0,null,0,0,null,0,0,0,0,0,null,0,0,null,0,0,0,0,0,null,0,0,null,0,0,0,0,0,null,0,0,null,0,0,0,0,0,null,null,0,null,0,null,0,null,0,null,0,null,{"$f":"aaa","v":2},{"$f":"bbb","v":2},{"$f":"ccc","v":2},{"$f":"dddd","v":2},null,{"$f":"aaa","v":2},{"$f":"bbb","v":2},{"$f":"ccc","v":2},{"$f":"dddd","v":2},{"$f":"eee","v":2},{"$f":"fff","v":2},"","","","","","","","","","","","","",0,"","","","","","","","","","","","","","","","","","","","","","","","",0,"","","","","","","","","","","","","","","","","",0,0,0,0,0,0,0,0,0,0,0,"","","0",0,0,0,0,0,0,0,"",0,0,0,0,0,0,0,0,"","","0",0,0,0,0,null,0,0,0,0,"","","0",0,0,0,0,null,0,0,0,0,"","","0",0,0,0,0,null,0,0,0,0,"","","0",0,0,0,0,0,0,0,0,"","","0",0,0,0,0,null,0,0,0,0,"","","0",0,0,0,0,null,null,null,null,null,"/2*9",0]
[null,null,null,null,null,{"$f":"IF(序号!D41<>\"\",序号!D41,\"\")","v":""},null,null,{"$f":"IF(课程名称及编码!BJ42<>\"\",课程名称及编码!BJ42,\"\")","v":""},null,null,null,null,null,null,null,null,null,null,null,null,null,null,null,null,null,null,"",null,null,"",null,null,"",null,null,"",null,null,null,null,null,"",null,null,null,null,null,null,null,null,null,null,null,null,null,null,null,null,null,null,null,null,null,null,null,null,null,null,null,null,null,null,null,null,null,null,null,null,null,null,null,null,null,null,null,null,null,null,null,null,null,null,null,null,null,null,"","","","","","","","","","","","","",0,"","","","","15",0,"","","","","","","","","","","","","",0,"","","","","18",0,null,"","","","","","","","","","","","","",0,"","","","","18",0,null,"","","","","","","","","","","","","",0,"","","","","19",0,null,"","","","","","","","","","","","","",0,"","","","","18",0,null,"","","","","","","","","","","","","",0,"","","","","17",0,null,"",0,0,0,0,0,0,0,0,0,null,null,null,null,null,null,0,0,null,0,0,0,0,0,null,0,0,null,0,0,0,0,0,null,0,0,null,0,0,0,0,0,null,0,0,null,0,0,0,0,0,null,0,0,null,0,0,0,0,0,null,null,0,null,0,null,0,null,0,null,0,null,{"$f":"aaa","v":2},{"$f":"bbb","v":2},{"$f":"ccc","v":2},{"$f":"dddd","v":2},null,{"$f":"aaa","v":2},{"$f":"bbb","v":2},{"$f":"ccc","v":2},{"$f":"dddd","v":2},{"$f":"eee","v":2},{"$f":"fff","v":2},"","","","","","","","","","","","","",0,"","","","","","","","","","","","","","","","","","","","","","","","",0,"","","","","","","","","","","","","","","","","",0,0,0,0,0,0,0,0,0,0,0,"","","0",0,0,0,0,0,0,0,"",0,0,0,0,0,0,0,0,"","","0",0,0,0,0,null,0,0,0,0,"","","0",0,0,0,0,null,0,0,0,0,"","","0",0,0,0,0,null,0,0,0,0,"","","0",0,0,0,0,0,0,0,0,"","","0",0,0,0,0,null,0,0,0,0,"","","0",0,0,0,0,null,null,null,null,null,"/2*10",0]
[null,null,null,null,null,{"$f":"IF(序号!D42<>\"\",序号!D42,\"\")","v":""},null,null,{"$f":"IF(课程名称及编码!BJ43<>\"\",课程名称及编码!BJ43,\"\")","v":""},null,null,null,null,null,null,null,null,null,null,null,null,null,null,null,null,null,null,"",null,null,"",null,null,"",null,null,"",null,null,null,null,null,"",null,null,null,null,null,null,null,null,null,null,null,null,null,null,null,null,null,null,null,null,null,null,null,null,null,null,null,null,null,null,null,null,null,null,null,null,null,null,null,null,null,null,null,null,null,null,null,null,null,null,null,null,null,null,"","","","","","","","","","","","","",0,"","","","","15",0,"","","","","","","","","","","","","",0,"","","","","18",0,null,"","","","","","","","","","","","","",0,"","","","","18",0,null,"","","","","","","","","","","","","",0,"","","","","19",0,null,"","","","","","","","","","","","","",0,"","","","","18",0,null,"","","","","","","","","","","","","",0,"","","","","17",0,null,"",0,0,0,0,0,0,0,0,0,null,null,null,null,null,null,0,0,null,0,0,0,0,0,null,0,0,null,0,0,0,0,0,null,0,0,null,0,0,0,0,0,null,0,0,null,0,0,0,0,0,null,0,0,null,0,0,0,0,0,null,null,0,null,0,null,0,null,0,null,0,null,{"$f":"aaa","v":2},{"$f":"bbb","v":2},{"$f":"ccc","v":2},{"$f":"dddd","v":2},null,{"$f":"aaa","v":2},{"$f":"bbb","v":2},{"$f":"ccc","v":2},{"$f":"dddd","v":2},{"$f":"eee","v":2},{"$f":"fff","v":2},"","","","","","","","","","","","","",0,"","","","","","","","","","","","","","","","","","","","","","","","",0,"","","","","","","","","","","","","","","","","",0,0,0,0,0,0,0,0,0,0,0,"","","0",0,0,0,0,0,0,0,"",0,0,0,0,0,0,0,0,"","","0",0,0,0,0,null,0,0,0,0,"","","0",0,0,0,0,null,0,0,0,0,"","","0",0,0,0,0,null,0,0,0,0,"","","0",0,0,0,0,0,0,0,0,"","","0",0,0,0,0,null,0,0,0,0,"","","0",0,0,0,0,null,null,null,null,null,"/6*9",0]
[null,null,null,null,null,{"$f":"IF(序号!D43<>\"\",序号!D43,\"\")","v":""},null,null,{"$f":"IF(课程名称及编码!BJ44<>\"\",课程名称及编码!BJ44,\"\")","v":""},null,null,null,null,null,null,null,null,null,null,null,null,null,null,null,null,null,null,"",null,null,"",null,null,"",null,null,"",null,null,null,null,null,"",null,null,null,null,null,null,null,null,null,null,null,null,null,null,null,null,null,null,null,null,null,null,null,null,null,null,null,null,null,null,null,null,null,null,null,null,null,null,null,null,null,null,null,null,null,null,null,null,null,null,null,null,null,null,"","","","","","","","","","","","","",0,"","","","","15",0,"","","","","","","","","","","","","",0,"","","","","18",0,null,"","","","","","","","","","","","","",0,"","","","","18",0,null,"","","","","","","","","","","","","",0,"","","","","19",0,null,"","","","","","","","","","","","","",0,"","","","","18",0,null,"","","","","","","","","","","","","",0,"","","","","17",0,null,"",0,0,0,0,0,0,0,0,0,null,null,null,null,null,null,0,0,null,0,0,0,0,0,null,0,0,null,0,0,0,0,0,null,0,0,null,0,0,0,0,0,null,0,0,null,0,0,0,0,0,null,0,0,null,0,0,0,0,0,null,null,0,null,0,null,0,null,0,null,0,null,{"$f":"aaa","v":2},{"$f":"bbb","v":2},{"$f":"ccc","v":2},{"$f":"dddd","v":2},null,{"$f":"aaa","v":2},{"$f":"bbb","v":2},{"$f":"ccc","v":2},{"$f":"dddd","v":2},{"$f":"eee","v":2},{"$f":"fff","v":2},"","","","","","","","","","","","","",0,"","","","","","","","","","","","","","","","","","","","","","","","",0,"","","","","","","","","","","","","","","","","",0,0,0,0,0,0,0,0,0,0,0,"","","0",0,0,0,0,0,0,0,"",0,0,0,0,0,0,0,0,"","","0",0,0,0,0,null,0,0,0,0,"","","0",0,0,0,0,null,0,0,0,0,"","","0",0,0,0,0,null,0,0,0,0,"","","0",0,0,0,0,0,0,0,0,"","","0",0,0,0,0,null,0,0,0,0,"","","0",0,0,0,0,null,null,null,null,null,"2*4/",0]
[null,null,null,null,null,{"$f":"IF(序号!D44<>\"\",序号!D44,\"\")","v":""},null,null,{"$f":"IF(课程名称及编码!BJ45<>\"\",课程名称及编码!BJ45,\"\")","v":""},null,null,null,null,null,null,null,null,null,null,null,null,null,null,null,null,null,null,"",null,null,"",null,null,"",null,null,"",null,null,null,null,null,"",null,null,null,null,null,null,null,null,null,null,null,null,null,null,null,null,null,null,null,null,null,null,null,null,null,null,null,null,null,null,null,null,null,null,null,null,null,null,null,null,null,null,null,null,null,null,null,null,null,null,null,null,null,null,"","","","","","","","","","","","","",0,"","","","","15",0,"","","","","","","","","","","","","",0,"","","","","18",0,null,"","","","","","","","","","","","","",0,"","","","","18",0,null,"","","","","","","","","","","","","",0,"","","","","19",0,null,"","","","","","","","","","","","","",0,"","","","","18",0,null,"","","","","","","","","","","","","",0,"","","","","17",0,null,"",0,0,0,0,0,0,0,0,0,null,null,null,null,null,null,0,0,null,0,0,0,0,0,null,0,0,null,0,0,0,0,0,null,0,0,null,0,0,0,0,0,null,0,0,null,0,0,0,0,0,null,0,0,null,0,0,0,0,0,null,null,0,null,0,null,0,null,0,null,0,null,{"$f":"aaa","v":2},{"$f":"bbb","v":2},{"$f":"ccc","v":2},{"$f":"dddd","v":2},null,{"$f":"aaa","v":2},{"$f":"bbb","v":2},{"$f":"ccc","v":2},{"$f":"dddd","v":2},{"$f":"eee","v":2},{"$f":"fff","v":2},"","","","","","","","","","","","","",0,"","","","","","","","","","","","","","","","","","","","","","","","",0,"","","","","","","","","","","","","","","","","",0,0,0,0,0,0,0,0,0,0,0,"","","0",0,0,0,0,0,0,0,"",0,0,0,0,0,0,0,0,"","","0",0,0,0,0,null,0,0,0,0,"","","0",0,0,0,0,null,0,0,0,0,"","","0",0,0,0,0,null,0,0,0,0,"","","0",0,0,0,0,0,0,0,0,"","","0",0,0,0,0,null,0,0,0,0,"","","0",0,0,0,0,null,null,null,null,null,"2*5/",0]
[null,null,null,null,null,{"$f":"IF(序号!D45<>\"\",序号!D45,\"\")","v":""},null,null,{"$f":"IF(课程名称及编码!BJ46<>\"\",课程名称及编码!BJ46,\"\")","v":""},null,null,null,null,null,null,null,null,null,null,null,null,null,null,null,null,null,null,"",null,null,"",null,null,"",null,null,"",null,null,null,null,null,"",null,null,null,null,null,null,null,null,null,null,null,null,null,null,null,null,null,null,null,null,null,null,null,null,null,null,null,null,null,null,null,null,null,null,null,null,null,null,null,null,null,null,null,null,null,null,null,null,null,null,null,null,null,null,"","","","","","","","","","","","","",0,"","","","","15",0,"","","","","","","","","","","","","",0,"","","","","18",0,null,"","","","","","","","","","","","","",0,"","","","","18",0,null,"","","","","","","","","","","","","",0,"","","","","19",0,null,"","","","","","","","","","","","","",0,"","","","","18",0,null,"","","","","","","","","","","","","",0,"","","","","17",0,null,"",0,0,0,0,0,0,0,0,0,null,null,null,null,null,null,0,0,null,0,0,0,0,0,null,0,0,null,0,0,0,0,0,null,0,0,null,0,0,0,0,0,null,0,0,null,0,0,0,0,0,null,0,0,null,0,0,0,0,0,null,null,0,null,0,null,0,null,0,null,0,null,{"$f":"aaa","v":2},{"$f":"bbb","v":2},{"$f":"ccc","v":2},{"$f":"dddd","v":2},null,{"$f":"aaa","v":2},{"$f":"bbb","v":2},{"$f":"ccc","v":2},{"$f":"dddd","v":2},{"$f":"eee","v":2},{"$f":"fff","v":2},"","","","","","","","","","","","","",0,"","","","","","","","","","","","","","","","","","","","","","","","",0,"","","","","","","","","","","","","","","","","",0,0,0,0,0,0,0,0,0,0,0,"","","0",0,0,0,0,0,0,0,"",0,0,0,0,0,0,0,0,"","","0",0,0,0,0,null,0,0,0,0,"","","0",0,0,0,0,null,0,0,0,0,"","","0",0,0,0,0,null,0,0,0,0,"","","0",0,0,0,0,0,0,0,0,"","","0",0,0,0,0,null,0,0,0,0,"","","0",0,0,0,0,null,null,null,null,null,"2*6/",0]
[null,null,null,null,null,{"$f":"IF(序号!D46<>\"\",序号!D46,\"\")","v":""},null,null,{"$f":"IF(课程名称及编码!BJ47<>\"\",课程名称及编码!BJ47,\"\")","v":""},null,null,null,null,null,null,null,null,null,null,null,null,null,null,null,null,null,null,"",null,null,"",null,null,"",null,null,"",null,null,null,null,null,"",null,null,null,null,null,null,null,null,null,null,null,null,null,null,null,null,null,null,null,null,null,null,null,null,null,null,null,null,null,null,null,null,null,null,null,null,null,null,null,null,null,null,null,null,null,null,null,null,null,null,null,null,null,null,"","","","","","","","","","","","","",0,"","","","","15",0,"","","","","","","","","","","","","",0,"","","","","18",0,null,"","","","","","","","","","","","","",0,"","","","","18",0,null,"","","","","","","","","","","","","",0,"","","","","19",0,null,"","","","","","","","","","","","","",0,"","","","","18",0,null,"","","","","","","","","","","","","",0,"","","","","17",0,null,"",0,0,0,0,0,0,0,0,0,null,null,null,null,null,null,0,0,null,0,0,0,0,0,null,0,0,null,0,0,0,0,0,null,0,0,null,0,0,0,0,0,null,0,0,null,0,0,0,0,0,null,0,0,null,0,0,0,0,0,null,null,0,null,0,null,0,null,0,null,0,null,{"$f":"aaa","v":2},{"$f":"bbb","v":2},{"$f":"ccc","v":2},{"$f":"dddd","v":2},null,{"$f":"aaa","v":2},{"$f":"bbb","v":2},{"$f":"ccc","v":2},{"$f":"dddd","v":2},{"$f":"eee","v":2},{"$f":"fff","v":2},"","","","","","","","","","","","","",0,"","","","","","","","","","","","","","","","","","","","","","","","",0,"","","","","","","","","","","","","","","","","",0,0,0,0,0,0,0,0,0,0,0,"","","0",0,0,0,0,0,0,0,"",0,0,0,0,0,0,0,0,"","","0",0,0,0,0,null,0,0,0,0,"","","0",0,0,0,0,null,0,0,0,0,"","","0",0,0,0,0,null,0,0,0,0,"","","0",0,0,0,0,0,0,0,0,"","","0",0,0,0,0,null,0,0,0,0,"","","0",0,0,0,0,null,null,null,null,null,"2*7/",0]
[null,null,null,null,null,{"$f":"IF(序号!D47<>\"\",序号!D47,\"\")","v":""},null,null,{"$f":"IF(课程名称及编码!BJ48<>\"\",课程名称及编码!BJ48,\"\")","v":""},null,null,null,null,null,null,null,null,null,null,null,null,null,null,null,null,null,null,"",null,null,"",null,null,"",null,null,"",null,null,null,null,null,"",null,null,null,null,null,null,null,null,null,null,null,null,null,null,null,null,null,null,null,null,null,null,null,null,null,null,null,null,null,null,null,null,null,null,null,null,null,null,null,null,null,null,null,null,null,null,null,null,null,null,null,null,null,null,"","","","","","","","","","","","","",0,"","","","","15",0,"","","","","","","","","","","","","",0,"","","","","18",0,null,"","","","","","","","","","","","","",0,"","","","","18",0,null,"","","","","","","","","","","","","",0,"","","","","19",0,null,"","","","","","","","","","","","","",0,"","","","","18",0,null,"","","","","","","","","","","","","",0,"","","","","17",0,null,"",0,0,0,0,0,0,0,0,0,null,null,null,null,null,null,0,0,null,0,0,0,0,0,null,0,0,null,0,0,0,0,0,null,0,0,null,0,0,0,0,0,null,0,0,null,0,0,0,0,0,null,0,0,null,0,0,0,0,0,null,null,0,null,0,null,0,null,0,null,0,null,{"$f":"aaa","v":2},{"$f":"bbb","v":2},{"$f":"ccc","v":2},{"$f":"dddd","v":2},null,{"$f":"aaa","v":2},{"$f":"bbb","v":2},{"$f":"ccc","v":2},{"$f":"dddd","v":2},{"$f":"eee","v":2},{"$f":"fff","v":2},"","","","","","","","","","","","","",0,"","","","","","","","","","","","","","","","","","","","","","","","",0,"","","","","","","","","","","","","","","","","",0,0,0,0,0,0,0,0,0,0,0,"","","0",0,0,0,0,0,0,0,"",0,0,0,0,0,0,0,0,"","","0",0,0,0,0,null,0,0,0,0,"","","0",0,0,0,0,null,0,0,0,0,"","","0",0,0,0,0,null,0,0,0,0,"","","0",0,0,0,0,0,0,0,0,"","","0",0,0,0,0,null,0,0,0,0,"","","0",0,0,0,0,null,null,null,null,null,"2*8/",0]
[null,null,null,null,null,{"$f":"IF(序号!D48<>\"\",序号!D48,\"\")","v":""},null,null,{"$f":"IF(课程名称及编码!BJ49<>\"\",课程名称及编码!BJ49,\"\")","v":""},null,null,null,null,null,null,null,null,null,null,null,null,null,null,null,null,null,null,"",null,null,"",null,null,"",null,null,"",null,null,null,null,null,"",null,null,null,null,null,null,null,null,null,null,null,null,null,null,null,null,null,null,null,null,null,null,null,null,null,null,null,null,null,null,null,null,null,null,null,null,null,null,null,null,null,null,null,null,null,null,null,null,null,null,null,null,null,null,"","","","","","","","","","","","","",0,"","","","","15",0,"","","","","","","","","","","","","",0,"","","","","18",0,null,"","","","","","","","","","","","","",0,"","","","","18",0,null,"","","","","","","","","","","","","",0,"","","","","19",0,null,"","","","","","","","","","","","","",0,"","","","","18",0,null,"","","","","","","","","","","","","",0,"","","","","17",0,null,"",0,0,0,0,0,0,0,0,0,null,null,null,null,null,null,0,0,null,0,0,0,0,0,null,0,0,null,0,0,0,0,0,null,0,0,null,0,0,0,0,0,null,0,0,null,0,0,0,0,0,null,0,0,null,0,0,0,0,0,null,null,0,null,0,null,0,null,0,null,0,null,{"$f":"aaa","v":2},{"$f":"bbb","v":2},{"$f":"ccc","v":2},{"$f":"dddd","v":2},null,{"$f":"aaa","v":2},{"$f":"bbb","v":2},{"$f":"ccc","v":2},{"$f":"dddd","v":2},{"$f":"eee","v":2},{"$f":"fff","v":2},"","","","","","","","","","","","","",0,"","","","","","","","","","","","","","","","","","","","","","","","",0,"","","","","","","","","","","","","","","","","",0,0,0,0,0,0,0,0,0,0,0,"","","0",0,0,0,0,0,0,0,"",0,0,0,0,0,0,0,0,"","","0",0,0,0,0,null,0,0,0,0,"","","0",0,0,0,0,null,0,0,0,0,"","","0",0,0,0,0,null,0,0,0,0,"","","0",0,0,0,0,0,0,0,0,"","","0",0,0,0,0,null,0,0,0,0,"","","0",0,0,0,0,null,null,null,null,null,"2*9/",0]
[null,null,null,"技\n能\n课\n程",null,{"$f":"IF(序号!D49<>\"\",序号!D49,\"\")","v":""},null,null,{"$f":"IF(课程名称及编码!BJ50<>\"\",课程名称及编码!BJ50,\"\")","v":""},null,null,null,null,null,null,null,null,null,null,null,null,null,null,null,null,null,null,"",null,null,"",null,null,"",null,null,"",null,null,null,null,null,"",null,null,null,null,null,null,null,null,null,null,null,null,null,null,null,null,null,null,null,null,null,null,null,null,null,null,null,null,null,null,null,null,null,null,null,null,null,null,null,null,null,null,null,null,null,null,null,null,null,null,null,null,null,null,"","","","","","","","","","","","","",0,"","","","","15",0,"","","","","","","","","","","","","",0,"","","","","18",0,null,"","","","","","","","","","","","","",0,"","","","","18",0,null,"","","","","","","","","","","","","",0,"","","","","19",0,null,"","","","","","","","","","","","","",0,"","","","","18",0,null,"","","","","","","","","","","","","",0,"","","","","17",0,null,"",0,0,0,0,0,0,0,0,0,null,null,null,null,null,null,0,0,null,0,0,0,0,0,null,0,0,null,0,0,0,0,0,null,0,0,null,0,0,0,0,0,null,0,0,null,0,0,0,0,0,null,0,0,null,0,0,0,0,0,null,null,0,null,0,null,0,null,0,null,0,null,{"$f":"aaa","v":2},{"$f":"bbb","v":2},{"$f":"ccc","v":2},{"$f":"dddd","v":2},null,{"$f":"aaa","v":2},{"$f":"bbb","v":2},{"$f":"ccc","v":2},{"$f":"dddd","v":2},{"$f":"eee","v":2},{"$f":"fff","v":2},"","","","","","","","","","","","","",0,"","","","","","","","","","","","","","","","","","","","","","","","",0,"","","","","","","","","","","","","","","","","",0,0,0,0,0,0,0,0,0,0,0,"","","0",0,0,0,0,0,0,0,"",0,0,0,0,0,0,0,0,"","","0",0,0,0,0,null,0,0,0,0,"","","0",0,0,0,0,null,0,0,0,0,"","","0",0,0,0,0,null,0,0,0,0,"","","0",0,0,0,0,0,0,0,0,"","","0",0,0,0,0,null,0,0,0,0,"","","0",0,0,0,0,null,null,null,null,null,"2*10/",0]
[null,null,null,null,null,{"$f":"IF(序号!D50<>\"\",序号!D50,\"\")","v":""},null,null,{"$f":"IF(课程名称及编码!BJ51<>\"\",课程名称及编码!BJ51,\"\")","v":""},null,null,null,null,null,null,null,null,null,null,null,null,null,null,null,null,null,null,"",null,null,"",null,null,"",null,null,"",null,null,null,null,null,"",null,null,null,null,null,null,null,null,null,null,null,null,null,null,null,null,null,null,null,null,null,null,null,null,null,null,null,null,null,null,null,null,null,null,null,null,null,null,null,null,null,null,null,null,null,null,null,null,null,null,null,null,null,null,"","","","","","","","","","","","","",0,"","","","","15",0,"","","","","","","","","","","","","",0,"","","","","18",0,null,"","","","","","","","","","","","","",0,"","","","","18",0,null,"","","","","","","","","","","","","",0,"","","","","19",0,null,"","","","","","","","","","","","","",0,"","","","","18",0,null,"","","","","","","","","","","","","",0,"","","","","17",0,null,"",0,0,0,0,0,0,0,0,0,null,null,null,null,null,null,0,0,null,0,0,0,0,0,null,0,0,null,0,0,0,0,0,null,0,0,null,0,0,0,0,0,null,0,0,null,0,0,0,0,0,null,0,0,null,0,0,0,0,0,null,null,0,null,0,null,0,null,0,null,0,null,{"$f":"aaa","v":2},{"$f":"bbb","v":2},{"$f":"ccc","v":2},{"$f":"dddd","v":2},null,{"$f":"aaa","v":2},{"$f":"bbb","v":2},{"$f":"ccc","v":2},{"$f":"dddd","v":2},{"$f":"eee","v":2},{"$f":"fff","v":2},"","","","","","","","","","","","","",0,"","","","","","","","","","","","","","","","","","","","","","","","",0,"","","","","","","","","","","","","","","","","",0,0,0,0,0,0,0,0,0,0,0,"","","0",0,0,0,0,0,0,0,"",0,0,0,0,0,0,0,0,"","","0",0,0,0,0,null,0,0,0,0,"","","0",0,0,0,0,null,0,0,0,0,"","","0",0,0,0,0,null,0,0,0,0,"","","0",0,0,0,0,0,0,0,0,"","","0",0,0,0,0,null,0,0,0,0,"","","0",0,0,0,0,null,null,null,null,null,"2*11/",0]
[null,null,null,null,null,{"$f":"IF(序号!D51<>\"\",序号!D51,\"\")","v":""},null,null,{"$f":"IF(课程名称及编码!BJ52<>\"\",课程名称及编码!BJ52,\"\")","v":""},null,null,null,null,null,null,null,null,null,null,null,null,null,null,null,null,null,null,"",null,null,"",null,null,"",null,null,"",null,null,null,null,null,"",null,null,null,null,null,null,null,null,null,null,null,null,null,null,null,null,null,null,null,null,null,null,null,null,null,null,null,null,null,null,null,null,null,null,null,null,null,null,null,null,null,null,null,null,null,null,null,null,null,null,null,null,null,null,"","","","","","","","","","","","","",0,"","","","","15",0,"","","","","","","","","","","","","",0,"","","","","18",0,null,"","","","","","","","","","","","","",0,"","","","","18",0,null,"","","","","","","","","","","","","",0,"","","","","19",0,null,"","","","","","","","","","","","","",0,"","","","","18",0,null,"","","","","","","","","","","","","",0,"","","","","17",0,null,"",0,0,0,0,0,0,0,0,0,null,null,null,null,null,null,0,0,null,0,0,0,0,0,null,0,0,null,0,0,0,0,0,null,0,0,null,0,0,0,0,0,null,0,0,null,0,0,0,0,0,null,0,0,null,0,0,0,0,0,null,null,0,null,0,null,0,null,0,null,0,null,{"$f":"aaa","v":2},{"$f":"bbb","v":2},{"$f":"ccc","v":2},{"$f":"dddd","v":2},null,{"$f":"aaa","v":2},{"$f":"bbb","v":2},{"$f":"ccc","v":2},{"$f":"dddd","v":2},{"$f":"eee","v":2},{"$f":"fff","v":2},"","","","","","","","","","","","","",0,"","","","","","","","","","","","","","","","","","","","","","","","",0,"","","","","","","","","","","","","","","","","",0,0,0,0,0,0,0,0,0,0,0,"","","0",0,0,0,0,0,0,0,"",0,0,0,0,0,0,0,0,"","","0",0,0,0,0,null,0,0,0,0,"","","0",0,0,0,0,null,0,0,0,0,"","","0",0,0,0,0,null,0,0,0,0,"","","0",0,0,0,0,0,0,0,0,"","","0",0,0,0,0,null,0,0,0,0,"","","0",0,0,0,0,null,null,null,null,null,"6*7/",0]
[null,null,null,null,null,{"$f":"IF(序号!D52<>\"\",序号!D52,\"\")","v":""},null,null,{"$f":"IF(课程名称及编码!BJ53<>\"\",课程名称及编码!BJ53,\"\")","v":""},null,null,null,null,null,null,null,null,null,null,null,null,null,null,null,null,null,null,"",null,null,"",null,null,"",null,null,"",null,null,null,null,null,"",null,null,null,null,null,null,null,null,null,null,null,null,null,null,null,null,null,null,null,null,null,null,null,null,null,null,null,null,null,null,null,null,null,null,null,null,null,null,null,null,null,null,null,null,null,null,null,null,null,null,null,null,null,null,"","","","","","","","","","","","","",0,"","","","","15",0,"","","","","","","","","","","","","",0,"","","","","18",0,null,"","","","","","","","","","","","","",0,"","","","","18",0,null,"","","","","","","","","","","","","",0,"","","","","19",0,null,"","","","","","","","","","","","","",0,"","","","","18",0,null,"","","","","","","","","","","","","",0,"","","","","17",0,null,"",0,0,0,0,0,0,0,0,0,null,null,null,null,null,null,0,0,null,0,0,0,0,0,null,0,0,null,0,0,0,0,0,null,0,0,null,0,0,0,0,0,null,0,0,null,0,0,0,0,0,null,0,0,null,0,0,0,0,0,null,null,0,null,0,null,0,null,0,null,0,null,{"$f":"aaa","v":2},{"$f":"bbb","v":2},{"$f":"ccc","v":2},{"$f":"dddd","v":2},null,{"$f":"aaa","v":2},{"$f":"bbb","v":2},{"$f":"ccc","v":2},{"$f":"dddd","v":2},{"$f":"eee","v":2},{"$f":"fff","v":2},"","","","","","","","","","","","","",0,"","","","","","","","","","","","","","","","","","","","","","","","",0,"","","","","","","","","","","","","","","","","",0,0,0,0,0,0,0,0,0,0,0,"","","0",0,0,0,0,0,0,0,"",0,0,0,0,0,0,0,0,"","","0",0,0,0,0,null,0,0,0,0,"","","0",0,0,0,0,null,0,0,0,0,"","","0",0,0,0,0,null,0,0,0,0,"","","0",0,0,0,0,0,0,0,0,"","","0",0,0,0,0,null,0,0,0,0,"","","0",0,0,0,0,null,null,null,null,null,"(2)",0]
[null,null,null,null,null,{"$f":"IF(序号!D53<>\"\",序号!D53,\"\")","v":""},null,null,{"$f":"IF(课程名称及编码!BJ54<>\"\",课程名称及编码!BJ54,\"\")","v":""},null,null,null,null,null,null,null,null,null,null,null,null,null,null,null,null,null,null,"",null,null,"",null,null,"",null,null,"",null,null,null,null,null,"",null,null,null,null,null,null,null,null,null,null,null,null,null,null,null,null,null,null,null,null,null,null,null,null,null,null,null,null,null,null,null,null,null,null,null,null,null,null,null,null,null,null,null,null,null,null,null,null,null,null,null,null,null,null,"","","","","","","","","","","","","",0,"","","","","15",0,"","","","","","","","","","","","","",0,"","","","","18",0,null,"","","","","","","","","","","","","",0,"","","","","18",0,null,"","","","","","","","","","","","","",0,"","","","","19",0,null,"","","","","","","","","","","","","",0,"","","","","18",0,null,"","","","","","","","","","","","","",0,"","","","","17",0,null,"",0,0,0,0,0,0,0,0,0,null,null,null,null,null,null,0,0,null,0,0,0,0,0,null,0,0,null,0,0,0,0,0,null,0,0,null,0,0,0,0,0,null,0,0,null,0,0,0,0,0,null,0,0,null,0,0,0,0,0,null,null,0,null,0,null,0,null,0,null,0,null,{"$f":"aaa","v":2},{"$f":"bbb","v":2},{"$f":"ccc","v":2},{"$f":"dddd","v":2},null,{"$f":"aaa","v":2},{"$f":"bbb","v":2},{"$f":"ccc","v":2},{"$f":"dddd","v":2},{"$f":"eee","v":2},{"$f":"fff","v":2},"","","","","","","","","","","","","",0,"","","","","","","","","","","","","","","","","","","","","","","","",0,"","","","","","","","","","","","","","","","","",0,0,0,0,0,0,0,0,0,0,0,"","","0",0,0,0,0,0,0,0,"",0,0,0,0,0,0,0,0,"","","0",0,0,0,0,null,0,0,0,0,"","","0",0,0,0,0,null,0,0,0,0,"","","0",0,0,0,0,null,0,0,0,0,"","","0",0,0,0,0,0,0,0,0,"","","0",0,0,0,0,null,0,0,0,0,"","","0",0,0,0,0,null,null,null,null,null,"(4)",0]
[null,null,null,null,null,{"$f":"IF(序号!D54<>\"\",序号!D54,\"\")","v":""},null,null,{"$f":"IF(课程名称及编码!BJ55<>\"\",课程名称及编码!BJ55,\"\")","v":""},null,null,null,null,null,null,null,null,null,null,null,null,null,null,null,null,null,null,"",null,null,"",null,null,"",null,null,"",null,null,null,null,null,"",null,null,null,null,null,null,null,null,null,null,null,null,null,null,null,null,null,null,null,null,null,null,null,null,null,null,null,null,null,null,null,null,null,null,null,null,null,null,null,null,null,null,null,null,null,null,null,null,null,null,null,null,null,null,"","","","","","","","","","","","","",0,"","","","","15",0,"","","","","","","","","","","","","",0,"","","","","18",0,null,"","","","","","","","","","","","","",0,"","","","","18",0,null,"","","","","","","","","","","","","",0,"","","","","19",0,null,"","","","","","","","","","","","","",0,"","","","","18",0,null,"","","","","","","","","","","","","",0,"","","","","17",0,null,"",0,0,0,0,0,0,0,0,0,null,null,null,null,null,null,0,0,null,0,0,0,0,0,null,0,0,null,0,0,0,0,0,null,0,0,null,0,0,0,0,0,null,0,0,null,0,0,0,0,0,null,0,0,null,0,0,0,0,0,null,null,0,null,0,null,0,null,0,null,0,null,{"$f":"aaa","v":2},{"$f":"bbb","v":2},{"$f":"ccc","v":2},{"$f":"dddd","v":2},null,{"$f":"aaa","v":2},{"$f":"bbb","v":2},{"$f":"ccc","v":2},{"$f":"dddd","v":2},{"$f":"eee","v":2},{"$f":"fff","v":2},"","","","","","","","","","","","","",0,"","","","","","","","","","","","","","","","","","","","","","","","",0,"","","","","","","","","","","","","","","","","",0,0,0,0,0,0,0,0,0,0,0,"","","0",0,0,0,0,0,0,0,"",0,0,0,0,0,0,0,0,"","","0",0,0,0,0,null,0,0,0,0,"","","0",0,0,0,0,null,0,0,0,0,"","","0",0,0,0,0,null,0,0,0,0,"","","0",0,0,0,0,0,0,0,0,"","","0",0,0,0,0,null,0,0,0,0,"","","0",0,0,0,0,null,null,null,null,null,"1周",0]
[null,null,null,null,null,{"$f":"IF(序号!D55<>\"\",序号!D55,\"\")","v":""},null,null,{"$f":"IF(课程名称及编码!BJ56<>\"\",课程名称及编码!BJ56,\"\")","v":""},null,null,null,null,null,null,null,null,null,null,null,null,null,null,null,null,null,null,"",null,null,"",null,null,"",null,null,"",null,null,null,null,null,"",null,null,null,null,null,null,null,null,null,null,null,null,null,null,null,null,null,null,null,null,null,null,null,null,null,null,null,null,null,null,null,null,null,null,null,null,null,null,null,null,null,null,null,null,null,null,null,null,null,null,null,null,null,null,"","","","","","","","","","","","","",0,"","","","","15",0,"","","","","","","","","","","","","",0,"","","","","18",0,null,"","","","","","","","","","","","","",0,"","","","","18",0,null,"","","","","","","","","","","","","",0,"","","","","19",0,null,"","","","","","","","","","","","","",0,"","","","","18",0,null,"","","","","","","","","","","","","",0,"","","","","17",0,null,"",0,0,0,0,0,0,0,0,0,null,null,null,null,null,null,0,0,null,0,0,0,0,0,null,0,0,null,0,0,0,0,0,null,0,0,null,0,0,0,0,0,null,0,0,null,0,0,0,0,0,null,0,0,null,0,0,0,0,0,null,null,0,null,0,null,0,null,0,null,0,null,{"$f":"aaa","v":2},{"$f":"bbb","v":2},{"$f":"ccc","v":2},{"$f":"dddd","v":2},null,{"$f":"aaa","v":2},{"$f":"bbb","v":2},{"$f":"ccc","v":2},{"$f":"dddd","v":2},{"$f":"eee","v":2},{"$f":"fff","v":2},"","","","","","","","","","","","","",0,"","","","","","","","","","","","","","","","","","","","","","","","",0,"","","","","","","","","","","","","","","","","",0,0,0,0,0,0,0,0,0,0,0,"","","0",0,0,0,0,0,0,0,"",0,0,0,0,0,0,0,0,"","","0",0,0,0,0,null,0,0,0,0,"","","0",0,0,0,0,null,0,0,0,0,"","","0",0,0,0,0,null,0,0,0,0,"","","0",0,0,0,0,0,0,0,0,"","","0",0,0,0,0,null,0,0,0,0,"","","0",0,0,0,0,null,null,null,null,null,"2周",0]
[null,null,null,null,null,{"$f":"IF(序号!D56<>\"\",序号!D56,\"\")","v":""},null,null,{"$f":"IF(课程名称及编码!BJ57<>\"\",课程名称及编码!BJ57,\"\")","v":""},null,null,null,null,null,null,null,null,null,null,null,null,null,null,null,null,null,null,"",null,null,"",null,null,"",null,null,"",null,null,null,null,null,"",null,null,null,null,null,null,null,null,null,null,null,null,null,null,null,null,null,null,null,null,null,null,null,null,null,null,null,null,null,null,null,null,null,null,null,null,null,null,null,null,null,null,null,null,null,null,null,null,null,null,null,null,null,null,"","","","","","","","","","","","","",0,"","","","","15",0,"","","","","","","","","","","","","",0,"","","","","18",0,null,"","","","","","","","","","","","","",0,"","","","","18",0,null,"","","","","","","","","","","","","",0,"","","","","19",0,null,"","","","","","","","","","","","","",0,"","","","","18",0,null,"","","","","","","","","","","","","",0,"","","","","17",0,null,"",0,0,0,0,0,0,0,0,0,null,null,null,null,null,null,0,0,null,0,0,0,0,0,null,0,0,null,0,0,0,0,0,null,0,0,null,0,0,0,0,0,null,0,0,null,0,0,0,0,0,null,0,0,null,0,0,0,0,0,null,null,0,null,0,null,0,null,0,null,0,null,{"$f":"aaa","v":2},{"$f":"bbb","v":2},{"$f":"ccc","v":2},{"$f":"dddd","v":2},null,{"$f":"aaa","v":2},{"$f":"bbb","v":2},{"$f":"ccc","v":2},{"$f":"dddd","v":2},{"$f":"eee","v":2},{"$f":"fff","v":2},"","","","","","","","","","","","","",0,"","","","","","","","","","","","","","","","","","","","","","","","",0,"","","","","","","","","","","","","","","","","",0,0,0,0,0,0,0,0,0,0,0,"","","0",0,0,0,0,0,0,0,"",0,0,0,0,0,0,0,0,"","","0",0,0,0,0,null,0,0,0,0,"","","0",0,0,0,0,null,0,0,0,0,"","","0",0,0,0,0,null,0,0,0,0,"","","0",0,0,0,0,0,0,0,0,"","","0",0,0,0,0,null,0,0,0,0,"","","0",0,0,0,0,null,null,null,null,null,"3周",0]
[null,null,null,null,null,{"$f":"IF(序号!D57<>\"\",序号!D57,\"\")","v":""},null,null,{"$f":"IF(课程名称及编码!BJ58<>\"\",课程名称及编码!BJ58,\"\")","v":""},null,null,null,null,null,null,null,null,null,null,null,null,null,null,null,null,null,null,"",null,null,"",null,null,"",null,null,"",null,null,null,null,null,"",null,null,null,null,null,null,null,null,null,null,null,null,null,null,null,null,null,null,null,null,null,null,null,null,null,null,null,null,null,null,null,null,null,null,null,null,null,null,null,null,null,null,null,null,null,null,null,null,null,null,null,null,null,null,"","","","","","","","","","","","","",0,"","","","","15",0,"","","","","","","","","","","","","",0,"","","","","18",0,null,"","","","","","","","","","","","","",0,"","","","","18",0,null,"","","","","","","","","","","","","",0,"","","","","19",0,null,"","","","","","","","","","","","","",0,"","","","","18",0,null,"","","","","","","","","","","","","",0,"","","","","17",0,null,"",0,0,0,0,0,0,0,0,0,null,null,null,null,null,null,0,0,null,0,0,0,0,0,null,0,0,null,0,0,0,0,0,null,0,0,null,0,0,0,0,0,null,0,0,null,0,0,0,0,0,null,0,0,null,0,0,0,0,0,null,null,0,null,0,null,0,null,0,null,0,null,{"$f":"aaa","v":2},{"$f":"bbb","v":2},{"$f":"ccc","v":2},{"$f":"dddd","v":2},null,{"$f":"aaa","v":2},{"$f":"bbb","v":2},{"$f":"ccc","v":2},{"$f":"dddd","v":2},{"$f":"eee","v":2},{"$f":"fff","v":2},"","","","","","","","","","","","","",0,"","","","","","","","","","","","","","","","","","","","","","","","",0,"","","","","","","","","","","","","","","","","",0,0,0,0,0,0,0,0,0,0,0,"","","0",0,0,0,0,0,0,0,"",0,0,0,0,0,0,0,0,"","","0",0,0,0,0,null,0,0,0,0,"","","0",0,0,0,0,null,0,0,0,0,"","","0",0,0,0,0,null,0,0,0,0,"","","0",0,0,0,0,0,0,0,0,"","","0",0,0,0,0,null,0,0,0,0,"","","0",0,0,0,0,null,null,null,null,null,"4周",0]
[null,null,null,null,null,{"$f":"IF(序号!D58<>\"\",序号!D58,\"\")","v":""},null,null,{"$f":"IF(课程名称及编码!BJ59<>\"\",课程名称及编码!BJ59,\"\")","v":""},null,null,null,null,null,null,null,null,null,null,null,null,null,null,null,null,null,null,"",null,null,"",null,null,"",null,null,"",null,null,null,null,null,"",null,null,null,null,null,null,null,null,null,null,null,null,null,null,null,null,null,null,null,null,null,null,null,null,null,null,null,null,null,null,null,null,null,null,null,null,null,null,null,null,null,null,null,null,null,null,null,null,null,null,null,null,null,null,"","","","","","","","","","","","","",0,"","","","","15",0,"","","","","","","","","","","","","",0,"","","","","18",0,null,"","","","","","","","","","","","","",0,"","","","","18",0,null,"","","","","","","","","","","","","",0,"","","","","19",0,null,"","","","","","","","","","","","","",0,"","","","","18",0,null,"","","","","","","","","","","","","",0,"","","","","17",0,null,"",0,0,0,0,0,0,0,0,0,null,null,null,null,null,null,0,0,null,0,0,0,0,0,null,0,0,null,0,0,0,0,0,null,0,0,null,0,0,0,0,0,null,0,0,null,0,0,0,0,0,null,0,0,null,0,0,0,0,0,null,null,0,null,0,null,0,null,0,null,0,null,{"$f":"aaa","v":2},{"$f":"bbb","v":2},{"$f":"ccc","v":2},{"$f":"dddd","v":2},null,{"$f":"aaa","v":2},{"$f":"bbb","v":2},{"$f":"ccc","v":2},{"$f":"dddd","v":2},{"$f":"eee","v":2},{"$f":"fff","v":2},"","","","","","","","","","","","","",0,"","","","","","","","","","","","","","","","","","","","","","","","",0,"","","","","","","","","","","","","","","","","",0,0,0,0,0,0,0,0,0,0,0,"","","0",0,0,0,0,0,0,0,"",0,0,0,0,0,0,0,0,"","","0",0,0,0,0,null,0,0,0,0,"","","0",0,0,0,0,null,0,0,0,0,"","","0",0,0,0,0,null,0,0,0,0,"","","0",0,0,0,0,0,0,0,0,"","","0",0,0,0,0,null,0,0,0,0,"","","0",0,0,0,0,null,null,null,null,null,"5周",0]
[null,null,null,null,null,{"$f":"IF(序号!D59<>\"\",序号!D59,\"\")","v":""},null,null,{"$f":"IF(课程名称及编码!BJ60<>\"\",课程名称及编码!BJ60,\"\")","v":""},null,null,null,null,null,null,null,null,null,null,null,null,null,null,null,null,null,null,"",null,null,"",null,null,"",null,null,"",null,null,null,null,null,"",null,null,null,null,null,null,null,null,null,null,null,null,null,null,null,null,null,null,null,null,null,null,null,null,null,null,null,null,null,null,null,null,null,null,null,null,null,null,null,null,null,null,null,null,null,null,null,null,null,null,null,null,null,null,"","","","","","","","","","","","","",0,"","","","","15",0,"","","","","","","","","","","","","",0,"","","","","18",0,null,"","","","","","","","","","","","","",0,"","","","","18",0,null,"","","","","","","","","","","","","",0,"","","","","19",0,null,"","","","","","","","","","","","","",0,"","","","","18",0,null,"","","","","","","","","","","","","",0,"","","","","17",0,null,"",0,0,0,0,0,0,0,0,0,null,null,null,null,null,null,0,0,null,0,0,0,0,0,null,0,0,null,0,0,0,0,0,null,0,0,null,0,0,0,0,0,null,0,0,null,0,0,0,0,0,null,0,0,null,0,0,0,0,0,null,null,0,null,0,null,0,null,0,null,0,null,{"$f":"aaa","v":2},{"$f":"bbb","v":2},{"$f":"ccc","v":2},{"$f":"dddd","v":2},null,{"$f":"aaa","v":2},{"$f":"bbb","v":2},{"$f":"ccc","v":2},{"$f":"dddd","v":2},{"$f":"eee","v":2},{"$f":"fff","v":2},"","","","","","","","","","","","","",0,"","","","","","","","","","","","","","","","","","","","","","","","",0,"","","","","","","","","","","","","","","","","",0,0,0,0,0,0,0,0,0,0,0,"","","0",0,0,0,0,0,0,0,"",0,0,0,0,0,0,0,0,"","","0",0,0,0,0,null,0,0,0,0,"","","0",0,0,0,0,null,0,0,0,0,"","","0",0,0,0,0,null,0,0,0,0,"","","0",0,0,0,0,0,0,0,0,"","","0",0,0,0,0,null,0,0,0,0,"","","0",0,0,0,0,null,null,null,null,null,"6周",0]
[null,null,null,null,null,{"$f":"IF(序号!D60<>\"\",序号!D60,\"\")","v":""},null,null,{"$f":"IF(课程名称及编码!BJ61<>\"\",课程名称及编码!BJ61,\"\")","v":""},null,null,null,null,null,null,null,null,null,null,null,null,null,null,null,null,null,null,"",null,null,"",null,null,"",null,null,"",null,null,null,null,null,"",null,null,null,null,null,null,null,null,null,null,null,null,null,null,null,null,null,null,null,null,null,null,null,null,null,null,null,null,null,null,null,null,null,null,null,null,null,null,null,null,null,null,null,null,null,null,null,null,null,null,null,null,null,null,"","","","","","","","","","","","","",0,"","","","","15",0,"","","","","","","","","","","","","",0,"","","","","18",0,null,"","","","","","","","","","","","","",0,"","","","","18",0,null,"","","","","","","","","","","","","",0,"","","","","19",0,null,"","","","","","","","","","","","","",0,"","","","","18",0,null,"","","","","","","","","","","","","",0,"","","","","17",0,null,"",0,0,0,0,0,0,0,0,0,null,null,null,null,null,null,0,0,null,0,0,0,0,0,null,0,0,null,0,0,0,0,0,null,0,0,null,0,0,0,0,0,null,0,0,null,0,0,0,0,0,null,0,0,null,0,0,0,0,0,null,null,0,null,0,null,0,null,0,null,0,null,{"$f":"aaa","v":2},{"$f":"bbb","v":2},{"$f":"ccc","v":2},{"$f":"dddd","v":2},null,{"$f":"aaa","v":2},{"$f":"bbb","v":2},{"$f":"ccc","v":2},{"$f":"dddd","v":2},{"$f":"eee","v":2},{"$f":"fff","v":2},"","","","","","","","","","","","","",0,"","","","","","","","","","","","","","","","","","","","","","","","",0,"","","","","","","","","","","","","","","","","",0,0,0,0,0,0,0,0,0,0,0,"","","0",0,0,0,0,0,0,0,"",0,0,0,0,0,0,0,0,"","","0",0,0,0,0,null,0,0,0,0,"","","0",0,0,0,0,null,0,0,0,0,"","","0",0,0,0,0,null,0,0,0,0,"","","0",0,0,0,0,0,0,0,0,"","","0",0,0,0,0,null,0,0,0,0,"","","0",0,0,0,0,null,null,null,null,null,"7周",0]
[null,null,null,null,null,{"$f":"IF(序号!D61<>\"\",序号!D61,\"\")","v":""},null,null,{"$f":"IF(课程名称及编码!BJ62<>\"\",课程名称及编码!BJ62,\"\")","v":""},null,null,null,null,null,null,null,null,null,null,null,null,null,null,null,null,null,null,"",null,null,"",null,null,"",null,null,"",null,null,null,null,null,"",null,null,null,null,null,null,null,null,null,null,null,null,null,null,null,null,null,null,null,null,null,null,null,null,null,null,null,null,null,null,null,null,null,null,null,null,null,null,null,null,null,null,null,null,null,null,null,null,null,null,null,null,null,null,"","","","","","","","","","","","","",0,"","","","","15",0,"","","","","","","","","","","","","",0,"","","","","18",0,null,"","","","","","","","","","","","","",0,"","","","","18",0,null,"","","","","","","","","","","","","",0,"","","","","19",0,null,"","","","","","","","","","","","","",0,"","","","","18",0,null,"","","","","","","","","","","","","",0,"","","","","17",0,null,"",0,0,0,0,0,0,0,0,0,null,null,null,null,null,null,0,0,null,0,0,0,0,0,null,0,0,null,0,0,0,0,0,null,0,0,null,0,0,0,0,0,null,0,0,null,0,0,0,0,0,null,0,0,null,0,0,0,0,0,null,null,0,null,0,null,0,null,0,null,0,null,{"$f":"IF(JG78<>0,1,0)","v":0},null,{"$f":"IF(JP78<>0,1,0)","v":0},null,null,{"$f":"aaa","v":2},{"$f":"bbb","v":2},{"$f":"ccc","v":2},{"$f":"dddd","v":2},{"$f":"eee","v":2},{"$f":"fff","v":2},"","","","","","","","","","","","","",0,"","","","","","","","","","","","","","","","","","","","","","","","",0,"","","","","","","","","","","","","","","","","",0,0,0,0,0,0,0,0,0,0,0,"","","0",0,0,0,0,0,0,0,"",0,0,0,0,0,0,0,0,"","","0",0,0,0,0,null,0,0,0,0,"","","0",0,0,0,0,null,0,0,0,0,"","","0",0,0,0,0,null,0,0,0,0,"","","0",0,0,0,0,0,0,0,0,"","","0",0,0,0,0,null,0,0,0,0,"","","0",0,0,0,0,null,null,null,null,null,"8周",0]
[null,null,null,null,null,{"$f":"IF(序号!D62<>\"\",序号!D62,\"\")","v":""},null,null,{"$f":"IF(课程名称及编码!BJ63<>\"\",课程名称及编码!BJ63,\"\")","v":""},null,null,null,null,null,null,null,null,null,null,null,null,null,null,null,null,null,null,{"$f":"IF(LX79<>\"\",LX79,\"\")","v":""},null,null,{"$f":"IF(MW79<>\"\",MW79,\"\")","v":""},null,null,{"$f":"IF(HR79<>0,HR79,\"\")","v":""},null,null,{"$f":"IF(HX79<>0,HX79,IF(AH79=\"\",\"\",0))","v":""},null,null,null,null,null,"",null,null,null,null,null,null,null,null,null,null,null,null,null,null,null,null,null,null,null,null,null,null,null,null,null,null,null,null,null,null,null,null,null,null,null,null,null,null,null,null,null,null,null,null,null,null,null,null,null,null,null,null,null,null,"","","","","","","",{"$f":"CY79&CZ79","v":""},{"$f":"IF(DA79<>\"\",LEFT(DA79,1),\"\")","v":""},"",{"$f":"IF(CV79=1,26,\"\")","v":""},"",{"$f":"DB79&DC79&DD79&DE79","v":""},0,{"$f":"IF(DA79=\"\",DA79,RIGHT(DA79,LEN(DA79)-2))","v":""},"","",{"$f":"DH79&DI79&DJ79","v":""},{"$f":"IF(DK79=\"\",LEFT(AS$18,LEN(AS$18)-1),DK79)","v":"15"},{"$f":"DG79*DL79","v":0},"","","","","","","",{"$f":"DS79&DT79","v":""},{"$f":"IF(DU79<>\"\",LEFT(DU79,1),\"\")","v":""},"",{"$f":"IF(DP79=1,26,\"\")","v":""},"",{"$f":"DV79&DW79&DX79&DY79","v":""},0,{"$f":"IF(DU79=\"\",DU79,RIGHT(DU79,LEN(DU79)-2))","v":""},"","",{"$f":"EB79&EC79&ED79","v":""},{"$f":"IF(EE79=\"\",LEFT(AV$18,LEN(AV$18)-1),EE79)","v":"18"},{"$f":"EA79*EF79","v":0},null,{"$f":"IF(SEARCH(\"/\",AY79&\"/\",1)<=LEN(AY79),1,\"\")","v":""},{"$f":"IF(SEARCH(\"(\",AY79&\"(\",1)<=LEN(AY79),1,\"\")","v":""},{"$f":"IF(SEARCH(\"周\",AY79&\"周\",1)<=LEN(AY79),1,\"\")","v":""},{"$f":"IF(AND(EI79<>1,EJ79<>1,EK79<>1,LEN(AY79)>2),1,\"\")","v":""},{"$f":"IF(AND(EI79=1,LEFT(AY79)=\"/\"),1,\"\")","v":""},{"$f":"IF(EM79=1,RIGHT(AY79,LEN(AY79)-1),\"\")","v":""},{"$f":"IF(AND(EI79=1,EM79=\"\"),LEFT(AY79,LEN(AY79)-1),\"\")","v":""},{"$f":"EN79&EO79","v":""},{"$f":"IF(EP79<>\"\",LEFT(EP79,1),\"\")","v":""},{"$f":"IF(EJ79=1,MID(AY79,2,1),\"\")","v":""},{"$f":"IF(EK79=1,26,\"\")","v":""},{"$f":"IF(EL79=1,LEFT(AY79,1),\"\")","v":""},{"$f":"EQ79&ER79&ES79&ET79","v":""},{"$f":"IF(EU79=\"\",AY79,EU79)","v":0},{"$f":"IF(EP79=\"\",EP79,RIGHT(EP79,LEN(EP79)-2))","v":""},{"$f":"IF(EL79=1,RIGHT(AY79,LEN(AY79)-2),\"\")","v":""},{"$f":"IF(EK79=1,LEFT(AY79,LEN(AY79)-1),\"\")","v":""},{"$f":"EW79&EX79&EY79","v":""},{"$f":"IF(EZ79=\"\",LEFT(AY$18,LEN(AY$18)-1),EZ79)","v":"18"},{"$f":"EV79*FA79","v":0},null,{"$f":"IF(SEARCH(\"/\",BB79&\"/\",1)<=LEN(BB79),1,\"\")","v":""},{"$f":"IF(SEARCH(\"(\",BB79&\"(\",1)<=LEN(BB79),1,\"\")","v":""},{"$f":"IF(SEARCH(\"周\",BB79&\"周\",1)<=LEN(BB79),1,\"\")","v":""},{"$f":"IF(AND(FD79<>1,FE79<>1,FF79<>1,LEN(BB79)>2),1,\"\")","v":""},{"$f":"IF(AND(FD79=1,LEFT(BB79,1)=\"/\"),1,\"\")","v":""},{"$f":"IF(FH79=1,RIGHT(BB79,LEN(BB79)-1),\"\")","v":""},{"$f":"IF(AND(FD79=1,FH79=\"\"),LEFT(BB79,LEN(BB79)-1),\"\")","v":""},{"$f":"FI79&FJ79","v":""},{"$f":"IF(FK79<>\"\",LEFT(FK79,1),\"\")","v":""},{"$f":"IF(FE79=1,MID(BB79,2,1),\"\")","v":""},{"$f":"IF(FF79=1,26,\"\")","v":""},{"$f":"IF(FG79=1,LEFT(BB79,1),\"\")","v":""},{"$f":"FL79&FM79&FN79&FO79","v":""},{"$f":"IF(FP79=\"\",BB79,FP79)","v":0},{"$f":"IF(FK79=\"\",FK79,RIGHT(FK79,LEN(FK79)-2))","v":""},{"$f":"IF(FG79=1,RIGHT(BB79,LEN(BB79)-2),\"\")","v":""},{"$f":"IF(FF79=1,LEFT(BB79,LEN(BB79)-1),\"\")","v":""},{"$f":"FR79&FS79&FT79","v":""},{"$f":"IF(FU79=\"\",LEFT(BB$18,LEN(BB$18)-1),FU79)","v":"19"},{"$f":"FQ79*FV79","v":0},null,{"$f":"IF(SEARCH(\"/\",BE79&\"/\",1)<=LEN(BE79),1,\"\")","v":""},{"$f":"IF(SEARCH(\"(\",BE79&\"(\",1)<=LEN(BE79),1,\"\")","v":""},{"$f":"IF(SEARCH(\"周\",BE79&\"周\",1)<=LEN(BE79),1,\"\")","v":""},{"$f":"IF(AND(FY79<>1,FZ79<>1,GA79<>1,LEN(BE79)>2),1,\"\")","v":""},{"$f":"IF(AND(FY79=1,LEFT(BE79,1)=\"/\"),1,\"\")","v":""},{"$f":"IF(GC79=1,RIGHT(BE79,LEN(BE79)-1),\"\")","v":""},{"$f":"IF(AND(FY79=1,GC79=\"\"),LEFT(BE79,LEN(BE79)-1),\"\")","v":""},{"$f":"GD79&GE79","v":""},{"$f":"IF(GF79<>\"\",LEFT(GF79,1),\"\")","v":""},{"$f":"IF(FZ79=1,MID(BE79,2,1),\"\")","v":""},{"$f":"IF(GA79=1,26,\"\")","v":""},{"$f":"IF(GB79=1,LEFT(BE79,1),\"\")","v":""},{"$f":"GG79&GH79&GI79&GJ79","v":""},{"$f":"IF(GK79=\"\",BE79,GK79)","v":0},{"$f":"IF(GF79=\"\",GF79,RIGHT(GF79,LEN(GF79)-2))","v":""},{"$f":"IF(GB79=1,RIGHT(BE79,LEN(BE79)-2),\"\")","v":""},{"$f":"IF(GA79=1,LEFT(BE79,LEN(BE79)-1),\"\")","v":""},{"$f":"GM79&GN79&GO79","v":""},{"$f":"IF(GP79=\"\",LEFT(BE$18,LEN(BE$18)-1),GP79)","v":"18"},{"$f":"GL79*GQ79","v":0},null,{"$f":"IF(SEARCH(\"/\",BH79&\"/\",1)<=LEN(BH79),1,\"\")","v":""},{"$f":"IF(SEARCH(\"(\",BH79&\"(\",1)<=LEN(BH79),1,\"\")","v":""},{"$f":"IF(SEARCH(\"周\",BH79&\"周\",1)<=LEN(BH79),1,\"\")","v":""},{"$f":"IF(AND(GT79<>1,GU79<>1,GV79<>1,LEN(BH79)>2),1,\"\")","v":""},{"$f":"IF(AND(GT79=1,LEFT(BH79,1)=\"/\"),1,\"\")","v":""},{"$f":"IF(GX79=1,RIGHT(BH79,LEN(BH79)-1),\"\")","v":""},{"$f":"IF(AND(GT79=1,GX79=\"\"),LEFT(BH79,LEN(BH79)-1),\"\")","v":""},{"$f":"GY79&GZ79","v":""},{"$f":"IF(HA79<>\"\",LEFT(HA79,1),\"\")","v":""},{"$f":"IF(GU79=1,MID(BH79,2,1),\"\")","v":""},{"$f":"IF(GV79=1,26,\"\")","v":""},{"$f":"IF(GW79=1,LEFT(BH79,1),\"\")","v":""},{"$f":"HB79&HC79&HD79&HE79","v":""},{"$f":"IF(HF79=\"\",BH79,HF79)","v":0},{"$f":"IF(HA79=\"\",HA79,RIGHT(HA79,LEN(HA79)-2))","v":""},{"$f":"IF(GW79=1,RIGHT(BH79,LEN(BH79)-2),\"\")","v":""},{"$f":"IF(GV79=1,LEFT(BH79,LEN(BH79)-1),\"\")","v":""},{"$f":"HH79&HI79&HJ79","v":""},{"$f":"IF(HK79=\"\",LEFT(BH$18,LEN(BH$18)-1),HK79)","v":"17"},{"$f":"HG79*HL79","v":0},null,{"$f":"IF(OR(CU79=1,DO79=1,EJ79=1,FE79=1,FZ79=1,GU79=1),1,\"\")","v":""},{"$f":"SUM(DM79,EG79,FB79,FW79,GR79,HM79)","v":0},{"$f":"IF(HO79=\"\",HP79,\"(\"&HP79&\")\")","v":0},{"$f":"IFERROR(HQ79,\"\")","v":0},{"$f":"AN79","v":0},{"$f":"IF(AND(HO79=1,AN79<>\"\"),RIGHT(HS79,LEN(HS79)-1),HS79)","v":0},{"$f":"IF(AND(HO79=1,AN79<>\"\"),LEFT(HT79,LEN(HT79)-1),HT79)","v":0},{"$f":"HP79-HU79","v":0},{"$f":"IF(HO79=1,\"(\"&HV79&\")\",HV79)","v":0},{"$f":"IFERROR(HW79,\"\")","v":0},null,null,null,null,null,null,{"$f":"IF(DG79=\"26\",0,DG79)","v":0},{"$f":"IF(CU79=1,0,IE79)","v":0},null,0,0,0,0,0,null,{"$f":"IF(EA79=\"26\",0,EA79)","v":0},0,null,0,0,0,0,0,null,{"$f":"IF(EV79=\"26\",0,EV79)","v":0},0,null,0,0,0,0,0,null,{"$f":"IF(FQ79=\"26\",0,FQ79)","v":0},0,null,0,0,0,0,0,null,{"$f":"IF(GL79=\"26\",0,GL79)","v":0},0,null,0,0,0,0,0,null,null,{"$f":"IF(IF79<>0,1,0)","v":0},null,{"$f":"IF(IO79<>0,1,0)","v":0},null,{"$f":"IF(IX79<>0,1,0)","v":0},null,0,null,0,null,{"$f":"IF(JG79<>0,1,0)","v":0},null,{"$f":"IF(JP79<>0,1,0)","v":0},null,null,{"$f":"aaa","v":2},{"$f":"bbb","v":2},{"$f":"ccc","v":2},{"$f":"dddd","v":2},{"$f":"eee","v":2},{"$f":"fff","v":2},"","",{"$f":"IF(AY79<>\"\",1,\"\")","v":""},{"$f":"IF(BB79<>\"\",1,\"\")","v":""},{"$f":"IF(BE79<>\"\",1,\"\")","v":""},{"$f":"IF(BH79<>\"\",1,\"\")","v":""},{"$f":"IF(AND(KN79<>0,KT79=1),1,\"\")","v":""},{"$f":"IF(AND(KO79<>0,KU79=1),2,\"\")","v":""},{"$f":"IF(AND(KP79<>0,KV79=1),3,\"\")","v":""},{"$f":"IF(AND(KQ79<>0,KW79=1),4,\"\")","v":""},{"$f":"IF(AND(KR79<>0,KX79=1),5,\"\")","v":""},{"$f":"IF(AND(KS79<>0,KY79=1),6,\"\")","v":""},{"$f":"CONCATENATE(KZ79,LA79,LB79,LC79,LD79,LE79)","v":""},{"$f":"LEN(LF79)","v":0},{"$f":"IF(LG79=1,CONCATENATE(KZ79,LA79,LB79,LC79,LD79,LE79),\"\")","v":""},{"$f":"IF(LG79=2,LF79,\"\")","v":""},{"$f":"IF(LI79<>\"\",LEFT(LI79,1),\"\")","v":""},{"$f":"IF(LI79<>\"\",RIGHT(LI79,1),\"\")","v":""},{"$f":"IF(LI79<>\"\",LJ79&\",\"&LK79,\"\")","v":""},{"$f":"IF(LG79=3,LF79,\"\")","v":""},{"$f":"IF(LM79<>\"\",LEFT(LM79,1),\"\")","v":""},{"$f":"IF(LM79<>\"\",MID(LM79,2,1),\"\")","v":""},{"$f":"IF(LM79<>\"\",RIGHT(LM79,1),\"\")","v":""},{"$f":"IF(LM79<>\"\",LN79&\",\"&LO79&\",\"&LP79,\"\")","v":""},{"$f":"IF(LG79=4,LF79,\"\")","v":""},{"$f":"IF(LR79<>\"\",LEFT(LR79,1),\"\")","v":""},{"$f":"IF(LR79<>\"\",MID(LR79,2,1),\"\")","v":""},{"$f":"IF(LR79<>\"\",MID(LR79,3,1),\"\")","v":""},{"$f":"IF(LR79<>\"\",RIGHT(LR79,1),\"\")","v":""},{"$f":"IF(LR79<>\"\",LS79&\",\"&LT79&\",\"&LU79&\",\"&LV79,\"\")","v":""},{"$f":"LH79&LL79&LQ79&LW79","v":""},{"$f":"IF(AND(KT79=1,KZ79=\"\"),1,\"\")","v":""},{"$f":"IF(AND(KU79=1,LA79=\"\"),2,\"\")","v":""},{"$f":"IF(AND(KV79=1,LB79=\"\"),3,\"\")","v":""},{"$f":"IF(AND(KW79=1,LC79=\"\"),4,\"\")","v":""},{"$f":"IF(AND(KX79=1,LD79=\"\"),5,\"\")","v":""},{"$f":"IF(AND(KY79=1,LE79=\"\"),6,\"\")","v":""},{"$f":"CONCATENATE(LY79,LZ79,MA79,MB79,MC79,MD79)","v":""},{"$f":"LEN(ME79)","v":0},{"$f":"IF(MF79=1,ME79,\"\")","v":""},"",{"$f":"IF(MH79<>\"\",LEFT(ME79,1),\"\")","v":""},{"$f":"IF(MH79<>\"\",RIGHT(ME79,1),\"\")","v":""},{"$f":"IF(MH79<>\"\",MI79&\",\"&MJ79,\"\")","v":""},{"$f":"IF(MF79=3,ME79,\"\")","v":""},{"$f":"IF(ML79<>\"\",LEFT(ML79,1),\"\")","v":""},{"$f":"IF(ML79<>\"\",MID(ML79,2,1),\"\")","v":""},{"$f":"IF(ML79<>\"\",RIGHT(ML79,1),\"\")","v":""},{"$f":"IF(ML79<>\"\",MM79&\",\"&MN79&\",\"&MO79,\"\")","v":""},{"$f":"IF(MF79=4,ME79,\"\")","v":""},{"$f":"IF(MQ79<>\"\",LEFT(MQ79,1),\"\")","v":""},{"$f":"IF(MQ79<>\"\",MID(MQ79,2,1),\"\")","v":""},{"$f":"IF(MQ79<>\"\",MID(MQ79,3,1),\"\")","v":""},{"$f":"IF(MQ79<>\"\",RIGHT(MQ79,1),\"\")","v":""},{"$f":"IF(MQ79<>\"\",MR79&\",\"&MS79&\",\"&MT79&\",\"&MU79,\"\")","v":""},{"$f":"CONCATENATE(MG79,MK79,MP79,MV79)","v":""},{"$f":"IF(CV79=1,DJ79,0)","v":0},{"$f":"IF(DP79=1,ED79,0)","v":0},{"$f":"IF(EK79=1,EY79,0)","v":0},{"$f":"IF(FF79=1,FT79,0)","v":0},{"$f":"IF(GA79=1,GO79,0)","v":0},{"$f":"IF(GV79=1,HJ79,0)","v":0},{"$f":"MX79+MY79+MZ79+NA79+NB79+NC79","v":0},0,{"$f":"INT(NE79)","v":0},{"$f":"NE79-NF79","v":0},{"$f":"IF(NG79<0.35,0,\"\")","v":0},{"$f":"IF(AND(NG79>0.35,NG79<0.65),0.5,\"\")","v":""},{"$f":"IF(NG79>0.65,1,\"\")","v":""},{"$f":"NH79&NI79&NJ79","v":"0"},{"$f":"IF(ND79=0,NF79+NK79,0)","v":0},{"$f":"NL79+ND79","v":0},0,{"$f":"IFERROR(NN79,\"\")","v":0},0,0,0,"",0,0,0,0,0,{"$f":"INT(NX79)","v":0},{"$f":"NX79-NY79","v":0},{"$f":"IF(NZ79<0.35,0,\"\")","v":0},{"$f":"IF(AND(NZ79>0.35,NZ79<0.65),0.5,\"\")","v":""},{"$f":"IF(NZ79>0.65,1,\"\")","v":""},{"$f":"OA79&OB79&OC79","v":"0"},0,0,0,{"$f":"IFERROR(OG79,\"\")","v":0},null,0,{"$f":"INT(OJ79)","v":0},{"$f":"OJ79-OK79","v":0},{"$f":"IF(OL79<0.35,0,\"\")","v":0},{"$f":"IF(AND(OL79>0.35,OL79<0.65),0.5,\"\")","v":""},{"$f":"IF(OL79>0.65,1,\"\")","v":""},{"$f":"OM79&ON79&OO79","v":"0"},0,0,0,{"$f":"IFERROR(OS79,\"\")","v":0},null,0,{"$f":"INT(OV79)","v":0},{"$f":"OV79-OW79","v":0},{"$f":"IF(OX79<0.35,0,\"\")","v":0},{"$f":"IF(AND(OX79>0.35,OX79<0.65),0.5,\"\")","v":""},{"$f":"IF(OX79>0.65,1,\"\")","v":""},{"$f":"OY79&OZ79&PA79","v":"0"},0,0,0,{"$f":"IFERROR(PE79,\"\")","v":0},null,0,{"$f":"INT(PH79)","v":0},{"$f":"PH79-PI79","v":0},{"$f":"IF(PJ79<0.35,0,\"\")","v":0},{"$f":"IF(AND(PJ79>0.35,PJ79<0.65),0.5,\"\")","v":""},{"$f":"IF(PJ79>0.65,1,\"\")","v":""},{"$f":"PK79&PL79&PM79","v":"0"},0,0,0,{"$f":"IFERROR(PQ79,\"\")","v":0},0,{"$f":"INT(PS79)","v":0},{"$f":"PS79-PT79","v":0},{"$f":"IF(PU79<0.35,0,\"\")","v":0},{"$f":"IF(AND(PU79>0.35,PU79<0.65),0.5,\"\")","v":""},{"$f":"IF(PU79>0.65,1,\"\")","v":""},{"$f":"PV79&PW79&PX79","v":"0"},0,0,0,{"$f":"IFERROR(QB79,\"\")","v":0},null,0,{"$f":"INT(QE79)","v":0},{"$f":"QE79-QF79","v":0},{"$f":"IF(QG79<0.35,0,\"\")","v":0},{"$f":"IF(AND(QG79>0.35,QG79<0.65),0.5,\"\")","v":""},{"$f":"IF(QG79>0.65,1,\"\")","v":""},{"$f":"QH79&QI79&QJ79","v":"0"},0,0,0,{"$f":"IFERROR(QN79,\"\")","v":0},null,null,null,null,null,"9周",0]
[null,null,null,null,null,{"$f":"IF(序号!D63<>\"\",序号!D63,\"\")","v":""},null,null,{"$f":"IF(课程名称及编码!BJ64<>\"\",课程名称及编码!BJ64,\"\")","v":""},null,null,null,null,null,null,null,null,null,null,null,null,null,null,null,null,null,null,{"$f":"IF(LX80<>\"\",LX80,\"\")","v":""},null,null,{"$f":"IF(MW80<>\"\",MW80,\"\")","v":""},null,null,{"$f":"IF(HR80<>0,HR80,\"\")","v":""},null,null,{"$f":"IF(HX80<>0,HX80,IF(AH80=\"\",\"\",0))","v":""},null,null,null,null,null,"",null,null,null,null,null,null,null,null,null,null,null,null,null,null,null,null,null,null,null,null,null,null,null,null,null,null,null,null,null,null,null,null,null,null,null,null,null,null,null,null,null,null,null,null,null,null,null,null,null,null,null,null,null,null,{"$f":"IF(SEARCH(\"/\",AS80&\"/\",1)<=LEN(AS80),1,\"\")","v":""},{"$f":"IF(SEARCH(\"(\",AS80&\"(\",1)<=LEN(AS80),1,\"\")","v":""},{"$f":"IF(SEARCH(\"周\",AS80&\"周\",1)<=LEN(AS80),1,\"\")","v":""},{"$f":"IF(AND(CT80<>1,CU80<>1,CV80<>1,LEN(AS80)>2),1,\"\")","v":""},{"$f":"IF(AND(CT80=1,LEFT(AS80,1)=\"/\"),1,\"\")","v":""},{"$f":"IF(CX80=1,RIGHT(AS80,LEN(AS80)-1),\"\")","v":""},{"$f":"IF(AND(CT80=1,CX80=\"\"),LEFT(AS80,LEN(AS80)-1),\"\")","v":""},{"$f":"CY80&CZ80","v":""},{"$f":"IF(DA80<>\"\",LEFT(DA80,1),\"\")","v":""},{"$f":"IF(CU80=1,MID(AS80,2,1),\"\")","v":""},{"$f":"IF(CV80=1,26,\"\")","v":""},{"$f":"IF(CW80=1,LEFT(AS80,1),\"\")","v":""},{"$f":"DB80&DC80&DD80&DE80","v":""},{"$f":"IF(DF80=\"\",AS80,DF80)","v":0},{"$f":"IF(DA80=\"\",DA80,RIGHT(DA80,LEN(DA80)-2))","v":""},{"$f":"IF(CW80=1,RIGHT(AS80,LEN(AS80)-2),\"\")","v":""},{"$f":"IF(CV80=1,LEFT(AS80,LEN(AS80)-1),\"\")","v":""},{"$f":"DH80&DI80&DJ80","v":""},{"$f":"IF(DK80=\"\",LEFT(AS$18,LEN(AS$18)-1),DK80)","v":"15"},{"$f":"DG80*DL80","v":0},{"$f":"IF(SEARCH(\"/\",AV80&\"/\",1)<=LEN(AV80),1,\"\")","v":""},{"$f":"IF(SEARCH(\"(\",AV80&\"(\",1)<=LEN(AV80),1,\"\")","v":""},{"$f":"IF(SEARCH(\"周\",AV80&\"周\",1)<=LEN(AV80),1,\"\")","v":""},{"$f":"IF(AND(DN80<>1,DO80<>1,DP80<>1,LEN(AV80)>2),1,\"\")","v":""},{"$f":"IF(AND(DN80=1,LEFT(AV80,1)=\"/\"),1,\"\")","v":""},{"$f":"IF(DR80=1,RIGHT(AV80,LEN(AV80)-1),\"\")","v":""},{"$f":"IF(AND(DN80=1,DR80=\"\"),LEFT(AV80,LEN(AV80)-1),\"\")","v":""},{"$f":"DS80&DT80","v":""},{"$f":"IF(DU80<>\"\",LEFT(DU80,1),\"\")","v":""},{"$f":"IF(DO80=1,MID(AV80,2,1),\"\")","v":""},{"$f":"IF(DP80=1,26,\"\")","v":""},{"$f":"IF(DQ80=1,LEFT(AV80,1),\"\")","v":""},{"$f":"DV80&DW80&DX80&DY80","v":""},{"$f":"IF(DZ80=\"\",AV80,DZ80)","v":0},{"$f":"IF(DU80=\"\",DU80,RIGHT(DU80,LEN(DU80)-2))","v":""},{"$f":"IF(DQ80=1,RIGHT(AV80,LEN(AV80)-2),\"\")","v":""},{"$f":"IF(DP80=1,LEFT(AV80,LEN(AV80)-1),\"\")","v":""},{"$f":"EB80&EC80&ED80","v":""},{"$f":"IF(EE80=\"\",LEFT(AV$18,LEN(AV$18)-1),EE80)","v":"18"},{"$f":"EA80*EF80","v":0},null,{"$f":"IF(SEARCH(\"/\",AY80&\"/\",1)<=LEN(AY80),1,\"\")","v":""},{"$f":"IF(SEARCH(\"(\",AY80&\"(\",1)<=LEN(AY80),1,\"\")","v":""},{"$f":"IF(SEARCH(\"周\",AY80&\"周\",1)<=LEN(AY80),1,\"\")","v":""},{"$f":"IF(AND(EI80<>1,EJ80<>1,EK80<>1,LEN(AY80)>2),1,\"\")","v":""},{"$f":"IF(AND(EI80=1,LEFT(AY80)=\"/\"),1,\"\")","v":""},{"$f":"IF(EM80=1,RIGHT(AY80,LEN(AY80)-1),\"\")","v":""},{"$f":"IF(AND(EI80=1,EM80=\"\"),LEFT(AY80,LEN(AY80)-1),\"\")","v":""},{"$f":"EN80&EO80","v":""},{"$f":"IF(EP80<>\"\",LEFT(EP80,1),\"\")","v":""},{"$f":"IF(EJ80=1,MID(AY80,2,1),\"\")","v":""},{"$f":"IF(EK80=1,26,\"\")","v":""},{"$f":"IF(EL80=1,LEFT(AY80,1),\"\")","v":""},{"$f":"EQ80&ER80&ES80&ET80","v":""},{"$f":"IF(EU80=\"\",AY80,EU80)","v":0},{"$f":"IF(EP80=\"\",EP80,RIGHT(EP80,LEN(EP80)-2))","v":""},{"$f":"IF(EL80=1,RIGHT(AY80,LEN(AY80)-2),\"\")","v":""},{"$f":"IF(EK80=1,LEFT(AY80,LEN(AY80)-1),\"\")","v":""},{"$f":"EW80&EX80&EY80","v":""},{"$f":"IF(EZ80=\"\",LEFT(AY$18,LEN(AY$18)-1),EZ80)","v":"18"},{"$f":"EV80*FA80","v":0},null,{"$f":"IF(SEARCH(\"/\",BB80&\"/\",1)<=LEN(BB80),1,\"\")","v":""},{"$f":"IF(SEARCH(\"(\",BB80&\"(\",1)<=LEN(BB80),1,\"\")","v":""},{"$f":"IF(SEARCH(\"周\",BB80&\"周\",1)<=LEN(BB80),1,\"\")","v":""},{"$f":"IF(AND(FD80<>1,FE80<>1,FF80<>1,LEN(BB80)>2),1,\"\")","v":""},{"$f":"IF(AND(FD80=1,LEFT(BB80,1)=\"/\"),1,\"\")","v":""},{"$f":"IF(FH80=1,RIGHT(BB80,LEN(BB80)-1),\"\")","v":""},{"$f":"IF(AND(FD80=1,FH80=\"\"),LEFT(BB80,LEN(BB80)-1),\"\")","v":""},{"$f":"FI80&FJ80","v":""},{"$f":"IF(FK80<>\"\",LEFT(FK80,1),\"\")","v":""},{"$f":"IF(FE80=1,MID(BB80,2,1),\"\")","v":""},{"$f":"IF(FF80=1,26,\"\")","v":""},{"$f":"IF(FG80=1,LEFT(BB80,1),\"\")","v":""},{"$f":"FL80&FM80&FN80&FO80","v":""},{"$f":"IF(FP80=\"\",BB80,FP80)","v":0},{"$f":"IF(FK80=\"\",FK80,RIGHT(FK80,LEN(FK80)-2))","v":""},{"$f":"IF(FG80=1,RIGHT(BB80,LEN(BB80)-2),\"\")","v":""},{"$f":"IF(FF80=1,LEFT(BB80,LEN(BB80)-1),\"\")","v":""},{"$f":"FR80&FS80&FT80","v":""},{"$f":"IF(FU80=\"\",LEFT(BB$18,LEN(BB$18)-1),FU80)","v":"19"},{"$f":"FQ80*FV80","v":0},null,{"$f":"IF(SEARCH(\"/\",BE80&\"/\",1)<=LEN(BE80),1,\"\")","v":""},{"$f":"IF(SEARCH(\"(\",BE80&\"(\",1)<=LEN(BE80),1,\"\")","v":""},{"$f":"IF(SEARCH(\"周\",BE80&\"周\",1)<=LEN(BE80),1,\"\")","v":""},{"$f":"IF(AND(FY80<>1,FZ80<>1,GA80<>1,LEN(BE80)>2),1,\"\")","v":""},{"$f":"IF(AND(FY80=1,LEFT(BE80,1)=\"/\"),1,\"\")","v":""},{"$f":"IF(GC80=1,RIGHT(BE80,LEN(BE80)-1),\"\")","v":""},{"$f":"IF(AND(FY80=1,GC80=\"\"),LEFT(BE80,LEN(BE80)-1),\"\")","v":""},{"$f":"GD80&GE80","v":""},{"$f":"IF(GF80<>\"\",LEFT(GF80,1),\"\")","v":""},{"$f":"IF(FZ80=1,MID(BE80,2,1),\"\")","v":""},{"$f":"IF(GA80=1,26,\"\")","v":""},{"$f":"IF(GB80=1,LEFT(BE80,1),\"\")","v":""},{"$f":"GG80&GH80&GI80&GJ80","v":""},{"$f":"IF(GK80=\"\",BE80,GK80)","v":0},{"$f":"IF(GF80=\"\",GF80,RIGHT(GF80,LEN(GF80)-2))","v":""},{"$f":"IF(GB80=1,RIGHT(BE80,LEN(BE80)-2),\"\")","v":""},{"$f":"IF(GA80=1,LEFT(BE80,LEN(BE80)-1),\"\")","v":""},{"$f":"GM80&GN80&GO80","v":""},{"$f":"IF(GP80=\"\",LEFT(BE$18,LEN(BE$18)-1),GP80)","v":"18"},{"$f":"GL80*GQ80","v":0},null,{"$f":"IF(SEARCH(\"/\",BH80&\"/\",1)<=LEN(BH80),1,\"\")","v":""},{"$f":"IF(SEARCH(\"(\",BH80&\"(\",1)<=LEN(BH80),1,\"\")","v":""},{"$f":"IF(SEARCH(\"周\",BH80&\"周\",1)<=LEN(BH80),1,\"\")","v":""},{"$f":"IF(AND(GT80<>1,GU80<>1,GV80<>1,LEN(BH80)>2),1,\"\")","v":""},{"$f":"IF(AND(GT80=1,LEFT(BH80,1)=\"/\"),1,\"\")","v":""},{"$f":"IF(GX80=1,RIGHT(BH80,LEN(BH80)-1),\"\")","v":""},{"$f":"IF(AND(GT80=1,GX80=\"\"),LEFT(BH80,LEN(BH80)-1),\"\")","v":""},{"$f":"GY80&GZ80","v":""},{"$f":"IF(HA80<>\"\",LEFT(HA80,1),\"\")","v":""},{"$f":"IF(GU80=1,MID(BH80,2,1),\"\")","v":""},{"$f":"IF(GV80=1,26,\"\")","v":""},{"$f":"IF(GW80=1,LEFT(BH80,1),\"\")","v":""},{"$f":"HB80&HC80&HD80&HE80","v":""},{"$f":"IF(HF80=\"\",BH80,HF80)","v":0},{"$f":"IF(HA80=\"\",HA80,RIGHT(HA80,LEN(HA80)-2))","v":""},{"$f":"IF(GW80=1,RIGHT(BH80,LEN(BH80)-2),\"\")","v":""},{"$f":"IF(GV80=1,LEFT(BH80,LEN(BH80)-1),\"\")","v":""},{"$f":"HH80&HI80&HJ80","v":""},{"$f":"IF(HK80=\"\",LEFT(BH$18,LEN(BH$18)-1),HK80)","v":"17"},{"$f":"HG80*HL80","v":0},null,{"$f":"IF(OR(CU80=1,DO80=1,EJ80=1,FE80=1,FZ80=1,GU80=1),1,\"\")","v":""},{"$f":"SUM(DM80,EG80,FB80,FW80,GR80,HM80)","v":0},{"$f":"IF(HO80=\"\",HP80,\"(\"&HP80&\")\")","v":0},{"$f":"IFERROR(HQ80,\"\")","v":0},{"$f":"AN80","v":0},{"$f":"IF(AND(HO80=1,AN80<>\"\"),RIGHT(HS80,LEN(HS80)-1),HS80)","v":0},{"$f":"IF(AND(HO80=1,AN80<>\"\"),LEFT(HT80,LEN(HT80)-1),HT80)","v":0},{"$f":"HP80-HU80","v":0},{"$f":"IF(HO80=1,\"(\"&HV80&\")\",HV80)","v":0},{"$f":"IFERROR(HW80,\"\")","v":0},null,null,null,null,null,null,{"$f":"IF(DG80=\"26\",0,DG80)","v":0},{"$f":"IF(CU80=1,0,IE80)","v":0},null,{"$f":"IF(CT80=1,DG80,0)","v":0},{"$f":"IF(IH80=\"8\",8,0)","v":0},{"$f":"IF(IH80=\"6\",6,0)","v":0},{"$f":"IF(IH80=\"4\",4,0)","v":0},{"$f":"IF(IH80=\"2\",2,0)","v":0},null,{"$f":"IF(EA80=\"26\",0,EA80)","v":0},{"$f":"IF(DO80=1,0,IN80)","v":0},null,{"$f":"IF(DN80=1,EA80,0)","v":0},{"$f":"IF(IQ80=\"8\",8,0)","v":0},{"$f":"IF(IQ80=\"6\",6,0)","v":0},{"$f":"IF(IQ80=\"4\",4,0)","v":0},{"$f":"IF(IQ80=\"2\",2,0)","v":0},null,{"$f":"IF(EV80=\"26\",0,EV80)","v":0},{"$f":"IF(EJ80=1,0,IW80)","v":0},null,{"$f":"IF(EI80=1,EV80,0)","v":0},{"$f":"IF(IZ80=\"8\",8,0)","v":0},{"$f":"IF(IZ80=\"6\",6,0)","v":0},{"$f":"IF(IZ80=\"4\",4,0)","v":0},{"$f":"IF(IZ80=\"2\",2,0)","v":0},null,{"$f":"IF(FQ80=\"26\",0,FQ80)","v":0},{"$f":"IF(FE80=1,0,JF80)","v":0},null,{"$f":"IF(FD80=1,FQ80,0)","v":0},{"$f":"IF(JI80=\"8\",8,0)","v":0},{"$f":"IF(JI80=\"6\",6,0)","v":0},{"$f":"IF(JI80=\"4\",4,0)","v":0},{"$f":"IF(JI80=\"2\",2,0)","v":0},null,{"$f":"IF(GL80=\"26\",0,GL80)","v":0},{"$f":"IF(FZ80=1,0,JO80)","v":0},null,{"$f":"IF(FY80=1,GL80,0)","v":0},{"$f":"IF(JR80=\"8\",8,0)","v":0},{"$f":"IF(JR80=\"6\",6,0)","v":0},{"$f":"IF(JR80=\"4\",4,0)","v":0},{"$f":"IF(JR80=\"2\",2,0)","v":0},null,null,{"$f":"IF(IF80<>0,1,0)","v":0},null,{"$f":"IF(IO80<>0,1,0)","v":0},null,{"$f":"IF(IX80<>0,1,0)","v":0},null,{"$f":"IF(JG80<>0,1,0)","v":0},null,{"$f":"IF(JP80<>0,1,0)","v":0},null,{"$f":"IF(JG80<>0,1,0)","v":0},null,{"$f":"IF(JP80<>0,1,0)","v":0},null,null,{"$f":"aaa","v":2},{"$f":"bbb","v":2},{"$f":"ccc","v":2},{"$f":"dddd","v":2},{"$f":"eee","v":2},{"$f":"fff","v":2},{"$f":"IF(AS80<>\"\",1,\"\")","v":""},{"$f":"IF(AV80<>\"\",1,\"\")","v":""},{"$f":"IF(AY80<>\"\",1,\"\")","v":""},{"$f":"IF(BB80<>\"\",1,\"\")","v":""},{"$f":"IF(BE80<>\"\",1,\"\")","v":""},{"$f":"IF(BH80<>\"\",1,\"\")","v":""},{"$f":"IF(AND(KN80<>0,KT80=1),1,\"\")","v":""},{"$f":"IF(AND(KO80<>0,KU80=1),2,\"\")","v":""},{"$f":"IF(AND(KP80<>0,KV80=1),3,\"\")","v":""},{"$f":"IF(AND(KQ80<>0,KW80=1),4,\"\")","v":""},{"$f":"IF(AND(KR80<>0,KX80=1),5,\"\")","v":""},{"$f":"IF(AND(KS80<>0,KY80=1),6,\"\")","v":""},{"$f":"CONCATENATE(KZ80,LA80,LB80,LC80,LD80,LE80)","v":""},{"$f":"LEN(LF80)","v":0},{"$f":"IF(LG80=1,CONCATENATE(KZ80,LA80,LB80,LC80,LD80,LE80),\"\")","v":""},{"$f":"IF(LG80=2,LF80,\"\")","v":""},{"$f":"IF(LI80<>\"\",LEFT(LI80,1),\"\")","v":""},{"$f":"IF(LI80<>\"\",RIGHT(LI80,1),\"\")","v":""},{"$f":"IF(LI80<>\"\",LJ80&\",\"&LK80,\"\")","v":""},{"$f":"IF(LG80=3,LF80,\"\")","v":""},{"$f":"IF(LM80<>\"\",LEFT(LM80,1),\"\")","v":""},{"$f":"IF(LM80<>\"\",MID(LM80,2,1),\"\")","v":""},{"$f":"IF(LM80<>\"\",RIGHT(LM80,1),\"\")","v":""},{"$f":"IF(LM80<>\"\",LN80&\",\"&LO80&\",\"&LP80,\"\")","v":""},{"$f":"IF(LG80=4,LF80,\"\")","v":""},{"$f":"IF(LR80<>\"\",LEFT(LR80,1),\"\")","v":""},{"$f":"IF(LR80<>\"\",MID(LR80,2,1),\"\")","v":""},{"$f":"IF(LR80<>\"\",MID(LR80,3,1),\"\")","v":""},{"$f":"IF(LR80<>\"\",RIGHT(LR80,1),\"\")","v":""},{"$f":"IF(LR80<>\"\",LS80&\",\"&LT80&\",\"&LU80&\",\"&LV80,\"\")","v":""},{"$f":"LH80&LL80&LQ80&LW80","v":""},{"$f":"IF(AND(KT80=1,KZ80=\"\"),1,\"\")","v":""},{"$f":"IF(AND(KU80=1,LA80=\"\"),2,\"\")","v":""},{"$f":"IF(AND(KV80=1,LB80=\"\"),3,\"\")","v":""},{"$f":"IF(AND(KW80=1,LC80=\"\"),4,\"\")","v":""},{"$f":"IF(AND(KX80=1,LD80=\"\"),5,\"\")","v":""},{"$f":"IF(AND(KY80=1,LE80=\"\"),6,\"\")","v":""},{"$f":"CONCATENATE(LY80,LZ80,MA80,MB80,MC80,MD80)","v":""},{"$f":"LEN(ME80)","v":0},{"$f":"IF(MF80=1,ME80,\"\")","v":""},{"$f":"IF(MF80=2,ME80,\"\")","v":""},{"$f":"IF(MH80<>\"\",LEFT(ME80,1),\"\")","v":""},{"$f":"IF(MH80<>\"\",RIGHT(ME80,1),\"\")","v":""},{"$f":"IF(MH80<>\"\",MI80&\",\"&MJ80,\"\")","v":""},{"$f":"IF(MF80=3,ME80,\"\")","v":""},{"$f":"IF(ML80<>\"\",LEFT(ML80,1),\"\")","v":""},{"$f":"IF(ML80<>\"\",MID(ML80,2,1),\"\")","v":""},{"$f":"IF(ML80<>\"\",RIGHT(ML80,1),\"\")","v":""},{"$f":"IF(ML80<>\"\",MM80&\",\"&MN80&\",\"&MO80,\"\")","v":""},{"$f":"IF(MF80=4,ME80,\"\")","v":""},{"$f":"IF(MQ80<>\"\",LEFT(MQ80,1),\"\")","v":""},{"$f":"IF(MQ80<>\"\",MID(MQ80,2,1),\"\")","v":""},{"$f":"IF(MQ80<>\"\",MID(MQ80,3,1),\"\")","v":""},{"$f":"IF(MQ80<>\"\",RIGHT(MQ80,1),\"\")","v":""},{"$f":"IF(MQ80<>\"\",MR80&\",\"&MS80&\",\"&MT80&\",\"&MU80,\"\")","v":""},{"$f":"CONCATENATE(MG80,MK80,MP80,MV80)","v":""},{"$f":"IF(CV80=1,DJ80,0)","v":0},{"$f":"IF(DP80=1,ED80,0)","v":0},{"$f":"IF(EK80=1,EY80,0)","v":0},{"$f":"IF(FF80=1,FT80,0)","v":0},{"$f":"IF(GA80=1,GO80,0)","v":0},{"$f":"IF(GV80=1,HJ80,0)","v":0},{"$f":"MX80+MY80+MZ80+NA80+NB80+NC80","v":0},{"$f":"IF(ND80=0,HP80/18,0)","v":0},{"$f":"INT(NE80)","v":0},{"$f":"NE80-NF80","v":0},{"$f":"IF(NG80<0.35,0,\"\")","v":0},{"$f":"IF(AND(NG80>0.35,NG80<0.65),0.5,\"\")","v":""},{"$f":"IF(NG80>0.65,1,\"\")","v":""},{"$f":"NH80&NI80&NJ80","v":"0"},{"$f":"IF(ND80=0,NF80+NK80,0)","v":0},{"$f":"NL80+ND80","v":0},{"$f":"IF(LEFT(HQ80,1)=\"(\",\"(\"&NM80&\")\",NM80)","v":0},{"$f":"IFERROR(NN80,\"\")","v":0},{"$f":"IF(LEFT(NO80,1)<>\"(\",NO80,MID(NO80,2,LEN(NO80)-2))","v":0},{"$f":"ROUND(NP80,0)","v":0},{"$f":"IF(LEFT(NO80,1)=\"(\",\"(\"&NQ80&\")\",NQ80)","v":0},"",0,0,0,0,0,{"$f":"INT(NX80)","v":0},{"$f":"NX80-NY80","v":0},{"$f":"IF(NZ80<0.35,0,\"\")","v":0},{"$f":"IF(AND(NZ80>0.35,NZ80<0.65),0.5,\"\")","v":""},{"$f":"IF(NZ80>0.65,1,\"\")","v":""},{"$f":"OA80&OB80&OC80","v":"0"},0,0,0,{"$f":"IFERROR(OG80,\"\")","v":0},null,0,{"$f":"INT(OJ80)","v":0},{"$f":"OJ80-OK80","v":0},{"$f":"IF(OL80<0.35,0,\"\")","v":0},{"$f":"IF(AND(OL80>0.35,OL80<0.65),0.5,\"\")","v":""},{"$f":"IF(OL80>0.65,1,\"\")","v":""},{"$f":"OM80&ON80&OO80","v":"0"},0,0,0,{"$f":"IFERROR(OS80,\"\")","v":0},null,0,{"$f":"INT(OV80)","v":0},{"$f":"OV80-OW80","v":0},{"$f":"IF(OX80<0.35,0,\"\")","v":0},{"$f":"IF(AND(OX80>0.35,OX80<0.65),0.5,\"\")","v":""},{"$f":"IF(OX80>0.65,1,\"\")","v":""},{"$f":"OY80&OZ80&PA80","v":"0"},0,0,0,{"$f":"IFERROR(PE80,\"\")","v":0},null,0,{"$f":"INT(PH80)","v":0},{"$f":"PH80-PI80","v":0},{"$f":"IF(PJ80<0.35,0,\"\")","v":0},{"$f":"IF(AND(PJ80>0.35,PJ80<0.65),0.5,\"\")","v":""},{"$f":"IF(PJ80>0.65,1,\"\")","v":""},{"$f":"PK80&PL80&PM80","v":"0"},0,0,0,{"$f":"IFERROR(PQ80,\"\")","v":0},0,{"$f":"INT(PS80)","v":0},{"$f":"PS80-PT80","v":0},{"$f":"IF(PU80<0.35,0,\"\")","v":0},{"$f":"IF(AND(PU80>0.35,PU80<0.65),0.5,\"\")","v":""},{"$f":"IF(PU80>0.65,1,\"\")","v":""},{"$f":"PV80&PW80&PX80","v":"0"},0,0,0,{"$f":"IFERROR(QB80,\"\")","v":0},null,0,{"$f":"INT(QE80)","v":0},{"$f":"QE80-QF80","v":0},{"$f":"IF(QG80<0.35,0,\"\")","v":0},{"$f":"IF(AND(QG80>0.35,QG80<0.65),0.5,\"\")","v":""},{"$f":"IF(QG80>0.65,1,\"\")","v":""},{"$f":"QH80&QI80&QJ80","v":"0"},0,0,0,{"$f":"IFERROR(QN80,\"\")","v":0},null,null,null,null,null,"10周",0]
[null,null,null,null,null,{"$f":"IF(序号!D64<>\"\",序号!D64,\"\")","v":""},null,null,{"$f":"IF(课程名称及编码!BJ65<>\"\",课程名称及编码!BJ65,\"\")","v":""},null,null,null,null,null,null,null,null,null,null,null,null,null,null,null,null,null,null,"",null,null,"",null,null,"",null,null,"",null,null,null,null,null,"",null,null,null,null,null,null,null,null,null,null,null,null,null,null,null,null,null,null,null,null,null,null,null,null,null,null,null,null,null,null,null,null,null,null,null,null,null,null,null,null,null,null,null,null,null,null,null,null,null,null,null,null,null,null,"","","","","","","","","","","","","",0,"","","","","15",0,"","","","","","","","","","","","","",0,"","","","","18",0,null,"","","","","","","","","","","","","",0,"","","","","18",0,null,"","","","","","","","","","","","","",0,"","","","","19",0,null,"","","","","","","","","","","","","",0,"","","","","18",0,null,"","","","","","","","","","","","","",0,"","","","","17",0,null,"",0,0,0,0,0,0,0,0,0,null,null,null,null,null,null,0,0,null,0,0,0,0,0,null,0,0,null,0,0,0,0,0,null,0,0,null,0,0,0,0,0,null,0,0,null,0,0,0,0,0,null,0,0,null,0,0,0,0,0,null,null,0,null,0,null,0,null,0,null,0,null,0,null,0,null,null,{"$f":"aaa","v":2},{"$f":"bbb","v":2},{"$f":"ccc","v":2},{"$f":"dddd","v":2},{"$f":"eee","v":2},{"$f":"fff","v":2},"","","","","","","","","","","","","",0,"","","","","","","","","","","","","","","","","","","","","","","","",0,"","","","","","","","","","","","","","","","","",0,0,0,0,0,0,0,0,0,0,0,"","","0",0,0,0,0,0,0,0,"",0,0,0,0,0,0,0,0,"","","0",0,0,0,0,null,0,0,0,0,"","","0",0,0,0,0,null,0,0,0,0,"","","0",0,0,0,0,null,0,0,0,0,"","","0",0,0,0,0,0,0,0,0,"","","0",0,0,0,0,null,0,0,0,0,"","","0",0,0,0,0,null,null,null,null,null,"11周",0]
[null,null,null,null,null,{"$f":"IF(序号!D65<>\"\",序号!D65,\"\")","v":""},null,null,{"$f":"IF(课程名称及编码!BJ66<>\"\",课程名称及编码!BJ66,\"\")","v":""},null,null,null,null,null,null,null,null,null,null,null,null,null,null,null,null,null,null,"",null,null,"",null,null,"",null,null,"",null,null,null,null,null,"",null,null,null,null,null,null,null,null,null,null,null,null,null,null,null,null,null,null,null,null,null,null,null,null,null,null,null,null,null,null,null,null,null,null,null,null,null,null,null,null,null,null,null,null,null,null,null,null,null,null,null,null,null,null,"","","","","","","","","","","","","",0,"","","","","15",0,"","","","","","","","","","","","","",0,"","","","","18",0,null,"","","","","","","","","","","","","",0,"","","","","18",0,null,"","","","","","","","","","","","","",0,"","","","","19",0,null,"","","","","","","","","","","","","",0,"","","","","18",0,null,"","","","","","","","","","","","","",0,"","","","","17",0,null,"",0,0,0,0,0,0,0,0,0,null,null,null,null,null,null,0,0,null,0,0,0,0,0,null,0,0,null,0,0,0,0,0,null,0,0,null,0,0,0,0,0,null,0,0,null,0,0,0,0,0,null,0,0,null,0,0,0,0,0,null,null,0,null,0,null,0,null,0,null,0,null,0,null,0,null,null,{"$f":"aaa","v":2},{"$f":"bbb","v":2},{"$f":"ccc","v":2},{"$f":"dddd","v":2},{"$f":"eee","v":2},{"$f":"fff","v":2},"","","","","","","","","","","","","",0,"","","","","","","","","","","","","","","","","","","","","","","","",0,"","","","","","","","","","","","","","","","","",0,0,0,0,0,0,0,0,0,0,0,"","","0",0,0,0,0,0,0,0,"",0,0,0,0,0,0,0,0,"","","0",0,0,0,0,null,0,0,0,0,"","","0",0,0,0,0,null,0,0,0,0,"","","0",0,0,0,0,null,0,0,0,0,"","","0",0,0,0,0,0,0,0,0,"","","0",0,0,0,0,null,0,0,0,0,"","","0",0,0,0,0,null,null,null,null,null,"12周",0]
[null,null,null,null,null,{"$f":"IF(序号!D66<>\"\",序号!D66,\"\")","v":""},null,null,{"$f":"IF(课程名称及编码!BJ67<>\"\",课程名称及编码!BJ67,\"\")","v":""},null,null,null,null,null,null,null,null,null,null,null,null,null,null,null,null,null,null,"",null,null,"",null,null,"",null,null,"",null,null,null,null,null,{"$f":"IF(NV83<>0,NV83,\"\")","v":""},null,null,null,null,null,null,null,null,null,null,null,null,null,null,null,null,null,null,null,null,null,null,null,null,null,null,null,null,null,null,null,null,null,null,null,null,null,null,null,null,null,null,null,null,null,null,null,null,null,null,null,null,null,null,"","","","","","","","","","","","","",0,"","","","","15",0,"","","","","","","","","","","","","",0,"","","","","18",0,null,"","","","","","","","","","","","","",0,"","","","","18",0,null,"","","","","","","","","","","","","",0,"","","","","19",0,null,"","","","","","","","","","","","","",0,"","","","","18",0,null,"","","","","","","","","","","","","",0,"","","","","17",0,null,"",0,0,{"$f":"IFERROR(HQ83,\"\")","v":0},{"$f":"AN83","v":0},{"$f":"IF(AND(HO83=1,AN83<>\"\"),RIGHT(HS83,LEN(HS83)-1),HS83)","v":0},{"$f":"IF(AND(HO83=1,AN83<>\"\"),LEFT(HT83,LEN(HT83)-1),HT83)","v":0},{"$f":"HP83-HU83","v":0},{"$f":"IF(HO83=1,\"(\"&HV83&\")\",HV83)","v":0},{"$f":"IFERROR(HW83,\"\")","v":0},null,null,null,null,null,null,0,0,null,0,0,0,0,0,null,0,0,null,0,0,0,0,0,null,0,0,null,0,0,0,0,0,null,0,0,null,0,0,0,0,0,null,0,0,null,0,0,0,0,0,null,null,0,null,0,null,0,null,0,null,0,null,0,null,0,null,null,{"$f":"aaa","v":2},{"$f":"bbb","v":2},{"$f":"ccc","v":2},{"$f":"dddd","v":2},{"$f":"eee","v":2},{"$f":"fff","v":2},"","","","","","","","","","","","","",0,"","","","","","","","","","","","","","","","","","","","","","","","",0,"","","","","","","","","","","","","","","","","",0,0,0,0,0,0,0,0,0,0,0,"","","0",0,0,0,0,0,0,0,"",0,0,0,0,0,0,0,0,"","","0",{"$f":"IF(ND83=0,NY83+OD83,0)","v":0},{"$f":"OE83+MX83","v":0},{"$f":"IF(LEFT(HQ83,1)=\"(\",\"(\"&OF83&\")\",OF83)","v":0},0,null,0,0,0,0,"","","0",{"$f":"IF(ND83=0,OK83+OP83,0)","v":0},{"$f":"OQ83+MY83","v":0},{"$f":"IF(LEFT(HQ83,1)=\"(\",\"(\"&OR83&\")\",OR83)","v":0},0,null,0,0,0,0,"","","0",{"$f":"IF(ND83=0,OW83+PB83,0)","v":0},{"$f":"PC83+MZ83","v":0},{"$f":"IF(LEFT(HQ83,1)=\"(\",\"(\"&PD83&\")\",PD83)","v":0},0,null,0,0,0,0,"","","0",{"$f":"IF(ND83=0,PI83+PN83,0)","v":0},{"$f":"PO83+NA83","v":0},{"$f":"IF(LEFT(HQ83,1)=\"(\",\"(\"&PP83&\")\",PP83)","v":0},0,0,0,0,0,"","","0",{"$f":"IF(ND83=0,PT83+PY83,0)","v":0},{"$f":"NB83+PZ83","v":0},{"$f":"IF(LEFT(HQ83,1)=\"(\",\"(\"&QA83&\")\",QA83)","v":0},0,null,0,0,0,0,"","","0",{"$f":"IF(NQ83=0,QF83+QK83,0)","v":0},{"$f":"NC83+QL83","v":0},{"$f":"IF(LEFT(HQ83,1)=\"(\",\"(\"&QM83&\")\",QM83)","v":0},0,null,null,null,null,null,"13周",0]
[null,null,null,null,null,{"$f":"IF(序号!D67<>\"\",序号!D67,\"\")","v":""},null,null,{"$f":"IF(课程名称及编码!BJ68<>\"\",课程名称及编码!BJ68,\"\")","v":""},null,null,null,null,null,null,null,null,null,null,null,null,null,null,null,null,null,null,"",null,null,"",null,null,"",null,null,"",null,null,null,null,null,"",null,null,null,null,null,null,null,null,null,null,null,null,null,null,null,null,null,null,null,null,null,null,null,null,null,null,null,null,null,null,null,null,null,null,null,null,null,null,null,null,null,null,null,null,null,null,null,null,null,null,null,null,null,null,"","","","","","","","","","","","","",0,"","","","","15",0,"","","","","","","","","","","","","",0,"","","","","18",0,null,"","","","","","","","","","","","","",0,"","","","","18",0,null,"","","","","","","","","","","","","",0,"","","","","19",0,null,"","","","","","","","","","","","","",0,"","","","","18",0,null,"","","","","","","","","","","","","",0,"","","","","17",0,null,"",0,0,0,0,0,0,0,0,0,null,null,null,null,null,null,0,0,null,0,0,0,0,0,null,0,0,null,0,0,0,0,0,null,0,0,null,0,0,0,0,0,null,0,0,null,0,0,0,0,0,null,0,0,null,0,0,0,0,0,null,null,0,null,0,null,0,null,0,null,0,null,0,null,0,null,null,{"$f":"aaa","v":2},{"$f":"bbb","v":2},{"$f":"ccc","v":2},{"$f":"dddd","v":2},{"$f":"eee","v":2},{"$f":"fff","v":2},"","","","","","","","","","","","","",0,"","","","","","","","","","","","","","","","","","","","","","","","",0,"","","","","","","","","","","","","","","","","",0,0,0,0,0,0,0,0,0,0,0,"","","0",0,0,0,0,0,0,0,{"$f":"IF(I84=\"gg081002\",1,\"\")","v":""},{"$f":"VALUE(NR84)","v":0},{"$f":"IF(NS84<>1,NT84,IF(NT84<4,4,NT84))","v":0},{"$f":"IF(N84<>\"毛思、特色理论概述\",NR84,IF(NR84<4,4,NR84))","v":0},{"$f":"IF(LEFT(NR84,1)=\"(\",0,NU84)","v":0},0,0,0,0,"","","0",0,0,0,0,null,0,0,0,0,"","","0",0,0,0,0,null,0,0,0,0,"","","0",0,0,0,0,null,0,0,0,0,"","","0",0,0,0,0,0,0,0,0,"","","0",0,0,0,0,null,0,0,0,0,"","","0",0,0,0,0,null,null,null,null,null,"14周",{"$f":"IF(SEARCH(\"(\",AN84&\"(\",1)<=LEN(AN84),0,VALUE(AN84))","v":0}]
[null,null,null,null,null,{"$f":"IF(序号!D68<>\"\",序号!D68,\"\")","v":""},null,null,{"$f":"IF(课程名称及编码!BJ69<>\"\",课程名称及编码!BJ69,\"\")","v":""},null,null,null,null,null,null,null,null,null,null,null,null,null,null,null,null,null,null,"",null,null,"",null,null,"",null,null,"",null,null,null,null,null,"",null,null,null,null,null,null,null,null,null,null,null,null,null,null,null,null,null,null,null,null,null,null,null,null,null,null,null,null,null,null,null,null,null,null,null,null,null,null,null,null,null,null,null,null,null,null,null,null,null,null,null,null,null,null,"","","","","","","","","","","","","",0,"","","","","15",0,"","","","","","","","","","","","","",0,"","","","","18",0,null,"","","","","","","","","","","","","",0,"","","","","18",0,null,"","","","","","","","","","","","","",0,"","","","","19",0,null,"","","","","","","","","","","","","",0,"","","","","18",0,null,"","","","","","","","","","","","","",0,"","","","","17",0,null,"",0,0,0,0,0,0,0,0,0,null,null,null,null,null,null,0,0,null,0,0,0,0,0,null,0,0,null,0,0,0,0,0,null,0,0,null,0,0,0,0,0,null,0,0,null,0,0,0,0,0,null,0,0,null,0,0,0,0,0,null,null,0,null,0,null,0,null,0,null,0,null,0,null,0,null,null,{"$f":"aaa","v":2},{"$f":"bbb","v":2},{"$f":"ccc","v":2},{"$f":"dddd","v":2},{"$f":"eee","v":2},{"$f":"fff","v":2},"","","","","","","","","","","","","",0,"","","","","","","","","","","","","","","","","","","","","","","","",0,"","","","","","","","","","","","","","","","","",0,0,0,0,0,0,0,0,0,0,0,"","","0",0,0,0,0,0,0,0,"",0,0,0,0,0,0,0,0,"","","0",0,0,0,0,null,0,0,0,0,"","","0",0,0,0,0,null,0,0,0,0,"","","0",0,0,0,0,null,0,0,0,0,"","","0",0,0,0,0,0,0,0,0,"","","0",0,0,0,0,null,0,0,0,0,"","","0",0,0,0,0,null,null,null,null,null,"15周",0]
[null,null,null,null,null,{"$f":"IF(序号!D69<>\"\",序号!D69,\"\")","v":""},null,null,{"$f":"IF(课程名称及编码!BJ70<>\"\",课程名称及编码!BJ70,\"\")","v":""},null,null,null,null,null,null,null,null,null,null,null,null,null,null,null,null,null,null,"",null,null,"",null,null,"",null,null,"",null,null,null,null,null,{"$f":"IF(NV86<>0,NV86,\"\")","v":""},null,null,null,null,null,null,null,null,null,null,null,null,null,null,null,null,null,null,null,null,null,null,null,null,null,null,null,null,null,null,null,null,null,null,null,null,null,null,null,null,null,null,null,null,null,null,null,null,null,null,null,null,null,null,"","","","","","","","","","","","","",0,"","","","","15",0,"","","","","","","","","","","","","",0,"","","","","18",0,null,"","","","","","","","","","","","","",0,"","","","","18",0,null,"","","","","","","","","","","","","",0,"","","","","19",0,null,"","","","","","","","","","","","","",0,"","","","","18",0,null,"","","","","","","","","","","","","",0,"","","","","17",0,null,"",0,0,0,0,0,0,0,0,0,null,null,null,null,null,null,0,0,null,0,0,0,0,0,null,0,0,null,0,0,0,0,0,null,0,0,null,0,0,0,0,0,null,0,0,null,0,0,0,0,0,null,0,0,null,0,0,0,0,0,null,null,0,null,0,null,0,null,0,null,0,null,0,null,0,null,null,{"$f":"aaa","v":2},{"$f":"bbb","v":2},{"$f":"ccc","v":2},{"$f":"dddd","v":2},{"$f":"eee","v":2},{"$f":"fff","v":2},"","","","","","","","","","","","","",0,"","","","","","","","","","","","","","","","","","","","","","","","",0,"","","","","","","","","","","","","","","","","",0,0,0,0,0,0,0,0,0,0,0,"","","0",0,0,0,0,0,0,0,"",0,0,0,0,0,0,0,0,"","","0",0,0,0,0,null,0,0,0,0,"","","0",0,0,0,0,null,0,0,0,0,"","","0",0,0,0,0,null,0,0,0,0,"","","0",0,0,0,0,0,0,0,0,"","","0",0,0,0,0,null,0,0,0,0,"","","0",0,0,0,0,null,null,null,null,null,"16周",0]
[null,null,null,null,null,{"$f":"IF(序号!D70<>\"\",序号!D70,\"\")","v":""},null,null,{"$f":"IF(课程名称及编码!BJ71<>\"\",课程名称及编码!BJ71,\"\")","v":""},null,null,null,null,null,null,null,null,null,null,null,null,null,null,null,null,null,null,"",null,null,"",null,null,"",null,null,"",null,null,null,null,null,"",null,null,null,null,null,null,null,null,null,null,null,null,null,null,null,null,null,null,null,null,null,null,null,null,null,null,null,null,null,null,null,null,null,null,null,null,null,null,null,null,null,null,null,null,null,null,null,null,null,null,null,null,null,null,"","","","","","","","","","","","","",0,"","","","","15",0,"","","","","","","","","","","","","",0,"","","","","18",0,null,"","","","","","","","","","","","","",0,"","","","","18",0,null,"","","","","","","","","","","","","",0,"","","","","19",0,null,"","","","","","","","","","","","","",0,"","","","","18",0,null,"","","","","","","","","","","","","",0,"","","","","17",0,null,"",0,0,0,0,0,0,0,0,0,null,null,null,null,null,null,0,0,null,0,0,0,0,0,null,0,0,null,0,0,0,0,0,null,0,0,null,0,0,0,0,0,null,0,0,null,0,0,0,0,0,null,0,0,null,0,0,0,0,0,null,null,0,null,0,null,0,null,0,null,0,null,0,null,0,null,null,{"$f":"aaa","v":2},{"$f":"bbb","v":2},{"$f":"ccc","v":2},{"$f":"dddd","v":2},{"$f":"eee","v":2},{"$f":"fff","v":2},"","","","","","","","","","","","","",0,"","","","","","","","","","","","","","","","","","","","","","","","",0,"","","","","","","","","","","","","","","","","",0,0,0,0,0,0,0,0,0,0,0,"","","0",0,0,0,0,0,0,0,"",0,0,0,0,0,0,0,0,"","","0",0,0,0,0,null,0,0,0,0,"","","0",0,0,0,0,null,0,0,0,0,"","","0",0,0,0,0,null,0,0,0,0,"","","0",0,0,0,0,0,0,0,0,"","","0",0,0,0,0,null,0,0,0,0,"","","0",0,0,0,0,null,null,null,null,null,"17周",0]
[null,"总学时、学分",null,null,null,null,null,null,null,null,null,null,null,null,null,null,null,null,null,null,null,null,null,null,null,null,null,null,null,null,null,null,null,{"$f":"SUM(AH19:AH87)","v":0},null,null,{"$f":"AH88-AN88","v":0},null,null,{"$f":"QV88","v":0},null,null,{"$f":"NW92","v":0},null,null,null,null,null,null,null,null,null,null,null,null,null,null,null,null,"总学时大于2800!!",null,null,null,null,null,null,null,null,null,null,null,null,null,null,null,null,null,null,null,null,null,null,null,null,null,null,null,null,null,null,null,null,null,null,null,null,null,null,null,null,null,null,null,null,null,null,null,null,null,null,null,null,null,null,null,null,null,null,null,null,null,null,null,null,null,null,null,null,null,null,null,null,null,null,null,null,null,null,null,null,null,null,null,null,null,null,null,null,null,null,null,null,null,null,null,null,null,null,null,null,null,null,null,null,null,null,null,null,null,null,null,null,null,null,null,null,null,null,null,null,null,null,null,null,null,null,null,null,null,null,null,null,null,null,null,null,null,null,null,null,null,null,null,null,null,null,null,null,null,null,null,null,null,null,null,null,null,null,null,null,null,null,null,null,null,null,null,null,null,null,null,null,null,null,null,null,null,null,null,null,null,null,null,null,null,null,null,null,null,null,null,null,null,null,null,null,null,null,null,null,null,null,null,null,null,null,null,null,null,null,null,null,null,null,null,null,null,null,null,null,null,null,null,null,null,null,null,null,null,null,null,null,null,null,null,null,null,null,null,null,null,null,null,null,null,null,null,null,null,null,null,null,null,null,null,null,null,null,null,null,null,null,null,null,null,null,null,null,null,null,null,null,null,null,null,null,null,null,null,null,null,null,null,null,null,null,null,null,null,null,null,null,null,null,null,null,null,null,null,null,null,null,null,null,null,null,null,null,null,null,null,null,null,null,null,null,null,null,null,null,null,null,null,null,null,null,null,null,null,null,null,null,null,null,null,null,null,null,null,null,null,null,null,null,null,null,null,null,null,null,null,null,null,null,null,null,null,null,null,null,null,null,null,null,null,null,null,null,null,null,null,null,null,null,null,null,null,null,null,null,null,null,null,null,null,null,null,null,null,null,null,null,null,null,null,null,null,null,null,null,null,null,"18周",{"$f":"SUM(QV19:QV87)","v":0}]
[null,"周学时数",null,null,null,null,null,null,null,null,null,null,null,null,null,null,null,null,null,null,null,null,null,null,null,null,null,null,null,null,null,null,null,null,null,null,null,null,null,null,null,null,null,null,{"$f":"IG18-IM18","v":0},null,null,{"$f":"IP18-IV18","v":0},null,null,{"$f":"IY18-JE18","v":0},null,null,{"$f":"JH18-JN18","v":0},null,null,{"$f":"JQ18-JW18","v":0},null,null,"实践学时占总学时比例",null,null,null,null,{"$f":"AN88/AH88","v":{"$error":"#DIV/0!"}},null,null,null,null,null,null,null,null,null,null,null,null,null,null,null,null,null,null,null,null,null,null,null,null,null,null,null,null,null,null,null,null,null,null,null,null,null,null,null,null,null,null,null,null,null,null,null,null,null,null,null,null,null,null,null,null,null,null,null,null,null,null,null,null,null,null,null,null,null,null,null,null,null,null,null,null,null,null,null,null,null,null,null,null,null,null,null,null,null,null,null,null,null,null,null,null,null,null,null,null,null,null,null,null,null,null,null,null,null,null,null,null,null,null,null,null,null,null,null,null,null,null,null,null,null,null,null,null,null,null,null,null,null,null,null,null,null,null,null,null,null,null,null,null,null,null,null,null,null,null,null,null,null,null,null,null,null,null,null,null,null,null,null,null,null,null,null,null,null,null,null,null,null,null,null,null,null,null,null,null,null,null,null,null,null,null,null,null,null,null,null,null,null,null,null,null,null,null,null,null,null,null,null,null,null,null,null,null,null,null,null,null,null,null,null,null,null,null,null,null,null,null,null,null,null,null,null,null,null,null,null,null,null,null,null,null,null,null,null,null,null,null,null,null,null,null,null,null,null,null,null,null,null,null,null,null,null,null,null,null,null,null,null,null,null,null,null,null,null,null,null,null,null,null,null,null,null,null,null,null,null,null,null,null,null,null,null,null,null,null,null,null,null,null,null,null,null,null,null,null,null,null,null,null,null,null,null,null,null,null,null,null,null,null,null,null,null,null,null,null,null,null,null,null,null,null,null,null,null,null,null,null,null,null,null,null,null,null,null,null,null,null,null,null,null,null,null,null,null,null,null,null,null,null,null,null,null,null,null,null,null,null,null,null,null,null,null,null,null,null,null,null,null,null,null,null,null,null,null,null,null,null,null,null,null,null,null,null,null,null,null,null,null,null,null,null,null,"19周"]
[null,"课程门数",null,null,null,null,null,null,null,null,null,null,null,null,null,null,null,null,null,null,null,null,null,null,null,null,null,null,null,null,null,null,null,null,null,null,null,null,null,null,null,null,null,null,{"$f":"JZ18","v":0},null,null,{"$f":"KB18","v":0},null,null,{"$f":"KD18","v":0},null,null,{"$f":"KF18","v":0},null,null,{"$f":"KH18","v":0},null,null,null,null,null,null,null,null,null,null,null,null,null,null,null,null,null,null,null,null,null,null,null,null,null,null,null,null,null,null,null,null,null,null,null,null,null,null,null,null,null,null,null,null,null,null,null,null,null,null,null,null,null,null,null,null,null,null,null,null,null,null,null,null,null,null,null,null,null,null,null,null,null,null,null,null,null,null,null,null,null,null,null,null,null,null,null,null,null,null,null,null,null,null,null,null,null,null,null,null,null,null,null,null,null,null,null,null,null,null,null,null,null,null,null,null,null,null,null,null,null,null,null,null,null,null,null,null,null,null,null,null,null,null,null,null,null,null,null,null,null,null,null,null,null,null,null,null,null,null,null,null,null,null,null,null,null,null,null,null,null,null,null,null,null,null,null,null,null,null,null,null,null,null,null,null,null,null,null,null,null,null,null,null,null,null,null,null,null,null,null,null,null,null,null,null,null,null,null,null,null,null,null,null,null,null,null,null,null,null,null,null,null,null,null,null,null,null,null,null,null,null,null,null,null,null,null,null,null,null,null,null,null,null,null,null,null,null,null,null,null,null,null,null,null,null,null,null,null,null,null,null,null,null,null,null,null,null,null,null,null,null,null,null,null,null,null,null,null,null,null,null,null,null,null,null,null,null,null,null,null,null,null,null,null,null,null,null,null,null,null,null,null,null,null,null,null,null,null,null,null,null,null,null,null,null,null,null,null,null,null,null,null,null,null,null,null,null,null,null,null,null,null,null,null,null,null,null,null,null,null,null,null,null,null,null,null,null,null,null,null,null,null,null,null,null,null,null,null,null,null,null,null,null,null,null,null,null,null,null,null,null,null,null,null,null,null,null,null,null,null,null,null,null,null,null,null,null,null,null,null,null,null,null,null,null,null,null,null,null,null,null,null,null,null,null,null,null,null,null,null,null,null,null,null,"20周"]
[null,"         制定人：                       系主任：                     教务处长：                        教学院长：   ",null,null,null,null,null,null,null,null,null,null,null,null,null,null,null,null,null,null,null,null,null,null,null,null,null,null,null,null,null,null,null,null,null,null,null,null,null,null,null,null,null,null,null,null,null,null,null,null,null,null,null,null,null,null,null,null,null,null,null,null,null,null,null,null,null,null,null,null,null,null,null,null,null,null,null,null,null,null,null,null,null,null,null,null,null,null,null,null,null,null,null,null,null,null,null,null,null,null,null,null,null,null,null,null,null,null,null,null,null,null,null,null,null,null,null,null,null,null,null,null,null,null,null,null,null,null,null,null,null,null,null,null,null,null,null,null,null,null,null,null,null,null,null,null,null,null,null,null,null,null,null,null,null,null,null,null,null,null,null,null,null,null,null,null,null,null,null,null,null,null,null,null,null,null,null,null,null,null,null,null,null,null,null,null,null,null,null,null,null,null,null,null,null,null,null,null,null,null,null,null,null,null,null,null,null,null,null,null,null,null,null,null,null,null,null,null,null,null,null,null,null,null,null,null,null,null,null,null,null,null,null,null,null,null,null,null,null,null,null,null,null,null,null,null,null,null,null,null,null,null,null,null,null,null,null,null,null,null,null,null,null,null,null,null,null,null,null,null,null,null,null,null,null,null,null,null,null,null,null,null,null,null,null,null,null,null,null,null,null,null,null,null,null,null,null,null,null,null,null,null,null,null,null,null,null,null,null,null,null,null,null,null,null,null,null,null,null,null,null,null,null,null,null,null,null,null,null,null,null,null,null,null,null,null,null,null,null,null,null,null,null,null,null,null,null,null,null,null,null,null,null,null,null,null,null,null,null,null,null,null,null,null,null,null,null,null,null,null,null,null,null,null,null,null,null,null,null,null,null,null,null,null,null,null,null,null,null,null,null,null,null,null,null,null,null,null,null,null,null,null,null,null,null,null,null,null,null,null,null,null,null,null,null,null,null,null,null,null,null,null,null,null,null,null,null,null,null,null,null,null,null,null,null,null,null,null,null,null,null,null,null,null,null,null,null,null,null,null,null,null,null,null,null,null,null,null,null,null,null,null,"21周"]
[null,null,null,null,null,null,null,null,null,null,null,null,null,null,null,null,null,null,null,null,null,null,null,null,null,null,null,null,null,null,null,null,null,null,null,null,null,null,null,null,null,null,null,null,null,null,null,null,null,null,null,null,null,null,null,null,null,null,null,null,null,null,null,null,null,null,null,null,null,null,null,null,null,null,null,null,null,null,null,null,null,null,null,null,null,null,null,null,null,null,null,null,null,null,null,null,null,null,null,null,null,null,null,null,null,null,null,null,null,null,null,null,null,null,null,null,null,null,null,null,null,null,null,null,null,null,null,null,null,null,null,null,null,null,null,null,null,null,null,null,null,null,null,null,null,null,null,null,null,null,null,null,null,null,null,null,null,null,null,null,null,null,null,null,null,null,null,null,null,null,null,null,null,null,null,null,null,null,null,null,null,null,null,null,null,null,null,null,null,null,null,null,null,null,null,null,null,null,null,null,null,null,null,null,null,null,null,null,null,null,null,null,null,null,null,null,null,null,null,null,null,null,null,null,null,null,null,null,null,null,null,null,null,null,null,null,null,null,null,null,null,null,null,null,null,null,null,null,null,null,null,null,null,null,null,null,null,null,null,null,null,null,null,null,null,null,null,null,null,null,null,null,null,null,null,null,null,null,null,null,null,null,null,null,null,null,null,null,null,null,null,null,null,null,null,null,null,null,null,null,null,null,null,null,null,null,null,null,null,null,null,null,null,null,null,null,null,null,null,null,null,null,null,null,null,null,null,null,null,null,null,null,null,null,null,null,null,null,null,null,null,null,null,null,null,null,null,null,null,null,null,null,null,null,null,null,null,null,null,null,null,null,null,null,null,null,null,null,null,null,null,null,null,null,null,null,null,null,null,null,null,null,null,null,null,null,{"$f":"SUM(NW19:NW90)","v":0},null,null,null,null,null,null,null,null,null,null,null,null,null,null,null,null,null,null,null,null,null,null,null,null,null,null,null,null,null,null,null,null,null,null,null,null,null,null,null,null,null,null,null,null,null,null,null,null,null,null,null,null,null,null,null,null,null,null,null,null,null,null,null,null,null,null,null,null,null,null,null,null,null,null,null,"22周"]
[null,null,null,null,null,null,null,null,null,null,null,null,null,null,null,null,null,null,null,null,null,null,null,null,null,null,null,null,null,null,null,null,null,null,null,null,null,null,null,null,null,null,null,null,null,null,null,null,null,null,null,null,null,null,null,null,null,null,null,null,null,null,null,null,null,null,null,null,null,null,null,null,null,null,null,null,null,null,null,null,null,null,null,null,null,null,null,null,null,null,null,null,null,null,null,null,null,null,null,null,null,null,null,null,null,null,null,null,null,null,null,null,null,null,null,null,null,null,null,null,null,null,null,null,null,null,null,null,null,null,null,null,null,null,null,null,null,null,null,null,null,null,null,null,null,null,null,null,null,null,null,null,null,null,null,null,null,null,null,null,null,null,null,null,null,null,null,null,null,null,null,null,null,null,null,null,null,null,null,null,null,null,null,null,null,null,null,null,null,null,null,null,null,null,null,null,null,null,null,null,null,null,null,null,null,null,null,null,null,null,null,null,null,null,null,null,null,null,null,null,null,null,null,null,null,null,null,null,null,null,null,null,null,null,null,null,null,null,null,null,null,null,null,null,null,null,null,null,null,null,null,null,null,null,null,null,null,null,null,null,null,null,null,null,null,null,null,null,null,null,null,null,null,null,null,null,null,null,null,null,null,null,null,null,null,null,null,null,null,null,null,null,null,null,null,null,null,null,null,null,null,null,null,null,null,null,null,null,null,null,null,null,null,null,null,null,null,null,null,null,null,null,null,null,null,null,null,null,null,null,null,null,null,null,null,null,null,null,null,null,null,null,null,null,null,null,null,null,null,null,null,null,null,null,null,null,null,null,null,null,null,null,null,null,null,null,null,null,null,null,null,null,null,null,null,null,null,null,null,null,null,null,null,null,null,null,null,null,null,null,null,null,null,null,null,null,null,null,null,null,null,null,null,null,null,null,null,null,null,null,null,null,null,null,null,null,null,null,null,null,null,null,null,null,null,null,null,null,null,null,null,null,null,null,null,null,null,null,null,null,null,null,null,null,null,null,null,null,null,null,null,null,null,null,null,null,null,null,null,null,null,null,"23周"]

{"sheet":"自动生成的开课信息","index":2,"n_rows":72,"n_cols":272,"rows_kept":72,"cut":false,"hidden":false,"merged":[[0,243,0,256],[0,259,0,271],[0,40,0,46],[0,186,0,198],[0,199,0,212],[0,214,0,226],[0,227,0,240],[0,0,0,6],[0,8,0,14],[0,17,0,22],[0,26,0,31],[0,32,0,38]]}
["第1学期开课信息",null,null,null,null,null,null,null,"第2学期开课信息",null,null,null,null,null,null,null,null,"第3学期开课信息",null,null,null,null,null,null,null,null,"第4学期开课信息",null,null,null,null,null,"第5学期开课信息",null,null,null,null,null,null,null,"第6学期开课信息",null,null,null,null,null,null,null,null,null,null,null,null,null,null,null,null,null,null,null,null,null,null,null,null,null,null,null,null,null,null,null,null,null,null,null,null,null,null,null,null,null,null,null,null,null,null,null,null,null,null,null,null,null,null,null,null,null,null,null,null,null,null,null,null,null,null,null,null,null,null,null,null,null,null,null,null,null,null,null,null,null,null,null,null,null,null,null,null,null,null,null,null,null,null,null,null,null,null,null,null,null,null,null,null,null,null,null,null,null,null,null,null,null,null,null,null,null,null,null,null,null,null,null,null,null,null,null,null,null,null,null,null,null,null,null,null,null,null,null,null,null,null,null,null,null,"第1学期开课信息准备",null,null,null,null,null,null,null,null,null,null,null,null,"第2学期开课信息准备",null,null,null,null,null,null,null,null,null,null,null,null,null,null,"第3学期开课信息准备",null,null,null,null,null,null,null,null,null,null,null,null,"第4学期开课信息准备",null,null,null,null,null,null,null,null,null,null,null,null,null,null,null,"第5学期开课信息准备",null,null,null,null,null,null,null,null,null,null,null,null,null,null,null,"第6学期开课信息准备"]
["课程编码","课程名称","考核方式","周学时","周数","总学时","学分",null,"课程编码",{"$f":"IF(ISERROR(GZ2),\"\",GZ2)","v":"第2学期课程名称"},{"$f":"IF(ISERROR(HA2),\"\",HA2)","v":"第2学期考核方式"},{"$f":"IF(ISERROR(自动生成的开课信息!HB2),\"\",自动生成的开课信息!HB2)","v":"周学时"},"周数","总学时","学分",null,null,{"$f":"IF(ISERROR(HN2),\"\",HN2)","v":"第3学期课程名称"},{"$f":"IF(ISERROR(HO2),\"\",HO2)","v":"第3学期考核方式"},{"$f":"IF(ISERROR(HP2),\"\",HP2)","v":"周学时"},{"$f":"IF(ISERROR(HQ2),\"\",HQ2)","v":"周数"},{"$f":"IF(ISERROR(HR2),\"\",HR2)","v":"总学时"},{"$f":"IF(ISERROR(HS2),\"\",HS2)","v":"学分"},null,null,"第4学期课程名称","第4学期考核方式","周学时","周数","总学时","学分",null,"第5学期课程编码","第5学期课程名称","第5学期考核方式","周学时","周数","总学时","学分",null,"第6学期课程名称","第6学期课程名称","第6学期考核方式","周学时","周数","总学时","学分",null,null,null,null,null,null,null,null,null,null,null,null,null,null,null,null,null,null,null,null,null,null,null,null,null,null,null,null,null,null,null,null,null,null,null,null,null,null,null,null,null,null,null,null,null,null,null,null,null,null,null,null,null,null,null,null,null,null,null,null,null,null,null,null,null,null,null,null,null,null,null,null,null,null,null,null,null,null,null,null,null,null,null,null,null,null,null,null,null,null,null,null,null,null,null,null,null,null,null,null,null,null,null,null,null,null,null,null,null,null,null,null,null,null,null,null,null,null,null,null,null,null,null,null,null,null,null,null,null,null,null,null,null,null,null,null,null,null,"第1学期课程编码","第1学期课程名称","第1学期考核方式","周学时","周数","总学时","学分",null,{"$f":"OFFSET($GE$2,SMALL(IF($GE$2:$GE$72<>\"\",ROW($2:$72),\"\"),ROW(GE1))-2,0)","v":"第1学期课程名称"},null,"周学时","周数","总学时","学分","第2学期课程编码","第2学期课程名称","第2学期考核方式","周学时","周数","总学时","学分",null,{"$f":"OFFSET($GS$2,SMALL(IF($GS$2:$GS$61<>\"\",ROW($I$2:$K$61),\"\"),ROW(GR1))-2,0)","v":"第2学期课程名称"},{"$f":"OFFSET($GT$2,SMALL(IF($GT$2:$GT$61<>\"\",ROW($I$2:$K$61),\"\"),ROW(GT1))-2,0)","v":"第2学期考核方式"},"周学时","周数","总学时","学分","第3学期课程编码","第3学期课程名称","第3学期考核方式","周学时","周数","总学时","学分",null,{"$f":"OFFSET($HG$2,SMALL(IF($HG$2:$HG$61<>\"\",ROW($HG$2:$HG$61),\"\"),ROW(HG1))-2,0)","v":"第3学期课程名称"},{"$f":"OFFSET($HH$2,SMALL(IF($HH$2:$HH$51<>\"\",ROW($HH$2:$HH$51),\"\"),ROW(HH1))-2,0)","v":"第3学期考核方式"},"周学时","周数","总学时","学分","第4学期课程编码","第4学期课程名称","第4学期考核方式","周学时","周数","总学时","学分",null,{"$f":"OFFSET($HU$2,SMALL(IF($HU$2:$HU$61<>\"\",ROW($HU$2:$HU$61),\"\"),ROW(HT1))-2,0)","v":"第4学期课程名称"},{"$f":"OFFSET($HV$2,SMALL(IF($HV$2:$HV$51<>\"\",ROW($HV$2:$HV$51),\"\"),ROW(HV1))-2,0)","v":"第4学期考核方式"},"周学时","周数","总学时","学分",null,null,"第5学期课程编码","第5学期课程名称","第5学期考核方式","周学时","周数","总学时","学分",null,{"$f":"OFFSET($IK$2,SMALL(IF($IK$2:$IK$61<>\"\",ROW($IK$2:$IK$61),\"\"),ROW(IJ1))-2,0)","v":"第5学期课程名称"},{"$f":"OFFSET($IL$2,SMALL(IF($IL$2:$IL$51<>\"\",ROW($IL$2:$IL$51),\"\"),ROW(IL1))-2,0)","v":"第5学期考核方式"},"周学时","周数","总学时","学分",null,"第6学期课程名称","第6学期课程名称","第6学期考核方式","周学时","周数","总学时","学分","第6学期课程编码",{"$f":"OFFSET($IZ$2,SMALL(IF($IZ$2:$IZ$51<>\"\",ROW($IZ$2:$IZ$51),\"\"),ROW(IZ1))-2,0)","v":"第6学期课程名称"},{"$f":"OFFSET($JA$2,SMALL(IF($JA$2:$JA$51<>\"\",ROW($JA$2:$JA$51),\"\"),ROW(JA1))-2,0)","v":"第6学期考核方式"},"周学时","周数","总学时","学分"]
[{"$f":"IF(ISERROR(GK3),\"\",GK3)","v":""},"",{"$f":"IF(ISERROR(GM3),\"\",GM3)","v":""},{"$f":"IF(ISERROR(GN3),\"\",GN3)","v":""},{"$f":"IF(ISERROR(GO3),\"\",GO3)","v":""},{"$f":"IF(ISERROR(GP3),\"\",GP3)","v":""},{"$f":"IF(ISERROR(GQ3),\"\",GQ3)","v":""},null,"","","",{"$f":"IF(ISERROR(自动生成的开课信息!HB3),\"\",自动生成的开课信息!HB3)","v":""},{"$f":"IF(ISERROR(自动生成的开课信息!HC3),\"\",自动生成的开课信息!HC3)","v":""},{"$f":"IF(ISERROR(自动生成的开课信息!HD3),\"\",自动生成的开课信息!HD3)","v":""},{"$f":"IF(ISERROR(自动生成的开课信息!HE3),\"\",自动生成的开课信息!HE3)","v":""},null,"","","","","","","",null,{"$f":"IF(ISERROR(IA3),\"\",IA3)","v":""},{"$f":"IF(ISERROR(IB3),\"\",IB3)","v":""},{"$f":"IF(ISERROR(IC3),\"\",IC3)","v":""},{"$f":"IF(ISERROR(ID3),\"\",ID3)","v":""},{"$f":"IF(ISERROR(IE3),\"\",IE3)","v":""},{"$f":"IF(ISERROR(IF3),\"\",IF3)","v":""},{"$f":"IF(ISERROR(IG3),\"\",IG3)","v":""},null,{"$f":"IF(ISERROR(IQ3),\"\",IQ3)","v":""},"",{"$f":"IF(ISERROR(IS3),\"\",IS3)","v":""},{"$f":"IF(ISERROR(IT3),\"\",IT3)","v":""},{"$f":"IF(ISERROR(IU3),\"\",IU3)","v":""},{"$f":"IF(ISERROR(IV3),\"\",IV3)","v":""},{"$f":"IF(ISERROR(IW3),\"\",IW3)","v":""},null,{"$f":"IF(ISERROR(JF3),\"\",JF3)","v":""},"",{"$f":"IF(ISERROR(JH3),\"\",JH3)","v":""},{"$f":"IF(ISERROR(JI3),\"\",JI3)","v":""},{"$f":"IF(ISERROR(JJ3),\"\",JJ3)","v":""},{"$f":"IF(ISERROR(JK3),\"\",JK3)","v":""},{"$f":"IF(ISERROR(JL3),\"\",JL3)","v":""},null,null,null,null,null,null,null,null,null,null,null,null,null,null,null,null,null,null,null,null,null,null,null,null,null,null,null,null,null,null,null,null,null,null,null,null,null,null,null,null,null,null,null,null,null,null,null,null,null,null,null,null,null,null,null,null,null,null,null,null,null,null,null,null,null,null,null,null,null,null,null,null,null,null,null,null,null,null,null,null,null,null,null,null,null,null,null,null,null,null,null,null,null,null,null,null,null,null,null,null,null,null,null,null,null,null,null,null,null,null,null,null,null,null,null,null,null,null,null,null,null,null,null,null,null,null,null,null,null,null,null,null,null,null,null,null,null,null,{"$f":"IF(AND(教学计划表!N19<>\"\",教学计划表!AS19<>\"\"),教学计划表!I19,\"\")","v":""},{"$f":"IF(教学计划表!AS19<>\"\",教学计划表!N19,\"\")","v":""},{"$f":"IF(GE3<>\"\",IF(SEARCH(\"1\",教学计划表!AB19&\"1\",1)<=LEN(教学计划表!AB19),\"考试\",\"考查\"),\"\")","v":""},{"$f":"IF(教学计划表!DG19<>0,教学计划表!DG19,\"\")","v":""},{"$f":"IF(教学计划表!DG19<>0,教学计划表!DL19,\"\")","v":""},{"$f":"IF(教学计划表!DG19<>0,教学计划表!DM19,\"\")","v":""},{"$f":"IF(教学计划表!DG19<>0,教学计划表!OH19,\"\")","v":""},{"$f":"OFFSET($GD$2,SMALL(IF($GD$2:$GD$72<>\"\",ROW($2:$72),\"\"),ROW(GD2))-2,0)","v":{"$error":"#NUM!"}},{"$f":"OFFSET($GE$2,SMALL(IF($GE$2:$GE$72<>\"\",ROW($2:$72),\"\"),ROW(GE2))-2,0)","v":{"$error":"#NUM!"}},{"$f":"OFFSET($GF$2,SMALL(IF($GF$2:$GF$72<>\"\",ROW($2:$72),\"\"),ROW(GF2))-2,0)","v":{"$error":"#NUM!"}},{"$f":"OFFSET($GG$2,SMALL(IF($GG$2:$GG$72<>\"\",ROW($2:$72),\"\"),ROW(GG2))-2,0)","v":{"$error":"#NUM!"}},{"$f":"OFFSET($GH$2,SMALL(IF($GH$2:$GH$72<>\"\",ROW($2:$72),\"\"),ROW(GH2))-2,0)","v":{"$error":"#NUM!"}},{"$f":"GN3*GO3","v":{"$error":"#NUM!"}},{"$f":"OFFSET($GJ$2,SMALL(IF($GJ$2:$GJ$72<>\"\",ROW($2:$72),\"\"),ROW(GJ2))-2,0)","v":{"$error":"#NUM!"}},{"$f":"IF(AND(教学计划表!N19<>\"\",教学计划表!AV19<>\"\"),教学计划表!I19,\"\")","v":""},{"$f":"IF(教学计划表!AV19<>\"\",教学计划表!N19,\"\")","v":""},{"$f":"IF(GS3<>\"\",IF(SEARCH(\"2\",教学计划表!AB19&\"2\",1)<=LEN(教学计划表!AB19),\"考试\",\"考查\"),\"\")","v":""},{"$f":"IF(教学计划表!EA19<>0,教学计划表!EA19,\"\")","v":""},{"$f":"IF(教学计划表!EA19<>0,教学计划表!EF19,\"\")","v":""},{"$f":"IF(教学计划表!EA19<>0,教学计划表!EG19,\"\")","v":""},{"$f":"IF(教学计划表!EA19<>0,教学计划表!OT19,\"\")","v":""},{"$f":"OFFSET($GR$2,SMALL(IF($GR$2:$GR$72<>\"\",ROW($I$2:$K$72),\"\"),ROW(GR2))-2,0)","v":{"$error":"#NUM!"}},{"$f":"OFFSET($GS$2,SMALL(IF($GS$2:$GS$72<>\"\",ROW($I$2:$K$72),\"\"),ROW(GS2))-2,0)","v":{"$error":"#NUM!"}},{"$f":"OFFSET($GT$2,SMALL(IF($GT$2:$GT$72<>\"\",ROW($I$2:$K$72),\"\"),ROW(GT2))-2,0)","v":{"$error":"#NUM!"}},{"$f":"OFFSET($GU$2,SMALL(IF($GU$2:$GU$72<>\"\",ROW($I$2:$K$72),\"\"),ROW(GU2))-2,0)","v":{"$error":"#NUM!"}},{"$f":"OFFSET($GV$2,SMALL(IF($GV$2:$GV$72<>\"\",ROW($GV$2:$GV$72),\"\"),ROW(GV2))-2,0)","v":{"$error":"#NUM!"}},{"$f":"OFFSET($GW$2,SMALL(IF($GW$2:$GW$72<>\"\",ROW($GW$2:$GW$72),\"\"),ROW(GW2))-2,0)","v":{"$error":"#NUM!"}},{"$f":"OFFSET($GX$2,SMALL(IF($GX$2:$GX$72<>\"\",ROW($GX$2:$GX$72),\"\"),ROW(GX2))-2,0)","v":{"$error":"#NUM!"}},{"$f":"IF(AND(教学计划表!N19<>\"\",教学计划表!AY19<>\"\"),教学计划表!I19,\"\")","v":""},{"$f":"IF(教学计划表!AY19<>\"\",教学计划表!N19,\"\")","v":""},{"$f":"IF(HG3<>\"\",IF(SEARCH(\"3\",教学计划表!AB19&\"3\",1)<=LEN(教学计划表!AB19),\"考试\",\"考查\"),\"\")","v":""},{"$f":"IF(教学计划表!EV19<>0,教学计划表!EV19,\"\")","v":""},{"$f":"IF(教学计划表!EV19<>0,教学计划表!FA19,\"\")","v":""},{"$f":"IF(教学计划表!EV19<>0,教学计划表!FB19,\"\")","v":""},{"$f":"IF(教学计划表!EV19<>0,教学计划表!PF19,\"\")","v":""},{"$f":"OFFSET($HF$2,SMALL(IF($HF$2:$HF$72<>\"\",ROW($HF$2:$HF$72),\"\"),ROW(HF2))-2,0)","v":{"$error":"#NUM!"}},{"$f":"OFFSET($HG$2,SMALL(IF($HG$2:$HG$72<>\"\",ROW($HG$2:$HG$72),\"\"),ROW(HG2))-2,0)","v":{"$error":"#NUM!"}},{"$f":"OFFSET($HH$2,SMALL(IF($HH$2:$HH$72<>\"\",ROW($HH$2:$HH$72),\"\"),ROW(HH2))-2,0)","v":{"$error":"#NUM!"}},{"$f":"OFFSET($HI$2,SMALL(IF($HI$2:$HI$72<>\"\",ROW($HI$2:$HI$72),\"\"),ROW(HI2))-2,0)","v":{"$error":"#NUM!"}},{"$f":"OFFSET($HJ$2,SMALL(IF($HJ$2:$HJ$72<>\"\",ROW($HJ$2:$HJ$72),\"\"),ROW(HJ2))-2,0)","v":{"$error":"#NUM!"}},{"$f":"OFFSET($HK$2,SMALL(IF($HK$2:$HK$72<>\"\",ROW($HK$2:$HK$72),\"\"),ROW(HK2))-2,0)","v":{"$error":"#NUM!"}},{"$f":"OFFSET($HL$2,SMALL(IF($HL$2:$HL$72<>\"\",ROW($HL$2:$HL$72),\"\"),ROW(HL2))-2,0)","v":{"$error":"#NUM!"}},{"$f":"IF(AND(教学计划表!N19<>\"\",教学计划表!BB19<>\"\"),教学计划表!I19,\"\")","v":""},{"$f":"IF(教学计划表!BB19<>\"\",教学计划表!N19,\"\")","v":""},{"$f":"IF(HU3<>\"\",IF(SEARCH(\"4\",教学计划表!AB19&\"4\",1)<=LEN(教学计划表!AB19),\"考试\",\"考查\"),\"\")","v":""},{"$f":"IF(教学计划表!FQ19<>0,教学计划表!FQ19,\"\")","v":""},{"$f":"IF(教学计划表!FQ19<>0,教学计划表!FV19,\"\")","v":""},{"$f":"IF(教学计划表!FQ19<>0,教学计划表!FW19,\"\")","v":""},{"$f":"IF(教学计划表!FQ19<>0,教学计划表!PR19,\"\")","v":""},{"$f":"OFFSET($HT$2,SMALL(IF($HT$2:$HT$72<>\"\",ROW($HT$2:$HT$72),\"\"),ROW(HT2))-2,0)","v":{"$error":"#NUM!"}},{"$f":"OFFSET($HU$2,SMALL(IF($HU$2:$HU$72<>\"\",ROW($HU$2:$HU$72),\"\"),ROW(HU2))-2,0)","v":{"$error":"#NUM!"}},{"$f":"OFFSET($HV$2,SMALL(IF($HV$2:$HV$72<>\"\",ROW($HV$2:$HV$72),\"\"),ROW(HV2))-2,0)","v":{"$error":"#NUM!"}},{"$f":"OFFSET($HW$2,SMALL(IF($HW$2:$HW$72<>\"\",ROW($HW$2:$HW$72),\"\"),ROW(HW2))-2,0)","v":{"$error":"#NUM!"}},{"$f":"OFFSET($HX$2,SMALL(IF($HX$2:$HX$72<>\"\",ROW($HX$2:$HX$72),\"\"),ROW(HX2))-2,0)","v":{"$error":"#NUM!"}},{"$f":"OFFSET($HY$2,SMALL(IF($HY$2:$HY$72<>\"\",ROW($HY$2:$HY$72),\"\"),ROW(HY2))-2,0)","v":{"$error":"#NUM!"}},{"$f":"OFFSET($HZ$2,SMALL(IF($HZ$2:$HZ$72<>\"\",ROW($HZ$2:$HZ$72),\"\"),ROW(HZ2))-2,0)","v":{"$error":"#NUM!"}},null,null,{"$f":"IF(AND(教学计划表!N19<>\"\",教学计划表!BE19<>\"\"),教学计划表!I19,\"\")","v":""},{"$f":"IF(教学计划表!BE19<>\"\",教学计划表!N19,\"\")","v":""},{"$f":"IF(IK3<>\"\",IF(SEARCH(\"5\",教学计划表!AB19&\"5\",1)<=LEN(教学计划表!AB19),\"考试\",\"考查\"),\"\")","v":""},{"$f":"IF(教学计划表!GL19<>0,教学计划表!GL19,\"\")","v":""},{"$f":"IF(教学计划表!GL19<>0,教学计划表!GQ19,\"\")","v":""},{"$f":"IF(教学计划表!GL19<>0,教学计划表!GR19,\"\")","v":""},{"$f":"IF(教学计划表!GL19<>0,教学计划表!QC19,\"\")","v":""},{"$f":"OFFSET($IJ$2,SMALL(IF($IJ$2:$IJ$72<>\"\",ROW($IJ$2:$IJ$72),\"\"),ROW(IJ2))-2,0)","v":{"$error":"#NUM!"}},{"$f":"OFFSET($IK$2,SMALL(IF($IK$2:$IK$72<>\"\",ROW($IK$2:$IK$72),\"\"),ROW(IK2))-2,0)","v":{"$error":"#NUM!"}},{"$f":"OFFSET($IL$2,SMALL(IF($IL$2:$IL$72<>\"\",ROW($IL$2:$IL$72),\"\"),ROW(IL2))-2,0)","v":{"$error":"#NUM!"}},{"$f":"OFFSET($IM$2,SMALL(IF($IM$2:$IM$72<>\"\",ROW($IM$2:$IM$72),\"\"),ROW(IM2))-2,0)","v":{"$error":"#NUM!"}},{"$f":"OFFSET($IN$2,SMALL(IF($IN$2:$IN$72<>\"\",ROW($IN$2:$IN$72),\"\"),ROW(IN2))-2,0)","v":{"$error":"#NUM!"}},{"$f":"OFFSET($IO$2,SMALL(IF($IO$2:$IO$72<>\"\",ROW($IO$2:$IO$72),\"\"),ROW(IO2))-2,0)","v":{"$error":"#NUM!"}},{"$f":"OFFSET($IP$2,SMALL(IF($IP$2:$IP$72<>\"\",ROW($IP$2:$IP$72),\"\"),ROW(IP2))-2,0)","v":{"$error":"#NUM!"}},null,{"$f":"IF(AND(教学计划表!N19<>\"\",教学计划表!BH19<>\"\"),教学计划表!I19,\"\")","v":""},{"$f":"IF(教学计划表!BH19<>\"\",教学计划表!N19,\"\")","v":""},{"$f":"IF(教学计划表!BH19<>\"\",IF(SEARCH(\"6\",教学计划表!AB19&\"6\",1)<=LEN(教学计划表!AB19),\"考试\",\"考查\"),\"\")","v":""},{"$f":"IF(教学计划表!BH19<>0,教学计划表!HG19,\"\")","v":""},{"$f":"IF(教学计划表!BH19<>0,教学计划表!HL19,\"\")","v":""},{"$f":"IF(教学计划表!BH19<>0,教学计划表!HM19,\"\")","v":""},{"$f":"IF(教学计划表!BH19<>0,教学计划表!QO19,\"\")","v":""},{"$f":"OFFSET($IY$2,SMALL(IF($IY$2:$IY$72<>\"\",ROW($IY$2:$IY$72),\"\"),ROW(IY2))-2,0)","v":{"$error":"#NUM!"}},{"$f":"OFFSET($IZ$2,SMALL(IF($IZ$2:$IZ$72<>\"\",ROW($IZ$2:$IZ$72),\"\"),ROW(IZ2))-2,0)","v":{"$error":"#NUM!"}},{"$f":"OFFSET($JA$2,SMALL(IF($JA$2:$JA$72<>\"\",ROW($JA$2:$JA$72),\"\"),ROW(JA2))-2,0)","v":{"$error":"#NUM!"}},{"$f":"OFFSET($JB$2,SMALL(IF($JB$2:$JB$72<>\"\",ROW($JB$2:$JB$72),\"\"),ROW(JB2))-2,0)","v":{"$error":"#NUM!"}},{"$f":"OFFSET($JC$2,SMALL(IF($JC$2:$JC$72<>\"\",ROW($JC$2:$JC$72),\"\"),ROW(JC2))-2,0)","v":{"$error":"#NUM!"}},{"$f":"OFFSET($JD$2,SMALL(IF($JD$2:$JD$72<>\"\",ROW($JD$2:$JD$72),\"\"),ROW(JD2))-2,0)","v":{"$error":"#NUM!"}},{"$f":"OFFSET($JE$2,SMALL(IF($JE$2:$JE$72<>\"\",ROW($JE$2:$JE$72),\"\"),ROW(JE2))-2,0)","v":{"$error":"#NUM!"}}]
[{"$f":"IF(ISERROR(GK4),\"\",GK4)","v":""},{"$f":"IF(ISERROR(GL4),\"\",GL4)","v":""},{"$f":"IF(ISERROR(GM4),\"\",GM4)","v":""},{"$f":"IF(ISERROR(GN4),\"\",GN4)","v":""},{"$f":"IF(ISERROR(GO4),\"\",GO4)","v":""},{"$f":"IF(ISERROR(GP4),\"\",GP4)","v":""},{"$f":"IF(ISERROR(GQ4),\"\",GQ4)","v":""},null,{"$f":"IF(ISERROR(GY4),\"\",GY4)","v":""},{"$f":"IF(ISERROR(GZ4),\"\",GZ4)","v":""},{"$f":"IF(ISERROR(HA4),\"\",HA4)","v":""},{"$f":"IF(ISERROR(自动生成的开课信息!HB4),\"\",自动生成的开课信息!HB4)","v":""},{"$f":"IF(ISERROR(自动生成的开课信息!HC4),\"\",自动生成的开课信息!HC4)","v":""},{"$f":"IF(ISERROR(自动生成的开课信息!HD4),\"\",自动生成的开课信息!HD4)","v":""},{"$f":"IF(ISERROR(自动生成的开课信息!HE4),\"\",自动生成的开课信息!HE4)","v":""},null,{"$f":"IF(ISERROR(HM4),\"\",HM4)","v":""},{"$f":"IF(ISERROR(HN4),\"\",HN4)","v":""},{"$f":"IF(ISERROR(HO4),\"\",HO4)","v":""},{"$f":"IF(ISERROR(HP4),\"\",HP4)","v":""},{"$f":"IF(ISERROR(HQ4),\"\",HQ4)","v":""},{"$f":"IF(ISERROR(HR4),\"\",HR4)","v":""},{"$f":"IF(ISERROR(HS4),\"\",HS4)","v":""},null,{"$f":"IF(ISERROR(IA4),\"\",IA4)","v":""},{"$f":"IF(ISERROR(IB4),\"\",IB4)","v":""},{"$f":"IF(ISERROR(IC4),\"\",IC4)","v":""},{"$f":"IF(ISERROR(ID4),\"\",ID4)","v":""},{"$f":"IF(ISERROR(IE4),\"\",IE4)","v":""},{"$f":"IF(ISERROR(IF4),\"\",IF4)","v":""},{"$f":"IF(ISERROR(IG4),\"\",IG4)","v":""},null,{"$f":"IF(ISERROR(IQ4),\"\",IQ4)","v":""},{"$f":"IF(ISERROR(IR4),\"\",IR4)","v":""},{"$f":"IF(ISERROR(IS4),\"\",IS4)","v":""},{"$f":"IF(ISERROR(IT4),\"\",IT4)","v":""},{"$f":"IF(ISERROR(IU4),\"\",IU4)","v":""},{"$f":"IF(ISERROR(IV4),\"\",IV4)","v":""},{"$f":"IF(ISERROR(IW4),\"\",IW4)","v":""},null,{"$f":"IF(ISERROR(JF4),\"\",JF4)","v":""},{"$f":"IF(ISERROR(JG4),\"\",JG4)","v":""},{"$f":"IF(ISERROR(JH4),\"\",JH4)","v":""},{"$f":"IF(ISERROR(JI4),\"\",JI4)","v":""},{"$f":"IF(ISERROR(JJ4),\"\",JJ4)","v":""},{"$f":"IF(ISERROR(JK4),\"\",JK4)","v":""},{"$f":"IF(ISERROR(JL4),\"\",JL4)","v":""},null,null,null,null,null,null,null,null,null,null,null,null,null,null,null,null,null,null,null,null,null,null,null,null,null,null,null,null,null,null,null,null,null,null,null,null,null,null,null,null,null,null,null,null,null,null,null,null,null,null,null,null,null,null,null,null,null,null,null,null,null,null,null,null,null,null,null,null,null,null,null,null,null,null,null,null,null,null,null,null,null,null,null,null,null,null,null,null,null,null,null,null,null,null,null,null,null,null,null,null,null,null,null,null,null,null,null,null,null,null,null,null,null,null,null,null,null,null,null,null,null,null,null,null,null,null,null,null,null,null,null,null,null,null,null,null,null,null,{"$f":"IF(AND(教学计划表!N20<>\"\",教学计划表!AS20<>\"\"),教学计划表!I20,\"\")","v":""},{"$f":"IF(教学计划表!AS20<>\"\",教学计划表!N20,\"\")","v":""},{"$f":"IF(GE4<>\"\",IF(SEARCH(\"1\",教学计划表!AB20&\"1\",1)<=LEN(教学计划表!AB20),\"考试\",\"考查\"),\"\")","v":""},{"$f":"IF(教学计划表!DG20<>0,教学计划表!DG20,\"\")","v":""},{"$f":"IF(教学计划表!DG20<>0,教学计划表!DL20,\"\")","v":""},{"$f":"IF(教学计划表!DG20<>0,教学计划表!DM20,\"\")","v":""},{"$f":"IF(教学计划表!DG20<>0,教学计划表!OH20,\"\")","v":""},{"$f":"OFFSET($GD$2,SMALL(IF($GD$2:$GD$72<>\"\",ROW($2:$72),\"\"),ROW(GD3))-2,0)","v":{"$error":"#NUM!"}},{"$f":"OFFSET($GE$2,SMALL(IF($GE$2:$GE$72<>\"\",ROW($2:$72),\"\"),ROW(GE3))-2,0)","v":{"$error":"#NUM!"}},{"$f":"OFFSET($GF$2,SMALL(IF($GF$2:$GF$72<>\"\",ROW($2:$72),\"\"),ROW(GF3))-2,0)","v":{"$error":"#NUM!"}},{"$f":"OFFSET($GG$2,SMALL(IF($GG$2:$GG$72<>\"\",ROW($2:$72),\"\"),ROW(GG3))-2,0)","v":{"$error":"#NUM!"}},{"$f":"OFFSET($GH$2,SMALL(IF($GH$2:$GH$72<>\"\",ROW($2:$72),\"\"),ROW(GH3))-2,0)","v":{"$error":"#NUM!"}},{"$f":"GN4*GO4","v":{"$error":"#NUM!"}},{"$f":"OFFSET($GJ$2,SMALL(IF($GJ$2:$GJ$72<>\"\",ROW($2:$72),\"\"),ROW(GJ3))-2,0)","v":{"$error":"#NUM!"}},{"$f":"IF(AND(教学计划表!N20<>\"\",教学计划表!AV20<>\"\"),教学计划表!I20,\"\")","v":""},{"$f":"IF(教学计划表!AV20<>\"\",教学计划表!N20,\"\")","v":""},{"$f":"IF(GS4<>\"\",IF(SEARCH(\"2\",教学计划表!AB20&\"2\",1)<=LEN(教学计划表!AB20),\"考试\",\"考查\"),\"\")","v":""},{"$f":"IF(教学计划表!EA20<>0,教学计划表!EA20,\"\")","v":""},{"$f":"IF(教学计划表!EA20<>0,教学计划表!EF20,\"\")","v":""},{"$f":"IF(教学计划表!EA20<>0,教学计划表!EG20,\"\")","v":""},{"$f":"IF(教学计划表!EA20<>0,教学计划表!OT20,\"\")","v":""},{"$f":"OFFSET($GR$2,SMALL(IF($GR$2:$GR$72<>\"\",ROW($I$2:$K$72),\"\"),ROW(GR3))-2,0)","v":{"$error":"#NUM!"}},{"$f":"OFFSET($GS$2,SMALL(IF($GS$2:$GS$72<>\"\",ROW($I$2:$K$72),\"\"),ROW(GS3))-2,0)","v":{"$error":"#NUM!"}},{"$f":"OFFSET($GT$2,SMALL(IF($GT$2:$GT$72<>\"\",ROW($I$2:$K$72),\"\"),ROW(GT3))-2,0)","v":{"$error":"#NUM!"}},{"$f":"OFFSET($GU$2,SMALL(IF($GU$2:$GU$72<>\"\",ROW($I$2:$K$72),\"\"),ROW(GU3))-2,0)","v":{"$error":"#NUM!"}},{"$f":"OFFSET($GV$2,SMALL(IF($GV$2:$GV$72<>\"\",ROW($GV$2:$GV$72),\"\"),ROW(GV3))-2,0)","v":{"$error":"#NUM!"}},{"$f":"OFFSET($GW$2,SMALL(IF($GW$2:$GW$72<>\"\",ROW($GW$2:$GW$72),\"\"),ROW(GW3))-2,0)","v":{"$error":"#NUM!"}},{"$f":"OFFSET($GX$2,SMALL(IF($GX$2:$GX$72<>\"\",ROW($GX$2:$GX$72),\"\"),ROW(GX3))-2,0)","v":{"$error":"#NUM!"}},{"$f":"IF(AND(教学计划表!N20<>\"\",教学计划表!AY20<>\"\"),教学计划表!I20,\"\")","v":""},{"$f":"IF(教学计划表!AY20<>\"\",教学计划表!N20,\"\")","v":""},{"$f":"IF(HG4<>\"\",IF(SEARCH(\"3\",教学计划表!AB20&\"3\",1)<=LEN(教学计划表!AB20),\"考试\",\"考查\"),\"\")","v":""},{"$f":"IF(教学计划表!EV20<>0,教学计划表!EV20,\"\")","v":""},{"$f":"IF(教学计划表!EV20<>0,教学计划表!FA20,\"\")","v":""},{"$f":"IF(教学计划表!EV20<>0,教学计划表!FB20,\"\")","v":""},{"$f":"IF(教学计划表!EV20<>0,教学计划表!PF20,\"\")","v":""},{"$f":"OFFSET($HF$2,SMALL(IF($HF$2:$HF$72<>\"\",ROW($HF$2:$HF$72),\"\"),ROW(HF3))-2,0)","v":{"$error":"#NUM!"}},{"$f":"OFFSET($HG$2,SMALL(IF($HG$2:$HG$72<>\"\",ROW($HG$2:$HG$72),\"\"),ROW(HG3))-2,0)","v":{"$error":"#NUM!"}},{"$f":"OFFSET($HH$2,SMALL(IF($HH$2:$HH$72<>\"\",ROW($HH$2:$HH$72),\"\"),ROW(HH3))-2,0)","v":{"$error":"#NUM!"}},{"$f":"OFFSET($HI$2,SMALL(IF($HI$2:$HI$72<>\"\",ROW($HI$2:$HI$72),\"\"),ROW(HI3))-2,0)","v":{"$error":"#NUM!"}},{"$f":"OFFSET($HJ$2,SMALL(IF($HJ$2:$HJ$72<>\"\",ROW($HJ$2:$HJ$72),\"\"),ROW(HJ3))-2,0)","v":{"$error":"#NUM!"}},{"$f":"OFFSET($HK$2,SMALL(IF($HK$2:$HK$72<>\"\",ROW($HK$2:$HK$72),\"\"),ROW(HK3))-2,0)","v":{"$error":"#NUM!"}},{"$f":"OFFSET($HL$2,SMALL(IF($HL$2:$HL$72<>\"\",ROW($HL$2:$HL$72),\"\"),ROW(HL3))-2,0)","v":{"$error":"#NUM!"}},{"$f":"IF(AND(教学计划表!N20<>\"\",教学计划表!BB20<>\"\"),教学计划表!I20,\"\")","v":""},{"$f":"IF(教学计划表!BB20<>\"\",教学计划表!N20,\"\")","v":""},{"$f":"IF(HU4<>\"\",IF(SEARCH(\"4\",教学计划表!AB20&\"4\",1)<=LEN(教学计划表!AB20),\"考试\",\"考查\"),\"\")","v":""},{"$f":"IF(教学计划表!FQ20<>0,教学计划表!FQ20,\"\")","v":""},{"$f":"IF(教学计划表!FQ20<>0,教学计划表!FV20,\"\")","v":""},{"$f":"IF(教学计划表!FQ20<>0,教学计划表!FW20,\"\")","v":""},{"$f":"IF(教学计划表!FQ20<>0,教学计划表!PR20,\"\")","v":""},{"$f":"OFFSET($HT$2,SMALL(IF($HT$2:$HT$72<>\"\",ROW($HT$2:$HT$72),\"\"),ROW(HT3))-2,0)","v":{"$error":"#NUM!"}},{"$f":"OFFSET($HU$2,SMALL(IF($HU$2:$HU$72<>\"\",ROW($HU$2:$HU$72),\"\"),ROW(HU3))-2,0)","v":{"$error":"#NUM!"}},{"$f":"OFFSET($HV$2,SMALL(IF($HV$2:$HV$72<>\"\",ROW($HV$2:$HV$72),\"\"),ROW(HV3))-2,0)","v":{"$error":"#NUM!"}},{"$f":"OFFSET($HW$2,SMALL(IF($HW$2:$HW$72<>\"\",ROW($HW$2:$HW$72),\"\"),ROW(HW3))-2,0)","v":{"$error":"#NUM!"}},{"$f":"OFFSET($HX$2,SMALL(IF($HX$2:$HX$72<>\"\",ROW($HX$2:$HX$72),\"\"),ROW(HX3))-2,0)","v":{"$error":"#NUM!"}},{"$f":"OFFSET($HY$2,SMALL(IF($HY$2:$HY$72<>\"\",ROW($HY$2:$HY$72),\"\"),ROW(HY3))-2,0)","v":{"$error":"#NUM!"}},{"$f":"OFFSET($HZ$2,SMALL(IF($HZ$2:$HZ$72<>\"\",ROW($HZ$2:$HZ$72),\"\"),ROW(HZ3))-2,0)","v":{"$error":"#NUM!"}},null,null,{"$f":"IF(AND(教学计划表!N20<>\"\",教学计划表!BE20<>\"\"),教学计划表!I20,\"\")","v":""},{"$f":"IF(教学计划表!BE20<>\"\",教学计划表!N20,\"\")","v":""},{"$f":"IF(IK4<>\"\",IF(SEARCH(\"5\",教学计划表!AB20&\"5\",1)<=LEN(教学计划表!AB20),\"考试\",\"考查\"),\"\")","v":""},{"$f":"IF(教学计划表!GL20<>0,教学计划表!GL20,\"\")","v":""},{"$f":"IF(教学计划表!GL20<>0,教学计划表!GQ20,\"\")","v":""},{"$f":"IF(教学计划表!GL20<>0,教学计划表!GR20,\"\")","v":""},{"$f":"IF(教学计划表!GL20<>0,教学计划表!QC20,\"\")","v":""},{"$f":"OFFSET($IJ$2,SMALL(IF($IJ$2:$IJ$72<>\"\",ROW($IJ$2:$IJ$72),\"\"),ROW(IJ3))-2,0)","v":{"$error":"#NUM!"}},{"$f":"OFFSET($IK$2,SMALL(IF($IK$2:$IK$72<>\"\",ROW($IK$2:$IK$72),\"\"),ROW(IK3))-2,0)","v":{"$error":"#NUM!"}},{"$f":"OFFSET($IL$2,SMALL(IF($IL$2:$IL$72<>\"\",ROW($IL$2:$IL$72),\"\"),ROW(IL3))-2,0)","v":{"$error":"#NUM!"}},{"$f":"OFFSET($IM$2,SMALL(IF($IM$2:$IM$72<>\"\",ROW($IM$2:$IM$72),\"\"),ROW(IM3))-2,0)","v":{"$error":"#NUM!"}},{"$f":"OFFSET($IN$2,SMALL(IF($IN$2:$IN$72<>\"\",ROW($IN$2:$IN$72),\"\"),ROW(IN3))-2,0)","v":{"$error":"#NUM!"}},{"$f":"OFFSET($IO$2,SMALL(IF($IO$2:$IO$72<>\"\",ROW($IO$2:$IO$72),\"\"),ROW(IO3))-2,0)","v":{"$error":"#NUM!"}},{"$f":"OFFSET($IP$2,SMALL(IF($IP$2:$IP$72<>\"\",ROW($IP$2:$IP$72),\"\"),ROW(IP3))-2,0)","v":{"$error":"#NUM!"}},null,{"$f":"IF(AND(教学计划表!N20<>\"\",教学计划表!BH20<>\"\"),教学计划表!I20,\"\")","v":""},{"$f":"IF(教学计划表!BH20<>\"\",教学计划表!N20,\"\")","v":""},{"$f":"IF(教学计划表!BH20<>\"\",IF(SEARCH(\"6\",教学计划表!AB20&\"6\",1)<=LEN(教学计划表!AB20),\"考试\",\"考查\"),\"\")","v":""},{"$f":"IF(教学计划表!BH20<>0,教学计划表!HG20,\"\")","v":""},{"$f":"IF(教学计划表!BH20<>0,教学计划表!HL20,\"\")","v":""},{"$f":"IF(教学计划表!BH20<>0,教学计划表!HM20,\"\")","v":""},{"$f":"IF(教学计划表!BH20<>0,教学计划表!QO20,\"\")","v":""},{"$f":"OFFSET($IY$2,SMALL(IF($IY$2:$IY$72<>\"\",ROW($IY$2:$IY$72),\"\"),ROW(IY3))-2,0)","v":{"$error":"#NUM!"}},{"$f":"OFFSET($IZ$2,SMALL(IF($IZ$2:$IZ$72<>\"\",ROW($IZ$2:$IZ$72),\"\"),ROW(IZ3))-2,0)","v":{"$error":"#NUM!"}},{"$f":"OFFSET($JA$2,SMALL(IF($JA$2:$JA$72<>\"\",ROW($JA$2:$JA$72),\"\"),ROW(JA3))-2,0)","v":{"$error":"#NUM!"}},{"$f":"OFFSET($JB$2,SMALL(IF($JB$2:$JB$72<>\"\",ROW($JB$2:$JB$72),\"\"),ROW(JB3))-2,0)","v":{"$error":"#NUM!"}},{"$f":"OFFSET($JC$2,SMALL(IF($JC$2:$JC$72<>\"\",ROW($JC$2:$JC$72),\"\"),ROW(JC3))-2,0)","v":{"$error":"#NUM!"}},{"$f":"OFFSET($JD$2,SMALL(IF($JD$2:$JD$72<>\"\",ROW($JD$2:$JD$72),\"\"),ROW(JD3))-2,0)","v":{"$error":"#NUM!"}},{"$f":"OFFSET($JE$2,SMALL(IF($JE$2:$JE$72<>\"\",ROW($JE$2:$JE$72),\"\"),ROW(JE3))-2,0)","v":{"$error":"#NUM!"}}]
["","","","","","","",null,"","","",{"$f":"IF(ISERROR(自动生成的开课信息!HB5),\"\",自动生成的开课信息!HB5)","v":""},{"$f":"IF(ISERROR(自动生成的开课信息!HC5),\"\",自动生成的开课信息!HC5)","v":""},{"$f":"IF(ISERROR(自动生成的开课信息!HD5),\"\",自动生成的开课信息!HD5)","v":""},{"$f":"IF(ISERROR(自动生成的开课信息!HE5),\"\",自动生成的开课信息!HE5)","v":""},null,"","","","","","","",null,"","","","","","","",null,"","","","","","","",null,"","","","","","","",null,null,null,null,null,null,null,null,null,null,null,null,null,null,null,null,null,null,null,null,null,null,null,null,null,null,null,null,null,null,null,null,null,null,null,null,null,null,null,null,null,null,null,null,null,null,null,null,null,null,null,null,null,null,null,null,null,null,null,null,null,null,null,null,null,null,null,null,null,null,null,null,null,null,null,null,null,null,null,null,null,null,null,null,null,null,null,null,null,null,null,null,null,null,null,null,null,null,null,null,null,null,null,null,null,null,null,null,null,null,null,null,null,null,null,null,null,null,null,null,null,null,null,null,null,null,null,null,null,null,null,null,null,null,null,null,null,null,{"$f":"IF(AND(教学计划表!N21<>\"\",教学计划表!AS21<>\"\"),教学计划表!I21,\"\")","v":""},{"$f":"IF(教学计划表!AS21<>\"\",教学计划表!N21,\"\")","v":""},{"$f":"IF(GE5<>\"\",IF(SEARCH(\"1\",教学计划表!AB21&\"1\",1)<=LEN(教学计划表!AB21),\"考试\",\"考查\"),\"\")","v":""},{"$f":"IF(教学计划表!DG21<>0,教学计划表!DG21,\"\")","v":""},{"$f":"IF(教学计划表!DG21<>0,教学计划表!DL21,\"\")","v":""},{"$f":"IF(教学计划表!DG21<>0,教学计划表!DM21,\"\")","v":""},{"$f":"IF(教学计划表!DG21<>0,教学计划表!OH21,\"\")","v":""},{"$f":"OFFSET($GD$2,SMALL(IF($GD$2:$GD$72<>\"\",ROW($2:$72),\"\"),ROW(GD4))-2,0)","v":{"$error":"#NUM!"}},{"$f":"OFFSET($GE$2,SMALL(IF($GE$2:$GE$72<>\"\",ROW($2:$72),\"\"),ROW(GE4))-2,0)","v":{"$error":"#NUM!"}},{"$f":"OFFSET($GF$2,SMALL(IF($GF$2:$GF$72<>\"\",ROW($2:$72),\"\"),ROW(GF4))-2,0)","v":{"$error":"#NUM!"}},{"$f":"OFFSET($GG$2,SMALL(IF($GG$2:$GG$72<>\"\",ROW($2:$72),\"\"),ROW(GG4))-2,0)","v":{"$error":"#NUM!"}},{"$f":"OFFSET($GH$2,SMALL(IF($GH$2:$GH$72<>\"\",ROW($2:$72),\"\"),ROW(GH4))-2,0)","v":{"$error":"#NUM!"}},{"$error":"#NUM!"},{"$f":"OFFSET($GJ$2,SMALL(IF($GJ$2:$GJ$72<>\"\",ROW($2:$72),\"\"),ROW(GJ4))-2,0)","v":{"$error":"#NUM!"}},{"$f":"IF(AND(教学计划表!N21<>\"\",教学计划表!AV21<>\"\"),教学计划表!I21,\"\")","v":""},{"$f":"IF(教学计划表!AV21<>\"\",教学计划表!N21,\"\")","v":""},{"$f":"IF(GS5<>\"\",IF(SEARCH(\"2\",教学计划表!AB21&\"2\",1)<=LEN(教学计划表!AB21),\"考试\",\"考查\"),\"\")","v":""},{"$f":"IF(教学计划表!EA21<>0,教学计划表!EA21,\"\")","v":""},{"$f":"IF(教学计划表!EA21<>0,教学计划表!EF21,\"\")","v":""},{"$f":"IF(教学计划表!EA21<>0,教学计划表!EG21,\"\")","v":""},{"$f":"IF(教学计划表!EA21<>0,教学计划表!OT21,\"\")","v":""},{"$f":"OFFSET($GR$2,SMALL(IF($GR$2:$GR$72<>\"\",ROW($I$2:$K$72),\"\"),ROW(GR4))-2,0)","v":{"$error":"#NUM!"}},{"$f":"OFFSET($GS$2,SMALL(IF($GS$2:$GS$72<>\"\",ROW($I$2:$K$72),\"\"),ROW(GS4))-2,0)","v":{"$error":"#NUM!"}},{"$f":"OFFSET($GT$2,SMALL(IF($GT$2:$GT$72<>\"\",ROW($I$2:$K$72),\"\"),ROW(GT4))-2,0)","v":{"$error":"#NUM!"}},{"$f":"OFFSET($GU$2,SMALL(IF($GU$2:$GU$72<>\"\",ROW($I$2:$K$72),\"\"),ROW(GU4))-2,0)","v":{"$error":"#NUM!"}},{"$f":"OFFSET($GV$2,SMALL(IF($GV$2:$GV$72<>\"\",ROW($GV$2:$GV$72),\"\"),ROW(GV4))-2,0)","v":{"$error":"#NUM!"}},{"$f":"OFFSET($GW$2,SMALL(IF($GW$2:$GW$72<>\"\",ROW($GW$2:$GW$72),\"\"),ROW(GW4))-2,0)","v":{"$error":"#NUM!"}},{"$f":"OFFSET($GX$2,SMALL(IF($GX$2:$GX$72<>\"\",ROW($GX$2:$GX$72),\"\"),ROW(GX4))-2,0)","v":{"$error":"#NUM!"}},{"$f":"IF(AND(教学计划表!N21<>\"\",教学计划表!AY21<>\"\"),教学计划表!I21,\"\")","v":""},{"$f":"IF(教学计划表!AY21<>\"\",教学计划表!N21,\"\")","v":""},{"$f":"IF(HG5<>\"\",IF(SEARCH(\"3\",教学计划表!AB21&\"3\",1)<=LEN(教学计划表!AB21),\"考试\",\"考查\"),\"\")","v":""},{"$f":"IF(教学计划表!EV21<>0,教学计划表!EV21,\"\")","v":""},{"$f":"IF(教学计划表!EV21<>0,教学计划表!FA21,\"\")","v":""},{"$f":"IF(教学计划表!EV21<>0,教学计划表!FB21,\"\")","v":""},{"$f":"IF(教学计划表!EV21<>0,教学计划表!PF21,\"\")","v":""},{"$f":"OFFSET($HF$2,SMALL(IF($HF$2:$HF$72<>\"\",ROW($HF$2:$HF$72),\"\"),ROW(HF4))-2,0)","v":{"$error":"#NUM!"}},{"$f":"OFFSET($HG$2,SMALL(IF($HG$2:$HG$72<>\"\",ROW($HG$2:$HG$72),\"\"),ROW(HG4))-2,0)","v":{"$error":"#NUM!"}},{"$f":"OFFSET($HH$2,SMALL(IF($HH$2:$HH$72<>\"\",ROW($HH$2:$HH$72),\"\"),ROW(HH4))-2,0)","v":{"$error":"#NUM!"}},{"$f":"OFFSET($HI$2,SMALL(IF($HI$2:$HI$72<>\"\",ROW($HI$2:$HI$72),\"\"),ROW(HI4))-2,0)","v":{"$error":"#NUM!"}},{"$f":"OFFSET($HJ$2,SMALL(IF($HJ$2:$HJ$72<>\"\",ROW($HJ$2:$HJ$72),\"\"),ROW(HJ4))-2,0)","v":{"$error":"#NUM!"}},{"$f":"OFFSET($HK$2,SMALL(IF($HK$2:$HK$72<>\"\",ROW($HK$2:$HK$72),\"\"),ROW(HK4))-2,0)","v":{"$error":"#NUM!"}},{"$f":"OFFSET($HL$2,SMALL(IF($HL$2:$HL$72<>\"\",ROW($HL$2:$HL$72),\"\"),ROW(HL4))-2,0)","v":{"$error":"#NUM!"}},{"$f":"IF(AND(教学计划表!N21<>\"\",教学计划表!BB21<>\"\"),教学计划表!I21,\"\")","v":""},{"$f":"IF(教学计划表!BB21<>\"\",教学计划表!N21,\"\")","v":""},{"$f":"IF(HU5<>\"\",IF(SEARCH(\"4\",教学计划表!AB21&\"4\",1)<=LEN(教学计划表!AB21),\"考试\",\"考查\"),\"\")","v":""},{"$f":"IF(教学计划表!FQ21<>0,教学计划表!FQ21,\"\")","v":""},{"$f":"IF(教学计划表!FQ21<>0,教学计划表!FV21,\"\")","v":""},{"$f":"IF(教学计划表!FQ21<>0,教学计划表!FW21,\"\")","v":""},{"$f":"IF(教学计划表!FQ21<>0,教学计划表!PR21,\"\")","v":""},{"$f":"OFFSET($HT$2,SMALL(IF($HT$2:$HT$72<>\"\",ROW($HT$2:$HT$72),\"\"),ROW(HT4))-2,0)","v":{"$error":"#NUM!"}},{"$f":"OFFSET($HU$2,SMALL(IF($HU$2:$HU$72<>\"\",ROW($HU$2:$HU$72),\"\"),ROW(HU4))-2,0)","v":{"$error":"#NUM!"}},{"$f":"OFFSET($HV$2,SMALL(IF($HV$2:$HV$72<>\"\",ROW($HV$2:$HV$72),\"\"),ROW(HV4))-2,0)","v":{"$error":"#NUM!"}},{"$f":"OFFSET($HW$2,SMALL(IF($HW$2:$HW$72<>\"\",ROW($HW$2:$HW$72),\"\"),ROW(HW4))-2,0)","v":{"$error":"#NUM!"}},{"$f":"OFFSET($HX$2,SMALL(IF($HX$2:$HX$72<>\"\",ROW($HX$2:$HX$72),\"\"),ROW(HX4))-2,0)","v":{"$error":"#NUM!"}},{"$f":"OFFSET($HY$2,SMALL(IF($HY$2:$HY$72<>\"\",ROW($HY$2:$HY$72),\"\"),ROW(HY4))-2,0)","v":{"$error":"#NUM!"}},{"$f":"OFFSET($HZ$2,SMALL(IF($HZ$2:$HZ$72<>\"\",ROW($HZ$2:$HZ$72),\"\"),ROW(HZ4))-2,0)","v":{"$error":"#NUM!"}},null,null,{"$f":"IF(AND(教学计划表!N21<>\"\",教学计划表!BE21<>\"\"),教学计划表!I21,\"\")","v":""},{"$f":"IF(教学计划表!BE21<>\"\",教学计划表!N21,\"\")","v":""},{"$f":"IF(IK5<>\"\",IF(SEARCH(\"5\",教学计划表!AB21&\"5\",1)<=LEN(教学计划表!AB21),\"考试\",\"考查\"),\"\")","v":""},{"$f":"IF(教学计划表!GL21<>0,教学计划表!GL21,\"\")","v":""},{"$f":"IF(教学计划表!GL21<>0,教学计划表!GQ21,\"\")","v":""},{"$f":"IF(教学计划表!GL21<>0,教学计划表!GR21,\"\")","v":""},{"$f":"IF(教学计划表!GL21<>0,教学计划表!QC21,\"\")","v":""},{"$f":"OFFSET($IJ$2,SMALL(IF($IJ$2:$IJ$72<>\"\",ROW($IJ$2:$IJ$72),\"\"),ROW(IJ4))-2,0)","v":{"$error":"#NUM!"}},{"$f":"OFFSET($IK$2,SMALL(IF($IK$2:$IK$72<>\"\",ROW($IK$2:$IK$72),\"\"),ROW(IK4))-2,0)","v":{"$error":"#NUM!"}},{"$f":"OFFSET($IL$2,SMALL(IF($IL$2:$IL$72<>\"\",ROW($IL$2:$IL$72),\"\"),ROW(IL4))-2,0)","v":{"$error":"#NUM!"}},{"$f":"OFFSET($IM$2,SMALL(IF($IM$2:$IM$72<>\"\",ROW($IM$2:$IM$72),\"\"),ROW(IM4))-2,0)","v":{"$error":"#NUM!"}},{"$f":"OFFSET($IN$2,SMALL(IF($IN$2:$IN$72<>\"\",ROW($IN$2:$IN$72),\"\"),ROW(IN4))-2,0)","v":{"$error":"#NUM!"}},{"$f":"OFFSET($IO$2,SMALL(IF($IO$2:$IO$72<>\"\",ROW($IO$2:$IO$72),\"\"),ROW(IO4))-2,0)","v":{"$error":"#NUM!"}},{"$f":"OFFSET($IP$2,SMALL(IF($IP$2:$IP$72<>\"\",ROW($IP$2:$IP$72),\"\"),ROW(IP4))-2,0)","v":{"$error":"#NUM!"}},null,{"$f":"IF(AND(教学计划表!N21<>\"\",教学计划表!BH21<>\"\"),教学计划表!I21,\"\")","v":""},{"$f":"IF(教学计划表!BH21<>\"\",教学计划表!N21,\"\")","v":""},{"$f":"IF(教学计划表!BH21<>\"\",IF(SEARCH(\"6\",教学计划表!AB21&\"6\",1)<=LEN(教学计划表!AB21),\"考试\",\"考查\"),\"\")","v":""},{"$f":"IF(教学计划表!BH21<>0,教学计划表!HG21,\"\")","v":""},{"$f":"IF(教学计划表!BH21<>0,教学计划表!HL21,\"\")","v":""},{"$f":"IF(教学计划表!BH21<>0,教学计划表!HM21,\"\")","v":""},{"$f":"IF(教学计划表!BH21<>0,教学计划表!QO21,\"\")","v":""},{"$f":"OFFSET($IY$2,SMALL(IF($IY$2:$IY$72<>\"\",ROW($IY$2:$IY$72),\"\"),ROW(IY4))-2,0)","v":{"$error":"#NUM!"}},{"$f":"OFFSET($IZ$2,SMALL(IF($IZ$2:$IZ$72<>\"\",ROW($IZ$2:$IZ$72),\"\"),ROW(IZ4))-2,0)","v":{"$error":"#NUM!"}},{"$f":"OFFSET($JA$2,SMALL(IF($JA$2:$JA$72<>\"\",ROW($JA$2:$JA$72),\"\"),ROW(JA4))-2,0)","v":{"$error":"#NUM!"}},{"$f":"OFFSET($JB$2,SMALL(IF($JB$2:$JB$72<>\"\",ROW($JB$2:$JB$72),\"\"),ROW(JB4))-2,0)","v":{"$error":"#NUM!"}},{"$f":"OFFSET($JC$2,SMALL(IF($JC$2:$JC$72<>\"\",ROW($JC$2:$JC$72),\"\"),ROW(JC4))-2,0)","v":{"$error":"#NUM!"}},{"$f":"OFFSET($JD$2,SMALL(IF($JD$2:$JD$72<>\"\",ROW($JD$2:$JD$72),\"\"),ROW(JD4))-2,0)","v":{"$error":"#NUM!"}},{"$f":"OFFSET($JE$2,SMALL(IF($JE$2:$JE$72<>\"\",ROW($JE$2:$JE$72),\"\"),ROW(JE4))-2,0)","v":{"$error":"#NUM!"}}]
["","","","","","","",null,"","","",{"$f":"IF(ISERROR(自动生成的开课信息!HB6),\"\",自动生成的开课信息!HB6)","v":""},{"$f":"IF(ISERROR(自动生成的开课信息!HC6),\"\",自动生成的开课信息!HC6)","v":""},{"$f":"IF(ISERROR(自动生成的开课信息!HD6),\"\",自动生成的开课信息!HD6)","v":""},{"$f":"IF(ISERROR(自动生成的开课信息!HE6),\"\",自动生成的开课信息!HE6)","v":""},null,"","","","","","","",null,"","","","","","","",null,"","","","","","","",null,"","","","","","","",null,null,null,null,null,null,null,null,null,null,null,null,null,null,null,null,null,null,null,null,null,null,null,null,null,null,null,null,null,null,null,null,null,null,null,null,null,null,null,null,null,null,null,null,null,null,null,null,null,null,null,null,null,null,null,null,null,null,null,null,null,null,null,null,null,null,null,null,null,null,null,null,null,null,null,null,null,null,null,null,null,null,null,null,null,null,null,null,null,null,null,null,null,null,null,null,null,null,null,null,null,null,null,null,null,null,null,null,null,null,null,null,null,null,null,null,null,null,null,null,null,null,null,null,null,null,null,null,null,null,null,null,null,null,null,null,null,null,{"$f":"IF(AND(教学计划表!N22<>\"\",教学计划表!AS22<>\"\"),教学计划表!I22,\"\")","v":""},{"$f":"IF(教学计划表!AS22<>\"\",教学计划表!N22,\"\")","v":""},{"$f":"IF(GE6<>\"\",IF(SEARCH(\"1\",教学计划表!AB22&\"1\",1)<=LEN(教学计划表!AB22),\"考试\",\"考查\"),\"\")","v":""},{"$f":"IF(教学计划表!DG22<>0,教学计划表!DG22,\"\")","v":""},{"$f":"IF(教学计划表!DG22<>0,教学计划表!DL22,\"\")","v":""},{"$f":"IF(教学计划表!DG22<>0,教学计划表!DM22,\"\")","v":""},{"$f":"IF(教学计划表!DG22<>0,教学计划表!OH22,\"\")","v":""},{"$f":"OFFSET($GD$2,SMALL(IF($GD$2:$GD$72<>\"\",ROW($2:$72),\"\"),ROW(GD5))-2,0)","v":{"$error":"#NUM!"}},{"$f":"OFFSET($GE$2,SMALL(IF($GE$2:$GE$72<>\"\",ROW($2:$72),\"\"),ROW(GE5))-2,0)","v":{"$error":"#NUM!"}},{"$f":"OFFSET($GF$2,SMALL(IF($GF$2:$GF$72<>\"\",ROW($2:$72),\"\"),ROW(GF5))-2,0)","v":{"$error":"#NUM!"}},{"$f":"OFFSET($GG$2,SMALL(IF($GG$2:$GG$72<>\"\",ROW($2:$72),\"\"),ROW(GG5))-2,0)","v":{"$error":"#NUM!"}},{"$f":"OFFSET($GH$2,SMALL(IF($GH$2:$GH$72<>\"\",ROW($2:$72),\"\"),ROW(GH5))-2,0)","v":{"$error":"#NUM!"}},{"$error":"#NUM!"},{"$f":"OFFSET($GJ$2,SMALL(IF($GJ$2:$GJ$72<>\"\",ROW($2:$72),\"\"),ROW(GJ5))-2,0)","v":{"$error":"#NUM!"}},{"$f":"IF(AND(教学计划表!N22<>\"\",教学计划表!AV22<>\"\"),教学计划表!I22,\"\")","v":""},{"$f":"IF(教学计划表!AV22<>\"\",教学计划表!N22,\"\")","v":""},{"$f":"IF(GS6<>\"\",IF(SEARCH(\"2\",教学计划表!AB22&\"2\",1)<=LEN(教学计划表!AB22),\"考试\",\"考查\"),\"\")","v":""},{"$f":"IF(教学计划表!EA22<>0,教学计划表!EA22,\"\")","v":""},{"$f":"IF(教学计划表!EA22<>0,教学计划表!EF22,\"\")","v":""},{"$f":"IF(教学计划表!EA22<>0,教学计划表!EG22,\"\")","v":""},{"$f":"IF(教学计划表!EA22<>0,教学计划表!OT22,\"\")","v":""},{"$f":"OFFSET($GR$2,SMALL(IF($GR$2:$GR$72<>\"\",ROW($I$2:$K$72),\"\"),ROW(GR5))-2,0)","v":{"$error":"#NUM!"}},{"$f":"OFFSET($GS$2,SMALL(IF($GS$2:$GS$72<>\"\",ROW($I$2:$K$72),\"\"),ROW(GS5))-2,0)","v":{"$error":"#NUM!"}},{"$f":"OFFSET($GT$2,SMALL(IF($GT$2:$GT$72<>\"\",ROW($I$2:$K$72),\"\"),ROW(GT5))-2,0)","v":{"$error":"#NUM!"}},{"$f":"OFFSET($GU$2,SMALL(IF($GU$2:$GU$72<>\"\",ROW($I$2:$K$72),\"\"),ROW(GU5))-2,0)","v":{"$error":"#NUM!"}},{"$f":"OFFSET($GV$2,SMALL(IF($GV$2:$GV$72<>\"\",ROW($GV$2:$GV$72),\"\"),ROW(GV5))-2,0)","v":{"$error":"#NUM!"}},{"$f":"OFFSET($GW$2,SMALL(IF($GW$2:$GW$72<>\"\",ROW($GW$2:$GW$72),\"\"),ROW(GW5))-2,0)","v":{"$error":"#NUM!"}},{"$f":"OFFSET($GX$2,SMALL(IF($GX$2:$GX$72<>\"\",ROW($GX$2:$GX$72),\"\"),ROW(GX5))-2,0)","v":{"$error":"#NUM!"}},{"$f":"IF(AND(教学计划表!N22<>\"\",教学计划表!AY22<>\"\"),教学计划表!I22,\"\")","v":""},{"$f":"IF(教学计划表!AY22<>\"\",教学计划表!N22,\"\")","v":""},{"$f":"IF(HG6<>\"\",IF(SEARCH(\"3\",教学计划表!AB22&\"3\",1)<=LEN(教学计划表!AB22),\"考试\",\"考查\"),\"\")","v":""},{"$f":"IF(教学计划表!EV22<>0,教学计划表!EV22,\"\")","v":""},{"$f":"IF(教学计划表!EV22<>0,教学计划表!FA22,\"\")","v":""},{"$f":"IF(教学计划表!EV22<>0,教学计划表!FB22,\"\")","v":""},{"$f":"IF(教学计划表!EV22<>0,教学计划表!PF22,\"\")","v":""},{"$f":"OFFSET($HF$2,SMALL(IF($HF$2:$HF$72<>\"\",ROW($HF$2:$HF$72),\"\"),ROW(HF5))-2,0)","v":{"$error":"#NUM!"}},{"$f":"OFFSET($HG$2,SMALL(IF($HG$2:$HG$72<>\"\",ROW($HG$2:$HG$72),\"\"),ROW(HG5))-2,0)","v":{"$error":"#NUM!"}},{"$f":"OFFSET($HH$2,SMALL(IF($HH$2:$HH$72<>\"\",ROW($HH$2:$HH$72),\"\"),ROW(HH5))-2,0)","v":{"$error":"#NUM!"}},{"$f":"OFFSET($HI$2,SMALL(IF($HI$2:$HI$72<>\"\",ROW($HI$2:$HI$72),\"\"),ROW(HI5))-2,0)","v":{"$error":"#NUM!"}},{"$f":"OFFSET($HJ$2,SMALL(IF($HJ$2:$HJ$72<>\"\",ROW($HJ$2:$HJ$72),\"\"),ROW(HJ5))-2,0)","v":{"$error":"#NUM!"}},{"$f":"OFFSET($HK$2,SMALL(IF($HK$2:$HK$72<>\"\",ROW($HK$2:$HK$72),\"\"),ROW(HK5))-2,0)","v":{"$error":"#NUM!"}},{"$f":"OFFSET($HL$2,SMALL(IF($HL$2:$HL$72<>\"\",ROW($HL$2:$HL$72),\"\"),ROW(HL5))-2,0)","v":{"$error":"#NUM!"}},{"$f":"IF(AND(教学计划表!N22<>\"\",教学计划表!BB22<>\"\"),教学计划表!I22,\"\")","v":""},{"$f":"IF(教学计划表!BB22<>\"\",教学计划表!N22,\"\")","v":""},{"$f":"IF(HU6<>\"\",IF(SEARCH(\"4\",教学计划表!AB22&\"4\",1)<=LEN(教学计划表!AB22),\"考试\",\"考查\"),\"\")","v":""},{"$f":"IF(教学计划表!FQ22<>0,教学计划表!FQ22,\"\")","v":""},{"$f":"IF(教学计划表!FQ22<>0,教学计划表!FV22,\"\")","v":""},{"$f":"IF(教学计划表!FQ22<>0,教学计划表!FW22,\"\")","v":""},{"$f":"IF(教学计划表!FQ22<>0,教学计划表!PR22,\"\")","v":""},{"$f":"OFFSET($HT$2,SMALL(IF($HT$2:$HT$72<>\"\",ROW($HT$2:$HT$72),\"\"),ROW(HT5))-2,0)","v":{"$error":"#NUM!"}},{"$f":"OFFSET($HU$2,SMALL(IF($HU$2:$HU$72<>\"\",ROW($HU$2:$HU$72),\"\"),ROW(HU5))-2,0)","v":{"$error":"#NUM!"}},{"$f":"OFFSET($HV$2,SMALL(IF($HV$2:$HV$72<>\"\",ROW($HV$2:$HV$72),\"\"),ROW(HV5))-2,0)","v":{"$error":"#NUM!"}},{"$f":"OFFSET($HW$2,SMALL(IF($HW$2:$HW$72<>\"\",ROW($HW$2:$HW$72),\"\"),ROW(HW5))-2,0)","v":{"$error":"#NUM!"}},{"$f":"OFFSET($HX$2,SMALL(IF($HX$2:$HX$72<>\"\",ROW($HX$2:$HX$72),\"\"),ROW(HX5))-2,0)","v":{"$error":"#NUM!"}},{"$f":"OFFSET($HY$2,SMALL(IF($HY$2:$HY$72<>\"\",ROW($HY$2:$HY$72),\"\"),ROW(HY5))-2,0)","v":{"$error":"#NUM!"}},{"$f":"OFFSET($HZ$2,SMALL(IF($HZ$2:$HZ$72<>\"\",ROW($HZ$2:$HZ$72),\"\"),ROW(HZ5))-2,0)","v":{"$error":"#NUM!"}},null,null,{"$f":"IF(AND(教学计划表!N22<>\"\",教学计划表!BE22<>\"\"),教学计划表!I22,\"\")","v":""},{"$f":"IF(教学计划表!BE22<>\"\",教学计划表!N22,\"\")","v":""},{"$f":"IF(IK6<>\"\",IF(SEARCH(\"5\",教学计划表!AB22&\"5\",1)<=LEN(教学计划表!AB22),\"考试\",\"考查\"),\"\")","v":""},{"$f":"IF(教学计划表!GL22<>0,教学计划表!GL22,\"\")","v":""},{"$f":"IF(教学计划表!GL22<>0,教学计划表!GQ22,\"\")","v":""},{"$f":"IF(教学计划表!GL22<>0,教学计划表!GR22,\"\")","v":""},{"$f":"IF(教学计划表!GL22<>0,教学计划表!QC22,\"\")","v":""},{"$f":"OFFSET($IJ$2,SMALL(IF($IJ$2:$IJ$72<>\"\",ROW($IJ$2:$IJ$72),\"\"),ROW(IJ5))-2,0)","v":{"$error":"#NUM!"}},{"$f":"OFFSET($IK$2,SMALL(IF($IK$2:$IK$72<>\"\",ROW($IK$2:$IK$72),\"\"),ROW(IK5))-2,0)","v":{"$error":"#NUM!"}},{"$f":"OFFSET($IL$2,SMALL(IF($IL$2:$IL$72<>\"\",ROW($IL$2:$IL$72),\"\"),ROW(IL5))-2,0)","v":{"$error":"#NUM!"}},{"$f":"OFFSET($IM$2,SMALL(IF($IM$2:$IM$72<>\"\",ROW($IM$2:$IM$72),\"\"),ROW(IM5))-2,0)","v":{"$error":"#NUM!"}},{"$f":"OFFSET($IN$2,SMALL(IF($IN$2:$IN$72<>\"\",ROW($IN$2:$IN$72),\"\"),ROW(IN5))-2,0)","v":{"$error":"#NUM!"}},{"$f":"OFFSET($IO$2,SMALL(IF($IO$2:$IO$72<>\"\",ROW($IO$2:$IO$72),\"\"),ROW(IO5))-2,0)","v":{"$error":"#NUM!"}},{"$f":"OFFSET($IP$2,SMALL(IF($IP$2:$IP$72<>\"\",ROW($IP$2:$IP$72),\"\"),ROW(IP5))-2,0)","v":{"$error":"#NUM!"}},null,{"$f":"IF(AND(教学计划表!N22<>\"\",教学计划表!BH22<>\"\"),教学计划表!I22,\"\")","v":""},{"$f":"IF(教学计划表!BH22<>\"\",教学计划表!N22,\"\")","v":""},{"$f":"IF(教学计划表!BH22<>\"\",IF(SEARCH(\"6\",教学计划表!AB22&\"6\",1)<=LEN(教学计划表!AB22),\"考试\",\"考查\"),\"\")","v":""},{"$f":"IF(教学计划表!BH22<>0,教学计划表!HG22,\"\")","v":""},{"$f":"IF(教学计划表!BH22<>0,教学计划表!HL22,\"\")","v":""},{"$f":"IF(教学计划表!BH22<>0,教学计划表!HM22,\"\")","v":""},{"$f":"IF(教学计划表!BH22<>0,教学计划表!QO22,\"\")","v":""},{"$f":"OFFSET($IY$2,SMALL(IF($IY$2:$IY$72<>\"\",ROW($IY$2:$IY$72),\"\"),ROW(IY5))-2,0)","v":{"$error":"#NUM!"}},{"$f":"OFFSET($IZ$2,SMALL(IF($IZ$2:$IZ$72<>\"\",ROW($IZ$2:$IZ$72),\"\"),ROW(IZ5))-2,0)","v":{"$error":"#NUM!"}},{"$f":"OFFSET($JA$2,SMALL(IF($JA$2:$JA$72<>\"\",ROW($JA$2:$JA$72),\"\"),ROW(JA5))-2,0)","v":{"$error":"#NUM!"}},{"$f":"OFFSET($JB$2,SMALL(IF($JB$2:$JB$72<>\"\",ROW($JB$2:$JB$72),\"\"),ROW(JB5))-2,0)","v":{"$error":"#NUM!"}},{"$f":"OFFSET($JC$2,SMALL(IF($JC$2:$JC$72<>\"\",ROW($JC$2:$JC$72),\"\"),ROW(JC5))-2,0)","v":{"$error":"#NUM!"}},{"$f":"OFFSET($JD$2,SMALL(IF($JD$2:$JD$72<>\"\",ROW($JD$2:$JD$72),\"\"),ROW(JD5))-2,0)","v":{"$error":"#NUM!"}},{"$f":"OFFSET($JE$2,SMALL(IF($JE$2:$JE$72<>\"\",ROW($JE$2:$JE$72),\"\"),ROW(JE5))-2,0)","v":{"$error":"#NUM!"}}]
["","","","","","","",null,"","","",{"$f":"IF(ISERROR(自动生成的开课信息!HB7),\"\",自动生成的开课信息!HB7)","v":""},{"$f":"IF(ISERROR(自动生成的开课信息!HC7),\"\",自动生成的开课信息!HC7)","v":""},{"$f":"IF(ISERROR(自动生成的开课信息!HD7),\"\",自动生成的开课信息!HD7)","v":""},{"$f":"IF(ISERROR(自动生成的开课信息!HE7),\"\",自动生成的开课信息!HE7)","v":""},null,"","","","","","","",null,"","","","","","","",null,"","","","","","","",null,"","","","","","","",null,null,null,null,null,null,null,null,null,null,null,null,null,null,null,null,null,null,null,null,null,null,null,null,null,null,null,null,null,null,null,null,null,null,null,null,null,null,null,null,null,null,null,null,null,null,null,null,null,null,null,null,null,null,null,null,null,null,null,null,null,null,null,null,null,null,null,null,null,null,null,null,null,null,null,null,null,null,null,null,null,null,null,null,null,null,null,null,null,null,null,null,null,null,null,null,null,null,null,null,null,null,null,null,null,null,null,null,null,null,null,null,null,null,null,null,null,null,null,null,null,null,null,null,null,null,null,null,null,null,null,null,null,null,null,null,null,null,{"$f":"IF(AND(教学计划表!N23<>\"\",教学计划表!AS23<>\"\"),教学计划表!I23,\"\")","v":""},{"$f":"IF(教学计划表!AS23<>\"\",教学计划表!N23,\"\")","v":""},{"$f":"IF(GE7<>\"\",IF(SEARCH(\"1\",教学计划表!AB23&\"1\",1)<=LEN(教学计划表!AB23),\"考试\",\"考查\"),\"\")","v":""},{"$f":"IF(教学计划表!DG23<>0,教学计划表!DG23,\"\")","v":""},{"$f":"IF(教学计划表!DG23<>0,教学计划表!DL23,\"\")","v":""},{"$f":"IF(教学计划表!DG23<>0,教学计划表!DM23,\"\")","v":""},{"$f":"IF(教学计划表!DG23<>0,教学计划表!OH23,\"\")","v":""},{"$f":"OFFSET($GD$2,SMALL(IF($GD$2:$GD$72<>\"\",ROW($2:$72),\"\"),ROW(GD6))-2,0)","v":{"$error":"#NUM!"}},{"$f":"OFFSET($GE$2,SMALL(IF($GE$2:$GE$72<>\"\",ROW($2:$72),\"\"),ROW(GE6))-2,0)","v":{"$error":"#NUM!"}},{"$f":"OFFSET($GF$2,SMALL(IF($GF$2:$GF$72<>\"\",ROW($2:$72),\"\"),ROW(GF6))-2,0)","v":{"$error":"#NUM!"}},{"$f":"OFFSET($GG$2,SMALL(IF($GG$2:$GG$72<>\"\",ROW($2:$72),\"\"),ROW(GG6))-2,0)","v":{"$error":"#NUM!"}},{"$f":"OFFSET($GH$2,SMALL(IF($GH$2:$GH$72<>\"\",ROW($2:$72),\"\"),ROW(GH6))-2,0)","v":{"$error":"#NUM!"}},{"$error":"#NUM!"},{"$f":"OFFSET($GJ$2,SMALL(IF($GJ$2:$GJ$72<>\"\",ROW($2:$72),\"\"),ROW(GJ6))-2,0)","v":{"$error":"#NUM!"}},{"$f":"IF(AND(教学计划表!N23<>\"\",教学计划表!AV23<>\"\"),教学计划表!I23,\"\")","v":""},{"$f":"IF(教学计划表!AV23<>\"\",教学计划表!N23,\"\")","v":""},{"$f":"IF(GS7<>\"\",IF(SEARCH(\"2\",教学计划表!AB23&\"2\",1)<=LEN(教学计划表!AB23),\"考试\",\"考查\"),\"\")","v":""},{"$f":"IF(教学计划表!EA23<>0,教学计划表!EA23,\"\")","v":""},{"$f":"IF(教学计划表!EA23<>0,教学计划表!EF23,\"\")","v":""},{"$f":"IF(教学计划表!EA23<>0,教学计划表!EG23,\"\")","v":""},{"$f":"IF(教学计划表!EA23<>0,教学计划表!OT23,\"\")","v":""},{"$f":"OFFSET($GR$2,SMALL(IF($GR$2:$GR$72<>\"\",ROW($I$2:$K$72),\"\"),ROW(GR6))-2,0)","v":{"$error":"#NUM!"}},{"$f":"OFFSET($GS$2,SMALL(IF($GS$2:$GS$72<>\"\",ROW($I$2:$K$72),\"\"),ROW(GS6))-2,0)","v":{"$error":"#NUM!"}},{"$f":"OFFSET($GT$2,SMALL(IF($GT$2:$GT$72<>\"\",ROW($I$2:$K$72),\"\"),ROW(GT6))-2,0)","v":{"$error":"#NUM!"}},{"$f":"OFFSET($GU$2,SMALL(IF($GU$2:$GU$72<>\"\",ROW($I$2:$K$72),\"\"),ROW(GU6))-2,0)","v":{"$error":"#NUM!"}},{"$f":"OFFSET($GV$2,SMALL(IF($GV$2:$GV$72<>\"\",ROW($GV$2:$GV$72),\"\"),ROW(GV6))-2,0)","v":{"$error":"#NUM!"}},{"$f":"OFFSET($GW$2,SMALL(IF($GW$2:$GW$72<>\"\",ROW($GW$2:$GW$72),\"\"),ROW(GW6))-2,0)","v":{"$error":"#NUM!"}},{"$f":"OFFSET($GX$2,SMALL(IF($GX$2:$GX$72<>\"\",ROW($GX$2:$GX$72),\"\"),ROW(GX6))-2,0)","v":{"$error":"#NUM!"}},{"$f":"IF(AND(教学计划表!N23<>\"\",教学计划表!AY23<>\"\"),教学计划表!I23,\"\")","v":""},{"$f":"IF(教学计划表!AY23<>\"\",教学计划表!N23,\"\")","v":""},{"$f":"IF(HG7<>\"\",IF(SEARCH(\"3\",教学计划表!AB23&\"3\",1)<=LEN(教学计划表!AB23),\"考试\",\"考查\"),\"\")","v":""},{"$f":"IF(教学计划表!EV23<>0,教学计划表!EV23,\"\")","v":""},{"$f":"IF(教学计划表!EV23<>0,教学计划表!FA23,\"\")","v":""},{"$f":"IF(教学计划表!EV23<>0,教学计划表!FB23,\"\")","v":""},{"$f":"IF(教学计划表!EV23<>0,教学计划表!PF23,\"\")","v":""},{"$f":"OFFSET($HF$2,SMALL(IF($HF$2:$HF$72<>\"\",ROW($HF$2:$HF$72),\"\"),ROW(HF6))-2,0)","v":{"$error":"#NUM!"}},{"$f":"OFFSET($HG$2,SMALL(IF($HG$2:$HG$72<>\"\",ROW($HG$2:$HG$72),\"\"),ROW(HG6))-2,0)","v":{"$error":"#NUM!"}},{"$f":"OFFSET($HH$2,SMALL(IF($HH$2:$HH$72<>\"\",ROW($HH$2:$HH$72),\"\"),ROW(HH6))-2,0)","v":{"$error":"#NUM!"}},{"$f":"OFFSET($HI$2,SMALL(IF($HI$2:$HI$72<>\"\",ROW($HI$2:$HI$72),\"\"),ROW(HI6))-2,0)","v":{"$error":"#NUM!"}},{"$f":"OFFSET($HJ$2,SMALL(IF($HJ$2:$HJ$72<>\"\",ROW($HJ$2:$HJ$72),\"\"),ROW(HJ6))-2,0)","v":{"$error":"#NUM!"}},{"$f":"OFFSET($HK$2,SMALL(IF($HK$2:$HK$72<>\"\",ROW($HK$2:$HK$72),\"\"),ROW(HK6))-2,0)","v":{"$error":"#NUM!"}},{"$f":"OFFSET($HL$2,SMALL(IF($HL$2:$HL$72<>\"\",ROW($HL$2:$HL$72),\"\"),ROW(HL6))-2,0)","v":{"$error":"#NUM!"}},{"$f":"IF(AND(教学计划表!N23<>\"\",教学计划表!BB23<>\"\"),教学计划表!I23,\"\")","v":""},{"$f":"IF(教学计划表!BB23<>\"\",教学计划表!N23,\"\")","v":""},{"$f":"IF(HU7<>\"\",IF(SEARCH(\"4\",教学计划表!AB23&\"4\",1)<=LEN(教学计划表!AB23),\"考试\",\"考查\"),\"\")","v":""},{"$f":"IF(教学计划表!FQ23<>0,教学计划表!FQ23,\"\")","v":""},{"$f":"IF(教学计划表!FQ23<>0,教学计划表!FV23,\"\")","v":""},{"$f":"IF(教学计划表!FQ23<>0,教学计划表!FW23,\"\")","v":""},{"$f":"IF(教学计划表!FQ23<>0,教学计划表!PR23,\"\")","v":""},{"$f":"OFFSET($HT$2,SMALL(IF($HT$2:$HT$72<>\"\",ROW($HT$2:$HT$72),\"\"),ROW(HT6))-2,0)","v":{"$error":"#NUM!"}},{"$f":"OFFSET($HU$2,SMALL(IF($HU$2:$HU$72<>\"\",ROW($HU$2:$HU$72),\"\"),ROW(HU6))-2,0)","v":{"$error":"#NUM!"}},{"$f":"OFFSET($HV$2,SMALL(IF($HV$2:$HV$72<>\"\",ROW($HV$2:$HV$72),\"\"),ROW(HV6))-2,0)","v":{"$error":"#NUM!"}},{"$f":"OFFSET($HW$2,SMALL(IF($HW$2:$HW$72<>\"\",ROW($HW$2:$HW$72),\"\"),ROW(HW6))-2,0)","v":{"$error":"#NUM!"}},{"$f":"OFFSET($HX$2,SMALL(IF($HX$2:$HX$72<>\"\",ROW($HX$2:$HX$72),\"\"),ROW(HX6))-2,0)","v":{"$error":"#NUM!"}},{"$f":"OFFSET($HY$2,SMALL(IF($HY$2:$HY$72<>\"\",ROW($HY$2:$HY$72),\"\"),ROW(HY6))-2,0)","v":{"$error":"#NUM!"}},{"$f":"OFFSET($HZ$2,SMALL(IF($HZ$2:$HZ$72<>\"\",ROW($HZ$2:$HZ$72),\"\"),ROW(HZ6))-2,0)","v":{"$error":"#NUM!"}},null,null,{"$f":"IF(AND(教学计划表!N23<>\"\",教学计划表!BE23<>\"\"),教学计划表!I23,\"\")","v":""},{"$f":"IF(教学计划表!BE23<>\"\",教学计划表!N23,\"\")","v":""},{"$f":"IF(IK7<>\"\",IF(SEARCH(\"5\",教学计划表!AB23&\"5\",1)<=LEN(教学计划表!AB23),\"考试\",\"考查\"),\"\")","v":""},{"$f":"IF(教学计划表!GL23<>0,教学计划表!GL23,\"\")","v":""},{"$f":"IF(教学计划表!GL23<>0,教学计划表!GQ23,\"\")","v":""},{"$f":"IF(教学计划表!GL23<>0,教学计划表!GR23,\"\")","v":""},{"$f":"IF(教学计划表!GL23<>0,教学计划表!QC23,\"\")","v":""},{"$f":"OFFSET($IJ$2,SMALL(IF($IJ$2:$IJ$72<>\"\",ROW($IJ$2:$IJ$72),\"\"),ROW(IJ6))-2,0)","v":{"$error":"#NUM!"}},{"$f":"OFFSET($IK$2,SMALL(IF($IK$2:$IK$72<>\"\",ROW($IK$2:$IK$72),\"\"),ROW(IK6))-2,0)","v":{"$error":"#NUM!"}},{"$f":"OFFSET($IL$2,SMALL(IF($IL$2:$IL$72<>\"\",ROW($IL$2:$IL$72),\"\"),ROW(IL6))-2,0)","v":{"$error":"#NUM!"}},{"$f":"OFFSET($IM$2,SMALL(IF($IM$2:$IM$72<>\"\",ROW($IM$2:$IM$72),\"\"),ROW(IM6))-2,0)","v":{"$error":"#NUM!"}},{"$f":"OFFSET($IN$2,SMALL(IF($IN$2:$IN$72<>\"\",ROW($IN$2:$IN$72),\"\"),ROW(IN6))-2,0)","v":{"$error":"#NUM!"}},{"$f":"OFFSET($IO$2,SMALL(IF($IO$2:$IO$72<>\"\",ROW($IO$2:$IO$72),\"\"),ROW(IO6))-2,0)","v":{"$error":"#NUM!"}},{"$f":"OFFSET($IP$2,SMALL(IF($IP$2:$IP$72<>\"\",ROW($IP$2:$IP$72),\"\"),ROW(IP6))-2,0)","v":{"$error":"#NUM!"}},null,{"$f":"IF(AND(教学计划表!N23<>\"\",教学计划表!BH23<>\"\"),教学计划表!I23,\"\")","v":""},{"$f":"IF(教学计划表!BH23<>\"\",教学计划表!N23,\"\")","v":""},{"$f":"IF(教学计划表!BH23<>\"\",IF(SEARCH(\"6\",教学计划表!AB23&\"6\",1)<=LEN(教学计划表!AB23),\"考试\",\"考查\"),\"\")","v":""},{"$f":"IF(教学计划表!BH23<>0,教学计划表!HG23,\"\")","v":""},{"$f":"IF(教学计划表!BH23<>0,教学计划表!HL23,\"\")","v":""},{"$f":"IF(教学计划表!BH23<>0,教学计划表!HM23,\"\")","v":""},{"$f":"IF(教学计划表!BH23<>0,教学计划表!QO23,\"\")","v":""},{"$f":"OFFSET($IY$2,SMALL(IF($IY$2:$IY$72<>\"\",ROW($IY$2:$IY$72),\"\"),ROW(IY6))-2,0)","v":{"$error":"#NUM!"}},{"$f":"OFFSET($IZ$2,SMALL(IF($IZ$2:$IZ$72<>\"\",ROW($IZ$2:$IZ$72),\"\"),ROW(IZ6))-2,0)","v":{"$error":"#NUM!"}},{"$f":"OFFSET($JA$2,SMALL(IF($JA$2:$JA$72<>\"\",ROW($JA$2:$JA$72),\"\"),ROW(JA6))-2,0)","v":{"$error":"#NUM!"}},{"$f":"OFFSET($JB$2,SMALL(IF($JB$2:$JB$72<>\"\",ROW($JB$2:$JB$72),\"\"),ROW(JB6))-2,0)","v":{"$error":"#NUM!"}},{"$f":"OFFSET($JC$2,SMALL(IF($JC$2:$JC$72<>\"\",ROW($JC$2:$JC$72),\"\"),ROW(JC6))-2,0)","v":{"$error":"#NUM!"}},{"$f":"OFFSET($JD$2,SMALL(IF($JD$2:$JD$72<>\"\",ROW($JD$2:$JD$72),\"\"),ROW(JD6))-2,0)","v":{"$error":"#NUM!"}},{"$f":"OFFSET($JE$2,SMALL(IF($JE$2:$JE$72<>\"\",ROW($JE$2:$JE$72),\"\"),ROW(JE6))-2,0)","v":{"$error":"#NUM!"}}]
["","","","","","","",null,"","","",{"$f":"IF(ISERROR(自动生成的开课信息!HB8),\"\",自动生成的开课信息!HB8)","v":""},{"$f":"IF(ISERROR(自动生成的开课信息!HC8),\"\",自动生成的开课信息!HC8)","v":""},{"$f":"IF(ISERROR(自动生成的开课信息!HD8),\"\",自动生成的开课信息!HD8)","v":""},{"$f":"IF(ISERROR(自动生成的开课信息!HE8),\"\",自动生成的开课信息!HE8)","v":""},null,"","","","","","","",null,"","","","","","","",null,"","","","","","","",null,"","","","","","","",null,null,null,null,null,null,null,null,null,null,null,null,null,null,null,null,null,null,null,null,null,null,null,null,null,null,null,null,null,null,null,null,null,null,null,null,null,null,null,null,null,null,null,null,null,null,null,null,null,null,null,null,null,null,null,null,null,null,null,null,null,null,null,null,null,null,null,null,null,null,null,null,null,null,null,null,null,null,null,null,null,null,null,null,null,null,null,null,null,null,null,null,null,null,null,null,null,null,null,null,null,null,null,null,null,null,null,null,null,null,null,null,null,null,null,null,null,null,null,null,null,null,null,null,null,null,null,null,null,null,null,null,null,null,null,null,null,null,{"$f":"IF(AND(教学计划表!N24<>\"\",教学计划表!AS24<>\"\"),教学计划表!I24,\"\")","v":""},{"$f":"IF(教学计划表!AS24<>\"\",教学计划表!N24,\"\")","v":""},{"$f":"IF(GE8<>\"\",IF(SEARCH(\"1\",教学计划表!AB24&\"1\",1)<=LEN(教学计划表!AB24),\"考试\",\"考查\"),\"\")","v":""},{"$f":"IF(教学计划表!DG24<>0,教学计划表!DG24,\"\")","v":""},{"$f":"IF(教学计划表!DG24<>0,教学计划表!DL24,\"\")","v":""},{"$f":"IF(教学计划表!DG24<>0,教学计划表!DM24,\"\")","v":""},{"$f":"IF(教学计划表!DG24<>0,教学计划表!OH24,\"\")","v":""},{"$f":"OFFSET($GD$2,SMALL(IF($GD$2:$GD$72<>\"\",ROW($2:$72),\"\"),ROW(GD7))-2,0)","v":{"$error":"#NUM!"}},{"$f":"OFFSET($GE$2,SMALL(IF($GE$2:$GE$72<>\"\",ROW($2:$72),\"\"),ROW(GE7))-2,0)","v":{"$error":"#NUM!"}},{"$f":"OFFSET($GF$2,SMALL(IF($GF$2:$GF$72<>\"\",ROW($2:$72),\"\"),ROW(GF7))-2,0)","v":{"$error":"#NUM!"}},{"$f":"OFFSET($GG$2,SMALL(IF($GG$2:$GG$72<>\"\",ROW($2:$72),\"\"),ROW(GG7))-2,0)","v":{"$error":"#NUM!"}},{"$f":"OFFSET($GH$2,SMALL(IF($GH$2:$GH$72<>\"\",ROW($2:$72),\"\"),ROW(GH7))-2,0)","v":{"$error":"#NUM!"}},{"$error":"#NUM!"},{"$f":"OFFSET($GJ$2,SMALL(IF($GJ$2:$GJ$72<>\"\",ROW($2:$72),\"\"),ROW(GJ7))-2,0)","v":{"$error":"#NUM!"}},{"$f":"IF(AND(教学计划表!N24<>\"\",教学计划表!AV24<>\"\"),教学计划表!I24,\"\")","v":""},{"$f":"IF(教学计划表!AV24<>\"\",教学计划表!N24,\"\")","v":""},{"$f":"IF(GS8<>\"\",IF(SEARCH(\"2\",教学计划表!AB24&\"2\",1)<=LEN(教学计划表!AB24),\"考试\",\"考查\"),\"\")","v":""},{"$f":"IF(教学计划表!EA24<>0,教学计划表!EA24,\"\")","v":""},{"$f":"IF(教学计划表!EA24<>0,教学计划表!EF24,\"\")","v":""},{"$f":"IF(教学计划表!EA24<>0,教学计划表!EG24,\"\")","v":""},{"$f":"IF(教学计划表!EA24<>0,教学计划表!OT24,\"\")","v":""},{"$f":"OFFSET($GR$2,SMALL(IF($GR$2:$GR$72<>\"\",ROW($I$2:$K$72),\"\"),ROW(GR7))-2,0)","v":{"$error":"#NUM!"}},{"$f":"OFFSET($GS$2,SMALL(IF($GS$2:$GS$72<>\"\",ROW($I$2:$K$72),\"\"),ROW(GS7))-2,0)","v":{"$error":"#NUM!"}},{"$f":"OFFSET($GT$2,SMALL(IF($GT$2:$GT$72<>\"\",ROW($I$2:$K$72),\"\"),ROW(GT7))-2,0)","v":{"$error":"#NUM!"}},{"$f":"OFFSET($GU$2,SMALL(IF($GU$2:$GU$72<>\"\",ROW($I$2:$K$72),\"\"),ROW(GU7))-2,0)","v":{"$error":"#NUM!"}},{"$f":"OFFSET($GV$2,SMALL(IF($GV$2:$GV$72<>\"\",ROW($GV$2:$GV$72),\"\"),ROW(GV7))-2,0)","v":{"$error":"#NUM!"}},{"$f":"OFFSET($GW$2,SMALL(IF($GW$2:$GW$72<>\"\",ROW($GW$2:$GW$72),\"\"),ROW(GW7))-2,0)","v":{"$error":"#NUM!"}},{"$f":"OFFSET($GX$2,SMALL(IF($GX$2:$GX$72<>\"\",ROW($GX$2:$GX$72),\"\"),ROW(GX7))-2,0)","v":{"$error":"#NUM!"}},{"$f":"IF(AND(教学计划表!N24<>\"\",教学计划表!AY24<>\"\"),教学计划表!I24,\"\")","v":""},{"$f":"IF(教学计划表!AY24<>\"\",教学计划表!N24,\"\")","v":""},{"$f":"IF(HG8<>\"\",IF(SEARCH(\"3\",教学计划表!AB24&\"3\",1)<=LEN(教学计划表!AB24),\"考试\",\"考查\"),\"\")","v":""},{"$f":"IF(教学计划表!EV24<>0,教学计划表!EV24,\"\")","v":""},{"$f":"IF(教学计划表!EV24<>0,教学计划表!FA24,\"\")","v":""},{"$f":"IF(教学计划表!EV24<>0,教学计划表!FB24,\"\")","v":""},{"$f":"IF(教学计划表!EV24<>0,教学计划表!PF24,\"\")","v":""},{"$f":"OFFSET($HF$2,SMALL(IF($HF$2:$HF$72<>\"\",ROW($HF$2:$HF$72),\"\"),ROW(HF7))-2,0)","v":{"$error":"#NUM!"}},{"$f":"OFFSET($HG$2,SMALL(IF($HG$2:$HG$72<>\"\",ROW($HG$2:$HG$72),\"\"),ROW(HG7))-2,0)","v":{"$error":"#NUM!"}},{"$f":"OFFSET($HH$2,SMALL(IF($HH$2:$HH$72<>\"\",ROW($HH$2:$HH$72),\"\"),ROW(HH7))-2,0)","v":{"$error":"#NUM!"}},{"$f":"OFFSET($HI$2,SMALL(IF($HI$2:$HI$72<>\"\",ROW($HI$2:$HI$72),\"\"),ROW(HI7))-2,0)","v":{"$error":"#NUM!"}},{"$f":"OFFSET($HJ$2,SMALL(IF($HJ$2:$HJ$72<>\"\",ROW($HJ$2:$HJ$72),\"\"),ROW(HJ7))-2,0)","v":{"$error":"#NUM!"}},{"$f":"OFFSET($HK$2,SMALL(IF($HK$2:$HK$72<>\"\",ROW($HK$2:$HK$72),\"\"),ROW(HK7))-2,0)","v":{"$error":"#NUM!"}},{"$f":"OFFSET($HL$2,SMALL(IF($HL$2:$HL$72<>\"\",ROW($HL$2:$HL$72),\"\"),ROW(HL7))-2,0)","v":{"$error":"#NUM!"}},{"$f":"IF(AND(教学计划表!N24<>\"\",教学计划表!BB24<>\"\"),教学计划表!I24,\"\")","v":""},{"$f":"IF(教学计划表!BB24<>\"\",教学计划表!N24,\"\")","v":""},{"$f":"IF(HU8<>\"\",IF(SEARCH(\"4\",教学计划表!AB24&\"4\",1)<=LEN(教学计划表!AB24),\"考试\",\"考查\"),\"\")","v":""},{"$f":"IF(教学计划表!FQ24<>0,教学计划表!FQ24,\"\")","v":""},{"$f":"IF(教学计划表!FQ24<>0,教学计划表!FV24,\"\")","v":""},{"$f":"IF(教学计划表!FQ24<>0,教学计划表!FW24,\"\")","v":""},{"$f":"IF(教学计划表!FQ24<>0,教学计划表!PR24,\"\")","v":""},{"$f":"OFFSET($HT$2,SMALL(IF($HT$2:$HT$72<>\"\",ROW($HT$2:$HT$72),\"\"),ROW(HT7))-2,0)","v":{"$error":"#NUM!"}},{"$f":"OFFSET($HU$2,SMALL(IF($HU$2:$HU$72<>\"\",ROW($HU$2:$HU$72),\"\"),ROW(HU7))-2,0)","v":{"$error":"#NUM!"}},{"$f":"OFFSET($HV$2,SMALL(IF($HV$2:$HV$72<>\"\",ROW($HV$2:$HV$72),\"\"),ROW(HV7))-2,0)","v":{"$error":"#NUM!"}},{"$f":"OFFSET($HW$2,SMALL(IF($HW$2:$HW$72<>\"\",ROW($HW$2:$HW$72),\"\"),ROW(HW7))-2,0)","v":{"$error":"#NUM!"}},{"$f":"OFFSET($HX$2,SMALL(IF($HX$2:$HX$72<>\"\",ROW($HX$2:$HX$72),\"\"),ROW(HX7))-2,0)","v":{"$error":"#NUM!"}},{"$f":"OFFSET($HY$2,SMALL(IF($HY$2:$HY$72<>\"\",ROW($HY$2:$HY$72),\"\"),ROW(HY7))-2,0)","v":{"$error":"#NUM!"}},{"$f":"OFFSET($HZ$2,SMALL(IF($HZ$2:$HZ$72<>\"\",ROW($HZ$2:$HZ$72),\"\"),ROW(HZ7))-2,0)","v":{"$error":"#NUM!"}},null,null,{"$f":"IF(AND(教学计划表!N24<>\"\",教学计划表!BE24<>\"\"),教学计划表!I24,\"\")","v":""},{"$f":"IF(教学计划表!BE24<>\"\",教学计划表!N24,\"\")","v":""},{"$f":"IF(IK8<>\"\",IF(SEARCH(\"5\",教学计划表!AB24&\"5\",1)<=LEN(教学计划表!AB24),\"考试\",\"考查\"),\"\")","v":""},{"$f":"IF(教学计划表!GL24<>0,教学计划表!GL24,\"\")","v":""},{"$f":"IF(教学计划表!GL24<>0,教学计划表!GQ24,\"\")","v":""},{"$f":"IF(教学计划表!GL24<>0,教学计划表!GR24,\"\")","v":""},{"$f":"IF(教学计划表!GL24<>0,教学计划表!QC24,\"\")","v":""},{"$f":"OFFSET($IJ$2,SMALL(IF($IJ$2:$IJ$72<>\"\",ROW($IJ$2:$IJ$72),\"\"),ROW(IJ7))-2,0)","v":{"$error":"#NUM!"}},{"$f":"OFFSET($IK$2,SMALL(IF($IK$2:$IK$72<>\"\",ROW($IK$2:$IK$72),\"\"),ROW(IK7))-2,0)","v":{"$error":"#NUM!"}},{"$f":"OFFSET($IL$2,SMALL(IF($IL$2:$IL$72<>\"\",ROW($IL$2:$IL$72),\"\"),ROW(IL7))-2,0)","v":{"$error":"#NUM!"}},{"$f":"OFFSET($IM$2,SMALL(IF($IM$2:$IM$72<>\"\",ROW($IM$2:$IM$72),\"\"),ROW(IM7))-2,0)","v":{"$error":"#NUM!"}},{"$f":"OFFSET($IN$2,SMALL(IF($IN$2:$IN$72<>\"\",ROW($IN$2:$IN$72),\"\"),ROW(IN7))-2,0)","v":{"$error":"#NUM!"}},{"$f":"OFFSET($IO$2,SMALL(IF($IO$2:$IO$72<>\"\",ROW($IO$2:$IO$72),\"\"),ROW(IO7))-2,0)","v":{"$error":"#NUM!"}},{"$f":"OFFSET($IP$2,SMALL(IF($IP$2:$IP$72<>\"\",ROW($IP$2:$IP$72),\"\"),ROW(IP7))-2,0)","v":{"$error":"#NUM!"}},null,{"$f":"IF(AND(教学计划表!N24<>\"\",教学计划表!BH24<>\"\"),教学计划表!I24,\"\")","v":""},{"$f":"IF(教学计划表!BH24<>\"\",教学计划表!N24,\"\")","v":""},{"$f":"IF(教学计划表!BH24<>\"\",IF(SEARCH(\"6\",教学计划表!AB24&\"6\",1)<=LEN(教学计划表!AB24),\"考试\",\"考查\"),\"\")","v":""},{"$f":"IF(教学计划表!BH24<>0,教学计划表!HG24,\"\")","v":""},{"$f":"IF(教学计划表!BH24<>0,教学计划表!HL24,\"\")","v":""},{"$f":"IF(教学计划表!BH24<>0,教学计划表!HM24,\"\")","v":""},{"$f":"IF(教学计划表!BH24<>0,教学计划表!QO24,\"\")","v":""},{"$f":"OFFSET($IY$2,SMALL(IF($IY$2:$IY$72<>\"\",ROW($IY$2:$IY$72),\"\"),ROW(IY7))-2,0)","v":{"$error":"#NUM!"}},{"$f":"OFFSET($IZ$2,SMALL(IF($IZ$2:$IZ$72<>\"\",ROW($IZ$2:$IZ$72),\"\"),ROW(IZ7))-2,0)","v":{"$error":"#NUM!"}},{"$f":"OFFSET($JA$2,SMALL(IF($JA$2:$JA$72<>\"\",ROW($JA$2:$JA$72),\"\"),ROW(JA7))-2,0)","v":{"$error":"#NUM!"}},{"$f":"OFFSET($JB$2,SMALL(IF($JB$2:$JB$72<>\"\",ROW($JB$2:$JB$72),\"\"),ROW(JB7))-2,0)","v":{"$error":"#NUM!"}},{"$f":"OFFSET($JC$2,SMALL(IF($JC$2:$JC$72<>\"\",ROW($JC$2:$JC$72),\"\"),ROW(JC7))-2,0)","v":{"$error":"#NUM!"}},{"$f":"OFFSET($JD$2,SMALL(IF($JD$2:$JD$72<>\"\",ROW($JD$2:$JD$72),\"\"),ROW(JD7))-2,0)","v":{"$error":"#NUM!"}},{"$f":"OFFSET($JE$2,SMALL(IF($JE$2:$JE$72<>\"\",ROW($JE$2:$JE$72),\"\"),ROW(JE7))-2,0)","v":{"$error":"#NUM!"}}]
["","","","","","","",null,"","","",{"$f":"IF(ISERROR(自动生成的开课信息!HB9),\"\",自动生成的开课信息!HB9)","v":""},{"$f":"IF(ISERROR(自动生成的开课信息!HC9),\"\",自动生成的开课信息!HC9)","v":""},{"$f":"IF(ISERROR(自动生成的开课信息!HD9),\"\",自动生成的开课信息!HD9)","v":""},{"$f":"IF(ISERROR(自动生成的开课信息!HE9),\"\",自动生成的开课信息!HE9)","v":""},null,"","","","","","","",null,"","","","","","","",null,"","","","","","","",null,"","","","","","","",null,null,null,null,null,null,null,null,null,null,null,null,null,null,null,null,null,null,null,null,null,null,null,null,null,null,null,null,null,null,null,null,null,null,null,null,null,null,null,null,null,null,null,null,null,null,null,null,null,null,null,null,null,null,null,null,null,null,null,null,null,null,null,null,null,null,null,null,null,null,null,null,null,null,null,null,null,null,null,null,null,null,null,null,null,null,null,null,null,null,null,null,null,null,null,null,null,null,null,null,null,null,null,null,null,null,null,null,null,null,null,null,null,null,null,null,null,null,null,null,null,null,null,null,null,null,null,null,null,null,null,null,null,null,null,null,null,null,{"$f":"IF(AND(教学计划表!N25<>\"\",教学计划表!AS25<>\"\"),教学计划表!I25,\"\")","v":""},{"$f":"IF(教学计划表!AS25<>\"\",教学计划表!N25,\"\")","v":""},{"$f":"IF(GE9<>\"\",IF(SEARCH(\"1\",教学计划表!AB25&\"1\",1)<=LEN(教学计划表!AB25),\"考试\",\"考查\"),\"\")","v":""},{"$f":"IF(教学计划表!DG25<>0,教学计划表!DG25,\"\")","v":""},{"$f":"IF(教学计划表!DG25<>0,教学计划表!DL25,\"\")","v":""},{"$f":"IF(教学计划表!DG25<>0,教学计划表!DM25,\"\")","v":""},{"$f":"IF(教学计划表!DG25<>0,教学计划表!OH25,\"\")","v":""},{"$f":"OFFSET($GD$2,SMALL(IF($GD$2:$GD$72<>\"\",ROW($2:$72),\"\"),ROW(GD8))-2,0)","v":{"$error":"#NUM!"}},{"$f":"OFFSET($GE$2,SMALL(IF($GE$2:$GE$72<>\"\",ROW($2:$72),\"\"),ROW(GE8))-2,0)","v":{"$error":"#NUM!"}},{"$f":"OFFSET($GF$2,SMALL(IF($GF$2:$GF$72<>\"\",ROW($2:$72),\"\"),ROW(GF8))-2,0)","v":{"$error":"#NUM!"}},{"$f":"OFFSET($GG$2,SMALL(IF($GG$2:$GG$72<>\"\",ROW($2:$72),\"\"),ROW(GG8))-2,0)","v":{"$error":"#NUM!"}},{"$f":"OFFSET($GH$2,SMALL(IF($GH$2:$GH$72<>\"\",ROW($2:$72),\"\"),ROW(GH8))-2,0)","v":{"$error":"#NUM!"}},{"$error":"#NUM!"},{"$f":"OFFSET($GJ$2,SMALL(IF($GJ$2:$GJ$72<>\"\",ROW($2:$72),\"\"),ROW(GJ8))-2,0)","v":{"$error":"#NUM!"}},{"$f":"IF(AND(教学计划表!N25<>\"\",教学计划表!AV25<>\"\"),教学计划表!I25,\"\")","v":""},{"$f":"IF(教学计划表!AV25<>\"\",教学计划表!N25,\"\")","v":""},{"$f":"IF(GS9<>\"\",IF(SEARCH(\"2\",教学计划表!AB25&\"2\",1)<=LEN(教学计划表!AB25),\"考试\",\"考查\"),\"\")","v":""},{"$f":"IF(教学计划表!EA25<>0,教学计划表!EA25,\"\")","v":""},{"$f":"IF(教学计划表!EA25<>0,教学计划表!EF25,\"\")","v":""},{"$f":"IF(教学计划表!EA25<>0,教学计划表!EG25,\"\")","v":""},{"$f":"IF(教学计划表!EA25<>0,教学计划表!OT25,\"\")","v":""},{"$f":"OFFSET($GR$2,SMALL(IF($GR$2:$GR$72<>\"\",ROW($I$2:$K$72),\"\"),ROW(GR8))-2,0)","v":{"$error":"#NUM!"}},{"$f":"OFFSET($GS$2,SMALL(IF($GS$2:$GS$72<>\"\",ROW($I$2:$K$72),\"\"),ROW(GS8))-2,0)","v":{"$error":"#NUM!"}},{"$f":"OFFSET($GT$2,SMALL(IF($GT$2:$GT$72<>\"\",ROW($I$2:$K$72),\"\"),ROW(GT8))-2,0)","v":{"$error":"#NUM!"}},{"$f":"OFFSET($GU$2,SMALL(IF($GU$2:$GU$72<>\"\",ROW($I$2:$K$72),\"\"),ROW(GU8))-2,0)","v":{"$error":"#NUM!"}},{"$f":"OFFSET($GV$2,SMALL(IF($GV$2:$GV$72<>\"\",ROW($GV$2:$GV$72),\"\"),ROW(GV8))-2,0)","v":{"$error":"#NUM!"}},{"$f":"OFFSET($GW$2,SMALL(IF($GW$2:$GW$72<>\"\",ROW($GW$2:$GW$72),\"\"),ROW(GW8))-2,0)","v":{"$error":"#NUM!"}},{"$f":"OFFSET($GX$2,SMALL(IF($GX$2:$GX$72<>\"\",ROW($GX$2:$GX$72),\"\"),ROW(GX8))-2,0)","v":{"$error":"#NUM!"}},{"$f":"IF(AND(教学计划表!N25<>\"\",教学计划表!AY25<>\"\"),教学计划表!I25,\"\")","v":""},{"$f":"IF(教学计划表!AY25<>\"\",教学计划表!N25,\"\")","v":""},{"$f":"IF(HG9<>\"\",IF(SEARCH(\"3\",教学计划表!AB25&\"3\",1)<=LEN(教学计划表!AB25),\"考试\",\"考查\"),\"\")","v":""},{"$f":"IF(教学计划表!EV25<>0,教学计划表!EV25,\"\")","v":""},{"$f":"IF(教学计划表!EV25<>0,教学计划表!FA25,\"\")","v":""},{"$f":"IF(教学计划表!EV25<>0,教学计划表!FB25,\"\")","v":""},{"$f":"IF(教学计划表!EV25<>0,教学计划表!PF25,\"\")","v":""},{"$f":"OFFSET($HF$2,SMALL(IF($HF$2:$HF$72<>\"\",ROW($HF$2:$HF$72),\"\"),ROW(HF8))-2,0)","v":{"$error":"#NUM!"}},{"$f":"OFFSET($HG$2,SMALL(IF($HG$2:$HG$72<>\"\",ROW($HG$2:$HG$72),\"\"),ROW(HG8))-2,0)","v":{"$error":"#NUM!"}},{"$f":"OFFSET($HH$2,SMALL(IF($HH$2:$HH$72<>\"\",ROW($HH$2:$HH$72),\"\"),ROW(HH8))-2,0)","v":{"$error":"#NUM!"}},{"$f":"OFFSET($HI$2,SMALL(IF($HI$2:$HI$72<>\"\",ROW($HI$2:$HI$72),\"\"),ROW(HI8))-2,0)","v":{"$error":"#NUM!"}},{"$f":"OFFSET($HJ$2,SMALL(IF($HJ$2:$HJ$72<>\"\",ROW($HJ$2:$HJ$72),\"\"),ROW(HJ8))-2,0)","v":{"$error":"#NUM!"}},{"$f":"OFFSET($HK$2,SMALL(IF($HK$2:$HK$72<>\"\",ROW($HK$2:$HK$72),\"\"),ROW(HK8))-2,0)","v":{"$error":"#NUM!"}},{"$f":"OFFSET($HL$2,SMALL(IF($HL$2:$HL$72<>\"\",ROW($HL$2:$HL$72),\"\"),ROW(HL8))-2,0)","v":{"$error":"#NUM!"}},{"$f":"IF(AND(教学计划表!N25<>\"\",教学计划表!BB25<>\"\"),教学计划表!I25,\"\")","v":""},{"$f":"IF(教学计划表!BB25<>\"\",教学计划表!N25,\"\")","v":""},{"$f":"IF(HU9<>\"\",IF(SEARCH(\"4\",教学计划表!AB25&\"4\",1)<=LEN(教学计划表!AB25),\"考试\",\"考查\"),\"\")","v":""},{"$f":"IF(教学计划表!FQ25<>0,教学计划表!FQ25,\"\")","v":""},{"$f":"IF(教学计划表!FQ25<>0,教学计划表!FV25,\"\")","v":""},{"$f":"IF(教学计划表!FQ25<>0,教学计划表!FW25,\"\")","v":""},{"$f":"IF(教学计划表!FQ25<>0,教学计划表!PR25,\"\")","v":""},{"$f":"OFFSET($HT$2,SMALL(IF($HT$2:$HT$72<>\"\",ROW($HT$2:$HT$72),\"\"),ROW(HT8))-2,0)","v":{"$error":"#NUM!"}},{"$f":"OFFSET($HU$2,SMALL(IF($HU$2:$HU$72<>\"\",ROW($HU$2:$HU$72),\"\"),ROW(HU8))-2,0)","v":{"$error":"#NUM!"}},{"$f":"OFFSET($HV$2,SMALL(IF($HV$2:$HV$72<>\"\",ROW($HV$2:$HV$72),\"\"),ROW(HV8))-2,0)","v":{"$error":"#NUM!"}},{"$f":"OFFSET($HW$2,SMALL(IF($HW$2:$HW$72<>\"\",ROW($HW$2:$HW$72),\"\"),ROW(HW8))-2,0)","v":{"$error":"#NUM!"}},{"$f":"OFFSET($HX$2,SMALL(IF($HX$2:$HX$72<>\"\",ROW($HX$2:$HX$72),\"\"),ROW(HX8))-2,0)","v":{"$error":"#NUM!"}},{"$f":"OFFSET($HY$2,SMALL(IF($HY$2:$HY$72<>\"\",ROW($HY$2:$HY$72),\"\"),ROW(HY8))-2,0)","v":{"$error":"#NUM!"}},{"$f":"OFFSET($HZ$2,SMALL(IF($HZ$2:$HZ$72<>\"\",ROW($HZ$2:$HZ$72),\"\"),ROW(HZ8))-2,0)","v":{"$error":"#NUM!"}},null,null,{"$f":"IF(AND(教学计划表!N25<>\"\",教学计划表!BE25<>\"\"),教学计划表!I25,\"\")","v":""},{"$f":"IF(教学计划表!BE25<>\"\",教学计划表!N25,\"\")","v":""},{"$f":"IF(IK9<>\"\",IF(SEARCH(\"5\",教学计划表!AB25&\"5\",1)<=LEN(教学计划表!AB25),\"考试\",\"考查\"),\"\")","v":""},{"$f":"IF(教学计划表!GL25<>0,教学计划表!GL25,\"\")","v":""},{"$f":"IF(教学计划表!GL25<>0,教学计划表!GQ25,\"\")","v":""},{"$f":"IF(教学计划表!GL25<>0,教学计划表!GR25,\"\")","v":""},{"$f":"IF(教学计划表!GL25<>0,教学计划表!QC25,\"\")","v":""},{"$f":"OFFSET($IJ$2,SMALL(IF($IJ$2:$IJ$72<>\"\",ROW($IJ$2:$IJ$72),\"\"),ROW(IJ8))-2,0)","v":{"$error":"#NUM!"}},{"$f":"OFFSET($IK$2,SMALL(IF($IK$2:$IK$72<>\"\",ROW($IK$2:$IK$72),\"\"),ROW(IK8))-2,0)","v":{"$error":"#NUM!"}},{"$f":"OFFSET($IL$2,SMALL(IF($IL$2:$IL$72<>\"\",ROW($IL$2:$IL$72),\"\"),ROW(IL8))-2,0)","v":{"$error":"#NUM!"}},{"$f":"OFFSET($IM$2,SMALL(IF($IM$2:$IM$72<>\"\",ROW($IM$2:$IM$72),\"\"),ROW(IM8))-2,0)","v":{"$error":"#NUM!"}},{"$f":"OFFSET($IN$2,SMALL(IF($IN$2:$IN$72<>\"\",ROW($IN$2:$IN$72),\"\"),ROW(IN8))-2,0)","v":{"$error":"#NUM!"}},{"$f":"OFFSET($IO$2,SMALL(IF($IO$2:$IO$72<>\"\",ROW($IO$2:$IO$72),\"\"),ROW(IO8))-2,0)","v":{"$error":"#NUM!"}},{"$f":"OFFSET($IP$2,SMALL(IF($IP$2:$IP$72<>\"\",ROW($IP$2:$IP$72),\"\"),ROW(IP8))-2,0)","v":{"$error":"#NUM!"}},null,{"$f":"IF(AND(教学计划表!N25<>\"\",教学计划表!BH25<>\"\"),教学计划表!I25,\"\")","v":""},{"$f":"IF(教学计划表!BH25<>\"\",教学计划表!N25,\"\")","v":""},{"$f":"IF(教学计划表!BH25<>\"\",IF(SEARCH(\"6\",教学计划表!AB25&\"6\",1)<=LEN(教学计划表!AB25),\"考试\",\"考查\"),\"\")","v":""},{"$f":"IF(教学计划表!BH25<>0,教学计划表!HG25,\"\")","v":""},{"$f":"IF(教学计划表!BH25<>0,教学计划表!HL25,\"\")","v":""},{"$f":"IF(教学计划表!BH25<>0,教学计划表!HM25,\"\")","v":""},{"$f":"IF(教学计划表!BH25<>0,教学计划表!QO25,\"\")","v":""},{"$f":"OFFSET($IY$2,SMALL(IF($IY$2:$IY$72<>\"\",ROW($IY$2:$IY$72),\"\"),ROW(IY8))-2,0)","v":{"$error":"#NUM!"}},{"$f":"OFFSET($IZ$2,SMALL(IF($IZ$2:$IZ$72<>\"\",ROW($IZ$2:$IZ$72),\"\"),ROW(IZ8))-2,0)","v":{"$error":"#NUM!"}},{"$f":"OFFSET($JA$2,SMALL(IF($JA$2:$JA$72<>\"\",ROW($JA$2:$JA$72),\"\"),ROW(JA8))-2,0)","v":{"$error":"#NUM!"}},{"$f":"OFFSET($JB$2,SMALL(IF($JB$2:$JB$72<>\"\",ROW($JB$2:$JB$72),\"\"),ROW(JB8))-2,0)","v":{"$error":"#NUM!"}},{"$f":"OFFSET($JC$2,SMALL(IF($JC$2:$JC$72<>\"\",ROW($JC$2:$JC$72),\"\"),ROW(JC8))-2,0)","v":{"$error":"#NUM!"}},{"$f":"OFFSET($JD$2,SMALL(IF($JD$2:$JD$72<>\"\",ROW($JD$2:$JD$72),\"\"),ROW(JD8))-2,0)","v":{"$error":"#NUM!"}},{"$f":"OFFSET($JE$2,SMALL(IF($JE$2:$JE$72<>\"\",ROW($JE$2:$JE$72),\"\"),ROW(JE8))-2,0)","v":{"$error":"#NUM!"}}]
["","","","","","","",null,"","","",{"$f":"IF(ISERROR(自动生成的开课信息!HB10),\"\",自动生成的开课信息!HB10)","v":""},{"$f":"IF(ISERROR(自动生成的开课信息!HC10),\"\",自动生成的开课信息!HC10)","v":""},{"$f":"IF(ISERROR(自动生成的开课信息!HD10),\"\",自动生成的开课信息!HD10)","v":""},{"$f":"IF(ISERROR(自动生成的开课信息!HE10),\"\",自动生成的开课信息!HE10)","v":""},null,"","","","","","","",null,"","","","","","","",null,"","","","","","","",null,"","","","","","","",null,null,null,null,null,null,null,null,null,null,null,null,null,null,null,null,null,null,null,null,null,null,null,null,null,null,null,null,null,null,null,null,null,null,null,null,null,null,null,null,null,null,null,null,null,null,null,null,null,null,null,null,null,null,null,null,null,null,null,null,null,null,null,null,null,null,null,null,null,null,null,null,null,null,null,null,null,null,null,null,null,null,null,null,null,null,null,null,null,null,null,null,null,null,null,null,null,null,null,null,null,null,null,null,null,null,null,null,null,null,null,null,null,null,null,null,null,null,null,null,null,null,null,null,null,null,null,null,null,null,null,null,null,null,null,null,null,null,{"$f":"IF(AND(教学计划表!N26<>\"\",教学计划表!AS26<>\"\"),教学计划表!I26,\"\")","v":""},{"$f":"IF(教学计划表!AS26<>\"\",教学计划表!N26,\"\")","v":""},{"$f":"IF(GE10<>\"\",IF(SEARCH(\"1\",教学计划表!AB26&\"1\",1)<=LEN(教学计划表!AB26),\"考试\",\"考查\"),\"\")","v":""},{"$f":"IF(教学计划表!DG26<>0,教学计划表!DG26,\"\")","v":""},{"$f":"IF(教学计划表!DG26<>0,教学计划表!DL26,\"\")","v":""},{"$f":"IF(教学计划表!DG26<>0,教学计划表!DM26,\"\")","v":""},{"$f":"IF(教学计划表!DG26<>0,教学计划表!OH26,\"\")","v":""},{"$f":"OFFSET($GD$2,SMALL(IF($GD$2:$GD$72<>\"\",ROW($2:$72),\"\"),ROW(GD9))-2,0)","v":{"$error":"#NUM!"}},{"$f":"OFFSET($GE$2,SMALL(IF($GE$2:$GE$72<>\"\",ROW($2:$72),\"\"),ROW(GE9))-2,0)","v":{"$error":"#NUM!"}},{"$f":"OFFSET($GF$2,SMALL(IF($GF$2:$GF$72<>\"\",ROW($2:$72),\"\"),ROW(GF9))-2,0)","v":{"$error":"#NUM!"}},{"$f":"OFFSET($GG$2,SMALL(IF($GG$2:$GG$72<>\"\",ROW($2:$72),\"\"),ROW(GG9))-2,0)","v":{"$error":"#NUM!"}},{"$f":"OFFSET($GH$2,SMALL(IF($GH$2:$GH$72<>\"\",ROW($2:$72),\"\"),ROW(GH9))-2,0)","v":{"$error":"#NUM!"}},{"$error":"#NUM!"},{"$f":"OFFSET($GJ$2,SMALL(IF($GJ$2:$GJ$72<>\"\",ROW($2:$72),\"\"),ROW(GJ9))-2,0)","v":{"$error":"#NUM!"}},{"$f":"IF(AND(教学计划表!N26<>\"\",教学计划表!AV26<>\"\"),教学计划表!I26,\"\")","v":""},{"$f":"IF(教学计划表!AV26<>\"\",教学计划表!N26,\"\")","v":""},{"$f":"IF(GS10<>\"\",IF(SEARCH(\"2\",教学计划表!AB26&\"2\",1)<=LEN(教学计划表!AB26),\"考试\",\"考查\"),\"\")","v":""},{"$f":"IF(教学计划表!EA26<>0,教学计划表!EA26,\"\")","v":""},{"$f":"IF(教学计划表!EA26<>0,教学计划表!EF26,\"\")","v":""},{"$f":"IF(教学计划表!EA26<>0,教学计划表!EG26,\"\")","v":""},{"$f":"IF(教学计划表!EA26<>0,教学计划表!OT26,\"\")","v":""},{"$f":"OFFSET($GR$2,SMALL(IF($GR$2:$GR$72<>\"\",ROW($I$2:$K$72),\"\"),ROW(GR9))-2,0)","v":{"$error":"#NUM!"}},{"$f":"OFFSET($GS$2,SMALL(IF($GS$2:$GS$72<>\"\",ROW($I$2:$K$72),\"\"),ROW(GS9))-2,0)","v":{"$error":"#NUM!"}},{"$f":"OFFSET($GT$2,SMALL(IF($GT$2:$GT$72<>\"\",ROW($I$2:$K$72),\"\"),ROW(GT9))-2,0)","v":{"$error":"#NUM!"}},{"$f":"OFFSET($GU$2,SMALL(IF($GU$2:$GU$72<>\"\",ROW($I$2:$K$72),\"\"),ROW(GU9))-2,0)","v":{"$error":"#NUM!"}},{"$f":"OFFSET($GV$2,SMALL(IF($GV$2:$GV$72<>\"\",ROW($GV$2:$GV$72),\"\"),ROW(GV9))-2,0)","v":{"$error":"#NUM!"}},{"$f":"OFFSET($GW$2,SMALL(IF($GW$2:$GW$72<>\"\",ROW($GW$2:$GW$72),\"\"),ROW(GW9))-2,0)","v":{"$error":"#NUM!"}},{"$f":"OFFSET($GX$2,SMALL(IF($GX$2:$GX$72<>\"\",ROW($GX$2:$GX$72),\"\"),ROW(GX9))-2,0)","v":{"$error":"#NUM!"}},{"$f":"IF(AND(教学计划表!N26<>\"\",教学计划表!AY26<>\"\"),教学计划表!I26,\"\")","v":""},{"$f":"IF(教学计划表!AY26<>\"\",教学计划表!N26,\"\")","v":""},{"$f":"IF(HG10<>\"\",IF(SEARCH(\"3\",教学计划表!AB26&\"3\",1)<=LEN(教学计划表!AB26),\"考试\",\"考查\"),\"\")","v":""},{"$f":"IF(教学计划表!EV26<>0,教学计划表!EV26,\"\")","v":""},{"$f":"IF(教学计划表!EV26<>0,教学计划表!FA26,\"\")","v":""},{"$f":"IF(教学计划表!EV26<>0,教学计划表!FB26,\"\")","v":""},{"$f":"IF(教学计划表!EV26<>0,教学计划表!PF26,\"\")","v":""},{"$f":"OFFSET($HF$2,SMALL(IF($HF$2:$HF$72<>\"\",ROW($HF$2:$HF$72),\"\"),ROW(HF9))-2,0)","v":{"$error":"#NUM!"}},{"$f":"OFFSET($HG$2,SMALL(IF($HG$2:$HG$72<>\"\",ROW($HG$2:$HG$72),\"\"),ROW(HG9))-2,0)","v":{"$error":"#NUM!"}},{"$f":"OFFSET($HH$2,SMALL(IF($HH$2:$HH$72<>\"\",ROW($HH$2:$HH$72),\"\"),ROW(HH9))-2,0)","v":{"$error":"#NUM!"}},{"$f":"OFFSET($HI$2,SMALL(IF($HI$2:$HI$72<>\"\",ROW($HI$2:$HI$72),\"\"),ROW(HI9))-2,0)","v":{"$error":"#NUM!"}},{"$f":"OFFSET($HJ$2,SMALL(IF($HJ$2:$HJ$72<>\"\",ROW($HJ$2:$HJ$72),\"\"),ROW(HJ9))-2,0)","v":{"$error":"#NUM!"}},{"$f":"OFFSET($HK$2,SMALL(IF($HK$2:$HK$72<>\"\",ROW($HK$2:$HK$72),\"\"),ROW(HK9))-2,0)","v":{"$error":"#NUM!"}},{"$f":"OFFSET($HL$2,SMALL(IF($HL$2:$HL$72<>\"\",ROW($HL$2:$HL$72),\"\"),ROW(HL9))-2,0)","v":{"$error":"#NUM!"}},{"$f":"IF(AND(教学计划表!N26<>\"\",教学计划表!BB26<>\"\"),教学计划表!I26,\"\")","v":""},{"$f":"IF(教学计划表!BB26<>\"\",教学计划表!N26,\"\")","v":""},{"$f":"IF(HU10<>\"\",IF(SEARCH(\"4\",教学计划表!AB26&\"4\",1)<=LEN(教学计划表!AB26),\"考试\",\"考查\"),\"\")","v":""},{"$f":"IF(教学计划表!FQ26<>0,教学计划表!FQ26,\"\")","v":""},{"$f":"IF(教学计划表!FQ26<>0,教学计划表!FV26,\"\")","v":""},{"$f":"IF(教学计划表!FQ26<>0,教学计划表!FW26,\"\")","v":""},{"$f":"IF(教学计划表!FQ26<>0,教学计划表!PR26,\"\")","v":""},{"$f":"OFFSET($HT$2,SMALL(IF($HT$2:$HT$72<>\"\",ROW($HT$2:$HT$72),\"\"),ROW(HT9))-2,0)","v":{"$error":"#NUM!"}},{"$f":"OFFSET($HU$2,SMALL(IF($HU$2:$HU$72<>\"\",ROW($HU$2:$HU$72),\"\"),ROW(HU9))-2,0)","v":{"$error":"#NUM!"}},{"$f":"OFFSET($HV$2,SMALL(IF($HV$2:$HV$72<>\"\",ROW($HV$2:$HV$72),\"\"),ROW(HV9))-2,0)","v":{"$error":"#NUM!"}},{"$f":"OFFSET($HW$2,SMALL(IF($HW$2:$HW$72<>\"\",ROW($HW$2:$HW$72),\"\"),ROW(HW9))-2,0)","v":{"$error":"#NUM!"}},{"$f":"OFFSET($HX$2,SMALL(IF($HX$2:$HX$72<>\"\",ROW($HX$2:$HX$72),\"\"),ROW(HX9))-2,0)","v":{"$error":"#NUM!"}},{"$f":"OFFSET($HY$2,SMALL(IF($HY$2:$HY$72<>\"\",ROW($HY$2:$HY$72),\"\"),ROW(HY9))-2,0)","v":{"$error":"#NUM!"}},{"$f":"OFFSET($HZ$2,SMALL(IF($HZ$2:$HZ$72<>\"\",ROW($HZ$2:$HZ$72),\"\"),ROW(HZ9))-2,0)","v":{"$error":"#NUM!"}},null,null,{"$f":"IF(AND(教学计划表!N26<>\"\",教学计划表!BE26<>\"\"),教学计划表!I26,\"\")","v":""},{"$f":"IF(教学计划表!BE26<>\"\",教学计划表!N26,\"\")","v":""},{"$f":"IF(IK10<>\"\",IF(SEARCH(\"5\",教学计划表!AB26&\"5\",1)<=LEN(教学计划表!AB26),\"考试\",\"考查\"),\"\")","v":""},{"$f":"IF(教学计划表!GL26<>0,教学计划表!GL26,\"\")","v":""},{"$f":"IF(教学计划表!GL26<>0,教学计划表!GQ26,\"\")","v":""},{"$f":"IF(教学计划表!GL26<>0,教学计划表!GR26,\"\")","v":""},{"$f":"IF(教学计划表!GL26<>0,教学计划表!QC26,\"\")","v":""},{"$f":"OFFSET($IJ$2,SMALL(IF($IJ$2:$IJ$72<>\"\",ROW($IJ$2:$IJ$72),\"\"),ROW(IJ9))-2,0)","v":{"$error":"#NUM!"}},{"$f":"OFFSET($IK$2,SMALL(IF($IK$2:$IK$72<>\"\",ROW($IK$2:$IK$72),\"\"),ROW(IK9))-2,0)","v":{"$error":"#NUM!"}},{"$f":"OFFSET($IL$2,SMALL(IF($IL$2:$IL$72<>\"\",ROW($IL$2:$IL$72),\"\"),ROW(IL9))-2,0)","v":{"$error":"#NUM!"}},{"$f":"OFFSET($IM$2,SMALL(IF($IM$2:$IM$72<>\"\",ROW($IM$2:$IM$72),\"\"),ROW(IM9))-2,0)","v":{"$error":"#NUM!"}},{"$f":"OFFSET($IN$2,SMALL(IF($IN$2:$IN$72<>\"\",ROW($IN$2:$IN$72),\"\"),ROW(IN9))-2,0)","v":{"$error":"#NUM!"}},{"$f":"OFFSET($IO$2,SMALL(IF($IO$2:$IO$72<>\"\",ROW($IO$2:$IO$72),\"\"),ROW(IO9))-2,0)","v":{"$error":"#NUM!"}},{"$f":"OFFSET($IP$2,SMALL(IF($IP$2:$IP$72<>\"\",ROW($IP$2:$IP$72),\"\"),ROW(IP9))-2,0)","v":{"$error":"#NUM!"}},null,{"$f":"IF(AND(教学计划表!N26<>\"\",教学计划表!BH26<>\"\"),教学计划表!I26,\"\")","v":""},{"$f":"IF(教学计划表!BH26<>\"\",教学计划表!N26,\"\")","v":""},{"$f":"IF(教学计划表!BH26<>\"\",IF(SEARCH(\"6\",教学计划表!AB26&\"6\",1)<=LEN(教学计划表!AB26),\"考试\",\"考查\"),\"\")","v":""},{"$f":"IF(教学计划表!BH26<>0,教学计划表!HG26,\"\")","v":""},{"$f":"IF(教学计划表!BH26<>0,教学计划表!HL26,\"\")","v":""},{"$f":"IF(教学计划表!BH26<>0,教学计划表!HM26,\"\")","v":""},{"$f":"IF(教学计划表!BH26<>0,教学计划表!QO26,\"\")","v":""},{"$f":"OFFSET($IY$2,SMALL(IF($IY$2:$IY$72<>\"\",ROW($IY$2:$IY$72),\"\"),ROW(IY9))-2,0)","v":{"$error":"#NUM!"}},{"$f":"OFFSET($IZ$2,SMALL(IF($IZ$2:$IZ$72<>\"\",ROW($IZ$2:$IZ$72),\"\"),ROW(IZ9))-2,0)","v":{"$error":"#NUM!"}},{"$f":"OFFSET($JA$2,SMALL(IF($JA$2:$JA$72<>\"\",ROW($JA$2:$JA$72),\"\"),ROW(JA9))-2,0)","v":{"$error":"#NUM!"}},{"$f":"OFFSET($JB$2,SMALL(IF($JB$2:$JB$72<>\"\",ROW($JB$2:$JB$72),\"\"),ROW(JB9))-2,0)","v":{"$error":"#NUM!"}},{"$f":"OFFSET($JC$2,SMALL(IF($JC$2:$JC$72<>\"\",ROW($JC$2:$JC$72),\"\"),ROW(JC9))-2,0)","v":{"$error":"#NUM!"}},{"$f":"OFFSET($JD$2,SMALL(IF($JD$2:$JD$72<>\"\",ROW($JD$2:$JD$72),\"\"),ROW(JD9))-2,0)","v":{"$error":"#NUM!"}},{"$f":"OFFSET($JE$2,SMALL(IF($JE$2:$JE$72<>\"\",ROW($JE$2:$JE$72),\"\"),ROW(JE9))-2,0)","v":{"$error":"#NUM!"}}]
["","","","","","","",null,"","","",{"$f":"IF(ISERROR(自动生成的开课信息!HB11),\"\",自动生成的开课信息!HB11)","v":""},{"$f":"IF(ISERROR(自动生成的开课信息!HC11),\"\",自动生成的开课信息!HC11)","v":""},{"$f":"IF(ISERROR(自动生成的开课信息!HD11),\"\",自动生成的开课信息!HD11)","v":""},{"$f":"IF(ISERROR(自动生成的开课信息!HE11),\"\",自动生成的开课信息!HE11)","v":""},null,"","","","","","","",null,"","","","","","","",null,"","","","","","","",null,"","","","","","","",null,null,null,null,null,null,null,null,null,null,null,null,null,null,null,null,null,null,null,null,null,null,null,null,null,null,null,null,null,null,null,null,null,null,null,null,null,null,null,null,null,null,null,null,null,null,null,null,null,null,null,null,null,null,null,null,null,null,null,null,null,null,null,null,null,null,null,null,null,null,null,null,null,null,null,null,null,null,null,null,null,null,null,null,null,null,null,null,null,null,null,null,null,null,null,null,null,null,null,null,null,null,null,null,null,null,null,null,null,null,null,null,null,null,null,null,null,null,null,null,null,null,null,null,null,null,null,null,null,null,null,null,null,null,null,null,null,null,{"$f":"IF(AND(教学计划表!N27<>\"\",教学计划表!AS27<>\"\"),教学计划表!I27,\"\")","v":""},{"$f":"IF(教学计划表!AS27<>\"\",教学计划表!N27,\"\")","v":""},{"$f":"IF(GE11<>\"\",IF(SEARCH(\"1\",教学计划表!AB27&\"1\",1)<=LEN(教学计划表!AB27),\"考试\",\"考查\"),\"\")","v":""},{"$f":"IF(教学计划表!DG27<>0,教学计划表!DG27,\"\")","v":""},{"$f":"IF(教学计划表!DG27<>0,教学计划表!DL27,\"\")","v":""},{"$f":"IF(教学计划表!DG27<>0,教学计划表!DM27,\"\")","v":""},{"$f":"IF(教学计划表!DG27<>0,教学计划表!OH27,\"\")","v":""},{"$f":"OFFSET($GD$2,SMALL(IF($GD$2:$GD$72<>\"\",ROW($2:$72),\"\"),ROW(GD10))-2,0)","v":{"$error":"#NUM!"}},{"$f":"OFFSET($GE$2,SMALL(IF($GE$2:$GE$72<>\"\",ROW($2:$72),\"\"),ROW(GE10))-2,0)","v":{"$error":"#NUM!"}},{"$f":"OFFSET($GF$2,SMALL(IF($GF$2:$GF$72<>\"\",ROW($2:$72),\"\"),ROW(GF10))-2,0)","v":{"$error":"#NUM!"}},{"$f":"OFFSET($GG$2,SMALL(IF($GG$2:$GG$72<>\"\",ROW($2:$72),\"\"),ROW(GG10))-2,0)","v":{"$error":"#NUM!"}},{"$f":"OFFSET($GH$2,SMALL(IF($GH$2:$GH$72<>\"\",ROW($2:$72),\"\"),ROW(GH10))-2,0)","v":{"$error":"#NUM!"}},{"$error":"#NUM!"},{"$f":"OFFSET($GJ$2,SMALL(IF($GJ$2:$GJ$72<>\"\",ROW($2:$72),\"\"),ROW(GJ10))-2,0)","v":{"$error":"#NUM!"}},{"$f":"IF(AND(教学计划表!N27<>\"\",教学计划表!AV27<>\"\"),教学计划表!I27,\"\")","v":""},{"$f":"IF(教学计划表!AV27<>\"\",教学计划表!N27,\"\")","v":""},{"$f":"IF(GS11<>\"\",IF(SEARCH(\"2\",教学计划表!AB27&\"2\",1)<=LEN(教学计划表!AB27),\"考试\",\"考查\"),\"\")","v":""},{"$f":"IF(教学计划表!EA27<>0,教学计划表!EA27,\"\")","v":""},{"$f":"IF(教学计划表!EA27<>0,教学计划表!EF27,\"\")","v":""},{"$f":"IF(教学计划表!EA27<>0,教学计划表!EG27,\"\")","v":""},{"$f":"IF(教学计划表!EA27<>0,教学计划表!OT27,\"\")","v":""},{"$f":"OFFSET($GR$2,SMALL(IF($GR$2:$GR$72<>\"\",ROW($I$2:$K$72),\"\"),ROW(GR10))-2,0)","v":{"$error":"#NUM!"}},{"$f":"OFFSET($GS$2,SMALL(IF($GS$2:$GS$72<>\"\",ROW($I$2:$K$72),\"\"),ROW(GS10))-2,0)","v":{"$error":"#NUM!"}},{"$f":"OFFSET($GT$2,SMALL(IF($GT$2:$GT$72<>\"\",ROW($I$2:$K$72),\"\"),ROW(GT10))-2,0)","v":{"$error":"#NUM!"}},{"$f":"OFFSET($GU$2,SMALL(IF($GU$2:$GU$72<>\"\",ROW($I$2:$K$72),\"\"),ROW(GU10))-2,0)","v":{"$error":"#NUM!"}},{"$f":"OFFSET($GV$2,SMALL(IF($GV$2:$GV$72<>\"\",ROW($GV$2:$GV$72),\"\"),ROW(GV10))-2,0)","v":{"$error":"#NUM!"}},{"$f":"OFFSET($GW$2,SMALL(IF($GW$2:$GW$72<>\"\",ROW($GW$2:$GW$72),\"\"),ROW(GW10))-2,0)","v":{"$error":"#NUM!"}},{"$f":"OFFSET($GX$2,SMALL(IF($GX$2:$GX$72<>\"\",ROW($GX$2:$GX$72),\"\"),ROW(GX10))-2,0)","v":{"$error":"#NUM!"}},{"$f":"IF(AND(教学计划表!N27<>\"\",教学计划表!AY27<>\"\"),教学计划表!I27,\"\")","v":""},{"$f":"IF(教学计划表!AY27<>\"\",教学计划表!N27,\"\")","v":""},{"$f":"IF(HG11<>\"\",IF(SEARCH(\"3\",教学计划表!AB27&\"3\",1)<=LEN(教学计划表!AB27),\"考试\",\"考查\"),\"\")","v":""},{"$f":"IF(教学计划表!EV27<>0,教学计划表!EV27,\"\")","v":""},{"$f":"IF(教学计划表!EV27<>0,教学计划表!FA27,\"\")","v":""},{"$f":"IF(教学计划表!EV27<>0,教学计划表!FB27,\"\")","v":""},{"$f":"IF(教学计划表!EV27<>0,教学计划表!PF27,\"\")","v":""},{"$f":"OFFSET($HF$2,SMALL(IF($HF$2:$HF$72<>\"\",ROW($HF$2:$HF$72),\"\"),ROW(HF10))-2,0)","v":{"$error":"#NUM!"}},{"$f":"OFFSET($HG$2,SMALL(IF($HG$2:$HG$72<>\"\",ROW($HG$2:$HG$72),\"\"),ROW(HG10))-2,0)","v":{"$error":"#NUM!"}},{"$f":"OFFSET($HH$2,SMALL(IF($HH$2:$HH$72<>\"\",ROW($HH$2:$HH$72),\"\"),ROW(HH10))-2,0)","v":{"$error":"#NUM!"}},{"$f":"OFFSET($HI$2,SMALL(IF($HI$2:$HI$72<>\"\",ROW($HI$2:$HI$72),\"\"),ROW(HI10))-2,0)","v":{"$error":"#NUM!"}},{"$f":"OFFSET($HJ$2,SMALL(IF($HJ$2:$HJ$72<>\"\",ROW($HJ$2:$HJ$72),\"\"),ROW(HJ10))-2,0)","v":{"$error":"#NUM!"}},{"$f":"OFFSET($HK$2,SMALL(IF($HK$2:$HK$72<>\"\",ROW($HK$2:$HK$72),\"\"),ROW(HK10))-2,0)","v":{"$error":"#NUM!"}},{"$f":"OFFSET($HL$2,SMALL(IF($HL$2:$HL$72<>\"\",ROW($HL$2:$HL$72),\"\"),ROW(HL10))-2,0)","v":{"$error":"#NUM!"}},{"$f":"IF(AND(教学计划表!N27<>\"\",教学计划表!BB27<>\"\"),教学计划表!I27,\"\")","v":""},{"$f":"IF(教学计划表!BB27<>\"\",教学计划表!N27,\"\")","v":""},{"$f":"IF(HU11<>\"\",IF(SEARCH(\"4\",教学计划表!AB27&\"4\",1)<=LEN(教学计划表!AB27),\"考试\",\"考查\"),\"\")","v":""},{"$f":"IF(教学计划表!FQ27<>0,教学计划表!FQ27,\"\")","v":""},{"$f":"IF(教学计划表!FQ27<>0,教学计划表!FV27,\"\")","v":""},{"$f":"IF(教学计划表!FQ27<>0,教学计划表!FW27,\"\")","v":""},{"$f":"IF(教学计划表!FQ27<>0,教学计划表!PR27,\"\")","v":""},{"$f":"OFFSET($HT$2,SMALL(IF($HT$2:$HT$72<>\"\",ROW($HT$2:$HT$72),\"\"),ROW(HT10))-2,0)","v":{"$error":"#NUM!"}},{"$f":"OFFSET($HU$2,SMALL(IF($HU$2:$HU$72<>\"\",ROW($HU$2:$HU$72),\"\"),ROW(HU10))-2,0)","v":{"$error":"#NUM!"}},{"$f":"OFFSET($HV$2,SMALL(IF($HV$2:$HV$72<>\"\",ROW($HV$2:$HV$72),\"\"),ROW(HV10))-2,0)","v":{"$error":"#NUM!"}},{"$f":"OFFSET($HW$2,SMALL(IF($HW$2:$HW$72<>\"\",ROW($HW$2:$HW$72),\"\"),ROW(HW10))-2,0)","v":{"$error":"#NUM!"}},{"$f":"OFFSET($HX$2,SMALL(IF($HX$2:$HX$72<>\"\",ROW($HX$2:$HX$72),\"\"),ROW(HX10))-2,0)","v":{"$error":"#NUM!"}},{"$f":"OFFSET($HY$2,SMALL(IF($HY$2:$HY$72<>\"\",ROW($HY$2:$HY$72),\"\"),ROW(HY10))-2,0)","v":{"$error":"#NUM!"}},{"$f":"OFFSET($HZ$2,SMALL(IF($HZ$2:$HZ$72<>\"\",ROW($HZ$2:$HZ$72),\"\"),ROW(HZ10))-2,0)","v":{"$error":"#NUM!"}},null,null,{"$f":"IF(AND(教学计划表!N27<>\"\",教学计划表!BE27<>\"\"),教学计划表!I27,\"\")","v":""},{"$f":"IF(教学计划表!BE27<>\"\",教学计划表!N27,\"\")","v":""},{"$f":"IF(IK11<>\"\",IF(SEARCH(\"5\",教学计划表!AB27&\"5\",1)<=LEN(教学计划表!AB27),\"考试\",\"考查\"),\"\")","v":""},{"$f":"IF(教学计划表!GL27<>0,教学计划表!GL27,\"\")","v":""},{"$f":"IF(教学计划表!GL27<>0,教学计划表!GQ27,\"\")","v":""},{"$f":"IF(教学计划表!GL27<>0,教学计划表!GR27,\"\")","v":""},{"$f":"IF(教学计划表!GL27<>0,教学计划表!QC27,\"\")","v":""},{"$f":"OFFSET($IJ$2,SMALL(IF($IJ$2:$IJ$72<>\"\",ROW($IJ$2:$IJ$72),\"\"),ROW(IJ10))-2,0)","v":{"$error":"#NUM!"}},{"$f":"OFFSET($IK$2,SMALL(IF($IK$2:$IK$72<>\"\",ROW($IK$2:$IK$72),\"\"),ROW(IK10))-2,0)","v":{"$error":"#NUM!"}},{"$f":"OFFSET($IL$2,SMALL(IF($IL$2:$IL$72<>\"\",ROW($IL$2:$IL$72),\"\"),ROW(IL10))-2,0)","v":{"$error":"#NUM!"}},{"$f":"OFFSET($IM$2,SMALL(IF($IM$2:$IM$72<>\"\",ROW($IM$2:$IM$72),\"\"),ROW(IM10))-2,0)","v":{"$error":"#NUM!"}},{"$f":"OFFSET($IN$2,SMALL(IF($IN$2:$IN$72<>\"\",ROW($IN$2:$IN$72),\"\"),ROW(IN10))-2,0)","v":{"$error":"#NUM!"}},{"$f":"OFFSET($IO$2,SMALL(IF($IO$2:$IO$72<>\"\",ROW($IO$2:$IO$72),\"\"),ROW(IO10))-2,0)","v":{"$error":"#NUM!"}},{"$f":"OFFSET($IP$2,SMALL(IF($IP$2:$IP$72<>\"\",ROW($IP$2:$IP$72),\"\"),ROW(IP10))-2,0)","v":{"$error":"#NUM!"}},null,{"$f":"IF(AND(教学计划表!N27<>\"\",教学计划表!BH27<>\"\"),教学计划表!I27,\"\")","v":""},{"$f":"IF(教学计划表!BH27<>\"\",教学计划表!N27,\"\")","v":""},{"$f":"IF(教学计划表!BH27<>\"\",IF(SEARCH(\"6\",教学计划表!AB27&\"6\",1)<=LEN(教学计划表!AB27),\"考试\",\"考查\"),\"\")","v":""},{"$f":"IF(教学计划表!BH27<>0,教学计划表!HG27,\"\")","v":""},{"$f":"IF(教学计划表!BH27<>0,教学计划表!HL27,\"\")","v":""},{"$f":"IF(教学计划表!BH27<>0,教学计划表!HM27,\"\")","v":""},{"$f":"IF(教学计划表!BH27<>0,教学计划表!QO27,\"\")","v":""},{"$f":"OFFSET($IY$2,SMALL(IF($IY$2:$IY$72<>\"\",ROW($IY$2:$IY$72),\"\"),ROW(IY10))-2,0)","v":{"$error":"#NUM!"}},{"$f":"OFFSET($IZ$2,SMALL(IF($IZ$2:$IZ$72<>\"\",ROW($IZ$2:$IZ$72),\"\"),ROW(IZ10))-2,0)","v":{"$error":"#NUM!"}},{"$f":"OFFSET($JA$2,SMALL(IF($JA$2:$JA$72<>\"\",ROW($JA$2:$JA$72),\"\"),ROW(JA10))-2,0)","v":{"$error":"#NUM!"}},{"$f":"OFFSET($JB$2,SMALL(IF($JB$2:$JB$72<>\"\",ROW($JB$2:$JB$72),\"\"),ROW(JB10))-2,0)","v":{"$error":"#NUM!"}},{"$f":"OFFSET($JC$2,SMALL(IF($JC$2:$JC$72<>\"\",ROW($JC$2:$JC$72),\"\"),ROW(JC10))-2,0)","v":{"$error":"#NUM!"}},{"$f":"OFFSET($JD$2,SMALL(IF($JD$2:$JD$72<>\"\",ROW($JD$2:$JD$72),\"\"),ROW(JD10))-2,0)","v":{"$error":"#NUM!"}},{"$f":"OFFSET($JE$2,SMALL(IF($JE$2:$JE$72<>\"\",ROW($JE$2:$JE$72),\"\"),ROW(JE10))-2,0)","v":{"$error":"#NUM!"}}]
["","","","","","","",null,"","","",{"$f":"IF(ISERROR(自动生成的开课信息!HB12),\"\",自动生成的开课信息!HB12)","v":""},{"$f":"IF(ISERROR(自动生成的开课信息!HC12),\"\",自动生成的开课信息!HC12)","v":""},{"$f":"IF(ISERROR(自动生成的开课信息!HD12),\"\",自动生成的开课信息!HD12)","v":""},{"$f":"IF(ISERROR(自动生成的开课信息!HE12),\"\",自动生成的开课信息!HE12)","v":""},null,"","","","","","","",null,"","","","","","","",null,"","","","","","","",null,"","","","","","","",null,null,null,null,null,null,null,null,null,null,null,null,null,null,null,null,null,null,null,null,null,null,null,null,null,null,null,null,null,null,null,null,null,null,null,null,null,null,null,null,null,null,null,null,null,null,null,null,null,null,null,null,null,null,null,null,null,null,null,null,null,null,null,null,null,null,null,null,null,null,null,null,null,null,null,null,null,null,null,null,null,null,null,null,null,null,null,null,null,null,null,null,null,null,null,null,null,null,null,null,null,null,null,null,null,null,null,null,null,null,null,null,null,null,null,null,null,null,null,null,null,null,null,null,null,null,null,null,null,null,null,null,null,null,null,null,null,null,{"$f":"IF(AND(教学计划表!N28<>\"\",教学计划表!AS28<>\"\"),教学计划表!I28,\"\")","v":""},{"$f":"IF(教学计划表!AS28<>\"\",教学计划表!N28,\"\")","v":""},{"$f":"IF(GE12<>\"\",IF(SEARCH(\"1\",教学计划表!AB28&\"1\",1)<=LEN(教学计划表!AB28),\"考试\",\"考查\"),\"\")","v":""},{"$f":"IF(教学计划表!DG28<>0,教学计划表!DG28,\"\")","v":""},{"$f":"IF(教学计划表!DG28<>0,教学计划表!DL28,\"\")","v":""},{"$f":"IF(教学计划表!DG28<>0,教学计划表!DM28,\"\")","v":""},{"$f":"IF(教学计划表!DG28<>0,教学计划表!OH28,\"\")","v":""},{"$f":"OFFSET($GD$2,SMALL(IF($GD$2:$GD$72<>\"\",ROW($2:$72),\"\"),ROW(GD11))-2,0)","v":{"$error":"#NUM!"}},{"$f":"OFFSET($GE$2,SMALL(IF($GE$2:$GE$72<>\"\",ROW($2:$72),\"\"),ROW(GE11))-2,0)","v":{"$error":"#NUM!"}},{"$f":"OFFSET($GF$2,SMALL(IF($GF$2:$GF$72<>\"\",ROW($2:$72),\"\"),ROW(GF11))-2,0)","v":{"$error":"#NUM!"}},{"$f":"OFFSET($GG$2,SMALL(IF($GG$2:$GG$72<>\"\",ROW($2:$72),\"\"),ROW(GG11))-2,0)","v":{"$error":"#NUM!"}},{"$f":"OFFSET($GH$2,SMALL(IF($GH$2:$GH$72<>\"\",ROW($2:$72),\"\"),ROW(GH11))-2,0)","v":{"$error":"#NUM!"}},{"$error":"#NUM!"},{"$f":"OFFSET($GJ$2,SMALL(IF($GJ$2:$GJ$72<>\"\",ROW($2:$72),\"\"),ROW(GJ11))-2,0)","v":{"$error":"#NUM!"}},{"$f":"IF(AND(教学计划表!N28<>\"\",教学计划表!AV28<>\"\"),教学计划表!I28,\"\")","v":""},{"$f":"IF(教学计划表!AV28<>\"\",教学计划表!N28,\"\")","v":""},{"$f":"IF(GS12<>\"\",IF(SEARCH(\"2\",教学计划表!AB28&\"2\",1)<=LEN(教学计划表!AB28),\"考试\",\"考查\"),\"\")","v":""},{"$f":"IF(教学计划表!EA28<>0,教学计划表!EA28,\"\")","v":""},{"$f":"IF(教学计划表!EA28<>0,教学计划表!EF28,\"\")","v":""},{"$f":"IF(教学计划表!EA28<>0,教学计划表!EG28,\"\")","v":""},{"$f":"IF(教学计划表!EA28<>0,教学计划表!OT28,\"\")","v":""},{"$f":"OFFSET($GR$2,SMALL(IF($GR$2:$GR$72<>\"\",ROW($I$2:$K$72),\"\"),ROW(GR11))-2,0)","v":{"$error":"#NUM!"}},{"$f":"OFFSET($GS$2,SMALL(IF($GS$2:$GS$72<>\"\",ROW($I$2:$K$72),\"\"),ROW(GS11))-2,0)","v":{"$error":"#NUM!"}},{"$f":"OFFSET($GT$2,SMALL(IF($GT$2:$GT$72<>\"\",ROW($I$2:$K$72),\"\"),ROW(GT11))-2,0)","v":{"$error":"#NUM!"}},{"$f":"OFFSET($GU$2,SMALL(IF($GU$2:$GU$72<>\"\",ROW($I$2:$K$72),\"\"),ROW(GU11))-2,0)","v":{"$error":"#NUM!"}},{"$f":"OFFSET($GV$2,SMALL(IF($GV$2:$GV$72<>\"\",ROW($GV$2:$GV$72),\"\"),ROW(GV11))-2,0)","v":{"$error":"#NUM!"}},{"$f":"OFFSET($GW$2,SMALL(IF($GW$2:$GW$72<>\"\",ROW($GW$2:$GW$72),\"\"),ROW(GW11))-2,0)","v":{"$error":"#NUM!"}},{"$f":"OFFSET($GX$2,SMALL(IF($GX$2:$GX$72<>\"\",ROW($GX$2:$GX$72),\"\"),ROW(GX11))-2,0)","v":{"$error":"#NUM!"}},{"$f":"IF(AND(教学计划表!N28<>\"\",教学计划表!AY28<>\"\"),教学计划表!I28,\"\")","v":""},{"$f":"IF(教学计划表!AY28<>\"\",教学计划表!N28,\"\")","v":""},{"$f":"IF(HG12<>\"\",IF(SEARCH(\"3\",教学计划表!AB28&\"3\",1)<=LEN(教学计划表!AB28),\"考试\",\"考查\"),\"\")","v":""},{"$f":"IF(教学计划表!EV28<>0,教学计划表!EV28,\"\")","v":""},{"$f":"IF(教学计划表!EV28<>0,教学计划表!FA28,\"\")","v":""},{"$f":"IF(教学计划表!EV28<>0,教学计划表!FB28,\"\")","v":""},{"$f":"IF(教学计划表!EV28<>0,教学计划表!PF28,\"\")","v":""},{"$f":"OFFSET($HF$2,SMALL(IF($HF$2:$HF$72<>\"\",ROW($HF$2:$HF$72),\"\"),ROW(HF11))-2,0)","v":{"$error":"#NUM!"}},{"$f":"OFFSET($HG$2,SMALL(IF($HG$2:$HG$72<>\"\",ROW($HG$2:$HG$72),\"\"),ROW(HG11))-2,0)","v":{"$error":"#NUM!"}},{"$f":"OFFSET($HH$2,SMALL(IF($HH$2:$HH$72<>\"\",ROW($HH$2:$HH$72),\"\"),ROW(HH11))-2,0)","v":{"$error":"#NUM!"}},{"$f":"OFFSET($HI$2,SMALL(IF($HI$2:$HI$72<>\"\",ROW($HI$2:$HI$72),\"\"),ROW(HI11))-2,0)","v":{"$error":"#NUM!"}},{"$f":"OFFSET($HJ$2,SMALL(IF($HJ$2:$HJ$72<>\"\",ROW($HJ$2:$HJ$72),\"\"),ROW(HJ11))-2,0)","v":{"$error":"#NUM!"}},{"$f":"OFFSET($HK$2,SMALL(IF($HK$2:$HK$72<>\"\",ROW($HK$2:$HK$72),\"\"),ROW(HK11))-2,0)","v":{"$error":"#NUM!"}},{"$f":"OFFSET($HL$2,SMALL(IF($HL$2:$HL$72<>\"\",ROW($HL$2:$HL$72),\"\"),ROW(HL11))-2,0)","v":{"$error":"#NUM!"}},{"$f":"IF(AND(教学计划表!N28<>\"\",教学计划表!BB28<>\"\"),教学计划表!I28,\"\")","v":""},{"$f":"IF(教学计划表!BB28<>\"\",教学计划表!N28,\"\")","v":""},{"$f":"IF(HU12<>\"\",IF(SEARCH(\"4\",教学计划表!AB28&\"4\",1)<=LEN(教学计划表!AB28),\"考试\",\"考查\"),\"\")","v":""},{"$f":"IF(教学计划表!FQ28<>0,教学计划表!FQ28,\"\")","v":""},{"$f":"IF(教学计划表!FQ28<>0,教学计划表!FV28,\"\")","v":""},{"$f":"IF(教学计划表!FQ28<>0,教学计划表!FW28,\"\")","v":""},{"$f":"IF(教学计划表!FQ28<>0,教学计划表!PR28,\"\")","v":""},{"$f":"OFFSET($HT$2,SMALL(IF($HT$2:$HT$72<>\"\",ROW($HT$2:$HT$72),\"\"),ROW(HT11))-2,0)","v":{"$error":"#NUM!"}},{"$f":"OFFSET($HU$2,SMALL(IF($HU$2:$HU$72<>\"\",ROW($HU$2:$HU$72),\"\"),ROW(HU11))-2,0)","v":{"$error":"#NUM!"}},{"$f":"OFFSET($HV$2,SMALL(IF($HV$2:$HV$72<>\"\",ROW($HV$2:$HV$72),\"\"),ROW(HV11))-2,0)","v":{"$error":"#NUM!"}},{"$f":"OFFSET($HW$2,SMALL(IF($HW$2:$HW$72<>\"\",ROW($HW$2:$HW$72),\"\"),ROW(HW11))-2,0)","v":{"$error":"#NUM!"}},{"$f":"OFFSET($HX$2,SMALL(IF($HX$2:$HX$72<>\"\",ROW($HX$2:$HX$72),\"\"),ROW(HX11))-2,0)","v":{"$error":"#NUM!"}},{"$f":"OFFSET($HY$2,SMALL(IF($HY$2:$HY$72<>\"\",ROW($HY$2:$HY$72),\"\"),ROW(HY11))-2,0)","v":{"$error":"#NUM!"}},{"$f":"OFFSET($HZ$2,SMALL(IF($HZ$2:$HZ$72<>\"\",ROW($HZ$2:$HZ$72),\"\"),ROW(HZ11))-2,0)","v":{"$error":"#NUM!"}},null,null,{"$f":"IF(AND(教学计划表!N28<>\"\",教学计划表!BE28<>\"\"),教学计划表!I28,\"\")","v":""},{"$f":"IF(教学计划表!BE28<>\"\",教学计划表!N28,\"\")","v":""},{"$f":"IF(IK12<>\"\",IF(SEARCH(\"5\",教学计划表!AB28&\"5\",1)<=LEN(教学计划表!AB28),\"考试\",\"考查\"),\"\")","v":""},{"$f":"IF(教学计划表!GL28<>0,教学计划表!GL28,\"\")","v":""},{"$f":"IF(教学计划表!GL28<>0,教学计划表!GQ28,\"\")","v":""},{"$f":"IF(教学计划表!GL28<>0,教学计划表!GR28,\"\")","v":""},{"$f":"IF(教学计划表!GL28<>0,教学计划表!QC28,\"\")","v":""},{"$f":"OFFSET($IJ$2,SMALL(IF($IJ$2:$IJ$72<>\"\",ROW($IJ$2:$IJ$72),\"\"),ROW(IJ11))-2,0)","v":{"$error":"#NUM!"}},{"$f":"OFFSET($IK$2,SMALL(IF($IK$2:$IK$72<>\"\",ROW($IK$2:$IK$72),\"\"),ROW(IK11))-2,0)","v":{"$error":"#NUM!"}},{"$f":"OFFSET($IL$2,SMALL(IF($IL$2:$IL$72<>\"\",ROW($IL$2:$IL$72),\"\"),ROW(IL11))-2,0)","v":{"$error":"#NUM!"}},{"$f":"OFFSET($IM$2,SMALL(IF($IM$2:$IM$72<>\"\",ROW($IM$2:$IM$72),\"\"),ROW(IM11))-2,0)","v":{"$error":"#NUM!"}},{"$f":"OFFSET($IN$2,SMALL(IF($IN$2:$IN$72<>\"\",ROW($IN$2:$IN$72),\"\"),ROW(IN11))-2,0)","v":{"$error":"#NUM!"}},{"$f":"OFFSET($IO$2,SMALL(IF($IO$2:$IO$72<>\"\",ROW($IO$2:$IO$72),\"\"),ROW(IO11))-2,0)","v":{"$error":"#NUM!"}},{"$f":"OFFSET($IP$2,SMALL(IF($IP$2:$IP$72<>\"\",ROW($IP$2:$IP$72),\"\"),ROW(IP11))-2,0)","v":{"$error":"#NUM!"}},null,{"$f":"IF(AND(教学计划表!N28<>\"\",教学计划表!BH28<>\"\"),教学计划表!I28,\"\")","v":""},{"$f":"IF(教学计划表!BH28<>\"\",教学计划表!N28,\"\")","v":""},{"$f":"IF(教学计划表!BH28<>\"\",IF(SEARCH(\"6\",教学计划表!AB28&\"6\",1)<=LEN(教学计划表!AB28),\"考试\",\"考查\"),\"\")","v":""},{"$f":"IF(教学计划表!BH28<>0,教学计划表!HG28,\"\")","v":""},{"$f":"IF(教学计划表!BH28<>0,教学计划表!HL28,\"\")","v":""},{"$f":"IF(教学计划表!BH28<>0,教学计划表!HM28,\"\")","v":""},{"$f":"IF(教学计划表!BH28<>0,教学计划表!QO28,\"\")","v":""},{"$f":"OFFSET($IY$2,SMALL(IF($IY$2:$IY$72<>\"\",ROW($IY$2:$IY$72),\"\"),ROW(IY11))-2,0)","v":{"$error":"#NUM!"}},{"$f":"OFFSET($IZ$2,SMALL(IF($IZ$2:$IZ$72<>\"\",ROW($IZ$2:$IZ$72),\"\"),ROW(IZ11))-2,0)","v":{"$error":"#NUM!"}},{"$f":"OFFSET($JA$2,SMALL(IF($JA$2:$JA$72<>\"\",ROW($JA$2:$JA$72),\"\"),ROW(JA11))-2,0)","v":{"$error":"#NUM!"}},{"$f":"OFFSET($JB$2,SMALL(IF($JB$2:$JB$72<>\"\",ROW($JB$2:$JB$72),\"\"),ROW(JB11))-2,0)","v":{"$error":"#NUM!"}},{"$f":"OFFSET($JC$2,SMALL(IF($JC$2:$JC$72<>\"\",ROW($JC$2:$JC$72),\"\"),ROW(JC11))-2,0)","v":{"$error":"#NUM!"}},{"$f":"OFFSET($JD$2,SMALL(IF($JD$2:$JD$72<>\"\",ROW($JD$2:$JD$72),\"\"),ROW(JD11))-2,0)","v":{"$error":"#NUM!"}},{"$f":"OFFSET($JE$2,SMALL(IF($JE$2:$JE$72<>\"\",ROW($JE$2:$JE$72),\"\"),ROW(JE11))-2,0)","v":{"$error":"#NUM!"}}]
["","","","","","","",null,"","","",{"$f":"IF(ISERROR(自动生成的开课信息!HB13),\"\",自动生成的开课信息!HB13)","v":""},{"$f":"IF(ISERROR(自动生成的开课信息!HC13),\"\",自动生成的开课信息!HC13)","v":""},{"$f":"IF(ISERROR(自动生成的开课信息!HD13),\"\",自动生成的开课信息!HD13)","v":""},{"$f":"IF(ISERROR(自动生成的开课信息!HE13),\"\",自动生成的开课信息!HE13)","v":""},null,"","","","","","","",null,"","","","","","","",null,"","","","","","","",null,"","","","","","","",null,null,null,null,null,null,null,null,null,null,null,null,null,null,null,null,null,null,null,null,null,null,null,null,null,null,null,null,null,null,null,null,null,null,null,null,null,null,null,null,null,null,null,null,null,null,null,null,null,null,null,null,null,null,null,null,null,null,null,null,null,null,null,null,null,null,null,null,null,null,null,null,null,null,null,null,null,null,null,null,null,null,null,null,null,null,null,null,null,null,null,null,null,null,null,null,null,null,null,null,null,null,null,null,null,null,null,null,null,null,null,null,null,null,null,null,null,null,null,null,null,null,null,null,null,null,null,null,null,null,null,null,null,null,null,null,null,null,{"$f":"IF(AND(教学计划表!N29<>\"\",教学计划表!AS29<>\"\"),教学计划表!I29,\"\")","v":""},{"$f":"IF(教学计划表!AS29<>\"\",教学计划表!N29,\"\")","v":""},{"$f":"IF(GE13<>\"\",IF(SEARCH(\"1\",教学计划表!AB29&\"1\",1)<=LEN(教学计划表!AB29),\"考试\",\"考查\"),\"\")","v":""},{"$f":"IF(教学计划表!DG29<>0,教学计划表!DG29,\"\")","v":""},{"$f":"IF(教学计划表!DG29<>0,教学计划表!DL29,\"\")","v":""},{"$f":"IF(教学计划表!DG29<>0,教学计划表!DM29,\"\")","v":""},{"$f":"IF(教学计划表!DG29<>0,教学计划表!OH29,\"\")","v":""},{"$f":"OFFSET($GD$2,SMALL(IF($GD$2:$GD$72<>\"\",ROW($2:$72),\"\"),ROW(GD12))-2,0)","v":{"$error":"#NUM!"}},{"$f":"OFFSET($GE$2,SMALL(IF($GE$2:$GE$72<>\"\",ROW($2:$72),\"\"),ROW(GE12))-2,0)","v":{"$error":"#NUM!"}},{"$f":"OFFSET($GF$2,SMALL(IF($GF$2:$GF$72<>\"\",ROW($2:$72),\"\"),ROW(GF12))-2,0)","v":{"$error":"#NUM!"}},{"$f":"OFFSET($GG$2,SMALL(IF($GG$2:$GG$72<>\"\",ROW($2:$72),\"\"),ROW(GG12))-2,0)","v":{"$error":"#NUM!"}},{"$f":"OFFSET($GH$2,SMALL(IF($GH$2:$GH$72<>\"\",ROW($2:$72),\"\"),ROW(GH12))-2,0)","v":{"$error":"#NUM!"}},{"$error":"#NUM!"},{"$f":"OFFSET($GJ$2,SMALL(IF($GJ$2:$GJ$72<>\"\",ROW($2:$72),\"\"),ROW(GJ12))-2,0)","v":{"$error":"#NUM!"}},{"$f":"IF(AND(教学计划表!N29<>\"\",教学计划表!AV29<>\"\"),教学计划表!I29,\"\")","v":""},{"$f":"IF(教学计划表!AV29<>\"\",教学计划表!N29,\"\")","v":""},{"$f":"IF(GS13<>\"\",IF(SEARCH(\"2\",教学计划表!AB29&\"2\",1)<=LEN(教学计划表!AB29),\"考试\",\"考查\"),\"\")","v":""},{"$f":"IF(教学计划表!EA29<>0,教学计划表!EA29,\"\")","v":""},{"$f":"IF(教学计划表!EA29<>0,教学计划表!EF29,\"\")","v":""},{"$f":"IF(教学计划表!EA29<>0,教学计划表!EG29,\"\")","v":""},{"$f":"IF(教学计划表!EA29<>0,教学计划表!OT29,\"\")","v":""},{"$f":"OFFSET($GR$2,SMALL(IF($GR$2:$GR$72<>\"\",ROW($I$2:$K$72),\"\"),ROW(GR12))-2,0)","v":{"$error":"#NUM!"}},{"$f":"OFFSET($GS$2,SMALL(IF($GS$2:$GS$72<>\"\",ROW($I$2:$K$72),\"\"),ROW(GS12))-2,0)","v":{"$error":"#NUM!"}},{"$f":"OFFSET($GT$2,SMALL(IF($GT$2:$GT$72<>\"\",ROW($I$2:$K$72),\"\"),ROW(GT12))-2,0)","v":{"$error":"#NUM!"}},{"$f":"OFFSET($GU$2,SMALL(IF($GU$2:$GU$72<>\"\",ROW($I$2:$K$72),\"\"),ROW(GU12))-2,0)","v":{"$error":"#NUM!"}},{"$f":"OFFSET($GV$2,SMALL(IF($GV$2:$GV$72<>\"\",ROW($GV$2:$GV$72),\"\"),ROW(GV12))-2,0)","v":{"$error":"#NUM!"}},{"$f":"OFFSET($GW$2,SMALL(IF($GW$2:$GW$72<>\"\",ROW($GW$2:$GW$72),\"\"),ROW(GW12))-2,0)","v":{"$error":"#NUM!"}},{"$f":"OFFSET($GX$2,SMALL(IF($GX$2:$GX$72<>\"\",ROW($GX$2:$GX$72),\"\"),ROW(GX12))-2,0)","v":{"$error":"#NUM!"}},{"$f":"IF(AND(教学计划表!N29<>\"\",教学计划表!AY29<>\"\"),教学计划表!I29,\"\")","v":""},{"$f":"IF(教学计划表!AY29<>\"\",教学计划表!N29,\"\")","v":""},{"$f":"IF(HG13<>\"\",IF(SEARCH(\"3\",教学计划表!AB29&\"3\",1)<=LEN(教学计划表!AB29),\"考试\",\"考查\"),\"\")","v":""},{"$f":"IF(教学计划表!EV29<>0,教学计划表!EV29,\"\")","v":""},{"$f":"IF(教学计划表!EV29<>0,教学计划表!FA29,\"\")","v":""},{"$f":"IF(教学计划表!EV29<>0,教学计划表!FB29,\"\")","v":""},{"$f":"IF(教学计划表!EV29<>0,教学计划表!PF29,\"\")","v":""},{"$f":"OFFSET($HF$2,SMALL(IF($HF$2:$HF$72<>\"\",ROW($HF$2:$HF$72),\"\"),ROW(HF12))-2,0)","v":{"$error":"#NUM!"}},{"$f":"OFFSET($HG$2,SMALL(IF($HG$2:$HG$72<>\"\",ROW($HG$2:$HG$72),\"\"),ROW(HG12))-2,0)","v":{"$error":"#NUM!"}},{"$f":"OFFSET($HH$2,SMALL(IF($HH$2:$HH$72<>\"\",ROW($HH$2:$HH$72),\"\"),ROW(HH12))-2,0)","v":{"$error":"#NUM!"}},{"$f":"OFFSET($HI$2,SMALL(IF($HI$2:$HI$72<>\"\",ROW($HI$2:$HI$72),\"\"),ROW(HI12))-2,0)","v":{"$error":"#NUM!"}},{"$f":"OFFSET($HJ$2,SMALL(IF($HJ$2:$HJ$72<>\"\",ROW($HJ$2:$HJ$72),\"\"),ROW(HJ12))-2,0)","v":{"$error":"#NUM!"}},{"$f":"OFFSET($HK$2,SMALL(IF($HK$2:$HK$72<>\"\",ROW($HK$2:$HK$72),\"\"),ROW(HK12))-2,0)","v":{"$error":"#NUM!"}},{"$f":"OFFSET($HL$2,SMALL(IF($HL$2:$HL$72<>\"\",ROW($HL$2:$HL$72),\"\"),ROW(HL12))-2,0)","v":{"$error":"#NUM!"}},{"$f":"IF(AND(教学计划表!N29<>\"\",教学计划表!BB29<>\"\"),教学计划表!I29,\"\")","v":""},{"$f":"IF(教学计划表!BB29<>\"\",教学计划表!N29,\"\")","v":""},{"$f":"IF(HU13<>\"\",IF(SEARCH(\"4\",教学计划表!AB29&\"4\",1)<=LEN(教学计划表!AB29),\"考试\",\"考查\"),\"\")","v":""},{"$f":"IF(教学计划表!FQ29<>0,教学计划表!FQ29,\"\")","v":""},{"$f":"IF(教学计划表!FQ29<>0,教学计划表!FV29,\"\")","v":""},{"$f":"IF(教学计划表!FQ29<>0,教学计划表!FW29,\"\")","v":""},{"$f":"IF(教学计划表!FQ29<>0,教学计划表!PR29,\"\")","v":""},{"$f":"OFFSET($HT$2,SMALL(IF($HT$2:$HT$72<>\"\",ROW($HT$2:$HT$72),\"\"),ROW(HT12))-2,0)","v":{"$error":"#NUM!"}},{"$f":"OFFSET($HU$2,SMALL(IF($HU$2:$HU$72<>\"\",ROW($HU$2:$HU$72),\"\"),ROW(HU12))-2,0)","v":{"$error":"#NUM!"}},{"$f":"OFFSET($HV$2,SMALL(IF($HV$2:$HV$72<>\"\",ROW($HV$2:$HV$72),\"\"),ROW(HV12))-2,0)","v":{"$error":"#NUM!"}},{"$f":"OFFSET($HW$2,SMALL(IF($HW$2:$HW$72<>\"\",ROW($HW$2:$HW$72),\"\"),ROW(HW12))-2,0)","v":{"$error":"#NUM!"}},{"$f":"OFFSET($HX$2,SMALL(IF($HX$2:$HX$72<>\"\",ROW($HX$2:$HX$72),\"\"),ROW(HX12))-2,0)","v":{"$error":"#NUM!"}},{"$f":"OFFSET($HY$2,SMALL(IF($HY$2:$HY$72<>\"\",ROW($HY$2:$HY$72),\"\"),ROW(HY12))-2,0)","v":{"$error":"#NUM!"}},{"$f":"OFFSET($HZ$2,SMALL(IF($HZ$2:$HZ$72<>\"\",ROW($HZ$2:$HZ$72),\"\"),ROW(HZ12))-2,0)","v":{"$error":"#NUM!"}},null,null,{"$f":"IF(AND(教学计划表!N29<>\"\",教学计划表!BE29<>\"\"),教学计划表!I29,\"\")","v":""},{"$f":"IF(教学计划表!BE29<>\"\",教学计划表!N29,\"\")","v":""},{"$f":"IF(IK13<>\"\",IF(SEARCH(\"5\",教学计划表!AB29&\"5\",1)<=LEN(教学计划表!AB29),\"考试\",\"考查\"),\"\")","v":""},{"$f":"IF(教学计划表!GL29<>0,教学计划表!GL29,\"\")","v":""},{"$f":"IF(教学计划表!GL29<>0,教学计划表!GQ29,\"\")","v":""},{"$f":"IF(教学计划表!GL29<>0,教学计划表!GR29,\"\")","v":""},{"$f":"IF(教学计划表!GL29<>0,教学计划表!QC29,\"\")","v":""},{"$f":"OFFSET($IJ$2,SMALL(IF($IJ$2:$IJ$72<>\"\",ROW($IJ$2:$IJ$72),\"\"),ROW(IJ12))-2,0)","v":{"$error":"#NUM!"}},{"$f":"OFFSET($IK$2,SMALL(IF($IK$2:$IK$72<>\"\",ROW($IK$2:$IK$72),\"\"),ROW(IK12))-2,0)","v":{"$error":"#NUM!"}},{"$f":"OFFSET($IL$2,SMALL(IF($IL$2:$IL$72<>\"\",ROW($IL$2:$IL$72),\"\"),ROW(IL12))-2,0)","v":{"$error":"#NUM!"}},{"$f":"OFFSET($IM$2,SMALL(IF($IM$2:$IM$72<>\"\",ROW($IM$2:$IM$72),\"\"),ROW(IM12))-2,0)","v":{"$error":"#NUM!"}},{"$f":"OFFSET($IN$2,SMALL(IF($IN$2:$IN$72<>\"\",ROW($IN$2:$IN$72),\"\"),ROW(IN12))-2,0)","v":{"$error":"#NUM!"}},{"$f":"OFFSET($IO$2,SMALL(IF($IO$2:$IO$72<>\"\",ROW($IO$2:$IO$72),\"\"),ROW(IO12))-2,0)","v":{"$error":"#NUM!"}},{"$f":"OFFSET($IP$2,SMALL(IF($IP$2:$IP$72<>\"\",ROW($IP$2:$IP$72),\"\"),ROW(IP12))-2,0)","v":{"$error":"#NUM!"}},null,{"$f":"IF(AND(教学计划表!N29<>\"\",教学计划表!BH29<>\"\"),教学计划表!I29,\"\")","v":""},{"$f":"IF(教学计划表!BH29<>\"\",教学计划表!N29,\"\")","v":""},{"$f":"IF(教学计划表!BH29<>\"\",IF(SEARCH(\"6\",教学计划表!AB29&\"6\",1)<=LEN(教学计划表!AB29),\"考试\",\"考查\"),\"\")","v":""},{"$f":"IF(教学计划表!BH29<>0,教学计划表!HG29,\"\")","v":""},{"$f":"IF(教学计划表!BH29<>0,教学计划表!HL29,\"\")","v":""},{"$f":"IF(教学计划表!BH29<>0,教学计划表!HM29,\"\")","v":""},{"$f":"IF(教学计划表!BH29<>0,教学计划表!QO29,\"\")","v":""},{"$f":"OFFSET($IY$2,SMALL(IF($IY$2:$IY$72<>\"\",ROW($IY$2:$IY$72),\"\"),ROW(IY12))-2,0)","v":{"$error":"#NUM!"}},{"$f":"OFFSET($IZ$2,SMALL(IF($IZ$2:$IZ$72<>\"\",ROW($IZ$2:$IZ$72),\"\"),ROW(IZ12))-2,0)","v":{"$error":"#NUM!"}},{"$f":"OFFSET($JA$2,SMALL(IF($JA$2:$JA$72<>\"\",ROW($JA$2:$JA$72),\"\"),ROW(JA12))-2,0)","v":{"$error":"#NUM!"}},{"$f":"OFFSET($JB$2,SMALL(IF($JB$2:$JB$72<>\"\",ROW($JB$2:$JB$72),\"\"),ROW(JB12))-2,0)","v":{"$error":"#NUM!"}},{"$f":"OFFSET($JC$2,SMALL(IF($JC$2:$JC$72<>\"\",ROW($JC$2:$JC$72),\"\"),ROW(JC12))-2,0)","v":{"$error":"#NUM!"}},{"$f":"OFFSET($JD$2,SMALL(IF($JD$2:$JD$72<>\"\",ROW($JD$2:$JD$72),\"\"),ROW(JD12))-2,0)","v":{"$error":"#NUM!"}},{"$f":"OFFSET($JE$2,SMALL(IF($JE$2:$JE$72<>\"\",ROW($JE$2:$JE$72),\"\"),ROW(JE12))-2,0)","v":{"$error":"#NUM!"}}]
["","","","","","","",null,"","","",{"$f":"IF(ISERROR(自动生成的开课信息!HB14),\"\",自动生成的开课信息!HB14)","v":""},{"$f":"IF(ISERROR(自动生成的开课信息!HC14),\"\",自动生成的开课信息!HC14)","v":""},{"$f":"IF(ISERROR(自动生成的开课信息!HD14),\"\",自动生成的开课信息!HD14)","v":""},{"$f":"IF(ISERROR(自动生成的开课信息!HE14),\"\",自动生成的开课信息!HE14)","v":""},null,"","","","","","","",null,"","","","","","","",null,"","","","","","","",null,"","","","","","","",null,null,null,null,null,null,null,null,null,null,null,null,null,null,null,null,null,null,null,null,null,null,null,null,null,null,null,null,null,null,null,null,null,null,null,null,null,null,null,null,null,null,null,null,null,null,null,null,null,null,null,null,null,null,null,null,null,null,null,null,null,null,null,null,null,null,null,null,null,null,null,null,null,null,null,null,null,null,null,null,null,null,null,null,null,null,null,null,null,null,null,null,null,null,null,null,null,null,null,null,null,null,null,null,null,null,null,null,null,null,null,null,null,null,null,null,null,null,null,null,null,null,null,null,null,null,null,null,null,null,null,null,null,null,null,null,null,null,{"$f":"IF(AND(教学计划表!N30<>\"\",教学计划表!AS30<>\"\"),教学计划表!I30,\"\")","v":""},{"$f":"IF(教学计划表!AS30<>\"\",教学计划表!N30,\"\")","v":""},{"$f":"IF(GE14<>\"\",IF(SEARCH(\"1\",教学计划表!AB30&\"1\",1)<=LEN(教学计划表!AB30),\"考试\",\"考查\"),\"\")","v":""},{"$f":"IF(教学计划表!DG30<>0,教学计划表!DG30,\"\")","v":""},{"$f":"IF(教学计划表!DG30<>0,教学计划表!DL30,\"\")","v":""},{"$f":"IF(教学计划表!DG30<>0,教学计划表!DM30,\"\")","v":""},{"$f":"IF(教学计划表!DG30<>0,教学计划表!OH30,\"\")","v":""},{"$f":"OFFSET($GD$2,SMALL(IF($GD$2:$GD$72<>\"\",ROW($2:$72),\"\"),ROW(GD13))-2,0)","v":{"$error":"#NUM!"}},{"$f":"OFFSET($GE$2,SMALL(IF($GE$2:$GE$72<>\"\",ROW($2:$72),\"\"),ROW(GE13))-2,0)","v":{"$error":"#NUM!"}},{"$f":"OFFSET($GF$2,SMALL(IF($GF$2:$GF$72<>\"\",ROW($2:$72),\"\"),ROW(GF13))-2,0)","v":{"$error":"#NUM!"}},{"$f":"OFFSET($GG$2,SMALL(IF($GG$2:$GG$72<>\"\",ROW($2:$72),\"\"),ROW(GG13))-2,0)","v":{"$error":"#NUM!"}},{"$f":"OFFSET($GH$2,SMALL(IF($GH$2:$GH$72<>\"\",ROW($2:$72),\"\"),ROW(GH13))-2,0)","v":{"$error":"#NUM!"}},{"$error":"#NUM!"},{"$f":"OFFSET($GJ$2,SMALL(IF($GJ$2:$GJ$72<>\"\",ROW($2:$72),\"\"),ROW(GJ13))-2,0)","v":{"$error":"#NUM!"}},{"$f":"IF(AND(教学计划表!N30<>\"\",教学计划表!AV30<>\"\"),教学计划表!I30,\"\")","v":""},{"$f":"IF(教学计划表!AV30<>\"\",教学计划表!N30,\"\")","v":""},{"$f":"IF(GS14<>\"\",IF(SEARCH(\"2\",教学计划表!AB30&\"2\",1)<=LEN(教学计划表!AB30),\"考试\",\"考查\"),\"\")","v":""},{"$f":"IF(教学计划表!EA30<>0,教学计划表!EA30,\"\")","v":""},{"$f":"IF(教学计划表!EA30<>0,教学计划表!EF30,\"\")","v":""},{"$f":"IF(教学计划表!EA30<>0,教学计划表!EG30,\"\")","v":""},{"$f":"IF(教学计划表!EA30<>0,教学计划表!OT30,\"\")","v":""},{"$f":"OFFSET($GR$2,SMALL(IF($GR$2:$GR$72<>\"\",ROW($I$2:$K$72),\"\"),ROW(GR13))-2,0)","v":{"$error":"#NUM!"}},{"$f":"OFFSET($GS$2,SMALL(IF($GS$2:$GS$72<>\"\",ROW($I$2:$K$72),\"\"),ROW(GS13))-2,0)","v":{"$error":"#NUM!"}},{"$f":"OFFSET($GT$2,SMALL(IF($GT$2:$GT$72<>\"\",ROW($I$2:$K$72),\"\"),ROW(GT13))-2,0)","v":{"$error":"#NUM!"}},{"$f":"OFFSET($GU$2,SMALL(IF($GU$2:$GU$72<>\"\",ROW($I$2:$K$72),\"\"),ROW(GU13))-2,0)","v":{"$error":"#NUM!"}},{"$f":"OFFSET($GV$2,SMALL(IF($GV$2:$GV$72<>\"\",ROW($GV$2:$GV$72),\"\"),ROW(GV13))-2,0)","v":{"$error":"#NUM!"}},{"$f":"OFFSET($GW$2,SMALL(IF($GW$2:$GW$72<>\"\",ROW($GW$2:$GW$72),\"\"),ROW(GW13))-2,0)","v":{"$error":"#NUM!"}},{"$f":"OFFSET($GX$2,SMALL(IF($GX$2:$GX$72<>\"\",ROW($GX$2:$GX$72),\"\"),ROW(GX13))-2,0)","v":{"$error":"#NUM!"}},{"$f":"IF(AND(教学计划表!N30<>\"\",教学计划表!AY30<>\"\"),教学计划表!I30,\"\")","v":""},{"$f":"IF(教学计划表!AY30<>\"\",教学计划表!N30,\"\")","v":""},{"$f":"IF(HG14<>\"\",IF(SEARCH(\"3\",教学计划表!AB30&\"3\",1)<=LEN(教学计划表!AB30),\"考试\",\"考查\"),\"\")","v":""},{"$f":"IF(教学计划表!EV30<>0,教学计划表!EV30,\"\")","v":""},{"$f":"IF(教学计划表!EV30<>0,教学计划表!FA30,\"\")","v":""},{"$f":"IF(教学计划表!EV30<>0,教学计划表!FB30,\"\")","v":""},{"$f":"IF(教学计划表!EV30<>0,教学计划表!PF30,\"\")","v":""},{"$f":"OFFSET($HF$2,SMALL(IF($HF$2:$HF$72<>\"\",ROW($HF$2:$HF$72),\"\"),ROW(HF13))-2,0)","v":{"$error":"#NUM!"}},{"$f":"OFFSET($HG$2,SMALL(IF($HG$2:$HG$72<>\"\",ROW($HG$2:$HG$72),\"\"),ROW(HG13))-2,0)","v":{"$error":"#NUM!"}},{"$f":"OFFSET($HH$2,SMALL(IF($HH$2:$HH$72<>\"\",ROW($HH$2:$HH$72),\"\"),ROW(HH13))-2,0)","v":{"$error":"#NUM!"}},{"$f":"OFFSET($HI$2,SMALL(IF($HI$2:$HI$72<>\"\",ROW($HI$2:$HI$72),\"\"),ROW(HI13))-2,0)","v":{"$error":"#NUM!"}},{"$f":"OFFSET($HJ$2,SMALL(IF($HJ$2:$HJ$72<>\"\",ROW($HJ$2:$HJ$72),\"\"),ROW(HJ13))-2,0)","v":{"$error":"#NUM!"}},{"$f":"OFFSET($HK$2,SMALL(IF($HK$2:$HK$72<>\"\",ROW($HK$2:$HK$72),\"\"),ROW(HK13))-2,0)","v":{"$error":"#NUM!"}},{"$f":"OFFSET($HL$2,SMALL(IF($HL$2:$HL$72<>\"\",ROW($HL$2:$HL$72),\"\"),ROW(HL13))-2,0)","v":{"$error":"#NUM!"}},{"$f":"IF(AND(教学计划表!N30<>\"\",教学计划表!BB30<>\"\"),教学计划表!I30,\"\")","v":""},{"$f":"IF(教学计划表!BB30<>\"\",教学计划表!N30,\"\")","v":""},{"$f":"IF(HU14<>\"\",IF(SEARCH(\"4\",教学计划表!AB30&\"4\",1)<=LEN(教学计划表!AB30),\"考试\",\"考查\"),\"\")","v":""},{"$f":"IF(教学计划表!FQ30<>0,教学计划表!FQ30,\"\")","v":""},{"$f":"IF(教学计划表!FQ30<>0,教学计划表!FV30,\"\")","v":""},{"$f":"IF(教学计划表!FQ30<>0,教学计划表!FW30,\"\")","v":""},{"$f":"IF(教学计划表!FQ30<>0,教学计划表!PR30,\"\")","v":""},{"$f":"OFFSET($HT$2,SMALL(IF($HT$2:$HT$72<>\"\",ROW($HT$2:$HT$72),\"\"),ROW(HT13))-2,0)","v":{"$error":"#NUM!"}},{"$f":"OFFSET($HU$2,SMALL(IF($HU$2:$HU$72<>\"\",ROW($HU$2:$HU$72),\"\"),ROW(HU13))-2,0)","v":{"$error":"#NUM!"}},{"$f":"OFFSET($HV$2,SMALL(IF($HV$2:$HV$72<>\"\",ROW($HV$2:$HV$72),\"\"),ROW(HV13))-2,0)","v":{"$error":"#NUM!"}},{"$f":"OFFSET($HW$2,SMALL(IF($HW$2:$HW$72<>\"\",ROW($HW$2:$HW$72),\"\"),ROW(HW13))-2,0)","v":{"$error":"#NUM!"}},{"$f":"OFFSET($HX$2,SMALL(IF($HX$2:$HX$72<>\"\",ROW($HX$2:$HX$72),\"\"),ROW(HX13))-2,0)","v":{"$error":"#NUM!"}},{"$f":"OFFSET($HY$2,SMALL(IF($HY$2:$HY$72<>\"\",ROW($HY$2:$HY$72),\"\"),ROW(HY13))-2,0)","v":{"$error":"#NUM!"}},{"$f":"OFFSET($HZ$2,SMALL(IF($HZ$2:$HZ$72<>\"\",ROW($HZ$2:$HZ$72),\"\"),ROW(HZ13))-2,0)","v":{"$error":"#NUM!"}},null,null,{"$f":"IF(AND(教学计划表!N30<>\"\",教学计划表!BE30<>\"\"),教学计划表!I30,\"\")","v":""},{"$f":"IF(教学计划表!BE30<>\"\",教学计划表!N30,\"\")","v":""},{"$f":"IF(IK14<>\"\",IF(SEARCH(\"5\",教学计划表!AB30&\"5\",1)<=LEN(教学计划表!AB30),\"考试\",\"考查\"),\"\")","v":""},{"$f":"IF(教学计划表!GL30<>0,教学计划表!GL30,\"\")","v":""},{"$f":"IF(教学计划表!GL30<>0,教学计划表!GQ30,\"\")","v":""},{"$f":"IF(教学计划表!GL30<>0,教学计划表!GR30,\"\")","v":""},{"$f":"IF(教学计划表!GL30<>0,教学计划表!QC30,\"\")","v":""},{"$f":"OFFSET($IJ$2,SMALL(IF($IJ$2:$IJ$72<>\"\",ROW($IJ$2:$IJ$72),\"\"),ROW(IJ13))-2,0)","v":{"$error":"#NUM!"}},{"$f":"OFFSET($IK$2,SMALL(IF($IK$2:$IK$72<>\"\",ROW($IK$2:$IK$72),\"\"),ROW(IK13))-2,0)","v":{"$error":"#NUM!"}},{"$f":"OFFSET($IL$2,SMALL(IF($IL$2:$IL$72<>\"\",ROW($IL$2:$IL$72),\"\"),ROW(IL13))-2,0)","v":{"$error":"#NUM!"}},{"$f":"OFFSET($IM$2,SMALL(IF($IM$2:$IM$72<>\"\",ROW($IM$2:$IM$72),\"\"),ROW(IM13))-2,0)","v":{"$error":"#NUM!"}},{"$f":"OFFSET($IN$2,SMALL(IF($IN$2:$IN$72<>\"\",ROW($IN$2:$IN$72),\"\"),ROW(IN13))-2,0)","v":{"$error":"#NUM!"}},{"$f":"OFFSET($IO$2,SMALL(IF($IO$2:$IO$72<>\"\",ROW($IO$2:$IO$72),\"\"),ROW(IO13))-2,0)","v":{"$error":"#NUM!"}},{"$f":"OFFSET($IP$2,SMALL(IF($IP$2:$IP$72<>\"\",ROW($IP$2:$IP$72),\"\"),ROW(IP13))-2,0)","v":{"$error":"#NUM!"}},null,{"$f":"IF(AND(教学计划表!N30<>\"\",教学计划表!BH30<>\"\"),教学计划表!I30,\"\")","v":""},{"$f":"IF(教学计划表!BH30<>\"\",教学计划表!N30,\"\")","v":""},{"$f":"IF(教学计划表!BH30<>\"\",IF(SEARCH(\"6\",教学计划表!AB30&\"6\",1)<=LEN(教学计划表!AB30),\"考试\",\"考查\"),\"\")","v":""},{"$f":"IF(教学计划表!BH30<>0,教学计划表!HG30,\"\")","v":""},{"$f":"IF(教学计划表!BH30<>0,教学计划表!HL30,\"\")","v":""},{"$f":"IF(教学计划表!BH30<>0,教学计划表!HM30,\"\")","v":""},{"$f":"IF(教学计划表!BH30<>0,教学计划表!QO30,\"\")","v":""},{"$f":"OFFSET($IY$2,SMALL(IF($IY$2:$IY$72<>\"\",ROW($IY$2:$IY$72),\"\"),ROW(IY13))-2,0)","v":{"$error":"#NUM!"}},{"$f":"OFFSET($IZ$2,SMALL(IF($IZ$2:$IZ$72<>\"\",ROW($IZ$2:$IZ$72),\"\"),ROW(IZ13))-2,0)","v":{"$error":"#NUM!"}},{"$f":"OFFSET($JA$2,SMALL(IF($JA$2:$JA$72<>\"\",ROW($JA$2:$JA$72),\"\"),ROW(JA13))-2,0)","v":{"$error":"#NUM!"}},{"$f":"OFFSET($JB$2,SMALL(IF($JB$2:$JB$72<>\"\",ROW($JB$2:$JB$72),\"\"),ROW(JB13))-2,0)","v":{"$error":"#NUM!"}},{"$f":"OFFSET($JC$2,SMALL(IF($JC$2:$JC$72<>\"\",ROW($JC$2:$JC$72),\"\"),ROW(JC13))-2,0)","v":{"$error":"#NUM!"}},{"$f":"OFFSET($JD$2,SMALL(IF($JD$2:$JD$72<>\"\",ROW($JD$2:$JD$72),\"\"),ROW(JD13))-2,0)","v":{"$error":"#NUM!"}},{"$f":"OFFSET($JE$2,SMALL(IF($JE$2:$JE$72<>\"\",ROW($JE$2:$JE$72),\"\"),ROW(JE13))-2,0)","v":{"$error":"#NUM!"}}]
["","","","","","","",null,"","","",{"$f":"IF(ISERROR(自动生成的开课信息!HB15),\"\",自动生成的开课信息!HB15)","v":""},{"$f":"IF(ISERROR(自动生成的开课信息!HC15),\"\",自动生成的开课信息!HC15)","v":""},{"$f":"IF(ISERROR(自动生成的开课信息!HD15),\"\",自动生成的开课信息!HD15)","v":""},{"$f":"IF(ISERROR(自动生成的开课信息!HE15),\"\",自动生成的开课信息!HE15)","v":""},null,"","","","","","","",null,"","","","","","","",null,"","","","","","","",null,"","","","","","","",null,null,null,null,null,null,null,null,null,null,null,null,null,null,null,null,null,null,null,null,null,null,null,null,null,null,null,null,null,null,null,null,null,null,null,null,null,null,null,null,null,null,null,null,null,null,null,null,null,null,null,null,null,null,null,null,null,null,null,null,null,null,null,null,null,null,null,null,null,null,null,null,null,null,null,null,null,null,null,null,null,null,null,null,null,null,null,null,null,null,null,null,null,null,null,null,null,null,null,null,null,null,null,null,null,null,null,null,null,null,null,null,null,null,null,null,null,null,null,null,null,null,null,null,null,null,null,null,null,null,null,null,null,null,null,null,null,null,{"$f":"IF(AND(教学计划表!N31<>\"\",教学计划表!AS31<>\"\"),教学计划表!I31,\"\")","v":""},{"$f":"IF(教学计划表!AS31<>\"\",教学计划表!N31,\"\")","v":""},{"$f":"IF(GE15<>\"\",IF(SEARCH(\"1\",教学计划表!AB31&\"1\",1)<=LEN(教学计划表!AB31),\"考试\",\"考查\"),\"\")","v":""},{"$f":"IF(教学计划表!DG31<>0,教学计划表!DG31,\"\")","v":""},{"$f":"IF(教学计划表!DG31<>0,教学计划表!DL31,\"\")","v":""},{"$f":"IF(教学计划表!DG31<>0,教学计划表!DM31,\"\")","v":""},{"$f":"IF(教学计划表!DG31<>0,教学计划表!OH31,\"\")","v":""},{"$f":"OFFSET($GD$2,SMALL(IF($GD$2:$GD$72<>\"\",ROW($2:$72),\"\"),ROW(GD14))-2,0)","v":{"$error":"#NUM!"}},{"$f":"OFFSET($GE$2,SMALL(IF($GE$2:$GE$72<>\"\",ROW($2:$72),\"\"),ROW(GE14))-2,0)","v":{"$error":"#NUM!"}},{"$f":"OFFSET($GF$2,SMALL(IF($GF$2:$GF$72<>\"\",ROW($2:$72),\"\"),ROW(GF14))-2,0)","v":{"$error":"#NUM!"}},{"$f":"OFFSET($GG$2,SMALL(IF($GG$2:$GG$72<>\"\",ROW($2:$72),\"\"),ROW(GG14))-2,0)","v":{"$error":"#NUM!"}},{"$f":"OFFSET($GH$2,SMALL(IF($GH$2:$GH$72<>\"\",ROW($2:$72),\"\"),ROW(GH14))-2,0)","v":{"$error":"#NUM!"}},{"$error":"#NUM!"},{"$f":"OFFSET($GJ$2,SMALL(IF($GJ$2:$GJ$72<>\"\",ROW($2:$72),\"\"),ROW(GJ14))-2,0)","v":{"$error":"#NUM!"}},{"$f":"IF(AND(教学计划表!N31<>\"\",教学计划表!AV31<>\"\"),教学计划表!I31,\"\")","v":""},{"$f":"IF(教学计划表!AV31<>\"\",教学计划表!N31,\"\")","v":""},{"$f":"IF(GS15<>\"\",IF(SEARCH(\"2\",教学计划表!AB31&\"2\",1)<=LEN(教学计划表!AB31),\"考试\",\"考查\"),\"\")","v":""},{"$f":"IF(教学计划表!EA31<>0,教学计划表!EA31,\"\")","v":""},{"$f":"IF(教学计划表!EA31<>0,教学计划表!EF31,\"\")","v":""},{"$f":"IF(教学计划表!EA31<>0,教学计划表!EG31,\"\")","v":""},{"$f":"IF(教学计划表!EA31<>0,教学计划表!OT31,\"\")","v":""},{"$f":"OFFSET($GR$2,SMALL(IF($GR$2:$GR$72<>\"\",ROW($I$2:$K$72),\"\"),ROW(GR14))-2,0)","v":{"$error":"#NUM!"}},{"$f":"OFFSET($GS$2,SMALL(IF($GS$2:$GS$72<>\"\",ROW($I$2:$K$72),\"\"),ROW(GS14))-2,0)","v":{"$error":"#NUM!"}},{"$f":"OFFSET($GT$2,SMALL(IF($GT$2:$GT$72<>\"\",ROW($I$2:$K$72),\"\"),ROW(GT14))-2,0)","v":{"$error":"#NUM!"}},{"$f":"OFFSET($GU$2,SMALL(IF($GU$2:$GU$72<>\"\",ROW($I$2:$K$72),\"\"),ROW(GU14))-2,0)","v":{"$error":"#NUM!"}},{"$f":"OFFSET($GV$2,SMALL(IF($GV$2:$GV$72<>\"\",ROW($GV$2:$GV$72),\"\"),ROW(GV14))-2,0)","v":{"$error":"#NUM!"}},{"$f":"OFFSET($GW$2,SMALL(IF($GW$2:$GW$72<>\"\",ROW($GW$2:$GW$72),\"\"),ROW(GW14))-2,0)","v":{"$error":"#NUM!"}},{"$f":"OFFSET($GX$2,SMALL(IF($GX$2:$GX$72<>\"\",ROW($GX$2:$GX$72),\"\"),ROW(GX14))-2,0)","v":{"$error":"#NUM!"}},{"$f":"IF(AND(教学计划表!N31<>\"\",教学计划表!AY31<>\"\"),教学计划表!I31,\"\")","v":""},{"$f":"IF(教学计划表!AY31<>\"\",教学计划表!N31,\"\")","v":""},{"$f":"IF(HG15<>\"\",IF(SEARCH(\"3\",教学计划表!AB31&\"3\",1)<=LEN(教学计划表!AB31),\"考试\",\"考查\"),\"\")","v":""},{"$f":"IF(教学计划表!EV31<>0,教学计划表!EV31,\"\")","v":""},{"$f":"IF(教学计划表!EV31<>0,教学计划表!FA31,\"\")","v":""},{"$f":"IF(教学计划表!EV31<>0,教学计划表!FB31,\"\")","v":""},{"$f":"IF(教学计划表!EV31<>0,教学计划表!PF31,\"\")","v":""},{"$f":"OFFSET($HF$2,SMALL(IF($HF$2:$HF$72<>\"\",ROW($HF$2:$HF$72),\"\"),ROW(HF14))-2,0)","v":{"$error":"#NUM!"}},{"$f":"OFFSET($HG$2,SMALL(IF($HG$2:$HG$72<>\"\",ROW($HG$2:$HG$72),\"\"),ROW(HG14))-2,0)","v":{"$error":"#NUM!"}},{"$f":"OFFSET($HH$2,SMALL(IF($HH$2:$HH$72<>\"\",ROW($HH$2:$HH$72),\"\"),ROW(HH14))-2,0)","v":{"$error":"#NUM!"}},{"$f":"OFFSET($HI$2,SMALL(IF($HI$2:$HI$72<>\"\",ROW($HI$2:$HI$72),\"\"),ROW(HI14))-2,0)","v":{"$error":"#NUM!"}},{"$f":"OFFSET($HJ$2,SMALL(IF($HJ$2:$HJ$72<>\"\",ROW($HJ$2:$HJ$72),\"\"),ROW(HJ14))-2,0)","v":{"$error":"#NUM!"}},{"$f":"OFFSET($HK$2,SMALL(IF($HK$2:$HK$72<>\"\",ROW($HK$2:$HK$72),\"\"),ROW(HK14))-2,0)","v":{"$error":"#NUM!"}},{"$f":"OFFSET($HL$2,SMALL(IF($HL$2:$HL$72<>\"\",ROW($HL$2:$HL$72),\"\"),ROW(HL14))-2,0)","v":{"$error":"#NUM!"}},{"$f":"IF(AND(教学计划表!N31<>\"\",教学计划表!BB31<>\"\"),教学计划表!I31,\"\")","v":""},{"$f":"IF(教学计划表!BB31<>\"\",教学计划表!N31,\"\")","v":""},{"$f":"IF(HU15<>\"\",IF(SEARCH(\"4\",教学计划表!AB31&\"4\",1)<=LEN(教学计划表!AB31),\"考试\",\"考查\"),\"\")","v":""},{"$f":"IF(教学计划表!FQ31<>0,教学计划表!FQ31,\"\")","v":""},{"$f":"IF(教学计划表!FQ31<>0,教学计划表!FV31,\"\")","v":""},{"$f":"IF(教学计划表!FQ31<>0,教学计划表!FW31,\"\")","v":""},{"$f":"IF(教学计划表!FQ31<>0,教学计划表!PR31,\"\")","v":""},{"$f":"OFFSET($HT$2,SMALL(IF($HT$2:$HT$72<>\"\",ROW($HT$2:$HT$72),\"\"),ROW(HT14))-2,0)","v":{"$error":"#NUM!"}},{"$f":"OFFSET($HU$2,SMALL(IF($HU$2:$HU$72<>\"\",ROW($HU$2:$HU$72),\"\"),ROW(HU14))-2,0)","v":{"$error":"#NUM!"}},{"$f":"OFFSET($HV$2,SMALL(IF($HV$2:$HV$72<>\"\",ROW($HV$2:$HV$72),\"\"),ROW(HV14))-2,0)","v":{"$error":"#NUM!"}},{"$f":"OFFSET($HW$2,SMALL(IF($HW$2:$HW$72<>\"\",ROW($HW$2:$HW$72),\"\"),ROW(HW14))-2,0)","v":{"$error":"#NUM!"}},{"$f":"OFFSET($HX$2,SMALL(IF($HX$2:$HX$72<>\"\",ROW($HX$2:$HX$72),\"\"),ROW(HX14))-2,0)","v":{"$error":"#NUM!"}},{"$f":"OFFSET($HY$2,SMALL(IF($HY$2:$HY$72<>\"\",ROW($HY$2:$HY$72),\"\"),ROW(HY14))-2,0)","v":{"$error":"#NUM!"}},{"$f":"OFFSET($HZ$2,SMALL(IF($HZ$2:$HZ$72<>\"\",ROW($HZ$2:$HZ$72),\"\"),ROW(HZ14))-2,0)","v":{"$error":"#NUM!"}},null,null,{"$f":"IF(AND(教学计划表!N31<>\"\",教学计划表!BE31<>\"\"),教学计划表!I31,\"\")","v":""},{"$f":"IF(教学计划表!BE31<>\"\",教学计划表!N31,\"\")","v":""},{"$f":"IF(IK15<>\"\",IF(SEARCH(\"5\",教学计划表!AB31&\"5\",1)<=LEN(教学计划表!AB31),\"考试\",\"考查\"),\"\")","v":""},{"$f":"IF(教学计划表!GL31<>0,教学计划表!GL31,\"\")","v":""},{"$f":"IF(教学计划表!GL31<>0,教学计划表!GQ31,\"\")","v":""},{"$f":"IF(教学计划表!GL31<>0,教学计划表!GR31,\"\")","v":""},{"$f":"IF(教学计划表!GL31<>0,教学计划表!QC31,\"\")","v":""},{"$f":"OFFSET($IJ$2,SMALL(IF($IJ$2:$IJ$72<>\"\",ROW($IJ$2:$IJ$72),\"\"),ROW(IJ14))-2,0)","v":{"$error":"#NUM!"}},{"$f":"OFFSET($IK$2,SMALL(IF($IK$2:$IK$72<>\"\",ROW($IK$2:$IK$72),\"\"),ROW(IK14))-2,0)","v":{"$error":"#NUM!"}},{"$f":"OFFSET($IL$2,SMALL(IF($IL$2:$IL$72<>\"\",ROW($IL$2:$IL$72),\"\"),ROW(IL14))-2,0)","v":{"$error":"#NUM!"}},{"$f":"OFFSET($IM$2,SMALL(IF($IM$2:$IM$72<>\"\",ROW($IM$2:$IM$72),\"\"),ROW(IM14))-2,0)","v":{"$error":"#NUM!"}},{"$f":"OFFSET($IN$2,SMALL(IF($IN$2:$IN$72<>\"\",ROW($IN$2:$IN$72),\"\"),ROW(IN14))-2,0)","v":{"$error":"#NUM!"}},{"$f":"OFFSET($IO$2,SMALL(IF($IO$2:$IO$72<>\"\",ROW($IO$2:$IO$72),\"\"),ROW(IO14))-2,0)","v":{"$error":"#NUM!"}},{"$f":"OFFSET($IP$2,SMALL(IF($IP$2:$IP$72<>\"\",ROW($IP$2:$IP$72),\"\"),ROW(IP14))-2,0)","v":{"$error":"#NUM!"}},null,{"$f":"IF(AND(教学计划表!N31<>\"\",教学计划表!BH31<>\"\"),教学计划表!I31,\"\")","v":""},{"$f":"IF(教学计划表!BH31<>\"\",教学计划表!N31,\"\")","v":""},{"$f":"IF(教学计划表!BH31<>\"\",IF(SEARCH(\"6\",教学计划表!AB31&\"6\",1)<=LEN(教学计划表!AB31),\"考试\",\"考查\"),\"\")","v":""},{"$f":"IF(教学计划表!BH31<>0,教学计划表!HG31,\"\")","v":""},{"$f":"IF(教学计划表!BH31<>0,教学计划表!HL31,\"\")","v":""},{"$f":"IF(教学计划表!BH31<>0,教学计划表!HM31,\"\")","v":""},{"$f":"IF(教学计划表!BH31<>0,教学计划表!QO31,\"\")","v":""},{"$f":"OFFSET($IY$2,SMALL(IF($IY$2:$IY$72<>\"\",ROW($IY$2:$IY$72),\"\"),ROW(IY14))-2,0)","v":{"$error":"#NUM!"}},{"$f":"OFFSET($IZ$2,SMALL(IF($IZ$2:$IZ$72<>\"\",ROW($IZ$2:$IZ$72),\"\"),ROW(IZ14))-2,0)","v":{"$error":"#NUM!"}},{"$f":"OFFSET($JA$2,SMALL(IF($JA$2:$JA$72<>\"\",ROW($JA$2:$JA$72),\"\"),ROW(JA14))-2,0)","v":{"$error":"#NUM!"}},{"$f":"OFFSET($JB$2,SMALL(IF($JB$2:$JB$72<>\"\",ROW($JB$2:$JB$72),\"\"),ROW(JB14))-2,0)","v":{"$error":"#NUM!"}},{"$f":"OFFSET($JC$2,SMALL(IF($JC$2:$JC$72<>\"\",ROW($JC$2:$JC$72),\"\"),ROW(JC14))-2,0)","v":{"$error":"#NUM!"}},{"$f":"OFFSET($JD$2,SMALL(IF($JD$2:$JD$72<>\"\",ROW($JD$2:$JD$72),\"\"),ROW(JD14))-2,0)","v":{"$error":"#NUM!"}},{"$f":"OFFSET($JE$2,SMALL(IF($JE$2:$JE$72<>\"\",ROW($JE$2:$JE$72),\"\"),ROW(JE14))-2,0)","v":{"$error":"#NUM!"}}]
["","","","","","","",null,"","","",{"$f":"IF(ISERROR(自动生成的开课信息!HB16),\"\",自动生成的开课信息!HB16)","v":""},{"$f":"IF(ISERROR(自动生成的开课信息!HC16),\"\",自动生成的开课信息!HC16)","v":""},{"$f":"IF(ISERROR(自动生成的开课信息!HD16),\"\",自动生成的开课信息!HD16)","v":""},{"$f":"IF(ISERROR(自动生成的开课信息!HE16),\"\",自动生成的开课信息!HE16)","v":""},null,"","","","","","","",null,"","","","","","","",null,"","","","","","","",null,"","","","","","","",null,null,null,null,null,null,null,null,null,null,null,null,null,null,null,null,null,null,null,null,null,null,null,null,null,null,null,null,null,null,null,null,null,null,null,null,null,null,null,null,null,null,null,null,null,null,null,null,null,null,null,null,null,null,null,null,null,null,null,null,null,null,null,null,null,null,null,null,null,null,null,null,null,null,null,null,null,null,null,null,null,null,null,null,null,null,null,null,null,null,null,null,null,null,null,null,null,null,null,null,null,null,null,null,null,null,null,null,null,null,null,null,null,null,null,null,null,null,null,null,null,null,null,null,null,null,null,null,null,null,null,null,null,null,null,null,null,null,{"$f":"IF(AND(教学计划表!N32<>\"\",教学计划表!AS32<>\"\"),教学计划表!I32,\"\")","v":""},{"$f":"IF(教学计划表!AS32<>\"\",教学计划表!N32,\"\")","v":""},{"$f":"IF(GE16<>\"\",IF(SEARCH(\"1\",教学计划表!AB32&\"1\",1)<=LEN(教学计划表!AB32),\"考试\",\"考查\"),\"\")","v":""},{"$f":"IF(教学计划表!DG32<>0,教学计划表!DG32,\"\")","v":""},{"$f":"IF(教学计划表!DG32<>0,教学计划表!DL32,\"\")","v":""},{"$f":"IF(教学计划表!DG32<>0,教学计划表!DM32,\"\")","v":""},{"$f":"IF(教学计划表!DG32<>0,教学计划表!OH32,\"\")","v":""},{"$f":"OFFSET($GD$2,SMALL(IF($GD$2:$GD$72<>\"\",ROW($2:$72),\"\"),ROW(GD15))-2,0)","v":{"$error":"#NUM!"}},{"$f":"OFFSET($GE$2,SMALL(IF($GE$2:$GE$72<>\"\",ROW($2:$72),\"\"),ROW(GE15))-2,0)","v":{"$error":"#NUM!"}},{"$f":"OFFSET($GF$2,SMALL(IF($GF$2:$GF$72<>\"\",ROW($2:$72),\"\"),ROW(GF15))-2,0)","v":{"$error":"#NUM!"}},{"$f":"OFFSET($GG$2,SMALL(IF($GG$2:$GG$72<>\"\",ROW($2:$72),\"\"),ROW(GG15))-2,0)","v":{"$error":"#NUM!"}},{"$f":"OFFSET($GH$2,SMALL(IF($GH$2:$GH$72<>\"\",ROW($2:$72),\"\"),ROW(GH15))-2,0)","v":{"$error":"#NUM!"}},{"$error":"#NUM!"},{"$f":"OFFSET($GJ$2,SMALL(IF($GJ$2:$GJ$72<>\"\",ROW($2:$72),\"\"),ROW(GJ15))-2,0)","v":{"$error":"#NUM!"}},{"$f":"IF(AND(教学计划表!N32<>\"\",教学计划表!AV32<>\"\"),教学计划表!I32,\"\")","v":""},{"$f":"IF(教学计划表!AV32<>\"\",教学计划表!N32,\"\")","v":""},{"$f":"IF(GS16<>\"\",IF(SEARCH(\"2\",教学计划表!AB32&\"2\",1)<=LEN(教学计划表!AB32),\"考试\",\"考查\"),\"\")","v":""},{"$f":"IF(教学计划表!EA32<>0,教学计划表!EA32,\"\")","v":""},{"$f":"IF(教学计划表!EA32<>0,教学计划表!EF32,\"\")","v":""},{"$f":"IF(教学计划表!EA32<>0,教学计划表!EG32,\"\")","v":""},{"$f":"IF(教学计划表!EA32<>0,教学计划表!OT32,\"\")","v":""},{"$f":"OFFSET($GR$2,SMALL(IF($GR$2:$GR$72<>\"\",ROW($I$2:$K$72),\"\"),ROW(GR15))-2,0)","v":{"$error":"#NUM!"}},{"$f":"OFFSET($GS$2,SMALL(IF($GS$2:$GS$72<>\"\",ROW($I$2:$K$72),\"\"),ROW(GS15))-2,0)","v":{"$error":"#NUM!"}},{"$f":"OFFSET($GT$2,SMALL(IF($GT$2:$GT$72<>\"\",ROW($I$2:$K$72),\"\"),ROW(GT15))-2,0)","v":{"$error":"#NUM!"}},{"$f":"OFFSET($GU$2,SMALL(IF($GU$2:$GU$72<>\"\",ROW($I$2:$K$72),\"\"),ROW(GU15))-2,0)","v":{"$error":"#NUM!"}},{"$f":"OFFSET($GV$2,SMALL(IF($GV$2:$GV$72<>\"\",ROW($GV$2:$GV$72),\"\"),ROW(GV15))-2,0)","v":{"$error":"#NUM!"}},{"$f":"OFFSET($GW$2,SMALL(IF($GW$2:$GW$72<>\"\",ROW($GW$2:$GW$72),\"\"),ROW(GW15))-2,0)","v":{"$error":"#NUM!"}},{"$f":"OFFSET($GX$2,SMALL(IF($GX$2:$GX$72<>\"\",ROW($GX$2:$GX$72),\"\"),ROW(GX15))-2,0)","v":{"$error":"#NUM!"}},{"$f":"IF(AND(教学计划表!N32<>\"\",教学计划表!AY32<>\"\"),教学计划表!I32,\"\")","v":""},{"$f":"IF(教学计划表!AY32<>\"\",教学计划表!N32,\"\")","v":""},{"$f":"IF(HG16<>\"\",IF(SEARCH(\"3\",教学计划表!AB32&\"3\",1)<=LEN(教学计划表!AB32),\"考试\",\"考查\"),\"\")","v":""},{"$f":"IF(教学计划表!EV32<>0,教学计划表!EV32,\"\")","v":""},{"$f":"IF(教学计划表!EV32<>0,教学计划表!FA32,\"\")","v":""},{"$f":"IF(教学计划表!EV32<>0,教学计划表!FB32,\"\")","v":""},{"$f":"IF(教学计划表!EV32<>0,教学计划表!PF32,\"\")","v":""},{"$f":"OFFSET($HF$2,SMALL(IF($HF$2:$HF$72<>\"\",ROW($HF$2:$HF$72),\"\"),ROW(HF15))-2,0)","v":{"$error":"#NUM!"}},{"$f":"OFFSET($HG$2,SMALL(IF($HG$2:$HG$72<>\"\",ROW($HG$2:$HG$72),\"\"),ROW(HG15))-2,0)","v":{"$error":"#NUM!"}},{"$f":"OFFSET($HH$2,SMALL(IF($HH$2:$HH$72<>\"\",ROW($HH$2:$HH$72),\"\"),ROW(HH15))-2,0)","v":{"$error":"#NUM!"}},{"$f":"OFFSET($HI$2,SMALL(IF($HI$2:$HI$72<>\"\",ROW($HI$2:$HI$72),\"\"),ROW(HI15))-2,0)","v":{"$error":"#NUM!"}},{"$f":"OFFSET($HJ$2,SMALL(IF($HJ$2:$HJ$72<>\"\",ROW($HJ$2:$HJ$72),\"\"),ROW(HJ15))-2,0)","v":{"$error":"#NUM!"}},{"$f":"OFFSET($HK$2,SMALL(IF($HK$2:$HK$72<>\"\",ROW($HK$2:$HK$72),\"\"),ROW(HK15))-2,0)","v":{"$error":"#NUM!"}},{"$f":"OFFSET($HL$2,SMALL(IF($HL$2:$HL$72<>\"\",ROW($HL$2:$HL$72),\"\"),ROW(HL15))-2,0)","v":{"$error":"#NUM!"}},{"$f":"IF(AND(教学计划表!N32<>\"\",教学计划表!BB32<>\"\"),教学计划表!I32,\"\")","v":""},{"$f":"IF(教学计划表!BB32<>\"\",教学计划表!N32,\"\")","v":""},{"$f":"IF(HU16<>\"\",IF(SEARCH(\"4\",教学计划表!AB32&\"4\",1)<=LEN(教学计划表!AB32),\"考试\",\"考查\"),\"\")","v":""},{"$f":"IF(教学计划表!FQ32<>0,教学计划表!FQ32,\"\")","v":""},{"$f":"IF(教学计划表!FQ32<>0,教学计划表!FV32,\"\")","v":""},{"$f":"IF(教学计划表!FQ32<>0,教学计划表!FW32,\"\")","v":""},{"$f":"IF(教学计划表!FQ32<>0,教学计划表!PR32,\"\")","v":""},{"$f":"OFFSET($HT$2,SMALL(IF($HT$2:$HT$72<>\"\",ROW($HT$2:$HT$72),\"\"),ROW(HT15))-2,0)","v":{"$error":"#NUM!"}},{"$f":"OFFSET($HU$2,SMALL(IF($HU$2:$HU$72<>\"\",ROW($HU$2:$HU$72),\"\"),ROW(HU15))-2,0)","v":{"$error":"#NUM!"}},{"$f":"OFFSET($HV$2,SMALL(IF($HV$2:$HV$72<>\"\",ROW($HV$2:$HV$72),\"\"),ROW(HV15))-2,0)","v":{"$error":"#NUM!"}},{"$f":"OFFSET($HW$2,SMALL(IF($HW$2:$HW$72<>\"\",ROW($HW$2:$HW$72),\"\"),ROW(HW15))-2,0)","v":{"$error":"#NUM!"}},{"$f":"OFFSET($HX$2,SMALL(IF($HX$2:$HX$72<>\"\",ROW($HX$2:$HX$72),\"\"),ROW(HX15))-2,0)","v":{"$error":"#NUM!"}},{"$f":"OFFSET($HY$2,SMALL(IF($HY$2:$HY$72<>\"\",ROW($HY$2:$HY$72),\"\"),ROW(HY15))-2,0)","v":{"$error":"#NUM!"}},{"$f":"OFFSET($HZ$2,SMALL(IF($HZ$2:$HZ$72<>\"\",ROW($HZ$2:$HZ$72),\"\"),ROW(HZ15))-2,0)","v":{"$error":"#NUM!"}},null,null,{"$f":"IF(AND(教学计划表!N32<>\"\",教学计划表!BE32<>\"\"),教学计划表!I32,\"\")","v":""},{"$f":"IF(教学计划表!BE32<>\"\",教学计划表!N32,\"\")","v":""},{"$f":"IF(IK16<>\"\",IF(SEARCH(\"5\",教学计划表!AB32&\"5\",1)<=LEN(教学计划表!AB32),\"考试\",\"考查\"),\"\")","v":""},{"$f":"IF(教学计划表!GL32<>0,教学计划表!GL32,\"\")","v":""},{"$f":"IF(教学计划表!GL32<>0,教学计划表!GQ32,\"\")","v":""},{"$f":"IF(教学计划表!GL32<>0,教学计划表!GR32,\"\")","v":""},{"$f":"IF(教学计划表!GL32<>0,教学计划表!QC32,\"\")","v":""},{"$f":"OFFSET($IJ$2,SMALL(IF($IJ$2:$IJ$72<>\"\",ROW($IJ$2:$IJ$72),\"\"),ROW(IJ15))-2,0)","v":{"$error":"#NUM!"}},{"$f":"OFFSET($IK$2,SMALL(IF($IK$2:$IK$72<>\"\",ROW($IK$2:$IK$72),\"\"),ROW(IK15))-2,0)","v":{"$error":"#NUM!"}},{"$f":"OFFSET($IL$2,SMALL(IF($IL$2:$IL$72<>\"\",ROW($IL$2:$IL$72),\"\"),ROW(IL15))-2,0)","v":{"$error":"#NUM!"}},{"$f":"OFFSET($IM$2,SMALL(IF($IM$2:$IM$72<>\"\",ROW($IM$2:$IM$72),\"\"),ROW(IM15))-2,0)","v":{"$error":"#NUM!"}},{"$f":"OFFSET($IN$2,SMALL(IF($IN$2:$IN$72<>\"\",ROW($IN$2:$IN$72),\"\"),ROW(IN15))-2,0)","v":{"$error":"#NUM!"}},{"$f":"OFFSET($IO$2,SMALL(IF($IO$2:$IO$72<>\"\",ROW($IO$2:$IO$72),\"\"),ROW(IO15))-2,0)","v":{"$error":"#NUM!"}},{"$f":"OFFSET($IP$2,SMALL(IF($IP$2:$IP$72<>\"\",ROW($IP$2:$IP$72),\"\"),ROW(IP15))-2,0)","v":{"$error":"#NUM!"}},null,{"$f":"IF(AND(教学计划表!N32<>\"\",教学计划表!BH32<>\"\"),教学计划表!I32,\"\")","v":""},{"$f":"IF(教学计划表!BH32<>\"\",教学计划表!N32,\"\")","v":""},{"$f":"IF(教学计划表!BH32<>\"\",IF(SEARCH(\"6\",教学计划表!AB32&\"6\",1)<=LEN(教学计划表!AB32),\"考试\",\"考查\"),\"\")","v":""},{"$f":"IF(教学计划表!BH32<>0,教学计划表!HG32,\"\")","v":""},{"$f":"IF(教学计划表!BH32<>0,教学计划表!HL32,\"\")","v":""},{"$f":"IF(教学计划表!BH32<>0,教学计划表!HM32,\"\")","v":""},{"$f":"IF(教学计划表!BH32<>0,教学计划表!QO32,\"\")","v":""},{"$f":"OFFSET($IY$2,SMALL(IF($IY$2:$IY$72<>\"\",ROW($IY$2:$IY$72),\"\"),ROW(IY15))-2,0)","v":{"$error":"#NUM!"}},{"$f":"OFFSET($IZ$2,SMALL(IF($IZ$2:$IZ$72<>\"\",ROW($IZ$2:$IZ$72),\"\"),ROW(IZ15))-2,0)","v":{"$error":"#NUM!"}},{"$f":"OFFSET($JA$2,SMALL(IF($JA$2:$JA$72<>\"\",ROW($JA$2:$JA$72),\"\"),ROW(JA15))-2,0)","v":{"$error":"#NUM!"}},{"$f":"OFFSET($JB$2,SMALL(IF($JB$2:$JB$72<>\"\",ROW($JB$2:$JB$72),\"\"),ROW(JB15))-2,0)","v":{"$error":"#NUM!"}},{"$f":"OFFSET($JC$2,SMALL(IF($JC$2:$JC$72<>\"\",ROW($JC$2:$JC$72),\"\"),ROW(JC15))-2,0)","v":{"$error":"#NUM!"}},{"$f":"OFFSET($JD$2,SMALL(IF($JD$2:$JD$72<>\"\",ROW($JD$2:$JD$72),\"\"),ROW(JD15))-2,0)","v":{"$error":"#NUM!"}},{"$f":"OFFSET($JE$2,SMALL(IF($JE$2:$JE$72<>\"\",ROW($JE$2:$JE$72),\"\"),ROW(JE15))-2,0)","v":{"$error":"#NUM!"}}]
["","","","","","","",null,"","","",{"$f":"IF(ISERROR(自动生成的开课信息!HB17),\"\",自动生成的开课信息!HB17)","v":""},{"$f":"IF(ISERROR(自动生成的开课信息!HC17),\"\",自动生成的开课信息!HC17)","v":""},{"$f":"IF(ISERROR(自动生成的开课信息!HD17),\"\",自动生成的开课信息!HD17)","v":""},{"$f":"IF(ISERROR(自动生成的开课信息!HE17),\"\",自动生成的开课信息!HE17)","v":""},null,"","","","","","","",null,"","","","","","","",null,"","","","","","","",null,"","","","","","","",null,null,null,null,null,null,null,null,null,null,null,null,null,null,null,null,null,null,null,null,null,null,null,null,null,null,null,null,null,null,null,null,null,null,null,null,null,null,null,null,null,null,null,null,null,null,null,null,null,null,null,null,null,null,null,null,null,null,null,null,null,null,null,null,null,null,null,null,null,null,null,null,null,null,null,null,null,null,null,null,null,null,null,null,null,null,null,null,null,null,null,null,null,null,null,null,null,null,null,null,null,null,null,null,null,null,null,null,null,null,null,null,null,null,null,null,null,null,null,null,null,null,null,null,null,null,null,null,null,null,null,null,null,null,null,null,null,null,{"$f":"IF(AND(教学计划表!N33<>\"\",教学计划表!AS33<>\"\"),教学计划表!I33,\"\")","v":""},{"$f":"IF(教学计划表!AS33<>\"\",教学计划表!N33,\"\")","v":""},{"$f":"IF(GE17<>\"\",IF(SEARCH(\"1\",教学计划表!AB33&\"1\",1)<=LEN(教学计划表!AB33),\"考试\",\"考查\"),\"\")","v":""},{"$f":"IF(教学计划表!DG33<>0,教学计划表!DG33,\"\")","v":""},{"$f":"IF(教学计划表!DG33<>0,教学计划表!DL33,\"\")","v":""},{"$f":"IF(教学计划表!DG33<>0,教学计划表!DM33,\"\")","v":""},{"$f":"IF(教学计划表!DG33<>0,教学计划表!OH33,\"\")","v":""},{"$f":"OFFSET($GD$2,SMALL(IF($GD$2:$GD$72<>\"\",ROW($2:$72),\"\"),ROW(GD16))-2,0)","v":{"$error":"#NUM!"}},{"$f":"OFFSET($GE$2,SMALL(IF($GE$2:$GE$72<>\"\",ROW($2:$72),\"\"),ROW(GE16))-2,0)","v":{"$error":"#NUM!"}},{"$f":"OFFSET($GF$2,SMALL(IF($GF$2:$GF$72<>\"\",ROW($2:$72),\"\"),ROW(GF16))-2,0)","v":{"$error":"#NUM!"}},{"$f":"OFFSET($GG$2,SMALL(IF($GG$2:$GG$72<>\"\",ROW($2:$72),\"\"),ROW(GG16))-2,0)","v":{"$error":"#NUM!"}},{"$f":"OFFSET($GH$2,SMALL(IF($GH$2:$GH$72<>\"\",ROW($2:$72),\"\"),ROW(GH16))-2,0)","v":{"$error":"#NUM!"}},{"$error":"#NUM!"},{"$f":"OFFSET($GJ$2,SMALL(IF($GJ$2:$GJ$72<>\"\",ROW($2:$72),\"\"),ROW(GJ16))-2,0)","v":{"$error":"#NUM!"}},{"$f":"IF(AND(教学计划表!N33<>\"\",教学计划表!AV33<>\"\"),教学计划表!I33,\"\")","v":""},{"$f":"IF(教学计划表!AV33<>\"\",教学计划表!N33,\"\")","v":""},{"$f":"IF(GS17<>\"\",IF(SEARCH(\"2\",教学计划表!AB33&\"2\",1)<=LEN(教学计划表!AB33),\"考试\",\"考查\"),\"\")","v":""},{"$f":"IF(教学计划表!EA33<>0,教学计划表!EA33,\"\")","v":""},{"$f":"IF(教学计划表!EA33<>0,教学计划表!EF33,\"\")","v":""},{"$f":"IF(教学计划表!EA33<>0,教学计划表!EG33,\"\")","v":""},{"$f":"IF(教学计划表!EA33<>0,教学计划表!OT33,\"\")","v":""},{"$f":"OFFSET($GR$2,SMALL(IF($GR$2:$GR$72<>\"\",ROW($I$2:$K$72),\"\"),ROW(GR16))-2,0)","v":{"$error":"#NUM!"}},{"$f":"OFFSET($GS$2,SMALL(IF($GS$2:$GS$72<>\"\",ROW($I$2:$K$72),\"\"),ROW(GS16))-2,0)","v":{"$error":"#NUM!"}},{"$f":"OFFSET($GT$2,SMALL(IF($GT$2:$GT$72<>\"\",ROW($I$2:$K$72),\"\"),ROW(GT16))-2,0)","v":{"$error":"#NUM!"}},{"$f":"OFFSET($GU$2,SMALL(IF($GU$2:$GU$72<>\"\",ROW($I$2:$K$72),\"\"),ROW(GU16))-2,0)","v":{"$error":"#NUM!"}},{"$f":"OFFSET($GV$2,SMALL(IF($GV$2:$GV$72<>\"\",ROW($GV$2:$GV$72),\"\"),ROW(GV16))-2,0)","v":{"$error":"#NUM!"}},{"$f":"OFFSET($GW$2,SMALL(IF($GW$2:$GW$72<>\"\",ROW($GW$2:$GW$72),\"\"),ROW(GW16))-2,0)","v":{"$error":"#NUM!"}},{"$f":"OFFSET($GX$2,SMALL(IF($GX$2:$GX$72<>\"\",ROW($GX$2:$GX$72),\"\"),ROW(GX16))-2,0)","v":{"$error":"#NUM!"}},{"$f":"IF(AND(教学计划表!N33<>\"\",教学计划表!AY33<>\"\"),教学计划表!I33,\"\")","v":""},{"$f":"IF(教学计划表!AY33<>\"\",教学计划表!N33,\"\")","v":""},{"$f":"IF(HG17<>\"\",IF(SEARCH(\"3\",教学计划表!AB33&\"3\",1)<=LEN(教学计划表!AB33),\"考试\",\"考查\"),\"\")","v":""},{"$f":"IF(教学计划表!EV33<>0,教学计划表!EV33,\"\")","v":""},{"$f":"IF(教学计划表!EV33<>0,教学计划表!FA33,\"\")","v":""},{"$f":"IF(教学计划表!EV33<>0,教学计划表!FB33,\"\")","v":""},{"$f":"IF(教学计划表!EV33<>0,教学计划表!PF33,\"\")","v":""},{"$f":"OFFSET($HF$2,SMALL(IF($HF$2:$HF$72<>\"\",ROW($HF$2:$HF$72),\"\"),ROW(HF16))-2,0)","v":{"$error":"#NUM!"}},{"$f":"OFFSET($HG$2,SMALL(IF($HG$2:$HG$72<>\"\",ROW($HG$2:$HG$72),\"\"),ROW(HG16))-2,0)","v":{"$error":"#NUM!"}},{"$f":"OFFSET($HH$2,SMALL(IF($HH$2:$HH$72<>\"\",ROW($HH$2:$HH$72),\"\"),ROW(HH16))-2,0)","v":{"$error":"#NUM!"}},{"$f":"OFFSET($HI$2,SMALL(IF($HI$2:$HI$72<>\"\",ROW($HI$2:$HI$72),\"\"),ROW(HI16))-2,0)","v":{"$error":"#NUM!"}},{"$f":"OFFSET($HJ$2,SMALL(IF($HJ$2:$HJ$72<>\"\",ROW($HJ$2:$HJ$72),\"\"),ROW(HJ16))-2,0)","v":{"$error":"#NUM!"}},{"$f":"OFFSET($HK$2,SMALL(IF($HK$2:$HK$72<>\"\",ROW($HK$2:$HK$72),\"\"),ROW(HK16))-2,0)","v":{"$error":"#NUM!"}},{"$f":"OFFSET($HL$2,SMALL(IF($HL$2:$HL$72<>\"\",ROW($HL$2:$HL$72),\"\"),ROW(HL16))-2,0)","v":{"$error":"#NUM!"}},{"$f":"IF(AND(教学计划表!N33<>\"\",教学计划表!BB33<>\"\"),教学计划表!I33,\"\")","v":""},{"$f":"IF(教学计划表!BB33<>\"\",教学计划表!N33,\"\")","v":""},{"$f":"IF(HU17<>\"\",IF(SEARCH(\"4\",教学计划表!AB33&\"4\",1)<=LEN(教学计划表!AB33),\"考试\",\"考查\"),\"\")","v":""},{"$f":"IF(教学计划表!FQ33<>0,教学计划表!FQ33,\"\")","v":""},{"$f":"IF(教学计划表!FQ33<>0,教学计划表!FV33,\"\")","v":""},{"$f":"IF(教学计划表!FQ33<>0,教学计划表!FW33,\"\")","v":""},{"$f":"IF(教学计划表!FQ33<>0,教学计划表!PR33,\"\")","v":""},{"$f":"OFFSET($HT$2,SMALL(IF($HT$2:$HT$72<>\"\",ROW($HT$2:$HT$72),\"\"),ROW(HT16))-2,0)","v":{"$error":"#NUM!"}},{"$f":"OFFSET($HU$2,SMALL(IF($HU$2:$HU$72<>\"\",ROW($HU$2:$HU$72),\"\"),ROW(HU16))-2,0)","v":{"$error":"#NUM!"}},{"$f":"OFFSET($HV$2,SMALL(IF($HV$2:$HV$72<>\"\",ROW($HV$2:$HV$72),\"\"),ROW(HV16))-2,0)","v":{"$error":"#NUM!"}},{"$f":"OFFSET($HW$2,SMALL(IF($HW$2:$HW$72<>\"\",ROW($HW$2:$HW$72),\"\"),ROW(HW16))-2,0)","v":{"$error":"#NUM!"}},{"$f":"OFFSET($HX$2,SMALL(IF($HX$2:$HX$72<>\"\",ROW($HX$2:$HX$72),\"\"),ROW(HX16))-2,0)","v":{"$error":"#NUM!"}},{"$f":"OFFSET($HY$2,SMALL(IF($HY$2:$HY$72<>\"\",ROW($HY$2:$HY$72),\"\"),ROW(HY16))-2,0)","v":{"$error":"#NUM!"}},{"$f":"OFFSET($HZ$2,SMALL(IF($HZ$2:$HZ$72<>\"\",ROW($HZ$2:$HZ$72),\"\"),ROW(HZ16))-2,0)","v":{"$error":"#NUM!"}},null,null,{"$f":"IF(AND(教学计划表!N33<>\"\",教学计划表!BE33<>\"\"),教学计划表!I33,\"\")","v":""},{"$f":"IF(教学计划表!BE33<>\"\",教学计划表!N33,\"\")","v":""},{"$f":"IF(IK17<>\"\",IF(SEARCH(\"5\",教学计划表!AB33&\"5\",1)<=LEN(教学计划表!AB33),\"考试\",\"考查\"),\"\")","v":""},{"$f":"IF(教学计划表!GL33<>0,教学计划表!GL33,\"\")","v":""},{"$f":"IF(教学计划表!GL33<>0,教学计划表!GQ33,\"\")","v":""},{"$f":"IF(教学计划表!GL33<>0,教学计划表!GR33,\"\")","v":""},{"$f":"IF(教学计划表!GL33<>0,教学计划表!QC33,\"\")","v":""},{"$f":"OFFSET($IJ$2,SMALL(IF($IJ$2:$IJ$72<>\"\",ROW($IJ$2:$IJ$72),\"\"),ROW(IJ16))-2,0)","v":{"$error":"#NUM!"}},{"$f":"OFFSET($IK$2,SMALL(IF($IK$2:$IK$72<>\"\",ROW($IK$2:$IK$72),\"\"),ROW(IK16))-2,0)","v":{"$error":"#NUM!"}},{"$f":"OFFSET($IL$2,SMALL(IF($IL$2:$IL$72<>\"\",ROW($IL$2:$IL$72),\"\"),ROW(IL16))-2,0)","v":{"$error":"#NUM!"}},{"$f":"OFFSET($IM$2,SMALL(IF($IM$2:$IM$72<>\"\",ROW($IM$2:$IM$72),\"\"),ROW(IM16))-2,0)","v":{"$error":"#NUM!"}},{"$f":"OFFSET($IN$2,SMALL(IF($IN$2:$IN$72<>\"\",ROW($IN$2:$IN$72),\"\"),ROW(IN16))-2,0)","v":{"$error":"#NUM!"}},{"$f":"OFFSET($IO$2,SMALL(IF($IO$2:$IO$72<>\"\",ROW($IO$2:$IO$72),\"\"),ROW(IO16))-2,0)","v":{"$error":"#NUM!"}},{"$f":"OFFSET($IP$2,SMALL(IF($IP$2:$IP$72<>\"\",ROW($IP$2:$IP$72),\"\"),ROW(IP16))-2,0)","v":{"$error":"#NUM!"}},null,{"$f":"IF(AND(教学计划表!N33<>\"\",教学计划表!BH33<>\"\"),教学计划表!I33,\"\")","v":""},{"$f":"IF(教学计划表!BH33<>\"\",教学计划表!N33,\"\")","v":""},{"$f":"IF(教学计划表!BH33<>\"\",IF(SEARCH(\"6\",教学计划表!AB33&\"6\",1)<=LEN(教学计划表!AB33),\"考试\",\"考查\"),\"\")","v":""},{"$f":"IF(教学计划表!BH33<>0,教学计划表!HG33,\"\")","v":""},{"$f":"IF(教学计划表!BH33<>0,教学计划表!HL33,\"\")","v":""},{"$f":"IF(教学计划表!BH33<>0,教学计划表!HM33,\"\")","v":""},{"$f":"IF(教学计划表!BH33<>0,教学计划表!QO33,\"\")","v":""},{"$f":"OFFSET($IY$2,SMALL(IF($IY$2:$IY$72<>\"\",ROW($IY$2:$IY$72),\"\"),ROW(IY16))-2,0)","v":{"$error":"#NUM!"}},{"$f":"OFFSET($IZ$2,SMALL(IF($IZ$2:$IZ$72<>\"\",ROW($IZ$2:$IZ$72),\"\"),ROW(IZ16))-2,0)","v":{"$error":"#NUM!"}},{"$f":"OFFSET($JA$2,SMALL(IF($JA$2:$JA$72<>\"\",ROW($JA$2:$JA$72),\"\"),ROW(JA16))-2,0)","v":{"$error":"#NUM!"}},{"$f":"OFFSET($JB$2,SMALL(IF($JB$2:$JB$72<>\"\",ROW($JB$2:$JB$72),\"\"),ROW(JB16))-2,0)","v":{"$error":"#NUM!"}},{"$f":"OFFSET($JC$2,SMALL(IF($JC$2:$JC$72<>\"\",ROW($JC$2:$JC$72),\"\"),ROW(JC16))-2,0)","v":{"$error":"#NUM!"}},{"$f":"OFFSET($JD$2,SMALL(IF($JD$2:$JD$72<>\"\",ROW($JD$2:$JD$72),\"\"),ROW(JD16))-2,0)","v":{"$error":"#NUM!"}},{"$f":"OFFSET($JE$2,SMALL(IF($JE$2:$JE$72<>\"\",ROW($JE$2:$JE$72),\"\"),ROW(JE16))-2,0)","v":{"$error":"#NUM!"}}]
["","","","","","","",null,"","","",{"$f":"IF(ISERROR(自动生成的开课信息!HB18),\"\",自动生成的开课信息!HB18)","v":""},{"$f":"IF(ISERROR(自动生成的开课信息!HC18),\"\",自动生成的开课信息!HC18)","v":""},{"$f":"IF(ISERROR(自动生成的开课信息!HD18),\"\",自动生成的开课信息!HD18)","v":""},{"$f":"IF(ISERROR(自动生成的开课信息!HE18),\"\",自动生成的开课信息!HE18)","v":""},null,"","","","","","","",null,"","","","","","","",null,"","","","","","","",null,"","","","","","","",null,null,null,null,null,null,null,null,null,null,null,null,null,null,null,null,null,null,null,null,null,null,null,null,null,null,null,null,null,null,null,null,null,null,null,null,null,null,null,null,null,null,null,null,null,null,null,null,null,null,null,null,null,null,null,null,null,null,null,null,null,null,null,null,null,null,null,null,null,null,null,null,null,null,null,null,null,null,null,null,null,null,null,null,null,null,null,null,null,null,null,null,null,null,null,null,null,null,null,null,null,null,null,null,null,null,null,null,null,null,null,null,null,null,null,null,null,null,null,null,null,null,null,null,null,null,null,null,null,null,null,null,null,null,null,null,null,null,{"$f":"IF(AND(教学计划表!N34<>\"\",教学计划表!AS34<>\"\"),教学计划表!I34,\"\")","v":""},{"$f":"IF(教学计划表!AS34<>\"\",教学计划表!N34,\"\")","v":""},{"$f":"IF(GE18<>\"\",IF(SEARCH(\"1\",教学计划表!AB34&\"1\",1)<=LEN(教学计划表!AB34),\"考试\",\"考查\"),\"\")","v":""},{"$f":"IF(教学计划表!DG34<>0,教学计划表!DG34,\"\")","v":""},{"$f":"IF(教学计划表!DG34<>0,教学计划表!DL34,\"\")","v":""},{"$f":"IF(教学计划表!DG34<>0,教学计划表!DM34,\"\")","v":""},{"$f":"IF(教学计划表!DG34<>0,教学计划表!OH34,\"\")","v":""},{"$f":"OFFSET($GD$2,SMALL(IF($GD$2:$GD$72<>\"\",ROW($2:$72),\"\"),ROW(GD17))-2,0)","v":{"$error":"#NUM!"}},{"$f":"OFFSET($GE$2,SMALL(IF($GE$2:$GE$72<>\"\",ROW($2:$72),\"\"),ROW(GE17))-2,0)","v":{"$error":"#NUM!"}},{"$f":"OFFSET($GF$2,SMALL(IF($GF$2:$GF$72<>\"\",ROW($2:$72),\"\"),ROW(GF17))-2,0)","v":{"$error":"#NUM!"}},{"$f":"OFFSET($GG$2,SMALL(IF($GG$2:$GG$72<>\"\",ROW($2:$72),\"\"),ROW(GG17))-2,0)","v":{"$error":"#NUM!"}},{"$f":"OFFSET($GH$2,SMALL(IF($GH$2:$GH$72<>\"\",ROW($2:$72),\"\"),ROW(GH17))-2,0)","v":{"$error":"#NUM!"}},{"$error":"#NUM!"},{"$f":"OFFSET($GJ$2,SMALL(IF($GJ$2:$GJ$72<>\"\",ROW($2:$72),\"\"),ROW(GJ17))-2,0)","v":{"$error":"#NUM!"}},{"$f":"IF(AND(教学计划表!N34<>\"\",教学计划表!AV34<>\"\"),教学计划表!I34,\"\")","v":""},{"$f":"IF(教学计划表!AV34<>\"\",教学计划表!N34,\"\")","v":""},{"$f":"IF(GS18<>\"\",IF(SEARCH(\"2\",教学计划表!AB34&\"2\",1)<=LEN(教学计划表!AB34),\"考试\",\"考查\"),\"\")","v":""},{"$f":"IF(教学计划表!EA34<>0,教学计划表!EA34,\"\")","v":""},{"$f":"IF(教学计划表!EA34<>0,教学计划表!EF34,\"\")","v":""},{"$f":"IF(教学计划表!EA34<>0,教学计划表!EG34,\"\")","v":""},{"$f":"IF(教学计划表!EA34<>0,教学计划表!OT34,\"\")","v":""},{"$f":"OFFSET($GR$2,SMALL(IF($GR$2:$GR$72<>\"\",ROW($I$2:$K$72),\"\"),ROW(GR17))-2,0)","v":{"$error":"#NUM!"}},{"$f":"OFFSET($GS$2,SMALL(IF($GS$2:$GS$72<>\"\",ROW($I$2:$K$72),\"\"),ROW(GS17))-2,0)","v":{"$error":"#NUM!"}},{"$f":"OFFSET($GT$2,SMALL(IF($GT$2:$GT$72<>\"\",ROW($I$2:$K$72),\"\"),ROW(GT17))-2,0)","v":{"$error":"#NUM!"}},{"$f":"OFFSET($GU$2,SMALL(IF($GU$2:$GU$72<>\"\",ROW($I$2:$K$72),\"\"),ROW(GU17))-2,0)","v":{"$error":"#NUM!"}},{"$f":"OFFSET($GV$2,SMALL(IF($GV$2:$GV$72<>\"\",ROW($GV$2:$GV$72),\"\"),ROW(GV17))-2,0)","v":{"$error":"#NUM!"}},{"$f":"OFFSET($GW$2,SMALL(IF($GW$2:$GW$72<>\"\",ROW($GW$2:$GW$72),\"\"),ROW(GW17))-2,0)","v":{"$error":"#NUM!"}},{"$f":"OFFSET($GX$2,SMALL(IF($GX$2:$GX$72<>\"\",ROW($GX$2:$GX$72),\"\"),ROW(GX17))-2,0)","v":{"$error":"#NUM!"}},{"$f":"IF(AND(教学计划表!N34<>\"\",教学计划表!AY34<>\"\"),教学计划表!I34,\"\")","v":""},{"$f":"IF(教学计划表!AY34<>\"\",教学计划表!N34,\"\")","v":""},{"$f":"IF(HG18<>\"\",IF(SEARCH(\"3\",教学计划表!AB34&\"3\",1)<=LEN(教学计划表!AB34),\"考试\",\"考查\"),\"\")","v":""},{"$f":"IF(教学计划表!EV34<>0,教学计划表!EV34,\"\")","v":""},{"$f":"IF(教学计划表!EV34<>0,教学计划表!FA34,\"\")","v":""},{"$f":"IF(教学计划表!EV34<>0,教学计划表!FB34,\"\")","v":""},{"$f":"IF(教学计划表!EV34<>0,教学计划表!PF34,\"\")","v":""},{"$f":"OFFSET($HF$2,SMALL(IF($HF$2:$HF$72<>\"\",ROW($HF$2:$HF$72),\"\"),ROW(HF17))-2,0)","v":{"$error":"#NUM!"}},{"$f":"OFFSET($HG$2,SMALL(IF($HG$2:$HG$72<>\"\",ROW($HG$2:$HG$72),\"\"),ROW(HG17))-2,0)","v":{"$error":"#NUM!"}},{"$f":"OFFSET($HH$2,SMALL(IF($HH$2:$HH$72<>\"\",ROW($HH$2:$HH$72),\"\"),ROW(HH17))-2,0)","v":{"$error":"#NUM!"}},{"$f":"OFFSET($HI$2,SMALL(IF($HI$2:$HI$72<>\"\",ROW($HI$2:$HI$72),\"\"),ROW(HI17))-2,0)","v":{"$error":"#NUM!"}},{"$f":"OFFSET($HJ$2,SMALL(IF($HJ$2:$HJ$72<>\"\",ROW($HJ$2:$HJ$72),\"\"),ROW(HJ17))-2,0)","v":{"$error":"#NUM!"}},{"$f":"OFFSET($HK$2,SMALL(IF($HK$2:$HK$72<>\"\",ROW($HK$2:$HK$72),\"\"),ROW(HK17))-2,0)","v":{"$error":"#NUM!"}},{"$f":"OFFSET($HL$2,SMALL(IF($HL$2:$HL$72<>\"\",ROW($HL$2:$HL$72),\"\"),ROW(HL17))-2,0)","v":{"$error":"#NUM!"}},{"$f":"IF(AND(教学计划表!N34<>\"\",教学计划表!BB34<>\"\"),教学计划表!I34,\"\")","v":""},{"$f":"IF(教学计划表!BB34<>\"\",教学计划表!N34,\"\")","v":""},{"$f":"IF(HU18<>\"\",IF(SEARCH(\"4\",教学计划表!AB34&\"4\",1)<=LEN(教学计划表!AB34),\"考试\",\"考查\"),\"\")","v":""},{"$f":"IF(教学计划表!FQ34<>0,教学计划表!FQ34,\"\")","v":""},{"$f":"IF(教学计划表!FQ34<>0,教学计划表!FV34,\"\")","v":""},{"$f":"IF(教学计划表!FQ34<>0,教学计划表!FW34,\"\")","v":""},{"$f":"IF(教学计划表!FQ34<>0,教学计划表!PR34,\"\")","v":""},{"$f":"OFFSET($HT$2,SMALL(IF($HT$2:$HT$72<>\"\",ROW($HT$2:$HT$72),\"\"),ROW(HT17))-2,0)","v":{"$error":"#NUM!"}},{"$f":"OFFSET($HU$2,SMALL(IF($HU$2:$HU$72<>\"\",ROW($HU$2:$HU$72),\"\"),ROW(HU17))-2,0)","v":{"$error":"#NUM!"}},{"$f":"OFFSET($HV$2,SMALL(IF($HV$2:$HV$72<>\"\",ROW($HV$2:$HV$72),\"\"),ROW(HV17))-2,0)","v":{"$error":"#NUM!"}},{"$f":"OFFSET($HW$2,SMALL(IF($HW$2:$HW$72<>\"\",ROW($HW$2:$HW$72),\"\"),ROW(HW17))-2,0)","v":{"$error":"#NUM!"}},{"$f":"OFFSET($HX$2,SMALL(IF($HX$2:$HX$72<>\"\",ROW($HX$2:$HX$72),\"\"),ROW(HX17))-2,0)","v":{"$error":"#NUM!"}},{"$f":"OFFSET($HY$2,SMALL(IF($HY$2:$HY$72<>\"\",ROW($HY$2:$HY$72),\"\"),ROW(HY17))-2,0)","v":{"$error":"#NUM!"}},{"$f":"OFFSET($HZ$2,SMALL(IF($HZ$2:$HZ$72<>\"\",ROW($HZ$2:$HZ$72),\"\"),ROW(HZ17))-2,0)","v":{"$error":"#NUM!"}},null,null,{"$f":"IF(AND(教学计划表!N34<>\"\",教学计划表!BE34<>\"\"),教学计划表!I34,\"\")","v":""},{"$f":"IF(教学计划表!BE34<>\"\",教学计划表!N34,\"\")","v":""},{"$f":"IF(IK18<>\"\",IF(SEARCH(\"5\",教学计划表!AB34&\"5\",1)<=LEN(教学计划表!AB34),\"考试\",\"考查\"),\"\")","v":""},{"$f":"IF(教学计划表!GL34<>0,教学计划表!GL34,\"\")","v":""},{"$f":"IF(教学计划表!GL34<>0,教学计划表!GQ34,\"\")","v":""},{"$f":"IF(教学计划表!GL34<>0,教学计划表!GR34,\"\")","v":""},{"$f":"IF(教学计划表!GL34<>0,教学计划表!QC34,\"\")","v":""},{"$f":"OFFSET($IJ$2,SMALL(IF($IJ$2:$IJ$72<>\"\",ROW($IJ$2:$IJ$72),\"\"),ROW(IJ17))-2,0)","v":{"$error":"#NUM!"}},{"$f":"OFFSET($IK$2,SMALL(IF($IK$2:$IK$72<>\"\",ROW($IK$2:$IK$72),\"\"),ROW(IK17))-2,0)","v":{"$error":"#NUM!"}},{"$f":"OFFSET($IL$2,SMALL(IF($IL$2:$IL$72<>\"\",ROW($IL$2:$IL$72),\"\"),ROW(IL17))-2,0)","v":{"$error":"#NUM!"}},{"$f":"OFFSET($IM$2,SMALL(IF($IM$2:$IM$72<>\"\",ROW($IM$2:$IM$72),\"\"),ROW(IM17))-2,0)","v":{"$error":"#NUM!"}},{"$f":"OFFSET($IN$2,SMALL(IF($IN$2:$IN$72<>\"\",ROW($IN$2:$IN$72),\"\"),ROW(IN17))-2,0)","v":{"$error":"#NUM!"}},{"$f":"OFFSET($IO$2,SMALL(IF($IO$2:$IO$72<>\"\",ROW($IO$2:$IO$72),\"\"),ROW(IO17))-2,0)","v":{"$error":"#NUM!"}},{"$f":"OFFSET($IP$2,SMALL(IF($IP$2:$IP$72<>\"\",ROW($IP$2:$IP$72),\"\"),ROW(IP17))-2,0)","v":{"$error":"#NUM!"}},null,{"$f":"IF(AND(教学计划表!N34<>\"\",教学计划表!BH34<>\"\"),教学计划表!I34,\"\")","v":""},{"$f":"IF(教学计划表!BH34<>\"\",教学计划表!N34,\"\")","v":""},{"$f":"IF(教学计划表!BH34<>\"\",IF(SEARCH(\"6\",教学计划表!AB34&\"6\",1)<=LEN(教学计划表!AB34),\"考试\",\"考查\"),\"\")","v":""},{"$f":"IF(教学计划表!BH34<>0,教学计划表!HG34,\"\")","v":""},{"$f":"IF(教学计划表!BH34<>0,教学计划表!HL34,\"\")","v":""},{"$f":"IF(教学计划表!BH34<>0,教学计划表!HM34,\"\")","v":""},{"$f":"IF(教学计划表!BH34<>0,教学计划表!QO34,\"\")","v":""},{"$f":"OFFSET($IY$2,SMALL(IF($IY$2:$IY$72<>\"\",ROW($IY$2:$IY$72),\"\"),ROW(IY17))-2,0)","v":{"$error":"#NUM!"}},{"$f":"OFFSET($IZ$2,SMALL(IF($IZ$2:$IZ$72<>\"\",ROW($IZ$2:$IZ$72),\"\"),ROW(IZ17))-2,0)","v":{"$error":"#NUM!"}},{"$f":"OFFSET($JA$2,SMALL(IF($JA$2:$JA$72<>\"\",ROW($JA$2:$JA$72),\"\"),ROW(JA17))-2,0)","v":{"$error":"#NUM!"}},{"$f":"OFFSET($JB$2,SMALL(IF($JB$2:$JB$72<>\"\",ROW($JB$2:$JB$72),\"\"),ROW(JB17))-2,0)","v":{"$error":"#NUM!"}},{"$f":"OFFSET($JC$2,SMALL(IF($JC$2:$JC$72<>\"\",ROW($JC$2:$JC$72),\"\"),ROW(JC17))-2,0)","v":{"$error":"#NUM!"}},{"$f":"OFFSET($JD$2,SMALL(IF($JD$2:$JD$72<>\"\",ROW($JD$2:$JD$72),\"\"),ROW(JD17))-2,0)","v":{"$error":"#NUM!"}},{"$f":"OFFSET($JE$2,SMALL(IF($JE$2:$JE$72<>\"\",ROW($JE$2:$JE$72),\"\"),ROW(JE17))-2,0)","v":{"$error":"#NUM!"}}]
["","","","","","","",null,"","","",{"$f":"IF(ISERROR(自动生成的开课信息!HB19),\"\",自动生成的开课信息!HB19)","v":""},{"$f":"IF(ISERROR(自动生成的开课信息!HC19),\"\",自动生成的开课信息!HC19)","v":""},{"$f":"IF(ISERROR(自动生成的开课信息!HD19),\"\",自动生成的开课信息!HD19)","v":""},{"$f":"IF(ISERROR(自动生成的开课信息!HE19),\"\",自动生成的开课信息!HE19)","v":""},null,"","","","","","","",null,"","","","","","","",null,"","","","","","","",null,"","","","","","","",null,null,null,null,null,null,null,null,null,null,null,null,null,null,null,null,null,null,null,null,null,null,null,null,null,null,null,null,null,null,null,null,null,null,null,null,null,null,null,null,null,null,null,null,null,null,null,null,null,null,null,null,null,null,null,null,null,null,null,null,null,null,null,null,null,null,null,null,null,null,null,null,null,null,null,null,null,null,null,null,null,null,null,null,null,null,null,null,null,null,null,null,null,null,null,null,null,null,null,null,null,null,null,null,null,null,null,null,null,null,null,null,null,null,null,null,null,null,null,null,null,null,null,null,null,null,null,null,null,null,null,null,null,null,null,null,null,null,{"$f":"IF(AND(教学计划表!N35<>\"\",教学计划表!AS35<>\"\"),教学计划表!I35,\"\")","v":""},{"$f":"IF(教学计划表!AS35<>\"\",教学计划表!N35,\"\")","v":""},{"$f":"IF(GE19<>\"\",IF(SEARCH(\"1\",教学计划表!AB35&\"1\",1)<=LEN(教学计划表!AB35),\"考试\",\"考查\"),\"\")","v":""},{"$f":"IF(教学计划表!DG35<>0,教学计划表!DG35,\"\")","v":""},{"$f":"IF(教学计划表!DG35<>0,教学计划表!DL35,\"\")","v":""},{"$f":"IF(教学计划表!DG35<>0,教学计划表!DM35,\"\")","v":""},{"$f":"IF(教学计划表!DG35<>0,教学计划表!OH35,\"\")","v":""},{"$f":"OFFSET($GD$2,SMALL(IF($GD$2:$GD$72<>\"\",ROW($2:$72),\"\"),ROW(GD18))-2,0)","v":{"$error":"#NUM!"}},{"$f":"OFFSET($GE$2,SMALL(IF($GE$2:$GE$72<>\"\",ROW($2:$72),\"\"),ROW(GE18))-2,0)","v":{"$error":"#NUM!"}},{"$f":"OFFSET($GF$2,SMALL(IF($GF$2:$GF$72<>\"\",ROW($2:$72),\"\"),ROW(GF18))-2,0)","v":{"$error":"#NUM!"}},{"$f":"OFFSET($GG$2,SMALL(IF($GG$2:$GG$72<>\"\",ROW($2:$72),\"\"),ROW(GG18))-2,0)","v":{"$error":"#NUM!"}},{"$f":"OFFSET($GH$2,SMALL(IF($GH$2:$GH$72<>\"\",ROW($2:$72),\"\"),ROW(GH18))-2,0)","v":{"$error":"#NUM!"}},{"$error":"#NUM!"},{"$f":"OFFSET($GJ$2,SMALL(IF($GJ$2:$GJ$72<>\"\",ROW($2:$72),\"\"),ROW(GJ18))-2,0)","v":{"$error":"#NUM!"}},{"$f":"IF(AND(教学计划表!N35<>\"\",教学计划表!AV35<>\"\"),教学计划表!I35,\"\")","v":""},{"$f":"IF(教学计划表!AV35<>\"\",教学计划表!N35,\"\")","v":""},{"$f":"IF(GS19<>\"\",IF(SEARCH(\"2\",教学计划表!AB35&\"2\",1)<=LEN(教学计划表!AB35),\"考试\",\"考查\"),\"\")","v":""},{"$f":"IF(教学计划表!EA35<>0,教学计划表!EA35,\"\")","v":""},{"$f":"IF(教学计划表!EA35<>0,教学计划表!EF35,\"\")","v":""},{"$f":"IF(教学计划表!EA35<>0,教学计划表!EG35,\"\")","v":""},{"$f":"IF(教学计划表!EA35<>0,教学计划表!OT35,\"\")","v":""},{"$f":"OFFSET($GR$2,SMALL(IF($GR$2:$GR$72<>\"\",ROW($I$2:$K$72),\"\"),ROW(GR18))-2,0)","v":{"$error":"#NUM!"}},{"$f":"OFFSET($GS$2,SMALL(IF($GS$2:$GS$72<>\"\",ROW($I$2:$K$72),\"\"),ROW(GS18))-2,0)","v":{"$error":"#NUM!"}},{"$f":"OFFSET($GT$2,SMALL(IF($GT$2:$GT$72<>\"\",ROW($I$2:$K$72),\"\"),ROW(GT18))-2,0)","v":{"$error":"#NUM!"}},{"$f":"OFFSET($GU$2,SMALL(IF($GU$2:$GU$72<>\"\",ROW($I$2:$K$72),\"\"),ROW(GU18))-2,0)","v":{"$error":"#NUM!"}},{"$f":"OFFSET($GV$2,SMALL(IF($GV$2:$GV$72<>\"\",ROW($GV$2:$GV$72),\"\"),ROW(GV18))-2,0)","v":{"$error":"#NUM!"}},{"$f":"OFFSET($GW$2,SMALL(IF($GW$2:$GW$72<>\"\",ROW($GW$2:$GW$72),\"\"),ROW(GW18))-2,0)","v":{"$error":"#NUM!"}},{"$f":"OFFSET($GX$2,SMALL(IF($GX$2:$GX$72<>\"\",ROW($GX$2:$GX$72),\"\"),ROW(GX18))-2,0)","v":{"$error":"#NUM!"}},{"$f":"IF(AND(教学计划表!N35<>\"\",教学计划表!AY35<>\"\"),教学计划表!I35,\"\")","v":""},{"$f":"IF(教学计划表!AY35<>\"\",教学计划表!N35,\"\")","v":""},{"$f":"IF(HG19<>\"\",IF(SEARCH(\"3\",教学计划表!AB35&\"3\",1)<=LEN(教学计划表!AB35),\"考试\",\"考查\"),\"\")","v":""},{"$f":"IF(教学计划表!EV35<>0,教学计划表!EV35,\"\")","v":""},{"$f":"IF(教学计划表!EV35<>0,教学计划表!FA35,\"\")","v":""},{"$f":"IF(教学计划表!EV35<>0,教学计划表!FB35,\"\")","v":""},{"$f":"IF(教学计划表!EV35<>0,教学计划表!PF35,\"\")","v":""},{"$f":"OFFSET($HF$2,SMALL(IF($HF$2:$HF$72<>\"\",ROW($HF$2:$HF$72),\"\"),ROW(HF18))-2,0)","v":{"$error":"#NUM!"}},{"$f":"OFFSET($HG$2,SMALL(IF($HG$2:$HG$72<>\"\",ROW($HG$2:$HG$72),\"\"),ROW(HG18))-2,0)","v":{"$error":"#NUM!"}},{"$f":"OFFSET($HH$2,SMALL(IF($HH$2:$HH$72<>\"\",ROW($HH$2:$HH$72),\"\"),ROW(HH18))-2,0)","v":{"$error":"#NUM!"}},{"$f":"OFFSET($HI$2,SMALL(IF($HI$2:$HI$72<>\"\",ROW($HI$2:$HI$72),\"\"),ROW(HI18))-2,0)","v":{"$error":"#NUM!"}},{"$f":"OFFSET($HJ$2,SMALL(IF($HJ$2:$HJ$72<>\"\",ROW($HJ$2:$HJ$72),\"\"),ROW(HJ18))-2,0)","v":{"$error":"#NUM!"}},{"$f":"OFFSET($HK$2,SMALL(IF($HK$2:$HK$72<>\"\",ROW($HK$2:$HK$72),\"\"),ROW(HK18))-2,0)","v":{"$error":"#NUM!"}},{"$f":"OFFSET($HL$2,SMALL(IF($HL$2:$HL$72<>\"\",ROW($HL$2:$HL$72),\"\"),ROW(HL18))-2,0)","v":{"$error":"#NUM!"}},{"$f":"IF(AND(教学计划表!N35<>\"\",教学计划表!BB35<>\"\"),教学计划表!I35,\"\")","v":""},{"$f":"IF(教学计划表!BB35<>\"\",教学计划表!N35,\"\")","v":""},{"$f":"IF(HU19<>\"\",IF(SEARCH(\"4\",教学计划表!AB35&\"4\",1)<=LEN(教学计划表!AB35),\"考试\",\"考查\"),\"\")","v":""},{"$f":"IF(教学计划表!FQ35<>0,教学计划表!FQ35,\"\")","v":""},{"$f":"IF(教学计划表!FQ35<>0,教学计划表!FV35,\"\")","v":""},{"$f":"IF(教学计划表!FQ35<>0,教学计划表!FW35,\"\")","v":""},{"$f":"IF(教学计划表!FQ35<>0,教学计划表!PR35,\"\")","v":""},{"$f":"OFFSET($HT$2,SMALL(IF($HT$2:$HT$72<>\"\",ROW($HT$2:$HT$72),\"\"),ROW(HT18))-2,0)","v":{"$error":"#NUM!"}},{"$f":"OFFSET($HU$2,SMALL(IF($HU$2:$HU$72<>\"\",ROW($HU$2:$HU$72),\"\"),ROW(HU18))-2,0)","v":{"$error":"#NUM!"}},{"$f":"OFFSET($HV$2,SMALL(IF($HV$2:$HV$72<>\"\",ROW($HV$2:$HV$72),\"\"),ROW(HV18))-2,0)","v":{"$error":"#NUM!"}},{"$f":"OFFSET($HW$2,SMALL(IF($HW$2:$HW$72<>\"\",ROW($HW$2:$HW$72),\"\"),ROW(HW18))-2,0)","v":{"$error":"#NUM!"}},{"$f":"OFFSET($HX$2,SMALL(IF($HX$2:$HX$72<>\"\",ROW($HX$2:$HX$72),\"\"),ROW(HX18))-2,0)","v":{"$error":"#NUM!"}},{"$f":"OFFSET($HY$2,SMALL(IF($HY$2:$HY$72<>\"\",ROW($HY$2:$HY$72),\"\"),ROW(HY18))-2,0)","v":{"$error":"#NUM!"}},{"$f":"OFFSET($HZ$2,SMALL(IF($HZ$2:$HZ$72<>\"\",ROW($HZ$2:$HZ$72),\"\"),ROW(HZ18))-2,0)","v":{"$error":"#NUM!"}},null,null,{"$f":"IF(AND(教学计划表!N35<>\"\",教学计划表!BE35<>\"\"),教学计划表!I35,\"\")","v":""},{"$f":"IF(教学计划表!BE35<>\"\",教学计划表!N35,\"\")","v":""},{"$f":"IF(IK19<>\"\",IF(SEARCH(\"5\",教学计划表!AB35&\"5\",1)<=LEN(教学计划表!AB35),\"考试\",\"考查\"),\"\")","v":""},{"$f":"IF(教学计划表!GL35<>0,教学计划表!GL35,\"\")","v":""},{"$f":"IF(教学计划表!GL35<>0,教学计划表!GQ35,\"\")","v":""},{"$f":"IF(教学计划表!GL35<>0,教学计划表!GR35,\"\")","v":""},{"$f":"IF(教学计划表!GL35<>0,教学计划表!QC35,\"\")","v":""},{"$f":"OFFSET($IJ$2,SMALL(IF($IJ$2:$IJ$72<>\"\",ROW($IJ$2:$IJ$72),\"\"),ROW(IJ18))-2,0)","v":{"$error":"#NUM!"}},{"$f":"OFFSET($IK$2,SMALL(IF($IK$2:$IK$72<>\"\",ROW($IK$2:$IK$72),\"\"),ROW(IK18))-2,0)","v":{"$error":"#NUM!"}},{"$f":"OFFSET($IL$2,SMALL(IF($IL$2:$IL$72<>\"\",ROW($IL$2:$IL$72),\"\"),ROW(IL18))-2,0)","v":{"$error":"#NUM!"}},{"$f":"OFFSET($IM$2,SMALL(IF($IM$2:$IM$72<>\"\",ROW($IM$2:$IM$72),\"\"),ROW(IM18))-2,0)","v":{"$error":"#NUM!"}},{"$f":"OFFSET($IN$2,SMALL(IF($IN$2:$IN$72<>\"\",ROW($IN$2:$IN$72),\"\"),ROW(IN18))-2,0)","v":{"$error":"#NUM!"}},{"$f":"OFFSET($IO$2,SMALL(IF($IO$2:$IO$72<>\"\",ROW($IO$2:$IO$72),\"\"),ROW(IO18))-2,0)","v":{"$error":"#NUM!"}},{"$f":"OFFSET($IP$2,SMALL(IF($IP$2:$IP$72<>\"\",ROW($IP$2:$IP$72),\"\"),ROW(IP18))-2,0)","v":{"$error":"#NUM!"}},null,{"$f":"IF(AND(教学计划表!N35<>\"\",教学计划表!BH35<>\"\"),教学计划表!I35,\"\")","v":""},{"$f":"IF(教学计划表!BH35<>\"\",教学计划表!N35,\"\")","v":""},{"$f":"IF(教学计划表!BH35<>\"\",IF(SEARCH(\"6\",教学计划表!AB35&\"6\",1)<=LEN(教学计划表!AB35),\"考试\",\"考查\"),\"\")","v":""},{"$f":"IF(教学计划表!BH35<>0,教学计划表!HG35,\"\")","v":""},{"$f":"IF(教学计划表!BH35<>0,教学计划表!HL35,\"\")","v":""},{"$f":"IF(教学计划表!BH35<>0,教学计划表!HM35,\"\")","v":""},{"$f":"IF(教学计划表!BH35<>0,教学计划表!QO35,\"\")","v":""},{"$f":"OFFSET($IY$2,SMALL(IF($IY$2:$IY$72<>\"\",ROW($IY$2:$IY$72),\"\"),ROW(IY18))-2,0)","v":{"$error":"#NUM!"}},{"$f":"OFFSET($IZ$2,SMALL(IF($IZ$2:$IZ$72<>\"\",ROW($IZ$2:$IZ$72),\"\"),ROW(IZ18))-2,0)","v":{"$error":"#NUM!"}},{"$f":"OFFSET($JA$2,SMALL(IF($JA$2:$JA$72<>\"\",ROW($JA$2:$JA$72),\"\"),ROW(JA18))-2,0)","v":{"$error":"#NUM!"}},{"$f":"OFFSET($JB$2,SMALL(IF($JB$2:$JB$72<>\"\",ROW($JB$2:$JB$72),\"\"),ROW(JB18))-2,0)","v":{"$error":"#NUM!"}},{"$f":"OFFSET($JC$2,SMALL(IF($JC$2:$JC$72<>\"\",ROW($JC$2:$JC$72),\"\"),ROW(JC18))-2,0)","v":{"$error":"#NUM!"}},{"$f":"OFFSET($JD$2,SMALL(IF($JD$2:$JD$72<>\"\",ROW($JD$2:$JD$72),\"\"),ROW(JD18))-2,0)","v":{"$error":"#NUM!"}},{"$f":"OFFSET($JE$2,SMALL(IF($JE$2:$JE$72<>\"\",ROW($JE$2:$JE$72),\"\"),ROW(JE18))-2,0)","v":{"$error":"#NUM!"}}]
["","","","","","","",null,"","","",{"$f":"IF(ISERROR(自动生成的开课信息!HB20),\"\",自动生成的开课信息!HB20)","v":""},{"$f":"IF(ISERROR(自动生成的开课信息!HC20),\"\",自动生成的开课信息!HC20)","v":""},{"$f":"IF(ISERROR(自动生成的开课信息!HD20),\"\",自动生成的开课信息!HD20)","v":""},{"$f":"IF(ISERROR(自动生成的开课信息!HE20),\"\",自动生成的开课信息!HE20)","v":""},null,"","","","","","","",null,"","","","","","","",null,"","","","","","","",null,"","","","","","","",null,null,null,null,null,null,null,null,null,null,null,null,null,null,null,null,null,null,null,null,null,null,null,null,null,null,null,null,null,null,null,null,null,null,null,null,null,null,null,null,null,null,null,null,null,null,null,null,null,null,null,null,null,null,null,null,null,null,null,null,null,null,null,null,null,null,null,null,null,null,null,null,null,null,null,null,null,null,null,null,null,null,null,null,null,null,null,null,null,null,null,null,null,null,null,null,null,null,null,null,null,null,null,null,null,null,null,null,null,null,null,null,null,null,null,null,null,null,null,null,null,null,null,null,null,null,null,null,null,null,null,null,null,null,null,null,null,null,{"$f":"IF(AND(教学计划表!N36<>\"\",教学计划表!AS36<>\"\"),教学计划表!I36,\"\")","v":""},{"$f":"IF(教学计划表!AS36<>\"\",教学计划表!N36,\"\")","v":""},{"$f":"IF(GE20<>\"\",IF(SEARCH(\"1\",教学计划表!AB36&\"1\",1)<=LEN(教学计划表!AB36),\"考试\",\"考查\"),\"\")","v":""},{"$f":"IF(教学计划表!DG36<>0,教学计划表!DG36,\"\")","v":""},{"$f":"IF(教学计划表!DG36<>0,教学计划表!DL36,\"\")","v":""},{"$f":"IF(教学计划表!DG36<>0,教学计划表!DM36,\"\")","v":""},{"$f":"IF(教学计划表!DG36<>0,教学计划表!OH36,\"\")","v":""},{"$f":"OFFSET($GD$2,SMALL(IF($GD$2:$GD$72<>\"\",ROW($2:$72),\"\"),ROW(GD19))-2,0)","v":{"$error":"#NUM!"}},{"$f":"OFFSET($GE$2,SMALL(IF($GE$2:$GE$72<>\"\",ROW($2:$72),\"\"),ROW(GE19))-2,0)","v":{"$error":"#NUM!"}},{"$f":"OFFSET($GF$2,SMALL(IF($GF$2:$GF$72<>\"\",ROW($2:$72),\"\"),ROW(GF19))-2,0)","v":{"$error":"#NUM!"}},{"$f":"OFFSET($GG$2,SMALL(IF($GG$2:$GG$72<>\"\",ROW($2:$72),\"\"),ROW(GG19))-2,0)","v":{"$error":"#NUM!"}},{"$f":"OFFSET($GH$2,SMALL(IF($GH$2:$GH$72<>\"\",ROW($2:$72),\"\"),ROW(GH19))-2,0)","v":{"$error":"#NUM!"}},{"$error":"#NUM!"},{"$f":"OFFSET($GJ$2,SMALL(IF($GJ$2:$GJ$72<>\"\",ROW($2:$72),\"\"),ROW(GJ19))-2,0)","v":{"$error":"#NUM!"}},{"$f":"IF(AND(教学计划表!N36<>\"\",教学计划表!AV36<>\"\"),教学计划表!I36,\"\")","v":""},{"$f":"IF(教学计划表!AV36<>\"\",教学计划表!N36,\"\")","v":""},{"$f":"IF(GS20<>\"\",IF(SEARCH(\"2\",教学计划表!AB36&\"2\",1)<=LEN(教学计划表!AB36),\"考试\",\"考查\"),\"\")","v":""},{"$f":"IF(教学计划表!EA36<>0,教学计划表!EA36,\"\")","v":""},{"$f":"IF(教学计划表!EA36<>0,教学计划表!EF36,\"\")","v":""},{"$f":"IF(教学计划表!EA36<>0,教学计划表!EG36,\"\")","v":""},{"$f":"IF(教学计划表!EA36<>0,教学计划表!OT36,\"\")","v":""},{"$f":"OFFSET($GR$2,SMALL(IF($GR$2:$GR$72<>\"\",ROW($I$2:$K$72),\"\"),ROW(GR19))-2,0)","v":{"$error":"#NUM!"}},{"$f":"OFFSET($GS$2,SMALL(IF($GS$2:$GS$72<>\"\",ROW($I$2:$K$72),\"\"),ROW(GS19))-2,0)","v":{"$error":"#NUM!"}},{"$f":"OFFSET($GT$2,SMALL(IF($GT$2:$GT$72<>\"\",ROW($I$2:$K$72),\"\"),ROW(GT19))-2,0)","v":{"$error":"#NUM!"}},{"$f":"OFFSET($GU$2,SMALL(IF($GU$2:$GU$72<>\"\",ROW($I$2:$K$72),\"\"),ROW(GU19))-2,0)","v":{"$error":"#NUM!"}},{"$f":"OFFSET($GV$2,SMALL(IF($GV$2:$GV$72<>\"\",ROW($GV$2:$GV$72),\"\"),ROW(GV19))-2,0)","v":{"$error":"#NUM!"}},{"$f":"OFFSET($GW$2,SMALL(IF($GW$2:$GW$72<>\"\",ROW($GW$2:$GW$72),\"\"),ROW(GW19))-2,0)","v":{"$error":"#NUM!"}},{"$f":"OFFSET($GX$2,SMALL(IF($GX$2:$GX$72<>\"\",ROW($GX$2:$GX$72),\"\"),ROW(GX19))-2,0)","v":{"$error":"#NUM!"}},{"$f":"IF(AND(教学计划表!N36<>\"\",教学计划表!AY36<>\"\"),教学计划表!I36,\"\")","v":""},{"$f":"IF(教学计划表!AY36<>\"\",教学计划表!N36,\"\")","v":""},{"$f":"IF(HG20<>\"\",IF(SEARCH(\"3\",教学计划表!AB36&\"3\",1)<=LEN(教学计划表!AB36),\"考试\",\"考查\"),\"\")","v":""},{"$f":"IF(教学计划表!EV36<>0,教学计划表!EV36,\"\")","v":""},{"$f":"IF(教学计划表!EV36<>0,教学计划表!FA36,\"\")","v":""},{"$f":"IF(教学计划表!EV36<>0,教学计划表!FB36,\"\")","v":""},{"$f":"IF(教学计划表!EV36<>0,教学计划表!PF36,\"\")","v":""},{"$f":"OFFSET($HF$2,SMALL(IF($HF$2:$HF$72<>\"\",ROW($HF$2:$HF$72),\"\"),ROW(HF19))-2,0)","v":{"$error":"#NUM!"}},{"$f":"OFFSET($HG$2,SMALL(IF($HG$2:$HG$72<>\"\",ROW($HG$2:$HG$72),\"\"),ROW(HG19))-2,0)","v":{"$error":"#NUM!"}},{"$f":"OFFSET($HH$2,SMALL(IF($HH$2:$HH$72<>\"\",ROW($HH$2:$HH$72),\"\"),ROW(HH19))-2,0)","v":{"$error":"#NUM!"}},{"$f":"OFFSET($HI$2,SMALL(IF($HI$2:$HI$72<>\"\",ROW($HI$2:$HI$72),\"\"),ROW(HI19))-2,0)","v":{"$error":"#NUM!"}},{"$f":"OFFSET($HJ$2,SMALL(IF($HJ$2:$HJ$72<>\"\",ROW($HJ$2:$HJ$72),\"\"),ROW(HJ19))-2,0)","v":{"$error":"#NUM!"}},{"$f":"OFFSET($HK$2,SMALL(IF($HK$2:$HK$72<>\"\",ROW($HK$2:$HK$72),\"\"),ROW(HK19))-2,0)","v":{"$error":"#NUM!"}},{"$f":"OFFSET($HL$2,SMALL(IF($HL$2:$HL$72<>\"\",ROW($HL$2:$HL$72),\"\"),ROW(HL19))-2,0)","v":{"$error":"#NUM!"}},{"$f":"IF(AND(教学计划表!N36<>\"\",教学计划表!BB36<>\"\"),教学计划表!I36,\"\")","v":""},{"$f":"IF(教学计划表!BB36<>\"\",教学计划表!N36,\"\")","v":""},{"$f":"IF(HU20<>\"\",IF(SEARCH(\"4\",教学计划表!AB36&\"4\",1)<=LEN(教学计划表!AB36),\"考试\",\"考查\"),\"\")","v":""},{"$f":"IF(教学计划表!FQ36<>0,教学计划表!FQ36,\"\")","v":""},{"$f":"IF(教学计划表!FQ36<>0,教学计划表!FV36,\"\")","v":""},{"$f":"IF(教学计划表!FQ36<>0,教学计划表!FW36,\"\")","v":""},{"$f":"IF(教学计划表!FQ36<>0,教学计划表!PR36,\"\")","v":""},{"$f":"OFFSET($HT$2,SMALL(IF($HT$2:$HT$72<>\"\",ROW($HT$2:$HT$72),\"\"),ROW(HT19))-2,0)","v":{"$error":"#NUM!"}},{"$f":"OFFSET($HU$2,SMALL(IF($HU$2:$HU$72<>\"\",ROW($HU$2:$HU$72),\"\"),ROW(HU19))-2,0)","v":{"$error":"#NUM!"}},{"$f":"OFFSET($HV$2,SMALL(IF($HV$2:$HV$72<>\"\",ROW($HV$2:$HV$72),\"\"),ROW(HV19))-2,0)","v":{"$error":"#NUM!"}},{"$f":"OFFSET($HW$2,SMALL(IF($HW$2:$HW$72<>\"\",ROW($HW$2:$HW$72),\"\"),ROW(HW19))-2,0)","v":{"$error":"#NUM!"}},{"$f":"OFFSET($HX$2,SMALL(IF($HX$2:$HX$72<>\"\",ROW($HX$2:$HX$72),\"\"),ROW(HX19))-2,0)","v":{"$error":"#NUM!"}},{"$f":"OFFSET($HY$2,SMALL(IF($HY$2:$HY$72<>\"\",ROW($HY$2:$HY$72),\"\"),ROW(HY19))-2,0)","v":{"$error":"#NUM!"}},{"$f":"OFFSET($HZ$2,SMALL(IF($HZ$2:$HZ$72<>\"\",ROW($HZ$2:$HZ$72),\"\"),ROW(HZ19))-2,0)","v":{"$error":"#NUM!"}},null,null,{"$f":"IF(AND(教学计划表!N36<>\"\",教学计划表!BE36<>\"\"),教学计划表!I36,\"\")","v":""},{"$f":"IF(教学计划表!BE36<>\"\",教学计划表!N36,\"\")","v":""},{"$f":"IF(IK20<>\"\",IF(SEARCH(\"5\",教学计划表!AB36&\"5\",1)<=LEN(教学计划表!AB36),\"考试\",\"考查\"),\"\")","v":""},{"$f":"IF(教学计划表!GL36<>0,教学计划表!GL36,\"\")","v":""},{"$f":"IF(教学计划表!GL36<>0,教学计划表!GQ36,\"\")","v":""},{"$f":"IF(教学计划表!GL36<>0,教学计划表!GR36,\"\")","v":""},{"$f":"IF(教学计划表!GL36<>0,教学计划表!QC36,\"\")","v":""},{"$f":"OFFSET($IJ$2,SMALL(IF($IJ$2:$IJ$72<>\"\",ROW($IJ$2:$IJ$72),\"\"),ROW(IJ19))-2,0)","v":{"$error":"#NUM!"}},{"$f":"OFFSET($IK$2,SMALL(IF($IK$2:$IK$72<>\"\",ROW($IK$2:$IK$72),\"\"),ROW(IK19))-2,0)","v":{"$error":"#NUM!"}},{"$f":"OFFSET($IL$2,SMALL(IF($IL$2:$IL$72<>\"\",ROW($IL$2:$IL$72),\"\"),ROW(IL19))-2,0)","v":{"$error":"#NUM!"}},{"$f":"OFFSET($IM$2,SMALL(IF($IM$2:$IM$72<>\"\",ROW($IM$2:$IM$72),\"\"),ROW(IM19))-2,0)","v":{"$error":"#NUM!"}},{"$f":"OFFSET($IN$2,SMALL(IF($IN$2:$IN$72<>\"\",ROW($IN$2:$IN$72),\"\"),ROW(IN19))-2,0)","v":{"$error":"#NUM!"}},{"$f":"OFFSET($IO$2,SMALL(IF($IO$2:$IO$72<>\"\",ROW($IO$2:$IO$72),\"\"),ROW(IO19))-2,0)","v":{"$error":"#NUM!"}},{"$f":"OFFSET($IP$2,SMALL(IF($IP$2:$IP$72<>\"\",ROW($IP$2:$IP$72),\"\"),ROW(IP19))-2,0)","v":{"$error":"#NUM!"}},null,{"$f":"IF(AND(教学计划表!N36<>\"\",教学计划表!BH36<>\"\"),教学计划表!I36,\"\")","v":""},{"$f":"IF(教学计划表!BH36<>\"\",教学计划表!N36,\"\")","v":""},{"$f":"IF(教学计划表!BH36<>\"\",IF(SEARCH(\"6\",教学计划表!AB36&\"6\",1)<=LEN(教学计划表!AB36),\"考试\",\"考查\"),\"\")","v":""},{"$f":"IF(教学计划表!BH36<>0,教学计划表!HG36,\"\")","v":""},{"$f":"IF(教学计划表!BH36<>0,教学计划表!HL36,\"\")","v":""},{"$f":"IF(教学计划表!BH36<>0,教学计划表!HM36,\"\")","v":""},{"$f":"IF(教学计划表!BH36<>0,教学计划表!QO36,\"\")","v":""},{"$f":"OFFSET($IY$2,SMALL(IF($IY$2:$IY$72<>\"\",ROW($IY$2:$IY$72),\"\"),ROW(IY19))-2,0)","v":{"$error":"#NUM!"}},{"$f":"OFFSET($IZ$2,SMALL(IF($IZ$2:$IZ$72<>\"\",ROW($IZ$2:$IZ$72),\"\"),ROW(IZ19))-2,0)","v":{"$error":"#NUM!"}},{"$f":"OFFSET($JA$2,SMALL(IF($JA$2:$JA$72<>\"\",ROW($JA$2:$JA$72),\"\"),ROW(JA19))-2,0)","v":{"$error":"#NUM!"}},{"$f":"OFFSET($JB$2,SMALL(IF($JB$2:$JB$72<>\"\",ROW($JB$2:$JB$72),\"\"),ROW(JB19))-2,0)","v":{"$error":"#NUM!"}},{"$f":"OFFSET($JC$2,SMALL(IF($JC$2:$JC$72<>\"\",ROW($JC$2:$JC$72),\"\"),ROW(JC19))-2,0)","v":{"$error":"#NUM!"}},{"$f":"OFFSET($JD$2,SMALL(IF($JD$2:$JD$72<>\"\",ROW($JD$2:$JD$72),\"\"),ROW(JD19))-2,0)","v":{"$error":"#NUM!"}},{"$f":"OFFSET($JE$2,SMALL(IF($JE$2:$JE$72<>\"\",ROW($JE$2:$JE$72),\"\"),ROW(JE19))-2,0)","v":{"$error":"#NUM!"}}]
["","","","","","","",null,"","","",{"$f":"IF(ISERROR(自动生成的开课信息!HB21),\"\",自动生成的开课信息!HB21)","v":""},{"$f":"IF(ISERROR(自动生成的开课信息!HC21),\"\",自动生成的开课信息!HC21)","v":""},{"$f":"IF(ISERROR(自动生成的开课信息!HD21),\"\",自动生成的开课信息!HD21)","v":""},{"$f":"IF(ISERROR(自动生成的开课信息!HE21),\"\",自动生成的开课信息!HE21)","v":""},null,"","","","","","","",null,"","","","","","","",null,"","","","","","","",null,"","","","","","","",null,null,null,null,null,null,null,null,null,null,null,null,null,null,null,null,null,null,null,null,null,null,null,null,null,null,null,null,null,null,null,null,null,null,null,null,null,null,null,null,null,null,null,null,null,null,null,null,null,null,null,null,null,null,null,null,null,null,null,null,null,null,null,null,null,null,null,null,null,null,null,null,null,null,null,null,null,null,null,null,null,null,null,null,null,null,null,null,null,null,null,null,null,null,null,null,null,null,null,null,null,null,null,null,null,null,null,null,null,null,null,null,null,null,null,null,null,null,null,null,null,null,null,null,null,null,null,null,null,null,null,null,null,null,null,null,null,null,{"$f":"IF(AND(教学计划表!N37<>\"\",教学计划表!AS37<>\"\"),教学计划表!I37,\"\")","v":""},{"$f":"IF(教学计划表!AS37<>\"\",教学计划表!N37,\"\")","v":""},{"$f":"IF(GE21<>\"\",IF(SEARCH(\"1\",教学计划表!AB37&\"1\",1)<=LEN(教学计划表!AB37),\"考试\",\"考查\"),\"\")","v":""},{"$f":"IF(教学计划表!DG37<>0,教学计划表!DG37,\"\")","v":""},{"$f":"IF(教学计划表!DG37<>0,教学计划表!DL37,\"\")","v":""},{"$f":"IF(教学计划表!DG37<>0,教学计划表!DM37,\"\")","v":""},{"$f":"IF(教学计划表!DG37<>0,教学计划表!OH37,\"\")","v":""},{"$f":"OFFSET($GD$2,SMALL(IF($GD$2:$GD$72<>\"\",ROW($2:$72),\"\"),ROW(GD20))-2,0)","v":{"$error":"#NUM!"}},{"$f":"OFFSET($GE$2,SMALL(IF($GE$2:$GE$72<>\"\",ROW($2:$72),\"\"),ROW(GE20))-2,0)","v":{"$error":"#NUM!"}},{"$f":"OFFSET($GF$2,SMALL(IF($GF$2:$GF$72<>\"\",ROW($2:$72),\"\"),ROW(GF20))-2,0)","v":{"$error":"#NUM!"}},{"$f":"OFFSET($GG$2,SMALL(IF($GG$2:$GG$72<>\"\",ROW($2:$72),\"\"),ROW(GG20))-2,0)","v":{"$error":"#NUM!"}},{"$f":"OFFSET($GH$2,SMALL(IF($GH$2:$GH$72<>\"\",ROW($2:$72),\"\"),ROW(GH20))-2,0)","v":{"$error":"#NUM!"}},{"$error":"#NUM!"},{"$f":"OFFSET($GJ$2,SMALL(IF($GJ$2:$GJ$72<>\"\",ROW($2:$72),\"\"),ROW(GJ20))-2,0)","v":{"$error":"#NUM!"}},{"$f":"IF(AND(教学计划表!N37<>\"\",教学计划表!AV37<>\"\"),教学计划表!I37,\"\")","v":""},{"$f":"IF(教学计划表!AV37<>\"\",教学计划表!N37,\"\")","v":""},{"$f":"IF(GS21<>\"\",IF(SEARCH(\"2\",教学计划表!AB37&\"2\",1)<=LEN(教学计划表!AB37),\"考试\",\"考查\"),\"\")","v":""},{"$f":"IF(教学计划表!EA37<>0,教学计划表!EA37,\"\")","v":""},{"$f":"IF(教学计划表!EA37<>0,教学计划表!EF37,\"\")","v":""},{"$f":"IF(教学计划表!EA37<>0,教学计划表!EG37,\"\")","v":""},{"$f":"IF(教学计划表!EA37<>0,教学计划表!OT37,\"\")","v":""},{"$f":"OFFSET($GR$2,SMALL(IF($GR$2:$GR$72<>\"\",ROW($I$2:$K$72),\"\"),ROW(GR20))-2,0)","v":{"$error":"#NUM!"}},{"$f":"OFFSET($GS$2,SMALL(IF($GS$2:$GS$72<>\"\",ROW($I$2:$K$72),\"\"),ROW(GS20))-2,0)","v":{"$error":"#NUM!"}},{"$f":"OFFSET($GT$2,SMALL(IF($GT$2:$GT$72<>\"\",ROW($I$2:$K$72),\"\"),ROW(GT20))-2,0)","v":{"$error":"#NUM!"}},{"$f":"OFFSET($GU$2,SMALL(IF($GU$2:$GU$72<>\"\",ROW($I$2:$K$72),\"\"),ROW(GU20))-2,0)","v":{"$error":"#NUM!"}},{"$f":"OFFSET($GV$2,SMALL(IF($GV$2:$GV$72<>\"\",ROW($GV$2:$GV$72),\"\"),ROW(GV20))-2,0)","v":{"$error":"#NUM!"}},{"$f":"OFFSET($GW$2,SMALL(IF($GW$2:$GW$72<>\"\",ROW($GW$2:$GW$72),\"\"),ROW(GW20))-2,0)","v":{"$error":"#NUM!"}},{"$f":"OFFSET($GX$2,SMALL(IF($GX$2:$GX$72<>\"\",ROW($GX$2:$GX$72),\"\"),ROW(GX20))-2,0)","v":{"$error":"#NUM!"}},{"$f":"IF(AND(教学计划表!N37<>\"\",教学计划表!AY37<>\"\"),教学计划表!I37,\"\")","v":""},{"$f":"IF(教学计划表!AY37<>\"\",教学计划表!N37,\"\")","v":""},{"$f":"IF(HG21<>\"\",IF(SEARCH(\"3\",教学计划表!AB37&\"3\",1)<=LEN(教学计划表!AB37),\"考试\",\"考查\"),\"\")","v":""},{"$f":"IF(教学计划表!EV37<>0,教学计划表!EV37,\"\")","v":""},{"$f":"IF(教学计划表!EV37<>0,教学计划表!FA37,\"\")","v":""},{"$f":"IF(教学计划表!EV37<>0,教学计划表!FB37,\"\")","v":""},{"$f":"IF(教学计划表!EV37<>0,教学计划表!PF37,\"\")","v":""},{"$f":"OFFSET($HF$2,SMALL(IF($HF$2:$HF$72<>\"\",ROW($HF$2:$HF$72),\"\"),ROW(HF20))-2,0)","v":{"$error":"#NUM!"}},{"$f":"OFFSET($HG$2,SMALL(IF($HG$2:$HG$72<>\"\",ROW($HG$2:$HG$72),\"\"),ROW(HG20))-2,0)","v":{"$error":"#NUM!"}},{"$f":"OFFSET($HH$2,SMALL(IF($HH$2:$HH$72<>\"\",ROW($HH$2:$HH$72),\"\"),ROW(HH20))-2,0)","v":{"$error":"#NUM!"}},{"$f":"OFFSET($HI$2,SMALL(IF($HI$2:$HI$72<>\"\",ROW($HI$2:$HI$72),\"\"),ROW(HI20))-2,0)","v":{"$error":"#NUM!"}},{"$f":"OFFSET($HJ$2,SMALL(IF($HJ$2:$HJ$72<>\"\",ROW($HJ$2:$HJ$72),\"\"),ROW(HJ20))-2,0)","v":{"$error":"#NUM!"}},{"$f":"OFFSET($HK$2,SMALL(IF($HK$2:$HK$72<>\"\",ROW($HK$2:$HK$72),\"\"),ROW(HK20))-2,0)","v":{"$error":"#NUM!"}},{"$f":"OFFSET($HL$2,SMALL(IF($HL$2:$HL$72<>\"\",ROW($HL$2:$HL$72),\"\"),ROW(HL20))-2,0)","v":{"$error":"#NUM!"}},{"$f":"IF(AND(教学计划表!N37<>\"\",教学计划表!BB37<>\"\"),教学计划表!I37,\"\")","v":""},{"$f":"IF(教学计划表!BB37<>\"\",教学计划表!N37,\"\")","v":""},{"$f":"IF(HU21<>\"\",IF(SEARCH(\"4\",教学计划表!AB37&\"4\",1)<=LEN(教学计划表!AB37),\"考试\",\"考查\"),\"\")","v":""},{"$f":"IF(教学计划表!FQ37<>0,教学计划表!FQ37,\"\")","v":""},{"$f":"IF(教学计划表!FQ37<>0,教学计划表!FV37,\"\")","v":""},{"$f":"IF(教学计划表!FQ37<>0,教学计划表!FW37,\"\")","v":""},{"$f":"IF(教学计划表!FQ37<>0,教学计划表!PR37,\"\")","v":""},{"$f":"OFFSET($HT$2,SMALL(IF($HT$2:$HT$72<>\"\",ROW($HT$2:$HT$72),\"\"),ROW(HT20))-2,0)","v":{"$error":"#NUM!"}},{"$f":"OFFSET($HU$2,SMALL(IF($HU$2:$HU$72<>\"\",ROW($HU$2:$HU$72),\"\"),ROW(HU20))-2,0)","v":{"$error":"#NUM!"}},{"$f":"OFFSET($HV$2,SMALL(IF($HV$2:$HV$72<>\"\",ROW($HV$2:$HV$72),\"\"),ROW(HV20))-2,0)","v":{"$error":"#NUM!"}},{"$f":"OFFSET($HW$2,SMALL(IF($HW$2:$HW$72<>\"\",ROW($HW$2:$HW$72),\"\"),ROW(HW20))-2,0)","v":{"$error":"#NUM!"}},{"$f":"OFFSET($HX$2,SMALL(IF($HX$2:$HX$72<>\"\",ROW($HX$2:$HX$72),\"\"),ROW(HX20))-2,0)","v":{"$error":"#NUM!"}},{"$f":"OFFSET($HY$2,SMALL(IF($HY$2:$HY$72<>\"\",ROW($HY$2:$HY$72),\"\"),ROW(HY20))-2,0)","v":{"$error":"#NUM!"}},{"$f":"OFFSET($HZ$2,SMALL(IF($HZ$2:$HZ$72<>\"\",ROW($HZ$2:$HZ$72),\"\"),ROW(HZ20))-2,0)","v":{"$error":"#NUM!"}},null,null,{"$f":"IF(AND(教学计划表!N37<>\"\",教学计划表!BE37<>\"\"),教学计划表!I37,\"\")","v":""},{"$f":"IF(教学计划表!BE37<>\"\",教学计划表!N37,\"\")","v":""},{"$f":"IF(IK21<>\"\",IF(SEARCH(\"5\",教学计划表!AB37&\"5\",1)<=LEN(教学计划表!AB37),\"考试\",\"考查\"),\"\")","v":""},{"$f":"IF(教学计划表!GL37<>0,教学计划表!GL37,\"\")","v":""},{"$f":"IF(教学计划表!GL37<>0,教学计划表!GQ37,\"\")","v":""},{"$f":"IF(教学计划表!GL37<>0,教学计划表!GR37,\"\")","v":""},{"$f":"IF(教学计划表!GL37<>0,教学计划表!QC37,\"\")","v":""},{"$f":"OFFSET($IJ$2,SMALL(IF($IJ$2:$IJ$72<>\"\",ROW($IJ$2:$IJ$72),\"\"),ROW(IJ20))-2,0)","v":{"$error":"#NUM!"}},{"$f":"OFFSET($IK$2,SMALL(IF($IK$2:$IK$72<>\"\",ROW($IK$2:$IK$72),\"\"),ROW(IK20))-2,0)","v":{"$error":"#NUM!"}},{"$f":"OFFSET($IL$2,SMALL(IF($IL$2:$IL$72<>\"\",ROW($IL$2:$IL$72),\"\"),ROW(IL20))-2,0)","v":{"$error":"#NUM!"}},{"$f":"OFFSET($IM$2,SMALL(IF($IM$2:$IM$72<>\"\",ROW($IM$2:$IM$72),\"\"),ROW(IM20))-2,0)","v":{"$error":"#NUM!"}},{"$f":"OFFSET($IN$2,SMALL(IF($IN$2:$IN$72<>\"\",ROW($IN$2:$IN$72),\"\"),ROW(IN20))-2,0)","v":{"$error":"#NUM!"}},{"$f":"OFFSET($IO$2,SMALL(IF($IO$2:$IO$72<>\"\",ROW($IO$2:$IO$72),\"\"),ROW(IO20))-2,0)","v":{"$error":"#NUM!"}},{"$f":"OFFSET($IP$2,SMALL(IF($IP$2:$IP$72<>\"\",ROW($IP$2:$IP$72),\"\"),ROW(IP20))-2,0)","v":{"$error":"#NUM!"}},null,{"$f":"IF(AND(教学计划表!N37<>\"\",教学计划表!BH37<>\"\"),教学计划表!I37,\"\")","v":""},{"$f":"IF(教学计划表!BH37<>\"\",教学计划表!N37,\"\")","v":""},{"$f":"IF(教学计划表!BH37<>\"\",IF(SEARCH(\"6\",教学计划表!AB37&\"6\",1)<=LEN(教学计划表!AB37),\"考试\",\"考查\"),\"\")","v":""},{"$f":"IF(教学计划表!BH37<>0,教学计划表!HG37,\"\")","v":""},{"$f":"IF(教学计划表!BH37<>0,教学计划表!HL37,\"\")","v":""},{"$f":"IF(教学计划表!BH37<>0,教学计划表!HM37,\"\")","v":""},{"$f":"IF(教学计划表!BH37<>0,教学计划表!QO37,\"\")","v":""},{"$f":"OFFSET($IY$2,SMALL(IF($IY$2:$IY$72<>\"\",ROW($IY$2:$IY$72),\"\"),ROW(IY20))-2,0)","v":{"$error":"#NUM!"}},{"$f":"OFFSET($IZ$2,SMALL(IF($IZ$2:$IZ$72<>\"\",ROW($IZ$2:$IZ$72),\"\"),ROW(IZ20))-2,0)","v":{"$error":"#NUM!"}},{"$f":"OFFSET($JA$2,SMALL(IF($JA$2:$JA$72<>\"\",ROW($JA$2:$JA$72),\"\"),ROW(JA20))-2,0)","v":{"$error":"#NUM!"}},{"$f":"OFFSET($JB$2,SMALL(IF($JB$2:$JB$72<>\"\",ROW($JB$2:$JB$72),\"\"),ROW(JB20))-2,0)","v":{"$error":"#NUM!"}},{"$f":"OFFSET($JC$2,SMALL(IF($JC$2:$JC$72<>\"\",ROW($JC$2:$JC$72),\"\"),ROW(JC20))-2,0)","v":{"$error":"#NUM!"}},{"$f":"OFFSET($JD$2,SMALL(IF($JD$2:$JD$72<>\"\",ROW($JD$2:$JD$72),\"\"),ROW(JD20))-2,0)","v":{"$error":"#NUM!"}},{"$f":"OFFSET($JE$2,SMALL(IF($JE$2:$JE$72<>\"\",ROW($JE$2:$JE$72),\"\"),ROW(JE20))-2,0)","v":{"$error":"#NUM!"}}]
["","","","","","","",null,"","","",{"$f":"IF(ISERROR(自动生成的开课信息!HB22),\"\",自动生成的开课信息!HB22)","v":""},{"$f":"IF(ISERROR(自动生成的开课信息!HC22),\"\",自动生成的开课信息!HC22)","v":""},{"$f":"IF(ISERROR(自动生成的开课信息!HD22),\"\",自动生成的开课信息!HD22)","v":""},{"$f":"IF(ISERROR(自动生成的开课信息!HE22),\"\",自动生成的开课信息!HE22)","v":""},null,"","","","","","","",null,"","","","","","","",null,"","","","","","","",null,"","","","","","","",null,null,null,null,null,null,null,null,null,null,null,null,null,null,null,null,null,null,null,null,null,null,null,null,null,null,null,null,null,null,null,null,null,null,null,null,null,null,null,null,null,null,null,null,null,null,null,null,null,null,null,null,null,null,null,null,null,null,null,null,null,null,null,null,null,null,null,null,null,null,null,null,null,null,null,null,null,null,null,null,null,null,null,null,null,null,null,null,null,null,null,null,null,null,null,null,null,null,null,null,null,null,null,null,null,null,null,null,null,null,null,null,null,null,null,null,null,null,null,null,null,null,null,null,null,null,null,null,null,null,null,null,null,null,null,null,null,null,{"$f":"IF(AND(教学计划表!N38<>\"\",教学计划表!AS38<>\"\"),教学计划表!I38,\"\")","v":""},{"$f":"IF(教学计划表!AS38<>\"\",教学计划表!N38,\"\")","v":""},{"$f":"IF(GE22<>\"\",IF(SEARCH(\"1\",教学计划表!AB38&\"1\",1)<=LEN(教学计划表!AB38),\"考试\",\"考查\"),\"\")","v":""},{"$f":"IF(教学计划表!DG38<>0,教学计划表!DG38,\"\")","v":""},{"$f":"IF(教学计划表!DG38<>0,教学计划表!DL38,\"\")","v":""},{"$f":"IF(教学计划表!DG38<>0,教学计划表!DM38,\"\")","v":""},{"$f":"IF(教学计划表!DG38<>0,教学计划表!OH38,\"\")","v":""},{"$f":"OFFSET($GD$2,SMALL(IF($GD$2:$GD$72<>\"\",ROW($2:$72),\"\"),ROW(GD21))-2,0)","v":{"$error":"#NUM!"}},{"$f":"OFFSET($GE$2,SMALL(IF($GE$2:$GE$72<>\"\",ROW($2:$72),\"\"),ROW(GE21))-2,0)","v":{"$error":"#NUM!"}},{"$f":"OFFSET($GF$2,SMALL(IF($GF$2:$GF$72<>\"\",ROW($2:$72),\"\"),ROW(GF21))-2,0)","v":{"$error":"#NUM!"}},{"$f":"OFFSET($GG$2,SMALL(IF($GG$2:$GG$72<>\"\",ROW($2:$72),\"\"),ROW(GG21))-2,0)","v":{"$error":"#NUM!"}},{"$f":"OFFSET($GH$2,SMALL(IF($GH$2:$GH$72<>\"\",ROW($2:$72),\"\"),ROW(GH21))-2,0)","v":{"$error":"#NUM!"}},{"$error":"#NUM!"},{"$f":"OFFSET($GJ$2,SMALL(IF($GJ$2:$GJ$72<>\"\",ROW($2:$72),\"\"),ROW(GJ21))-2,0)","v":{"$error":"#NUM!"}},{"$f":"IF(AND(教学计划表!N38<>\"\",教学计划表!AV38<>\"\"),教学计划表!I38,\"\")","v":""},{"$f":"IF(教学计划表!AV38<>\"\",教学计划表!N38,\"\")","v":""},{"$f":"IF(GS22<>\"\",IF(SEARCH(\"2\",教学计划表!AB38&\"2\",1)<=LEN(教学计划表!AB38),\"考试\",\"考查\"),\"\")","v":""},{"$f":"IF(教学计划表!EA38<>0,教学计划表!EA38,\"\")","v":""},{"$f":"IF(教学计划表!EA38<>0,教学计划表!EF38,\"\")","v":""},{"$f":"IF(教学计划表!EA38<>0,教学计划表!EG38,\"\")","v":""},{"$f":"IF(教学计划表!EA38<>0,教学计划表!OT38,\"\")","v":""},{"$f":"OFFSET($GR$2,SMALL(IF($GR$2:$GR$72<>\"\",ROW($I$2:$K$72),\"\"),ROW(GR21))-2,0)","v":{"$error":"#NUM!"}},{"$f":"OFFSET($GS$2,SMALL(IF($GS$2:$GS$72<>\"\",ROW($I$2:$K$72),\"\"),ROW(GS21))-2,0)","v":{"$error":"#NUM!"}},{"$f":"OFFSET($GT$2,SMALL(IF($GT$2:$GT$72<>\"\",ROW($I$2:$K$72),\"\"),ROW(GT21))-2,0)","v":{"$error":"#NUM!"}},{"$f":"OFFSET($GU$2,SMALL(IF($GU$2:$GU$72<>\"\",ROW($I$2:$K$72),\"\"),ROW(GU21))-2,0)","v":{"$error":"#NUM!"}},{"$f":"OFFSET($GV$2,SMALL(IF($GV$2:$GV$72<>\"\",ROW($GV$2:$GV$72),\"\"),ROW(GV21))-2,0)","v":{"$error":"#NUM!"}},{"$f":"OFFSET($GW$2,SMALL(IF($GW$2:$GW$72<>\"\",ROW($GW$2:$GW$72),\"\"),ROW(GW21))-2,0)","v":{"$error":"#NUM!"}},{"$f":"OFFSET($GX$2,SMALL(IF($GX$2:$GX$72<>\"\",ROW($GX$2:$GX$72),\"\"),ROW(GX21))-2,0)","v":{"$error":"#NUM!"}},{"$f":"IF(AND(教学计划表!N38<>\"\",教学计划表!AY38<>\"\"),教学计划表!I38,\"\")","v":""},{"$f":"IF(教学计划表!AY38<>\"\",教学计划表!N38,\"\")","v":""},{"$f":"IF(HG22<>\"\",IF(SEARCH(\"3\",教学计划表!AB38&\"3\",1)<=LEN(教学计划表!AB38),\"考试\",\"考查\"),\"\")","v":""},{"$f":"IF(教学计划表!EV38<>0,教学计划表!EV38,\"\")","v":""},{"$f":"IF(教学计划表!EV38<>0,教学计划表!FA38,\"\")","v":""},{"$f":"IF(教学计划表!EV38<>0,教学计划表!FB38,\"\")","v":""},{"$f":"IF(教学计划表!EV38<>0,教学计划表!PF38,\"\")","v":""},{"$f":"OFFSET($HF$2,SMALL(IF($HF$2:$HF$72<>\"\",ROW($HF$2:$HF$72),\"\"),ROW(HF21))-2,0)","v":{"$error":"#NUM!"}},{"$f":"OFFSET($HG$2,SMALL(IF($HG$2:$HG$72<>\"\",ROW($HG$2:$HG$72),\"\"),ROW(HG21))-2,0)","v":{"$error":"#NUM!"}},{"$f":"OFFSET($HH$2,SMALL(IF($HH$2:$HH$72<>\"\",ROW($HH$2:$HH$72),\"\"),ROW(HH21))-2,0)","v":{"$error":"#NUM!"}},{"$f":"OFFSET($HI$2,SMALL(IF($HI$2:$HI$72<>\"\",ROW($HI$2:$HI$72),\"\"),ROW(HI21))-2,0)","v":{"$error":"#NUM!"}},{"$f":"OFFSET($HJ$2,SMALL(IF($HJ$2:$HJ$72<>\"\",ROW($HJ$2:$HJ$72),\"\"),ROW(HJ21))-2,0)","v":{"$error":"#NUM!"}},{"$f":"OFFSET($HK$2,SMALL(IF($HK$2:$HK$72<>\"\",ROW($HK$2:$HK$72),\"\"),ROW(HK21))-2,0)","v":{"$error":"#NUM!"}},{"$f":"OFFSET($HL$2,SMALL(IF($HL$2:$HL$72<>\"\",ROW($HL$2:$HL$72),\"\"),ROW(HL21))-2,0)","v":{"$error":"#NUM!"}},{"$f":"IF(AND(教学计划表!N38<>\"\",教学计划表!BB38<>\"\"),教学计划表!I38,\"\")","v":""},{"$f":"IF(教学计划表!BB38<>\"\",教学计划表!N38,\"\")","v":""},{"$f":"IF(HU22<>\"\",IF(SEARCH(\"4\",教学计划表!AB38&\"4\",1)<=LEN(教学计划表!AB38),\"考试\",\"考查\"),\"\")","v":""},{"$f":"IF(教学计划表!FQ38<>0,教学计划表!FQ38,\"\")","v":""},{"$f":"IF(教学计划表!FQ38<>0,教学计划表!FV38,\"\")","v":""},{"$f":"IF(教学计划表!FQ38<>0,教学计划表!FW38,\"\")","v":""},{"$f":"IF(教学计划表!FQ38<>0,教学计划表!PR38,\"\")","v":""},{"$f":"OFFSET($HT$2,SMALL(IF($HT$2:$HT$72<>\"\",ROW($HT$2:$HT$72),\"\"),ROW(HT21))-2,0)","v":{"$error":"#NUM!"}},{"$f":"OFFSET($HU$2,SMALL(IF($HU$2:$HU$72<>\"\",ROW($HU$2:$HU$72),\"\"),ROW(HU21))-2,0)","v":{"$error":"#NUM!"}},{"$f":"OFFSET($HV$2,SMALL(IF($HV$2:$HV$72<>\"\",ROW($HV$2:$HV$72),\"\"),ROW(HV21))-2,0)","v":{"$error":"#NUM!"}},{"$f":"OFFSET($HW$2,SMALL(IF($HW$2:$HW$72<>\"\",ROW($HW$2:$HW$72),\"\"),ROW(HW21))-2,0)","v":{"$error":"#NUM!"}},{"$f":"OFFSET($HX$2,SMALL(IF($HX$2:$HX$72<>\"\",ROW($HX$2:$HX$72),\"\"),ROW(HX21))-2,0)","v":{"$error":"#NUM!"}},{"$f":"OFFSET($HY$2,SMALL(IF($HY$2:$HY$72<>\"\",ROW($HY$2:$HY$72),\"\"),ROW(HY21))-2,0)","v":{"$error":"#NUM!"}},{"$f":"OFFSET($HZ$2,SMALL(IF($HZ$2:$HZ$72<>\"\",ROW($HZ$2:$HZ$72),\"\"),ROW(HZ21))-2,0)","v":{"$error":"#NUM!"}},null,null,{"$f":"IF(AND(教学计划表!N38<>\"\",教学计划表!BE38<>\"\"),教学计划表!I38,\"\")","v":""},{"$f":"IF(教学计划表!BE38<>\"\",教学计划表!N38,\"\")","v":""},{"$f":"IF(IK22<>\"\",IF(SEARCH(\"5\",教学计划表!AB38&\"5\",1)<=LEN(教学计划表!AB38),\"考试\",\"考查\"),\"\")","v":""},{"$f":"IF(教学计划表!GL38<>0,教学计划表!GL38,\"\")","v":""},{"$f":"IF(教学计划表!GL38<>0,教学计划表!GQ38,\"\")","v":""},{"$f":"IF(教学计划表!GL38<>0,教学计划表!GR38,\"\")","v":""},{"$f":"IF(教学计划表!GL38<>0,教学计划表!QC38,\"\")","v":""},{"$f":"OFFSET($IJ$2,SMALL(IF($IJ$2:$IJ$72<>\"\",ROW($IJ$2:$IJ$72),\"\"),ROW(IJ21))-2,0)","v":{"$error":"#NUM!"}},{"$f":"OFFSET($IK$2,SMALL(IF($IK$2:$IK$72<>\"\",ROW($IK$2:$IK$72),\"\"),ROW(IK21))-2,0)","v":{"$error":"#NUM!"}},{"$f":"OFFSET($IL$2,SMALL(IF($IL$2:$IL$72<>\"\",ROW($IL$2:$IL$72),\"\"),ROW(IL21))-2,0)","v":{"$error":"#NUM!"}},{"$f":"OFFSET($IM$2,SMALL(IF($IM$2:$IM$72<>\"\",ROW($IM$2:$IM$72),\"\"),ROW(IM21))-2,0)","v":{"$error":"#NUM!"}},{"$f":"OFFSET($IN$2,SMALL(IF($IN$2:$IN$72<>\"\",ROW($IN$2:$IN$72),\"\"),ROW(IN21))-2,0)","v":{"$error":"#NUM!"}},{"$f":"OFFSET($IO$2,SMALL(IF($IO$2:$IO$72<>\"\",ROW($IO$2:$IO$72),\"\"),ROW(IO21))-2,0)","v":{"$error":"#NUM!"}},{"$f":"OFFSET($IP$2,SMALL(IF($IP$2:$IP$72<>\"\",ROW($IP$2:$IP$72),\"\"),ROW(IP21))-2,0)","v":{"$error":"#NUM!"}},null,{"$f":"IF(AND(教学计划表!N38<>\"\",教学计划表!BH38<>\"\"),教学计划表!I38,\"\")","v":""},{"$f":"IF(教学计划表!BH38<>\"\",教学计划表!N38,\"\")","v":""},{"$f":"IF(教学计划表!BH38<>\"\",IF(SEARCH(\"6\",教学计划表!AB38&\"6\",1)<=LEN(教学计划表!AB38),\"考试\",\"考查\"),\"\")","v":""},{"$f":"IF(教学计划表!BH38<>0,教学计划表!HG38,\"\")","v":""},{"$f":"IF(教学计划表!BH38<>0,教学计划表!HL38,\"\")","v":""},{"$f":"IF(教学计划表!BH38<>0,教学计划表!HM38,\"\")","v":""},{"$f":"IF(教学计划表!BH38<>0,教学计划表!QO38,\"\")","v":""},{"$f":"OFFSET($IY$2,SMALL(IF($IY$2:$IY$72<>\"\",ROW($IY$2:$IY$72),\"\"),ROW(IY21))-2,0)","v":{"$error":"#NUM!"}},{"$f":"OFFSET($IZ$2,SMALL(IF($IZ$2:$IZ$72<>\"\",ROW($IZ$2:$IZ$72),\"\"),ROW(IZ21))-2,0)","v":{"$error":"#NUM!"}},{"$f":"OFFSET($JA$2,SMALL(IF($JA$2:$JA$72<>\"\",ROW($JA$2:$JA$72),\"\"),ROW(JA21))-2,0)","v":{"$error":"#NUM!"}},{"$f":"OFFSET($JB$2,SMALL(IF($JB$2:$JB$72<>\"\",ROW($JB$2:$JB$72),\"\"),ROW(JB21))-2,0)","v":{"$error":"#NUM!"}},{"$f":"OFFSET($JC$2,SMALL(IF($JC$2:$JC$72<>\"\",ROW($JC$2:$JC$72),\"\"),ROW(JC21))-2,0)","v":{"$error":"#NUM!"}},{"$f":"OFFSET($JD$2,SMALL(IF($JD$2:$JD$72<>\"\",ROW($JD$2:$JD$72),\"\"),ROW(JD21))-2,0)","v":{"$error":"#NUM!"}},{"$f":"OFFSET($JE$2,SMALL(IF($JE$2:$JE$72<>\"\",ROW($JE$2:$JE$72),\"\"),ROW(JE21))-2,0)","v":{"$error":"#NUM!"}}]
["","","","","","","",null,"","","",{"$f":"IF(ISERROR(自动生成的开课信息!HB23),\"\",自动生成的开课信息!HB23)","v":""},{"$f":"IF(ISERROR(自动生成的开课信息!HC23),\"\",自动生成的开课信息!HC23)","v":""},{"$f":"IF(ISERROR(自动生成的开课信息!HD23),\"\",自动生成的开课信息!HD23)","v":""},{"$f":"IF(ISERROR(自动生成的开课信息!HE23),\"\",自动生成的开课信息!HE23)","v":""},null,"","","","","","","",null,"","","","","","","",null,"","","","","","","",null,"","","","","","","",null,null,null,null,null,null,null,null,null,null,null,null,null,null,null,null,null,null,null,null,null,null,null,null,null,null,null,null,null,null,null,null,null,null,null,null,null,null,null,null,null,null,null,null,null,null,null,null,null,null,null,null,null,null,null,null,null,null,null,null,null,null,null,null,null,null,null,null,null,null,null,null,null,null,null,null,null,null,null,null,null,null,null,null,null,null,null,null,null,null,null,null,null,null,null,null,null,null,null,null,null,null,null,null,null,null,null,null,null,null,null,null,null,null,null,null,null,null,null,null,null,null,null,null,null,null,null,null,null,null,null,null,null,null,null,null,null,null,{"$f":"IF(AND(教学计划表!N39<>\"\",教学计划表!AS39<>\"\"),教学计划表!I39,\"\")","v":""},{"$f":"IF(教学计划表!AS39<>\"\",教学计划表!N39,\"\")","v":""},{"$f":"IF(GE23<>\"\",IF(SEARCH(\"1\",教学计划表!AB39&\"1\",1)<=LEN(教学计划表!AB39),\"考试\",\"考查\"),\"\")","v":""},{"$f":"IF(教学计划表!DG39<>0,教学计划表!DG39,\"\")","v":""},{"$f":"IF(教学计划表!DG39<>0,教学计划表!DL39,\"\")","v":""},{"$f":"IF(教学计划表!DG39<>0,教学计划表!DM39,\"\")","v":""},{"$f":"IF(教学计划表!DG39<>0,教学计划表!OH39,\"\")","v":""},{"$f":"OFFSET($GD$2,SMALL(IF($GD$2:$GD$72<>\"\",ROW($2:$72),\"\"),ROW(GD22))-2,0)","v":{"$error":"#NUM!"}},{"$f":"OFFSET($GE$2,SMALL(IF($GE$2:$GE$72<>\"\",ROW($2:$72),\"\"),ROW(GE22))-2,0)","v":{"$error":"#NUM!"}},{"$f":"OFFSET($GF$2,SMALL(IF($GF$2:$GF$72<>\"\",ROW($2:$72),\"\"),ROW(GF22))-2,0)","v":{"$error":"#NUM!"}},{"$f":"OFFSET($GG$2,SMALL(IF($GG$2:$GG$72<>\"\",ROW($2:$72),\"\"),ROW(GG22))-2,0)","v":{"$error":"#NUM!"}},{"$f":"OFFSET($GH$2,SMALL(IF($GH$2:$GH$72<>\"\",ROW($2:$72),\"\"),ROW(GH22))-2,0)","v":{"$error":"#NUM!"}},{"$error":"#NUM!"},{"$f":"OFFSET($GJ$2,SMALL(IF($GJ$2:$GJ$72<>\"\",ROW($2:$72),\"\"),ROW(GJ22))-2,0)","v":{"$error":"#NUM!"}},{"$f":"IF(AND(教学计划表!N39<>\"\",教学计划表!AV39<>\"\"),教学计划表!I39,\"\")","v":""},{"$f":"IF(教学计划表!AV39<>\"\",教学计划表!N39,\"\")","v":""},{"$f":"IF(GS23<>\"\",IF(SEARCH(\"2\",教学计划表!AB39&\"2\",1)<=LEN(教学计划表!AB39),\"考试\",\"考查\"),\"\")","v":""},{"$f":"IF(教学计划表!EA39<>0,教学计划表!EA39,\"\")","v":""},{"$f":"IF(教学计划表!EA39<>0,教学计划表!EF39,\"\")","v":""},{"$f":"IF(教学计划表!EA39<>0,教学计划表!EG39,\"\")","v":""},{"$f":"IF(教学计划表!EA39<>0,教学计划表!OT39,\"\")","v":""},{"$f":"OFFSET($GR$2,SMALL(IF($GR$2:$GR$72<>\"\",ROW($I$2:$K$72),\"\"),ROW(GR22))-2,0)","v":{"$error":"#NUM!"}},{"$f":"OFFSET($GS$2,SMALL(IF($GS$2:$GS$72<>\"\",ROW($I$2:$K$72),\"\"),ROW(GS22))-2,0)","v":{"$error":"#NUM!"}},{"$f":"OFFSET($GT$2,SMALL(IF($GT$2:$GT$72<>\"\",ROW($I$2:$K$72),\"\"),ROW(GT22))-2,0)","v":{"$error":"#NUM!"}},{"$f":"OFFSET($GU$2,SMALL(IF($GU$2:$GU$72<>\"\",ROW($I$2:$K$72),\"\"),ROW(GU22))-2,0)","v":{"$error":"#NUM!"}},{"$f":"OFFSET($GV$2,SMALL(IF($GV$2:$GV$72<>\"\",ROW($GV$2:$GV$72),\"\"),ROW(GV22))-2,0)","v":{"$error":"#NUM!"}},{"$f":"OFFSET($GW$2,SMALL(IF($GW$2:$GW$72<>\"\",ROW($GW$2:$GW$72),\"\"),ROW(GW22))-2,0)","v":{"$error":"#NUM!"}},{"$f":"OFFSET($GX$2,SMALL(IF($GX$2:$GX$72<>\"\",ROW($GX$2:$GX$72),\"\"),ROW(GX22))-2,0)","v":{"$error":"#NUM!"}},{"$f":"IF(AND(教学计划表!N39<>\"\",教学计划表!AY39<>\"\"),教学计划表!I39,\"\")","v":""},{"$f":"IF(教学计划表!AY39<>\"\",教学计划表!N39,\"\")","v":""},{"$f":"IF(HG23<>\"\",IF(SEARCH(\"3\",教学计划表!AB39&\"3\",1)<=LEN(教学计划表!AB39),\"考试\",\"考查\"),\"\")","v":""},{"$f":"IF(教学计划表!EV39<>0,教学计划表!EV39,\"\")","v":""},{"$f":"IF(教学计划表!EV39<>0,教学计划表!FA39,\"\")","v":""},{"$f":"IF(教学计划表!EV39<>0,教学计划表!FB39,\"\")","v":""},{"$f":"IF(教学计划表!EV39<>0,教学计划表!PF39,\"\")","v":""},{"$f":"OFFSET($HF$2,SMALL(IF($HF$2:$HF$72<>\"\",ROW($HF$2:$HF$72),\"\"),ROW(HF22))-2,0)","v":{"$error":"#NUM!"}},{"$f":"OFFSET($HG$2,SMALL(IF($HG$2:$HG$72<>\"\",ROW($HG$2:$HG$72),\"\"),ROW(HG22))-2,0)","v":{"$error":"#NUM!"}},{"$f":"OFFSET($HH$2,SMALL(IF($HH$2:$HH$72<>\"\",ROW($HH$2:$HH$72),\"\"),ROW(HH22))-2,0)","v":{"$error":"#NUM!"}},{"$f":"OFFSET($HI$2,SMALL(IF($HI$2:$HI$72<>\"\",ROW($HI$2:$HI$72),\"\"),ROW(HI22))-2,0)","v":{"$error":"#NUM!"}},{"$f":"OFFSET($HJ$2,SMALL(IF($HJ$2:$HJ$72<>\"\",ROW($HJ$2:$HJ$72),\"\"),ROW(HJ22))-2,0)","v":{"$error":"#NUM!"}},{"$f":"OFFSET($HK$2,SMALL(IF($HK$2:$HK$72<>\"\",ROW($HK$2:$HK$72),\"\"),ROW(HK22))-2,0)","v":{"$error":"#NUM!"}},{"$f":"OFFSET($HL$2,SMALL(IF($HL$2:$HL$72<>\"\",ROW($HL$2:$HL$72),\"\"),ROW(HL22))-2,0)","v":{"$error":"#NUM!"}},{"$f":"IF(AND(教学计划表!N39<>\"\",教学计划表!BB39<>\"\"),教学计划表!I39,\"\")","v":""},{"$f":"IF(教学计划表!BB39<>\"\",教学计划表!N39,\"\")","v":""},{"$f":"IF(HU23<>\"\",IF(SEARCH(\"4\",教学计划表!AB39&\"4\",1)<=LEN(教学计划表!AB39),\"考试\",\"考查\"),\"\")","v":""},{"$f":"IF(教学计划表!FQ39<>0,教学计划表!FQ39,\"\")","v":""},{"$f":"IF(教学计划表!FQ39<>0,教学计划表!FV39,\"\")","v":""},{"$f":"IF(教学计划表!FQ39<>0,教学计划表!FW39,\"\")","v":""},{"$f":"IF(教学计划表!FQ39<>0,教学计划表!PR39,\"\")","v":""},{"$f":"OFFSET($HT$2,SMALL(IF($HT$2:$HT$72<>\"\",ROW($HT$2:$HT$72),\"\"),ROW(HT22))-2,0)","v":{"$error":"#NUM!"}},{"$f":"OFFSET($HU$2,SMALL(IF($HU$2:$HU$72<>\"\",ROW($HU$2:$HU$72),\"\"),ROW(HU22))-2,0)","v":{"$error":"#NUM!"}},{"$f":"OFFSET($HV$2,SMALL(IF($HV$2:$HV$72<>\"\",ROW($HV$2:$HV$72),\"\"),ROW(HV22))-2,0)","v":{"$error":"#NUM!"}},{"$f":"OFFSET($HW$2,SMALL(IF($HW$2:$HW$72<>\"\",ROW($HW$2:$HW$72),\"\"),ROW(HW22))-2,0)","v":{"$error":"#NUM!"}},{"$f":"OFFSET($HX$2,SMALL(IF($HX$2:$HX$72<>\"\",ROW($HX$2:$HX$72),\"\"),ROW(HX22))-2,0)","v":{"$error":"#NUM!"}},{"$f":"OFFSET($HY$2,SMALL(IF($HY$2:$HY$72<>\"\",ROW($HY$2:$HY$72),\"\"),ROW(HY22))-2,0)","v":{"$error":"#NUM!"}},{"$f":"OFFSET($HZ$2,SMALL(IF($HZ$2:$HZ$72<>\"\",ROW($HZ$2:$HZ$72),\"\"),ROW(HZ22))-2,0)","v":{"$error":"#NUM!"}},null,null,{"$f":"IF(AND(教学计划表!N39<>\"\",教学计划表!BE39<>\"\"),教学计划表!I39,\"\")","v":""},{"$f":"IF(教学计划表!BE39<>\"\",教学计划表!N39,\"\")","v":""},{"$f":"IF(IK23<>\"\",IF(SEARCH(\"5\",教学计划表!AB39&\"5\",1)<=LEN(教学计划表!AB39),\"考试\",\"考查\"),\"\")","v":""},{"$f":"IF(教学计划表!GL39<>0,教学计划表!GL39,\"\")","v":""},{"$f":"IF(教学计划表!GL39<>0,教学计划表!GQ39,\"\")","v":""},{"$f":"IF(教学计划表!GL39<>0,教学计划表!GR39,\"\")","v":""},{"$f":"IF(教学计划表!GL39<>0,教学计划表!QC39,\"\")","v":""},{"$f":"OFFSET($IJ$2,SMALL(IF($IJ$2:$IJ$72<>\"\",ROW($IJ$2:$IJ$72),\"\"),ROW(IJ22))-2,0)","v":{"$error":"#NUM!"}},{"$f":"OFFSET($IK$2,SMALL(IF($IK$2:$IK$72<>\"\",ROW($IK$2:$IK$72),\"\"),ROW(IK22))-2,0)","v":{"$error":"#NUM!"}},{"$f":"OFFSET($IL$2,SMALL(IF($IL$2:$IL$72<>\"\",ROW($IL$2:$IL$72),\"\"),ROW(IL22))-2,0)","v":{"$error":"#NUM!"}},{"$f":"OFFSET($IM$2,SMALL(IF($IM$2:$IM$72<>\"\",ROW($IM$2:$IM$72),\"\"),ROW(IM22))-2,0)","v":{"$error":"#NUM!"}},{"$f":"OFFSET($IN$2,SMALL(IF($IN$2:$IN$72<>\"\",ROW($IN$2:$IN$72),\"\"),ROW(IN22))-2,0)","v":{"$error":"#NUM!"}},{"$f":"OFFSET($IO$2,SMALL(IF($IO$2:$IO$72<>\"\",ROW($IO$2:$IO$72),\"\"),ROW(IO22))-2,0)","v":{"$error":"#NUM!"}},{"$f":"OFFSET($IP$2,SMALL(IF($IP$2:$IP$72<>\"\",ROW($IP$2:$IP$72),\"\"),ROW(IP22))-2,0)","v":{"$error":"#NUM!"}},null,{"$f":"IF(AND(教学计划表!N39<>\"\",教学计划表!BH39<>\"\"),教学计划表!I39,\"\")","v":""},{"$f":"IF(教学计划表!BH39<>\"\",教学计划表!N39,\"\")","v":""},{"$f":"IF(教学计划表!BH39<>\"\",IF(SEARCH(\"6\",教学计划表!AB39&\"6\",1)<=LEN(教学计划表!AB39),\"考试\",\"考查\"),\"\")","v":""},{"$f":"IF(教学计划表!BH39<>0,教学计划表!HG39,\"\")","v":""},{"$f":"IF(教学计划表!BH39<>0,教学计划表!HL39,\"\")","v":""},{"$f":"IF(教学计划表!BH39<>0,教学计划表!HM39,\"\")","v":""},{"$f":"IF(教学计划表!BH39<>0,教学计划表!QO39,\"\")","v":""},{"$f":"OFFSET($IY$2,SMALL(IF($IY$2:$IY$72<>\"\",ROW($IY$2:$IY$72),\"\"),ROW(IY22))-2,0)","v":{"$error":"#NUM!"}},{"$f":"OFFSET($IZ$2,SMALL(IF($IZ$2:$IZ$72<>\"\",ROW($IZ$2:$IZ$72),\"\"),ROW(IZ22))-2,0)","v":{"$error":"#NUM!"}},{"$f":"OFFSET($JA$2,SMALL(IF($JA$2:$JA$72<>\"\",ROW($JA$2:$JA$72),\"\"),ROW(JA22))-2,0)","v":{"$error":"#NUM!"}},{"$f":"OFFSET($JB$2,SMALL(IF($JB$2:$JB$72<>\"\",ROW($JB$2:$JB$72),\"\"),ROW(JB22))-2,0)","v":{"$error":"#NUM!"}},{"$f":"OFFSET($JC$2,SMALL(IF($JC$2:$JC$72<>\"\",ROW($JC$2:$JC$72),\"\"),ROW(JC22))-2,0)","v":{"$error":"#NUM!"}},{"$f":"OFFSET($JD$2,SMALL(IF($JD$2:$JD$72<>\"\",ROW($JD$2:$JD$72),\"\"),ROW(JD22))-2,0)","v":{"$error":"#NUM!"}},{"$f":"OFFSET($JE$2,SMALL(IF($JE$2:$JE$72<>\"\",ROW($JE$2:$JE$72),\"\"),ROW(JE22))-2,0)","v":{"$error":"#NUM!"}}]
["","","","","","","",null,"","","",{"$f":"IF(ISERROR(自动生成的开课信息!HB24),\"\",自动生成的开课信息!HB24)","v":""},{"$f":"IF(ISERROR(自动生成的开课信息!HC24),\"\",自动生成的开课信息!HC24)","v":""},{"$f":"IF(ISERROR(自动生成的开课信息!HD24),\"\",自动生成的开课信息!HD24)","v":""},{"$f":"IF(ISERROR(自动生成的开课信息!HE24),\"\",自动生成的开课信息!HE24)","v":""},null,"","","","","","","",null,"","","","","","","",null,"","","","","","","",null,"","","","","","","",null,null,null,null,null,null,null,null,null,null,null,null,null,null,null,null,null,null,null,null,null,null,null,null,null,null,null,null,null,null,null,null,null,null,null,null,null,null,null,null,null,null,null,null,null,null,null,null,null,null,null,null,null,null,null,null,null,null,null,null,null,null,null,null,null,null,null,null,null,null,null,null,null,null,null,null,null,null,null,null,null,null,null,null,null,null,null,null,null,null,null,null,null,null,null,null,null,null,null,null,null,null,null,null,null,null,null,null,null,null,null,null,null,null,null,null,null,null,null,null,null,null,null,null,null,null,null,null,null,null,null,null,null,null,null,null,null,null,{"$f":"IF(AND(教学计划表!N40<>\"\",教学计划表!AS40<>\"\"),教学计划表!I40,\"\")","v":""},{"$f":"IF(教学计划表!AS40<>\"\",教学计划表!N40,\"\")","v":""},{"$f":"IF(GE24<>\"\",IF(SEARCH(\"1\",教学计划表!AB40&\"1\",1)<=LEN(教学计划表!AB40),\"考试\",\"考查\"),\"\")","v":""},{"$f":"IF(教学计划表!DG40<>0,教学计划表!DG40,\"\")","v":""},{"$f":"IF(教学计划表!DG40<>0,教学计划表!DL40,\"\")","v":""},{"$f":"IF(教学计划表!DG40<>0,教学计划表!DM40,\"\")","v":""},{"$f":"IF(教学计划表!DG40<>0,教学计划表!OH40,\"\")","v":""},{"$f":"OFFSET($GD$2,SMALL(IF($GD$2:$GD$72<>\"\",ROW($2:$72),\"\"),ROW(GD23))-2,0)","v":{"$error":"#NUM!"}},{"$f":"OFFSET($GE$2,SMALL(IF($GE$2:$GE$72<>\"\",ROW($2:$72),\"\"),ROW(GE23))-2,0)","v":{"$error":"#NUM!"}},{"$f":"OFFSET($GF$2,SMALL(IF($GF$2:$GF$72<>\"\",ROW($2:$72),\"\"),ROW(GF23))-2,0)","v":{"$error":"#NUM!"}},{"$f":"OFFSET($GG$2,SMALL(IF($GG$2:$GG$72<>\"\",ROW($2:$72),\"\"),ROW(GG23))-2,0)","v":{"$error":"#NUM!"}},{"$f":"OFFSET($GH$2,SMALL(IF($GH$2:$GH$72<>\"\",ROW($2:$72),\"\"),ROW(GH23))-2,0)","v":{"$error":"#NUM!"}},{"$error":"#NUM!"},{"$f":"OFFSET($GJ$2,SMALL(IF($GJ$2:$GJ$72<>\"\",ROW($2:$72),\"\"),ROW(GJ23))-2,0)","v":{"$error":"#NUM!"}},{"$f":"IF(AND(教学计划表!N40<>\"\",教学计划表!AV40<>\"\"),教学计划表!I40,\"\")","v":""},{"$f":"IF(教学计划表!AV40<>\"\",教学计划表!N40,\"\")","v":""},{"$f":"IF(GS24<>\"\",IF(SEARCH(\"2\",教学计划表!AB40&\"2\",1)<=LEN(教学计划表!AB40),\"考试\",\"考查\"),\"\")","v":""},{"$f":"IF(教学计划表!EA40<>0,教学计划表!EA40,\"\")","v":""},{"$f":"IF(教学计划表!EA40<>0,教学计划表!EF40,\"\")","v":""},{"$f":"IF(教学计划表!EA40<>0,教学计划表!EG40,\"\")","v":""},{"$f":"IF(教学计划表!EA40<>0,教学计划表!OT40,\"\")","v":""},{"$f":"OFFSET($GR$2,SMALL(IF($GR$2:$GR$72<>\"\",ROW($I$2:$K$72),\"\"),ROW(GR23))-2,0)","v":{"$error":"#NUM!"}},{"$f":"OFFSET($GS$2,SMALL(IF($GS$2:$GS$72<>\"\",ROW($I$2:$K$72),\"\"),ROW(GS23))-2,0)","v":{"$error":"#NUM!"}},{"$f":"OFFSET($GT$2,SMALL(IF($GT$2:$GT$72<>\"\",ROW($I$2:$K$72),\"\"),ROW(GT23))-2,0)","v":{"$error":"#NUM!"}},{"$f":"OFFSET($GU$2,SMALL(IF($GU$2:$GU$72<>\"\",ROW($I$2:$K$72),\"\"),ROW(GU23))-2,0)","v":{"$error":"#NUM!"}},{"$f":"OFFSET($GV$2,SMALL(IF($GV$2:$GV$72<>\"\",ROW($GV$2:$GV$72),\"\"),ROW(GV23))-2,0)","v":{"$error":"#NUM!"}},{"$f":"OFFSET($GW$2,SMALL(IF($GW$2:$GW$72<>\"\",ROW($GW$2:$GW$72),\"\"),ROW(GW23))-2,0)","v":{"$error":"#NUM!"}},{"$f":"OFFSET($GX$2,SMALL(IF($GX$2:$GX$72<>\"\",ROW($GX$2:$GX$72),\"\"),ROW(GX23))-2,0)","v":{"$error":"#NUM!"}},{"$f":"IF(AND(教学计划表!N40<>\"\",教学计划表!AY40<>\"\"),教学计划表!I40,\"\")","v":""},{"$f":"IF(教学计划表!AY40<>\"\",教学计划表!N40,\"\")","v":""},{"$f":"IF(HG24<>\"\",IF(SEARCH(\"3\",教学计划表!AB40&\"3\",1)<=LEN(教学计划表!AB40),\"考试\",\"考查\"),\"\")","v":""},{"$f":"IF(教学计划表!EV40<>0,教学计划表!EV40,\"\")","v":""},{"$f":"IF(教学计划表!EV40<>0,教学计划表!FA40,\"\")","v":""},{"$f":"IF(教学计划表!EV40<>0,教学计划表!FB40,\"\")","v":""},{"$f":"IF(教学计划表!EV40<>0,教学计划表!PF40,\"\")","v":""},{"$f":"OFFSET($HF$2,SMALL(IF($HF$2:$HF$72<>\"\",ROW($HF$2:$HF$72),\"\"),ROW(HF23))-2,0)","v":{"$error":"#NUM!"}},{"$f":"OFFSET($HG$2,SMALL(IF($HG$2:$HG$72<>\"\",ROW($HG$2:$HG$72),\"\"),ROW(HG23))-2,0)","v":{"$error":"#NUM!"}},{"$f":"OFFSET($HH$2,SMALL(IF($HH$2:$HH$72<>\"\",ROW($HH$2:$HH$72),\"\"),ROW(HH23))-2,0)","v":{"$error":"#NUM!"}},{"$f":"OFFSET($HI$2,SMALL(IF($HI$2:$HI$72<>\"\",ROW($HI$2:$HI$72),\"\"),ROW(HI23))-2,0)","v":{"$error":"#NUM!"}},{"$f":"OFFSET($HJ$2,SMALL(IF($HJ$2:$HJ$72<>\"\",ROW($HJ$2:$HJ$72),\"\"),ROW(HJ23))-2,0)","v":{"$error":"#NUM!"}},{"$f":"OFFSET($HK$2,SMALL(IF($HK$2:$HK$72<>\"\",ROW($HK$2:$HK$72),\"\"),ROW(HK23))-2,0)","v":{"$error":"#NUM!"}},{"$f":"OFFSET($HL$2,SMALL(IF($HL$2:$HL$72<>\"\",ROW($HL$2:$HL$72),\"\"),ROW(HL23))-2,0)","v":{"$error":"#NUM!"}},{"$f":"IF(AND(教学计划表!N40<>\"\",教学计划表!BB40<>\"\"),教学计划表!I40,\"\")","v":""},{"$f":"IF(教学计划表!BB40<>\"\",教学计划表!N40,\"\")","v":""},{"$f":"IF(HU24<>\"\",IF(SEARCH(\"4\",教学计划表!AB40&\"4\",1)<=LEN(教学计划表!AB40),\"考试\",\"考查\"),\"\")","v":""},{"$f":"IF(教学计划表!FQ40<>0,教学计划表!FQ40,\"\")","v":""},{"$f":"IF(教学计划表!FQ40<>0,教学计划表!FV40,\"\")","v":""},{"$f":"IF(教学计划表!FQ40<>0,教学计划表!FW40,\"\")","v":""},{"$f":"IF(教学计划表!FQ40<>0,教学计划表!PR40,\"\")","v":""},{"$f":"OFFSET($HT$2,SMALL(IF($HT$2:$HT$72<>\"\",ROW($HT$2:$HT$72),\"\"),ROW(HT23))-2,0)","v":{"$error":"#NUM!"}},{"$f":"OFFSET($HU$2,SMALL(IF($HU$2:$HU$72<>\"\",ROW($HU$2:$HU$72),\"\"),ROW(HU23))-2,0)","v":{"$error":"#NUM!"}},{"$f":"OFFSET($HV$2,SMALL(IF($HV$2:$HV$72<>\"\",ROW($HV$2:$HV$72),\"\"),ROW(HV23))-2,0)","v":{"$error":"#NUM!"}},{"$f":"OFFSET($HW$2,SMALL(IF($HW$2:$HW$72<>\"\",ROW($HW$2:$HW$72),\"\"),ROW(HW23))-2,0)","v":{"$error":"#NUM!"}},{"$f":"OFFSET($HX$2,SMALL(IF($HX$2:$HX$72<>\"\",ROW($HX$2:$HX$72),\"\"),ROW(HX23))-2,0)","v":{"$error":"#NUM!"}},{"$f":"OFFSET($HY$2,SMALL(IF($HY$2:$HY$72<>\"\",ROW($HY$2:$HY$72),\"\"),ROW(HY23))-2,0)","v":{"$error":"#NUM!"}},{"$f":"OFFSET($HZ$2,SMALL(IF($HZ$2:$HZ$72<>\"\",ROW($HZ$2:$HZ$72),\"\"),ROW(HZ23))-2,0)","v":{"$error":"#NUM!"}},null,null,{"$f":"IF(AND(教学计划表!N40<>\"\",教学计划表!BE40<>\"\"),教学计划表!I40,\"\")","v":""},{"$f":"IF(教学计划表!BE40<>\"\",教学计划表!N40,\"\")","v":""},{"$f":"IF(IK24<>\"\",IF(SEARCH(\"5\",教学计划表!AB40&\"5\",1)<=LEN(教学计划表!AB40),\"考试\",\"考查\"),\"\")","v":""},{"$f":"IF(教学计划表!GL40<>0,教学计划表!GL40,\"\")","v":""},{"$f":"IF(教学计划表!GL40<>0,教学计划表!GQ40,\"\")","v":""},{"$f":"IF(教学计划表!GL40<>0,教学计划表!GR40,\"\")","v":""},{"$f":"IF(教学计划表!GL40<>0,教学计划表!QC40,\"\")","v":""},{"$f":"OFFSET($IJ$2,SMALL(IF($IJ$2:$IJ$72<>\"\",ROW($IJ$2:$IJ$72),\"\"),ROW(IJ23))-2,0)","v":{"$error":"#NUM!"}},{"$f":"OFFSET($IK$2,SMALL(IF($IK$2:$IK$72<>\"\",ROW($IK$2:$IK$72),\"\"),ROW(IK23))-2,0)","v":{"$error":"#NUM!"}},{"$f":"OFFSET($IL$2,SMALL(IF($IL$2:$IL$72<>\"\",ROW($IL$2:$IL$72),\"\"),ROW(IL23))-2,0)","v":{"$error":"#NUM!"}},{"$f":"OFFSET($IM$2,SMALL(IF($IM$2:$IM$72<>\"\",ROW($IM$2:$IM$72),\"\"),ROW(IM23))-2,0)","v":{"$error":"#NUM!"}},{"$f":"OFFSET($IN$2,SMALL(IF($IN$2:$IN$72<>\"\",ROW($IN$2:$IN$72),\"\"),ROW(IN23))-2,0)","v":{"$error":"#NUM!"}},{"$f":"OFFSET($IO$2,SMALL(IF($IO$2:$IO$72<>\"\",ROW($IO$2:$IO$72),\"\"),ROW(IO23))-2,0)","v":{"$error":"#NUM!"}},{"$f":"OFFSET($IP$2,SMALL(IF($IP$2:$IP$72<>\"\",ROW($IP$2:$IP$72),\"\"),ROW(IP23))-2,0)","v":{"$error":"#NUM!"}},null,{"$f":"IF(AND(教学计划表!N40<>\"\",教学计划表!BH40<>\"\"),教学计划表!I40,\"\")","v":""},{"$f":"IF(教学计划表!BH40<>\"\",教学计划表!N40,\"\")","v":""},{"$f":"IF(教学计划表!BH40<>\"\",IF(SEARCH(\"6\",教学计划表!AB40&\"6\",1)<=LEN(教学计划表!AB40),\"考试\",\"考查\"),\"\")","v":""},{"$f":"IF(教学计划表!BH40<>0,教学计划表!HG40,\"\")","v":""},{"$f":"IF(教学计划表!BH40<>0,教学计划表!HL40,\"\")","v":""},{"$f":"IF(教学计划表!BH40<>0,教学计划表!HM40,\"\")","v":""},{"$f":"IF(教学计划表!BH40<>0,教学计划表!QO40,\"\")","v":""},{"$f":"OFFSET($IY$2,SMALL(IF($IY$2:$IY$72<>\"\",ROW($IY$2:$IY$72),\"\"),ROW(IY23))-2,0)","v":{"$error":"#NUM!"}},{"$f":"OFFSET($IZ$2,SMALL(IF($IZ$2:$IZ$72<>\"\",ROW($IZ$2:$IZ$72),\"\"),ROW(IZ23))-2,0)","v":{"$error":"#NUM!"}},{"$f":"OFFSET($JA$2,SMALL(IF($JA$2:$JA$72<>\"\",ROW($JA$2:$JA$72),\"\"),ROW(JA23))-2,0)","v":{"$error":"#NUM!"}},{"$f":"OFFSET($JB$2,SMALL(IF($JB$2:$JB$72<>\"\",ROW($JB$2:$JB$72),\"\"),ROW(JB23))-2,0)","v":{"$error":"#NUM!"}},{"$f":"OFFSET($JC$2,SMALL(IF($JC$2:$JC$72<>\"\",ROW($JC$2:$JC$72),\"\"),ROW(JC23))-2,0)","v":{"$error":"#NUM!"}},{"$f":"OFFSET($JD$2,SMALL(IF($JD$2:$JD$72<>\"\",ROW($JD$2:$JD$72),\"\"),ROW(JD23))-2,0)","v":{"$error":"#NUM!"}},{"$f":"OFFSET($JE$2,SMALL(IF($JE$2:$JE$72<>\"\",ROW($JE$2:$JE$72),\"\"),ROW(JE23))-2,0)","v":{"$error":"#NUM!"}}]
["","","","","","","",null,"","","",{"$f":"IF(ISERROR(自动生成的开课信息!HB25),\"\",自动生成的开课信息!HB25)","v":""},{"$f":"IF(ISERROR(自动生成的开课信息!HC25),\"\",自动生成的开课信息!HC25)","v":""},{"$f":"IF(ISERROR(自动生成的开课信息!HD25),\"\",自动生成的开课信息!HD25)","v":""},{"$f":"IF(ISERROR(自动生成的开课信息!HE25),\"\",自动生成的开课信息!HE25)","v":""},null,"","","","","","","",null,"","","","","","","",null,"","","","","","","",null,"","","","","","","",null,null,null,null,null,null,null,null,null,null,null,null,null,null,null,null,null,null,null,null,null,null,null,null,null,null,null,null,null,null,null,null,null,null,null,null,null,null,null,null,null,null,null,null,null,null,null,null,null,null,null,null,null,null,null,null,null,null,null,null,null,null,null,null,null,null,null,null,null,null,null,null,null,null,null,null,null,null,null,null,null,null,null,null,null,null,null,null,null,null,null,null,null,null,null,null,null,null,null,null,null,null,null,null,null,null,null,null,null,null,null,null,null,null,null,null,null,null,null,null,null,null,null,null,null,null,null,null,null,null,null,null,null,null,null,null,null,null,{"$f":"IF(AND(教学计划表!N41<>\"\",教学计划表!AS41<>\"\"),教学计划表!I41,\"\")","v":""},{"$f":"IF(教学计划表!AS41<>\"\",教学计划表!N41,\"\")","v":""},{"$f":"IF(GE25<>\"\",IF(SEARCH(\"1\",教学计划表!AB41&\"1\",1)<=LEN(教学计划表!AB41),\"考试\",\"考查\"),\"\")","v":""},{"$f":"IF(教学计划表!DG41<>0,教学计划表!DG41,\"\")","v":""},{"$f":"IF(教学计划表!DG41<>0,教学计划表!DL41,\"\")","v":""},{"$f":"IF(教学计划表!DG41<>0,教学计划表!DM41,\"\")","v":""},{"$f":"IF(教学计划表!DG41<>0,教学计划表!OH41,\"\")","v":""},{"$f":"OFFSET($GD$2,SMALL(IF($GD$2:$GD$72<>\"\",ROW($2:$72),\"\"),ROW(GD24))-2,0)","v":{"$error":"#NUM!"}},{"$f":"OFFSET($GE$2,SMALL(IF($GE$2:$GE$72<>\"\",ROW($2:$72),\"\"),ROW(GE24))-2,0)","v":{"$error":"#NUM!"}},{"$f":"OFFSET($GF$2,SMALL(IF($GF$2:$GF$72<>\"\",ROW($2:$72),\"\"),ROW(GF24))-2,0)","v":{"$error":"#NUM!"}},{"$f":"OFFSET($GG$2,SMALL(IF($GG$2:$GG$72<>\"\",ROW($2:$72),\"\"),ROW(GG24))-2,0)","v":{"$error":"#NUM!"}},{"$f":"OFFSET($GH$2,SMALL(IF($GH$2:$GH$72<>\"\",ROW($2:$72),\"\"),ROW(GH24))-2,0)","v":{"$error":"#NUM!"}},{"$error":"#NUM!"},{"$f":"OFFSET($GJ$2,SMALL(IF($GJ$2:$GJ$72<>\"\",ROW($2:$72),\"\"),ROW(GJ24))-2,0)","v":{"$error":"#NUM!"}},{"$f":"IF(AND(教学计划表!N41<>\"\",教学计划表!AV41<>\"\"),教学计划表!I41,\"\")","v":""},{"$f":"IF(教学计划表!AV41<>\"\",教学计划表!N41,\"\")","v":""},{"$f":"IF(GS25<>\"\",IF(SEARCH(\"2\",教学计划表!AB41&\"2\",1)<=LEN(教学计划表!AB41),\"考试\",\"考查\"),\"\")","v":""},{"$f":"IF(教学计划表!EA41<>0,教学计划表!EA41,\"\")","v":""},{"$f":"IF(教学计划表!EA41<>0,教学计划表!EF41,\"\")","v":""},{"$f":"IF(教学计划表!EA41<>0,教学计划表!EG41,\"\")","v":""},{"$f":"IF(教学计划表!EA41<>0,教学计划表!OT41,\"\")","v":""},{"$f":"OFFSET($GR$2,SMALL(IF($GR$2:$GR$72<>\"\",ROW($I$2:$K$72),\"\"),ROW(GR24))-2,0)","v":{"$error":"#NUM!"}},{"$f":"OFFSET($GS$2,SMALL(IF($GS$2:$GS$72<>\"\",ROW($I$2:$K$72),\"\"),ROW(GS24))-2,0)","v":{"$error":"#NUM!"}},{"$f":"OFFSET($GT$2,SMALL(IF($GT$2:$GT$72<>\"\",ROW($I$2:$K$72),\"\"),ROW(GT24))-2,0)","v":{"$error":"#NUM!"}},{"$f":"OFFSET($GU$2,SMALL(IF($GU$2:$GU$72<>\"\",ROW($I$2:$K$72),\"\"),ROW(GU24))-2,0)","v":{"$error":"#NUM!"}},{"$f":"OFFSET($GV$2,SMALL(IF($GV$2:$GV$72<>\"\",ROW($GV$2:$GV$72),\"\"),ROW(GV24))-2,0)","v":{"$error":"#NUM!"}},{"$f":"OFFSET($GW$2,SMALL(IF($GW$2:$GW$72<>\"\",ROW($GW$2:$GW$72),\"\"),ROW(GW24))-2,0)","v":{"$error":"#NUM!"}},{"$f":"OFFSET($GX$2,SMALL(IF($GX$2:$GX$72<>\"\",ROW($GX$2:$GX$72),\"\"),ROW(GX24))-2,0)","v":{"$error":"#NUM!"}},{"$f":"IF(AND(教学计划表!N41<>\"\",教学计划表!AY41<>\"\"),教学计划表!I41,\"\")","v":""},{"$f":"IF(教学计划表!AY41<>\"\",教学计划表!N41,\"\")","v":""},{"$f":"IF(HG25<>\"\",IF(SEARCH(\"3\",教学计划表!AB41&\"3\",1)<=LEN(教学计划表!AB41),\"考试\",\"考查\"),\"\")","v":""},{"$f":"IF(教学计划表!EV41<>0,教学计划表!EV41,\"\")","v":""},{"$f":"IF(教学计划表!EV41<>0,教学计划表!FA41,\"\")","v":""},{"$f":"IF(教学计划表!EV41<>0,教学计划表!FB41,\"\")","v":""},{"$f":"IF(教学计划表!EV41<>0,教学计划表!PF41,\"\")","v":""},{"$f":"OFFSET($HF$2,SMALL(IF($HF$2:$HF$72<>\"\",ROW($HF$2:$HF$72),\"\"),ROW(HF24))-2,0)","v":{"$error":"#NUM!"}},{"$f":"OFFSET($HG$2,SMALL(IF($HG$2:$HG$72<>\"\",ROW($HG$2:$HG$72),\"\"),ROW(HG24))-2,0)","v":{"$error":"#NUM!"}},{"$f":"OFFSET($HH$2,SMALL(IF($HH$2:$HH$72<>\"\",ROW($HH$2:$HH$72),\"\"),ROW(HH24))-2,0)","v":{"$error":"#NUM!"}},{"$f":"OFFSET($HI$2,SMALL(IF($HI$2:$HI$72<>\"\",ROW($HI$2:$HI$72),\"\"),ROW(HI24))-2,0)","v":{"$error":"#NUM!"}},{"$f":"OFFSET($HJ$2,SMALL(IF($HJ$2:$HJ$72<>\"\",ROW($HJ$2:$HJ$72),\"\"),ROW(HJ24))-2,0)","v":{"$error":"#NUM!"}},{"$f":"OFFSET($HK$2,SMALL(IF($HK$2:$HK$72<>\"\",ROW($HK$2:$HK$72),\"\"),ROW(HK24))-2,0)","v":{"$error":"#NUM!"}},{"$f":"OFFSET($HL$2,SMALL(IF($HL$2:$HL$72<>\"\",ROW($HL$2:$HL$72),\"\"),ROW(HL24))-2,0)","v":{"$error":"#NUM!"}},{"$f":"IF(AND(教学计划表!N41<>\"\",教学计划表!BB41<>\"\"),教学计划表!I41,\"\")","v":""},{"$f":"IF(教学计划表!BB41<>\"\",教学计划表!N41,\"\")","v":""},{"$f":"IF(HU25<>\"\",IF(SEARCH(\"4\",教学计划表!AB41&\"4\",1)<=LEN(教学计划表!AB41),\"考试\",\"考查\"),\"\")","v":""},{"$f":"IF(教学计划表!FQ41<>0,教学计划表!FQ41,\"\")","v":""},{"$f":"IF(教学计划表!FQ41<>0,教学计划表!FV41,\"\")","v":""},{"$f":"IF(教学计划表!FQ41<>0,教学计划表!FW41,\"\")","v":""},{"$f":"IF(教学计划表!FQ41<>0,教学计划表!PR41,\"\")","v":""},{"$f":"OFFSET($HT$2,SMALL(IF($HT$2:$HT$72<>\"\",ROW($HT$2:$HT$72),\"\"),ROW(HT24))-2,0)","v":{"$error":"#NUM!"}},{"$f":"OFFSET($HU$2,SMALL(IF($HU$2:$HU$72<>\"\",ROW($HU$2:$HU$72),\"\"),ROW(HU24))-2,0)","v":{"$error":"#NUM!"}},{"$f":"OFFSET($HV$2,SMALL(IF($HV$2:$HV$72<>\"\",ROW($HV$2:$HV$72),\"\"),ROW(HV24))-2,0)","v":{"$error":"#NUM!"}},{"$f":"OFFSET($HW$2,SMALL(IF($HW$2:$HW$72<>\"\",ROW($HW$2:$HW$72),\"\"),ROW(HW24))-2,0)","v":{"$error":"#NUM!"}},{"$f":"OFFSET($HX$2,SMALL(IF($HX$2:$HX$72<>\"\",ROW($HX$2:$HX$72),\"\"),ROW(HX24))-2,0)","v":{"$error":"#NUM!"}},{"$f":"OFFSET($HY$2,SMALL(IF($HY$2:$HY$72<>\"\",ROW($HY$2:$HY$72),\"\"),ROW(HY24))-2,0)","v":{"$error":"#NUM!"}},{"$f":"OFFSET($HZ$2,SMALL(IF($HZ$2:$HZ$72<>\"\",ROW($HZ$2:$HZ$72),\"\"),ROW(HZ24))-2,0)","v":{"$error":"#NUM!"}},null,null,{"$f":"IF(AND(教学计划表!N41<>\"\",教学计划表!BE41<>\"\"),教学计划表!I41,\"\")","v":""},{"$f":"IF(教学计划表!BE41<>\"\",教学计划表!N41,\"\")","v":""},{"$f":"IF(IK25<>\"\",IF(SEARCH(\"5\",教学计划表!AB41&\"5\",1)<=LEN(教学计划表!AB41),\"考试\",\"考查\"),\"\")","v":""},{"$f":"IF(教学计划表!GL41<>0,教学计划表!GL41,\"\")","v":""},{"$f":"IF(教学计划表!GL41<>0,教学计划表!GQ41,\"\")","v":""},{"$f":"IF(教学计划表!GL41<>0,教学计划表!GR41,\"\")","v":""},{"$f":"IF(教学计划表!GL41<>0,教学计划表!QC41,\"\")","v":""},{"$f":"OFFSET($IJ$2,SMALL(IF($IJ$2:$IJ$72<>\"\",ROW($IJ$2:$IJ$72),\"\"),ROW(IJ24))-2,0)","v":{"$error":"#NUM!"}},{"$f":"OFFSET($IK$2,SMALL(IF($IK$2:$IK$72<>\"\",ROW($IK$2:$IK$72),\"\"),ROW(IK24))-2,0)","v":{"$error":"#NUM!"}},{"$f":"OFFSET($IL$2,SMALL(IF($IL$2:$IL$72<>\"\",ROW($IL$2:$IL$72),\"\"),ROW(IL24))-2,0)","v":{"$error":"#NUM!"}},{"$f":"OFFSET($IM$2,SMALL(IF($IM$2:$IM$72<>\"\",ROW($IM$2:$IM$72),\"\"),ROW(IM24))-2,0)","v":{"$error":"#NUM!"}},{"$f":"OFFSET($IN$2,SMALL(IF($IN$2:$IN$72<>\"\",ROW($IN$2:$IN$72),\"\"),ROW(IN24))-2,0)","v":{"$error":"#NUM!"}},{"$f":"OFFSET($IO$2,SMALL(IF($IO$2:$IO$72<>\"\",ROW($IO$2:$IO$72),\"\"),ROW(IO24))-2,0)","v":{"$error":"#NUM!"}},{"$f":"OFFSET($IP$2,SMALL(IF($IP$2:$IP$72<>\"\",ROW($IP$2:$IP$72),\"\"),ROW(IP24))-2,0)","v":{"$error":"#NUM!"}},null,{"$f":"IF(AND(教学计划表!N41<>\"\",教学计划表!BH41<>\"\"),教学计划表!I41,\"\")","v":""},{"$f":"IF(教学计划表!BH41<>\"\",教学计划表!N41,\"\")","v":""},{"$f":"IF(教学计划表!BH41<>\"\",IF(SEARCH(\"6\",教学计划表!AB41&\"6\",1)<=LEN(教学计划表!AB41),\"考试\",\"考查\"),\"\")","v":""},{"$f":"IF(教学计划表!BH41<>0,教学计划表!HG41,\"\")","v":""},{"$f":"IF(教学计划表!BH41<>0,教学计划表!HL41,\"\")","v":""},{"$f":"IF(教学计划表!BH41<>0,教学计划表!HM41,\"\")","v":""},{"$f":"IF(教学计划表!BH41<>0,教学计划表!QO41,\"\")","v":""},{"$f":"OFFSET($IY$2,SMALL(IF($IY$2:$IY$72<>\"\",ROW($IY$2:$IY$72),\"\"),ROW(IY24))-2,0)","v":{"$error":"#NUM!"}},{"$f":"OFFSET($IZ$2,SMALL(IF($IZ$2:$IZ$72<>\"\",ROW($IZ$2:$IZ$72),\"\"),ROW(IZ24))-2,0)","v":{"$error":"#NUM!"}},{"$f":"OFFSET($JA$2,SMALL(IF($JA$2:$JA$72<>\"\",ROW($JA$2:$JA$72),\"\"),ROW(JA24))-2,0)","v":{"$error":"#NUM!"}},{"$f":"OFFSET($JB$2,SMALL(IF($JB$2:$JB$72<>\"\",ROW($JB$2:$JB$72),\"\"),ROW(JB24))-2,0)","v":{"$error":"#NUM!"}},{"$f":"OFFSET($JC$2,SMALL(IF($JC$2:$JC$72<>\"\",ROW($JC$2:$JC$72),\"\"),ROW(JC24))-2,0)","v":{"$error":"#NUM!"}},{"$f":"OFFSET($JD$2,SMALL(IF($JD$2:$JD$72<>\"\",ROW($JD$2:$JD$72),\"\"),ROW(JD24))-2,0)","v":{"$error":"#NUM!"}},{"$f":"OFFSET($JE$2,SMALL(IF($JE$2:$JE$72<>\"\",ROW($JE$2:$JE$72),\"\"),ROW(JE24))-2,0)","v":{"$error":"#NUM!"}}]
["","","","","","","",null,"","","",{"$f":"IF(ISERROR(自动生成的开课信息!HB26),\"\",自动生成的开课信息!HB26)","v":""},{"$f":"IF(ISERROR(自动生成的开课信息!HC26),\"\",自动生成的开课信息!HC26)","v":""},{"$f":"IF(ISERROR(自动生成的开课信息!HD26),\"\",自动生成的开课信息!HD26)","v":""},{"$f":"IF(ISERROR(自动生成的开课信息!HE26),\"\",自动生成的开课信息!HE26)","v":""},null,"","","","","","","",null,"","","","","","","",null,"","","","","","","",null,"","","","","","","",null,null,null,null,null,null,null,null,null,null,null,null,null,null,null,null,null,null,null,null,null,null,null,null,null,null,null,null,null,null,null,null,null,null,null,null,null,null,null,null,null,null,null,null,null,null,null,null,null,null,null,null,null,null,null,null,null,null,null,null,null,null,null,null,null,null,null,null,null,null,null,null,null,null,null,null,null,null,null,null,null,null,null,null,null,null,null,null,null,null,null,null,null,null,null,null,null,null,null,null,null,null,null,null,null,null,null,null,null,null,null,null,null,null,null,null,null,null,null,null,null,null,null,null,null,null,null,null,null,null,null,null,null,null,null,null,null,null,{"$f":"IF(AND(教学计划表!N42<>\"\",教学计划表!AS42<>\"\"),教学计划表!I42,\"\")","v":""},{"$f":"IF(教学计划表!AS42<>\"\",教学计划表!N42,\"\")","v":""},{"$f":"IF(GE26<>\"\",IF(SEARCH(\"1\",教学计划表!AB42&\"1\",1)<=LEN(教学计划表!AB42),\"考试\",\"考查\"),\"\")","v":""},{"$f":"IF(教学计划表!DG42<>0,教学计划表!DG42,\"\")","v":""},{"$f":"IF(教学计划表!DG42<>0,教学计划表!DL42,\"\")","v":""},{"$f":"IF(教学计划表!DG42<>0,教学计划表!DM42,\"\")","v":""},{"$f":"IF(教学计划表!DG42<>0,教学计划表!OH42,\"\")","v":""},{"$f":"OFFSET($GD$2,SMALL(IF($GD$2:$GD$72<>\"\",ROW($2:$72),\"\"),ROW(GD25))-2,0)","v":{"$error":"#NUM!"}},{"$f":"OFFSET($GE$2,SMALL(IF($GE$2:$GE$72<>\"\",ROW($2:$72),\"\"),ROW(GE25))-2,0)","v":{"$error":"#NUM!"}},{"$f":"OFFSET($GF$2,SMALL(IF($GF$2:$GF$72<>\"\",ROW($2:$72),\"\"),ROW(GF25))-2,0)","v":{"$error":"#NUM!"}},{"$f":"OFFSET($GG$2,SMALL(IF($GG$2:$GG$72<>\"\",ROW($2:$72),\"\"),ROW(GG25))-2,0)","v":{"$error":"#NUM!"}},{"$f":"OFFSET($GH$2,SMALL(IF($GH$2:$GH$72<>\"\",ROW($2:$72),\"\"),ROW(GH25))-2,0)","v":{"$error":"#NUM!"}},{"$error":"#NUM!"},{"$f":"OFFSET($GJ$2,SMALL(IF($GJ$2:$GJ$72<>\"\",ROW($2:$72),\"\"),ROW(GJ25))-2,0)","v":{"$error":"#NUM!"}},{"$f":"IF(AND(教学计划表!N42<>\"\",教学计划表!AV42<>\"\"),教学计划表!I42,\"\")","v":""},{"$f":"IF(教学计划表!AV42<>\"\",教学计划表!N42,\"\")","v":""},{"$f":"IF(GS26<>\"\",IF(SEARCH(\"2\",教学计划表!AB42&\"2\",1)<=LEN(教学计划表!AB42),\"考试\",\"考查\"),\"\")","v":""},{"$f":"IF(教学计划表!EA42<>0,教学计划表!EA42,\"\")","v":""},{"$f":"IF(教学计划表!EA42<>0,教学计划表!EF42,\"\")","v":""},{"$f":"IF(教学计划表!EA42<>0,教学计划表!EG42,\"\")","v":""},{"$f":"IF(教学计划表!EA42<>0,教学计划表!OT42,\"\")","v":""},{"$f":"OFFSET($GR$2,SMALL(IF($GR$2:$GR$72<>\"\",ROW($I$2:$K$72),\"\"),ROW(GR25))-2,0)","v":{"$error":"#NUM!"}},{"$f":"OFFSET($GS$2,SMALL(IF($GS$2:$GS$72<>\"\",ROW($I$2:$K$72),\"\"),ROW(GS25))-2,0)","v":{"$error":"#NUM!"}},{"$f":"OFFSET($GT$2,SMALL(IF($GT$2:$GT$72<>\"\",ROW($I$2:$K$72),\"\"),ROW(GT25))-2,0)","v":{"$error":"#NUM!"}},{"$f":"OFFSET($GU$2,SMALL(IF($GU$2:$GU$72<>\"\",ROW($I$2:$K$72),\"\"),ROW(GU25))-2,0)","v":{"$error":"#NUM!"}},{"$f":"OFFSET($GV$2,SMALL(IF($GV$2:$GV$72<>\"\",ROW($GV$2:$GV$72),\"\"),ROW(GV25))-2,0)","v":{"$error":"#NUM!"}},{"$f":"OFFSET($GW$2,SMALL(IF($GW$2:$GW$72<>\"\",ROW($GW$2:$GW$72),\"\"),ROW(GW25))-2,0)","v":{"$error":"#NUM!"}},{"$f":"OFFSET($GX$2,SMALL(IF($GX$2:$GX$72<>\"\",ROW($GX$2:$GX$72),\"\"),ROW(GX25))-2,0)","v":{"$error":"#NUM!"}},{"$f":"IF(AND(教学计划表!N42<>\"\",教学计划表!AY42<>\"\"),教学计划表!I42,\"\")","v":""},{"$f":"IF(教学计划表!AY42<>\"\",教学计划表!N42,\"\")","v":""},{"$f":"IF(HG26<>\"\",IF(SEARCH(\"3\",教学计划表!AB42&\"3\",1)<=LEN(教学计划表!AB42),\"考试\",\"考查\"),\"\")","v":""},{"$f":"IF(教学计划表!EV42<>0,教学计划表!EV42,\"\")","v":""},{"$f":"IF(教学计划表!EV42<>0,教学计划表!FA42,\"\")","v":""},{"$f":"IF(教学计划表!EV42<>0,教学计划表!FB42,\"\")","v":""},{"$f":"IF(教学计划表!EV42<>0,教学计划表!PF42,\"\")","v":""},{"$f":"OFFSET($HF$2,SMALL(IF($HF$2:$HF$72<>\"\",ROW($HF$2:$HF$72),\"\"),ROW(HF25))-2,0)","v":{"$error":"#NUM!"}},{"$f":"OFFSET($HG$2,SMALL(IF($HG$2:$HG$72<>\"\",ROW($HG$2:$HG$72),\"\"),ROW(HG25))-2,0)","v":{"$error":"#NUM!"}},{"$f":"OFFSET($HH$2,SMALL(IF($HH$2:$HH$72<>\"\",ROW($HH$2:$HH$72),\"\"),ROW(HH25))-2,0)","v":{"$error":"#NUM!"}},{"$f":"OFFSET($HI$2,SMALL(IF($HI$2:$HI$72<>\"\",ROW($HI$2:$HI$72),\"\"),ROW(HI25))-2,0)","v":{"$error":"#NUM!"}},{"$f":"OFFSET($HJ$2,SMALL(IF($HJ$2:$HJ$72<>\"\",ROW($HJ$2:$HJ$72),\"\"),ROW(HJ25))-2,0)","v":{"$error":"#NUM!"}},{"$f":"OFFSET($HK$2,SMALL(IF($HK$2:$HK$72<>\"\",ROW($HK$2:$HK$72),\"\"),ROW(HK25))-2,0)","v":{"$error":"#NUM!"}},{"$f":"OFFSET($HL$2,SMALL(IF($HL$2:$HL$72<>\"\",ROW($HL$2:$HL$72),\"\"),ROW(HL25))-2,0)","v":{"$error":"#NUM!"}},{"$f":"IF(AND(教学计划表!N42<>\"\",教学计划表!BB42<>\"\"),教学计划表!I42,\"\")","v":""},{"$f":"IF(教学计划表!BB42<>\"\",教学计划表!N42,\"\")","v":""},{"$f":"IF(HU26<>\"\",IF(SEARCH(\"4\",教学计划表!AB42&\"4\",1)<=LEN(教学计划表!AB42),\"考试\",\"考查\"),\"\")","v":""},{"$f":"IF(教学计划表!FQ42<>0,教学计划表!FQ42,\"\")","v":""},{"$f":"IF(教学计划表!FQ42<>0,教学计划表!FV42,\"\")","v":""},{"$f":"IF(教学计划表!FQ42<>0,教学计划表!FW42,\"\")","v":""},{"$f":"IF(教学计划表!FQ42<>0,教学计划表!PR42,\"\")","v":""},{"$f":"OFFSET($HT$2,SMALL(IF($HT$2:$HT$72<>\"\",ROW($HT$2:$HT$72),\"\"),ROW(HT25))-2,0)","v":{"$error":"#NUM!"}},{"$f":"OFFSET($HU$2,SMALL(IF($HU$2:$HU$72<>\"\",ROW($HU$2:$HU$72),\"\"),ROW(HU25))-2,0)","v":{"$error":"#NUM!"}},{"$f":"OFFSET($HV$2,SMALL(IF($HV$2:$HV$72<>\"\",ROW($HV$2:$HV$72),\"\"),ROW(HV25))-2,0)","v":{"$error":"#NUM!"}},{"$f":"OFFSET($HW$2,SMALL(IF($HW$2:$HW$72<>\"\",ROW($HW$2:$HW$72),\"\"),ROW(HW25))-2,0)","v":{"$error":"#NUM!"}},{"$f":"OFFSET($HX$2,SMALL(IF($HX$2:$HX$72<>\"\",ROW($HX$2:$HX$72),\"\"),ROW(HX25))-2,0)","v":{"$error":"#NUM!"}},{"$f":"OFFSET($HY$2,SMALL(IF($HY$2:$HY$72<>\"\",ROW($HY$2:$HY$72),\"\"),ROW(HY25))-2,0)","v":{"$error":"#NUM!"}},{"$f":"OFFSET($HZ$2,SMALL(IF($HZ$2:$HZ$72<>\"\",ROW($HZ$2:$HZ$72),\"\"),ROW(HZ25))-2,0)","v":{"$error":"#NUM!"}},null,null,{"$f":"IF(AND(教学计划表!N42<>\"\",教学计划表!BE42<>\"\"),教学计划表!I42,\"\")","v":""},{"$f":"IF(教学计划表!BE42<>\"\",教学计划表!N42,\"\")","v":""},{"$f":"IF(IK26<>\"\",IF(SEARCH(\"5\",教学计划表!AB42&\"5\",1)<=LEN(教学计划表!AB42),\"考试\",\"考查\"),\"\")","v":""},{"$f":"IF(教学计划表!GL42<>0,教学计划表!GL42,\"\")","v":""},{"$f":"IF(教学计划表!GL42<>0,教学计划表!GQ42,\"\")","v":""},{"$f":"IF(教学计划表!GL42<>0,教学计划表!GR42,\"\")","v":""},{"$f":"IF(教学计划表!GL42<>0,教学计划表!QC42,\"\")","v":""},{"$f":"OFFSET($IJ$2,SMALL(IF($IJ$2:$IJ$72<>\"\",ROW($IJ$2:$IJ$72),\"\"),ROW(IJ25))-2,0)","v":{"$error":"#NUM!"}},{"$f":"OFFSET($IK$2,SMALL(IF($IK$2:$IK$72<>\"\",ROW($IK$2:$IK$72),\"\"),ROW(IK25))-2,0)","v":{"$error":"#NUM!"}},{"$f":"OFFSET($IL$2,SMALL(IF($IL$2:$IL$72<>\"\",ROW($IL$2:$IL$72),\"\"),ROW(IL25))-2,0)","v":{"$error":"#NUM!"}},{"$f":"OFFSET($IM$2,SMALL(IF($IM$2:$IM$72<>\"\",ROW($IM$2:$IM$72),\"\"),ROW(IM25))-2,0)","v":{"$error":"#NUM!"}},{"$f":"OFFSET($IN$2,SMALL(IF($IN$2:$IN$72<>\"\",ROW($IN$2:$IN$72),\"\"),ROW(IN25))-2,0)","v":{"$error":"#NUM!"}},{"$f":"OFFSET($IO$2,SMALL(IF($IO$2:$IO$72<>\"\",ROW($IO$2:$IO$72),\"\"),ROW(IO25))-2,0)","v":{"$error":"#NUM!"}},{"$f":"OFFSET($IP$2,SMALL(IF($IP$2:$IP$72<>\"\",ROW($IP$2:$IP$72),\"\"),ROW(IP25))-2,0)","v":{"$error":"#NUM!"}},null,{"$f":"IF(AND(教学计划表!N42<>\"\",教学计划表!BH42<>\"\"),教学计划表!I42,\"\")","v":""},{"$f":"IF(教学计划表!BH42<>\"\",教学计划表!N42,\"\")","v":""},{"$f":"IF(教学计划表!BH42<>\"\",IF(SEARCH(\"6\",教学计划表!AB42&\"6\",1)<=LEN(教学计划表!AB42),\"考试\",\"考查\"),\"\")","v":""},{"$f":"IF(教学计划表!BH42<>0,教学计划表!HG42,\"\")","v":""},{"$f":"IF(教学计划表!BH42<>0,教学计划表!HL42,\"\")","v":""},{"$f":"IF(教学计划表!BH42<>0,教学计划表!HM42,\"\")","v":""},{"$f":"IF(教学计划表!BH42<>0,教学计划表!QO42,\"\")","v":""},{"$f":"OFFSET($IY$2,SMALL(IF($IY$2:$IY$72<>\"\",ROW($IY$2:$IY$72),\"\"),ROW(IY25))-2,0)","v":{"$error":"#NUM!"}},{"$f":"OFFSET($IZ$2,SMALL(IF($IZ$2:$IZ$72<>\"\",ROW($IZ$2:$IZ$72),\"\"),ROW(IZ25))-2,0)","v":{"$error":"#NUM!"}},{"$f":"OFFSET($JA$2,SMALL(IF($JA$2:$JA$72<>\"\",ROW($JA$2:$JA$72),\"\"),ROW(JA25))-2,0)","v":{"$error":"#NUM!"}},{"$f":"OFFSET($JB$2,SMALL(IF($JB$2:$JB$72<>\"\",ROW($JB$2:$JB$72),\"\"),ROW(JB25))-2,0)","v":{"$error":"#NUM!"}},{"$f":"OFFSET($JC$2,SMALL(IF($JC$2:$JC$72<>\"\",ROW($JC$2:$JC$72),\"\"),ROW(JC25))-2,0)","v":{"$error":"#NUM!"}},{"$f":"OFFSET($JD$2,SMALL(IF($JD$2:$JD$72<>\"\",ROW($JD$2:$JD$72),\"\"),ROW(JD25))-2,0)","v":{"$error":"#NUM!"}},{"$f":"OFFSET($JE$2,SMALL(IF($JE$2:$JE$72<>\"\",ROW($JE$2:$JE$72),\"\"),ROW(JE25))-2,0)","v":{"$error":"#NUM!"}}]
["","","","","","","",null,"","","",{"$f":"IF(ISERROR(自动生成的开课信息!HB27),\"\",自动生成的开课信息!HB27)","v":""},{"$f":"IF(ISERROR(自动生成的开课信息!HC27),\"\",自动生成的开课信息!HC27)","v":""},{"$f":"IF(ISERROR(自动生成的开课信息!HD27),\"\",自动生成的开课信息!HD27)","v":""},{"$f":"IF(ISERROR(自动生成的开课信息!HE27),\"\",自动生成的开课信息!HE27)","v":""},null,"","","","","","","",null,"","","","","","","",null,"","","","","","","",null,"","","","","","","",null,null,null,null,null,null,null,null,null,null,null,null,null,null,null,null,null,null,null,null,null,null,null,null,null,null,null,null,null,null,null,null,null,null,null,null,null,null,null,null,null,null,null,null,null,null,null,null,null,null,null,null,null,null,null,null,null,null,null,null,null,null,null,null,null,null,null,null,null,null,null,null,null,null,null,null,null,null,null,null,null,null,null,null,null,null,null,null,null,null,null,null,null,null,null,null,null,null,null,null,null,null,null,null,null,null,null,null,null,null,null,null,null,null,null,null,null,null,null,null,null,null,null,null,null,null,null,null,null,null,null,null,null,null,null,null,null,null,{"$f":"IF(AND(教学计划表!N43<>\"\",教学计划表!AS43<>\"\"),教学计划表!I43,\"\")","v":""},{"$f":"IF(教学计划表!AS43<>\"\",教学计划表!N43,\"\")","v":""},{"$f":"IF(GE27<>\"\",IF(SEARCH(\"1\",教学计划表!AB43&\"1\",1)<=LEN(教学计划表!AB43),\"考试\",\"考查\"),\"\")","v":""},{"$f":"IF(教学计划表!DG43<>0,教学计划表!DG43,\"\")","v":""},{"$f":"IF(教学计划表!DG43<>0,教学计划表!DL43,\"\")","v":""},{"$f":"IF(教学计划表!DG43<>0,教学计划表!DM43,\"\")","v":""},{"$f":"IF(教学计划表!DG43<>0,教学计划表!OH43,\"\")","v":""},{"$f":"OFFSET($GD$2,SMALL(IF($GD$2:$GD$72<>\"\",ROW($2:$72),\"\"),ROW(GD26))-2,0)","v":{"$error":"#NUM!"}},{"$f":"OFFSET($GE$2,SMALL(IF($GE$2:$GE$72<>\"\",ROW($2:$72),\"\"),ROW(GE26))-2,0)","v":{"$error":"#NUM!"}},{"$f":"OFFSET($GF$2,SMALL(IF($GF$2:$GF$72<>\"\",ROW($2:$72),\"\"),ROW(GF26))-2,0)","v":{"$error":"#NUM!"}},{"$f":"OFFSET($GG$2,SMALL(IF($GG$2:$GG$72<>\"\",ROW($2:$72),\"\"),ROW(GG26))-2,0)","v":{"$error":"#NUM!"}},{"$f":"OFFSET($GH$2,SMALL(IF($GH$2:$GH$72<>\"\",ROW($2:$72),\"\"),ROW(GH26))-2,0)","v":{"$error":"#NUM!"}},{"$error":"#NUM!"},{"$f":"OFFSET($GJ$2,SMALL(IF($GJ$2:$GJ$72<>\"\",ROW($2:$72),\"\"),ROW(GJ26))-2,0)","v":{"$error":"#NUM!"}},{"$f":"IF(AND(教学计划表!N43<>\"\",教学计划表!AV43<>\"\"),教学计划表!I43,\"\")","v":""},{"$f":"IF(教学计划表!AV43<>\"\",教学计划表!N43,\"\")","v":""},{"$f":"IF(GS27<>\"\",IF(SEARCH(\"2\",教学计划表!AB43&\"2\",1)<=LEN(教学计划表!AB43),\"考试\",\"考查\"),\"\")","v":""},{"$f":"IF(教学计划表!EA43<>0,教学计划表!EA43,\"\")","v":""},{"$f":"IF(教学计划表!EA43<>0,教学计划表!EF43,\"\")","v":""},{"$f":"IF(教学计划表!EA43<>0,教学计划表!EG43,\"\")","v":""},{"$f":"IF(教学计划表!EA43<>0,教学计划表!OT43,\"\")","v":""},{"$f":"OFFSET($GR$2,SMALL(IF($GR$2:$GR$72<>\"\",ROW($I$2:$K$72),\"\"),ROW(GR26))-2,0)","v":{"$error":"#NUM!"}},{"$f":"OFFSET($GS$2,SMALL(IF($GS$2:$GS$72<>\"\",ROW($I$2:$K$72),\"\"),ROW(GS26))-2,0)","v":{"$error":"#NUM!"}},{"$f":"OFFSET($GT$2,SMALL(IF($GT$2:$GT$72<>\"\",ROW($I$2:$K$72),\"\"),ROW(GT26))-2,0)","v":{"$error":"#NUM!"}},{"$f":"OFFSET($GU$2,SMALL(IF($GU$2:$GU$72<>\"\",ROW($I$2:$K$72),\"\"),ROW(GU26))-2,0)","v":{"$error":"#NUM!"}},{"$f":"OFFSET($GV$2,SMALL(IF($GV$2:$GV$72<>\"\",ROW($GV$2:$GV$72),\"\"),ROW(GV26))-2,0)","v":{"$error":"#NUM!"}},{"$f":"OFFSET($GW$2,SMALL(IF($GW$2:$GW$72<>\"\",ROW($GW$2:$GW$72),\"\"),ROW(GW26))-2,0)","v":{"$error":"#NUM!"}},{"$f":"OFFSET($GX$2,SMALL(IF($GX$2:$GX$72<>\"\",ROW($GX$2:$GX$72),\"\"),ROW(GX26))-2,0)","v":{"$error":"#NUM!"}},{"$f":"IF(AND(教学计划表!N43<>\"\",教学计划表!AY43<>\"\"),教学计划表!I43,\"\")","v":""},{"$f":"IF(教学计划表!AY43<>\"\",教学计划表!N43,\"\")","v":""},{"$f":"IF(HG27<>\"\",IF(SEARCH(\"3\",教学计划表!AB43&\"3\",1)<=LEN(教学计划表!AB43),\"考试\",\"考查\"),\"\")","v":""},{"$f":"IF(教学计划表!EV43<>0,教学计划表!EV43,\"\")","v":""},{"$f":"IF(教学计划表!EV43<>0,教学计划表!FA43,\"\")","v":""},{"$f":"IF(教学计划表!EV43<>0,教学计划表!FB43,\"\")","v":""},{"$f":"IF(教学计划表!EV43<>0,教学计划表!PF43,\"\")","v":""},{"$f":"OFFSET($HF$2,SMALL(IF($HF$2:$HF$72<>\"\",ROW($HF$2:$HF$72),\"\"),ROW(HF26))-2,0)","v":{"$error":"#NUM!"}},{"$f":"OFFSET($HG$2,SMALL(IF($HG$2:$HG$72<>\"\",ROW($HG$2:$HG$72),\"\"),ROW(HG26))-2,0)","v":{"$error":"#NUM!"}},{"$f":"OFFSET($HH$2,SMALL(IF($HH$2:$HH$72<>\"\",ROW($HH$2:$HH$72),\"\"),ROW(HH26))-2,0)","v":{"$error":"#NUM!"}},{"$f":"OFFSET($HI$2,SMALL(IF($HI$2:$HI$72<>\"\",ROW($HI$2:$HI$72),\"\"),ROW(HI26))-2,0)","v":{"$error":"#NUM!"}},{"$f":"OFFSET($HJ$2,SMALL(IF($HJ$2:$HJ$72<>\"\",ROW($HJ$2:$HJ$72),\"\"),ROW(HJ26))-2,0)","v":{"$error":"#NUM!"}},{"$f":"OFFSET($HK$2,SMALL(IF($HK$2:$HK$72<>\"\",ROW($HK$2:$HK$72),\"\"),ROW(HK26))-2,0)","v":{"$error":"#NUM!"}},{"$f":"OFFSET($HL$2,SMALL(IF($HL$2:$HL$72<>\"\",ROW($HL$2:$HL$72),\"\"),ROW(HL26))-2,0)","v":{"$error":"#NUM!"}},{"$f":"IF(AND(教学计划表!N43<>\"\",教学计划表!BB43<>\"\"),教学计划表!I43,\"\")","v":""},{"$f":"IF(教学计划表!BB43<>\"\",教学计划表!N43,\"\")","v":""},{"$f":"IF(HU27<>\"\",IF(SEARCH(\"4\",教学计划表!AB43&\"4\",1)<=LEN(教学计划表!AB43),\"考试\",\"考查\"),\"\")","v":""},{"$f":"IF(教学计划表!FQ43<>0,教学计划表!FQ43,\"\")","v":""},{"$f":"IF(教学计划表!FQ43<>0,教学计划表!FV43,\"\")","v":""},{"$f":"IF(教学计划表!FQ43<>0,教学计划表!FW43,\"\")","v":""},{"$f":"IF(教学计划表!FQ43<>0,教学计划表!PR43,\"\")","v":""},{"$f":"OFFSET($HT$2,SMALL(IF($HT$2:$HT$72<>\"\",ROW($HT$2:$HT$72),\"\"),ROW(HT26))-2,0)","v":{"$error":"#NUM!"}},{"$f":"OFFSET($HU$2,SMALL(IF($HU$2:$HU$72<>\"\",ROW($HU$2:$HU$72),\"\"),ROW(HU26))-2,0)","v":{"$error":"#NUM!"}},{"$f":"OFFSET($HV$2,SMALL(IF($HV$2:$HV$72<>\"\",ROW($HV$2:$HV$72),\"\"),ROW(HV26))-2,0)","v":{"$error":"#NUM!"}},{"$f":"OFFSET($HW$2,SMALL(IF($HW$2:$HW$72<>\"\",ROW($HW$2:$HW$72),\"\"),ROW(HW26))-2,0)","v":{"$error":"#NUM!"}},{"$f":"OFFSET($HX$2,SMALL(IF($HX$2:$HX$72<>\"\",ROW($HX$2:$HX$72),\"\"),ROW(HX26))-2,0)","v":{"$error":"#NUM!"}},{"$f":"OFFSET($HY$2,SMALL(IF($HY$2:$HY$72<>\"\",ROW($HY$2:$HY$72),\"\"),ROW(HY26))-2,0)","v":{"$error":"#NUM!"}},{"$f":"OFFSET($HZ$2,SMALL(IF($HZ$2:$HZ$72<>\"\",ROW($HZ$2:$HZ$72),\"\"),ROW(HZ26))-2,0)","v":{"$error":"#NUM!"}},null,null,{"$f":"IF(AND(教学计划表!N43<>\"\",教学计划表!BE43<>\"\"),教学计划表!I43,\"\")","v":""},{"$f":"IF(教学计划表!BE43<>\"\",教学计划表!N43,\"\")","v":""},{"$f":"IF(IK27<>\"\",IF(SEARCH(\"5\",教学计划表!AB43&\"5\",1)<=LEN(教学计划表!AB43),\"考试\",\"考查\"),\"\")","v":""},{"$f":"IF(教学计划表!GL43<>0,教学计划表!GL43,\"\")","v":""},{"$f":"IF(教学计划表!GL43<>0,教学计划表!GQ43,\"\")","v":""},{"$f":"IF(教学计划表!GL43<>0,教学计划表!GR43,\"\")","v":""},{"$f":"IF(教学计划表!GL43<>0,教学计划表!QC43,\"\")","v":""},{"$f":"OFFSET($IJ$2,SMALL(IF($IJ$2:$IJ$72<>\"\",ROW($IJ$2:$IJ$72),\"\"),ROW(IJ26))-2,0)","v":{"$error":"#NUM!"}},{"$f":"OFFSET($IK$2,SMALL(IF($IK$2:$IK$72<>\"\",ROW($IK$2:$IK$72),\"\"),ROW(IK26))-2,0)","v":{"$error":"#NUM!"}},{"$f":"OFFSET($IL$2,SMALL(IF($IL$2:$IL$72<>\"\",ROW($IL$2:$IL$72),\"\"),ROW(IL26))-2,0)","v":{"$error":"#NUM!"}},{"$f":"OFFSET($IM$2,SMALL(IF($IM$2:$IM$72<>\"\",ROW($IM$2:$IM$72),\"\"),ROW(IM26))-2,0)","v":{"$error":"#NUM!"}},{"$f":"OFFSET($IN$2,SMALL(IF($IN$2:$IN$72<>\"\",ROW($IN$2:$IN$72),\"\"),ROW(IN26))-2,0)","v":{"$error":"#NUM!"}},{"$f":"OFFSET($IO$2,SMALL(IF($IO$2:$IO$72<>\"\",ROW($IO$2:$IO$72),\"\"),ROW(IO26))-2,0)","v":{"$error":"#NUM!"}},{"$f":"OFFSET($IP$2,SMALL(IF($IP$2:$IP$72<>\"\",ROW($IP$2:$IP$72),\"\"),ROW(IP26))-2,0)","v":{"$error":"#NUM!"}},null,{"$f":"IF(AND(教学计划表!N43<>\"\",教学计划表!BH43<>\"\"),教学计划表!I43,\"\")","v":""},{"$f":"IF(教学计划表!BH43<>\"\",教学计划表!N43,\"\")","v":""},{"$f":"IF(教学计划表!BH43<>\"\",IF(SEARCH(\"6\",教学计划表!AB43&\"6\",1)<=LEN(教学计划表!AB43),\"考试\",\"考查\"),\"\")","v":""},{"$f":"IF(教学计划表!BH43<>0,教学计划表!HG43,\"\")","v":""},{"$f":"IF(教学计划表!BH43<>0,教学计划表!HL43,\"\")","v":""},{"$f":"IF(教学计划表!BH43<>0,教学计划表!HM43,\"\")","v":""},{"$f":"IF(教学计划表!BH43<>0,教学计划表!QO43,\"\")","v":""},{"$f":"OFFSET($IY$2,SMALL(IF($IY$2:$IY$72<>\"\",ROW($IY$2:$IY$72),\"\"),ROW(IY26))-2,0)","v":{"$error":"#NUM!"}},{"$f":"OFFSET($IZ$2,SMALL(IF($IZ$2:$IZ$72<>\"\",ROW($IZ$2:$IZ$72),\"\"),ROW(IZ26))-2,0)","v":{"$error":"#NUM!"}},{"$f":"OFFSET($JA$2,SMALL(IF($JA$2:$JA$72<>\"\",ROW($JA$2:$JA$72),\"\"),ROW(JA26))-2,0)","v":{"$error":"#NUM!"}},{"$f":"OFFSET($JB$2,SMALL(IF($JB$2:$JB$72<>\"\",ROW($JB$2:$JB$72),\"\"),ROW(JB26))-2,0)","v":{"$error":"#NUM!"}},{"$f":"OFFSET($JC$2,SMALL(IF($JC$2:$JC$72<>\"\",ROW($JC$2:$JC$72),\"\"),ROW(JC26))-2,0)","v":{"$error":"#NUM!"}},{"$f":"OFFSET($JD$2,SMALL(IF($JD$2:$JD$72<>\"\",ROW($JD$2:$JD$72),\"\"),ROW(JD26))-2,0)","v":{"$error":"#NUM!"}},{"$f":"OFFSET($JE$2,SMALL(IF($JE$2:$JE$72<>\"\",ROW($JE$2:$JE$72),\"\"),ROW(JE26))-2,0)","v":{"$error":"#NUM!"}}]
["","","","","","","",null,"","","",{"$f":"IF(ISERROR(自动生成的开课信息!HB28),\"\",自动生成的开课信息!HB28)","v":""},{"$f":"IF(ISERROR(自动生成的开课信息!HC28),\"\",自动生成的开课信息!HC28)","v":""},{"$f":"IF(ISERROR(自动生成的开课信息!HD28),\"\",自动生成的开课信息!HD28)","v":""},{"$f":"IF(ISERROR(自动生成的开课信息!HE28),\"\",自动生成的开课信息!HE28)","v":""},null,"","","","","","","",null,"","","","","","","",null,"","","","","","","",null,"","","","","","","",null,null,null,null,null,null,null,null,null,null,null,null,null,null,null,null,null,null,null,null,null,null,null,null,null,null,null,null,null,null,null,null,null,null,null,null,null,null,null,null,null,null,null,null,null,null,null,null,null,null,null,null,null,null,null,null,null,null,null,null,null,null,null,null,null,null,null,null,null,null,null,null,null,null,null,null,null,null,null,null,null,null,null,null,null,null,null,null,null,null,null,null,null,null,null,null,null,null,null,null,null,null,null,null,null,null,null,null,null,null,null,null,null,null,null,null,null,null,null,null,null,null,null,null,null,null,null,null,null,null,null,null,null,null,null,null,null,null,{"$f":"IF(AND(教学计划表!N44<>\"\",教学计划表!AS44<>\"\"),教学计划表!I44,\"\")","v":""},{"$f":"IF(教学计划表!AS44<>\"\",教学计划表!N44,\"\")","v":""},{"$f":"IF(GE28<>\"\",IF(SEARCH(\"1\",教学计划表!AB44&\"1\",1)<=LEN(教学计划表!AB44),\"考试\",\"考查\"),\"\")","v":""},{"$f":"IF(教学计划表!DG44<>0,教学计划表!DG44,\"\")","v":""},{"$f":"IF(教学计划表!DG44<>0,教学计划表!DL44,\"\")","v":""},{"$f":"IF(教学计划表!DG44<>0,教学计划表!DM44,\"\")","v":""},{"$f":"IF(教学计划表!DG44<>0,教学计划表!OH44,\"\")","v":""},{"$f":"OFFSET($GD$2,SMALL(IF($GD$2:$GD$72<>\"\",ROW($2:$72),\"\"),ROW(GD27))-2,0)","v":{"$error":"#NUM!"}},{"$f":"OFFSET($GE$2,SMALL(IF($GE$2:$GE$72<>\"\",ROW($2:$72),\"\"),ROW(GE27))-2,0)","v":{"$error":"#NUM!"}},{"$f":"OFFSET($GF$2,SMALL(IF($GF$2:$GF$72<>\"\",ROW($2:$72),\"\"),ROW(GF27))-2,0)","v":{"$error":"#NUM!"}},{"$f":"OFFSET($GG$2,SMALL(IF($GG$2:$GG$72<>\"\",ROW($2:$72),\"\"),ROW(GG27))-2,0)","v":{"$error":"#NUM!"}},{"$f":"OFFSET($GH$2,SMALL(IF($GH$2:$GH$72<>\"\",ROW($2:$72),\"\"),ROW(GH27))-2,0)","v":{"$error":"#NUM!"}},{"$error":"#NUM!"},{"$f":"OFFSET($GJ$2,SMALL(IF($GJ$2:$GJ$72<>\"\",ROW($2:$72),\"\"),ROW(GJ27))-2,0)","v":{"$error":"#NUM!"}},{"$f":"IF(AND(教学计划表!N44<>\"\",教学计划表!AV44<>\"\"),教学计划表!I44,\"\")","v":""},{"$f":"IF(教学计划表!AV44<>\"\",教学计划表!N44,\"\")","v":""},{"$f":"IF(GS28<>\"\",IF(SEARCH(\"2\",教学计划表!AB44&\"2\",1)<=LEN(教学计划表!AB44),\"考试\",\"考查\"),\"\")","v":""},{"$f":"IF(教学计划表!EA44<>0,教学计划表!EA44,\"\")","v":""},{"$f":"IF(教学计划表!EA44<>0,教学计划表!EF44,\"\")","v":""},{"$f":"IF(教学计划表!EA44<>0,教学计划表!EG44,\"\")","v":""},{"$f":"IF(教学计划表!EA44<>0,教学计划表!OT44,\"\")","v":""},{"$f":"OFFSET($GR$2,SMALL(IF($GR$2:$GR$72<>\"\",ROW($I$2:$K$72),\"\"),ROW(GR27))-2,0)","v":{"$error":"#NUM!"}},{"$f":"OFFSET($GS$2,SMALL(IF($GS$2:$GS$72<>\"\",ROW($I$2:$K$72),\"\"),ROW(GS27))-2,0)","v":{"$error":"#NUM!"}},{"$f":"OFFSET($GT$2,SMALL(IF($GT$2:$GT$72<>\"\",ROW($I$2:$K$72),\"\"),ROW(GT27))-2,0)","v":{"$error":"#NUM!"}},{"$f":"OFFSET($GU$2,SMALL(IF($GU$2:$GU$72<>\"\",ROW($I$2:$K$72),\"\"),ROW(GU27))-2,0)","v":{"$error":"#NUM!"}},{"$f":"OFFSET($GV$2,SMALL(IF($GV$2:$GV$72<>\"\",ROW($GV$2:$GV$72),\"\"),ROW(GV27))-2,0)","v":{"$error":"#NUM!"}},{"$f":"OFFSET($GW$2,SMALL(IF($GW$2:$GW$72<>\"\",ROW($GW$2:$GW$72),\"\"),ROW(GW27))-2,0)","v":{"$error":"#NUM!"}},{"$f":"OFFSET($GX$2,SMALL(IF($GX$2:$GX$72<>\"\",ROW($GX$2:$GX$72),\"\"),ROW(GX27))-2,0)","v":{"$error":"#NUM!"}},{"$f":"IF(AND(教学计划表!N44<>\"\",教学计划表!AY44<>\"\"),教学计划表!I44,\"\")","v":""},{"$f":"IF(教学计划表!AY44<>\"\",教学计划表!N44,\"\")","v":""},{"$f":"IF(HG28<>\"\",IF(SEARCH(\"3\",教学计划表!AB44&\"3\",1)<=LEN(教学计划表!AB44),\"考试\",\"考查\"),\"\")","v":""},{"$f":"IF(教学计划表!EV44<>0,教学计划表!EV44,\"\")","v":""},{"$f":"IF(教学计划表!EV44<>0,教学计划表!FA44,\"\")","v":""},{"$f":"IF(教学计划表!EV44<>0,教学计划表!FB44,\"\")","v":""},{"$f":"IF(教学计划表!EV44<>0,教学计划表!PF44,\"\")","v":""},{"$f":"OFFSET($HF$2,SMALL(IF($HF$2:$HF$72<>\"\",ROW($HF$2:$HF$72),\"\"),ROW(HF27))-2,0)","v":{"$error":"#NUM!"}},{"$f":"OFFSET($HG$2,SMALL(IF($HG$2:$HG$72<>\"\",ROW($HG$2:$HG$72),\"\"),ROW(HG27))-2,0)","v":{"$error":"#NUM!"}},{"$f":"OFFSET($HH$2,SMALL(IF($HH$2:$HH$72<>\"\",ROW($HH$2:$HH$72),\"\"),ROW(HH27))-2,0)","v":{"$error":"#NUM!"}},{"$f":"OFFSET($HI$2,SMALL(IF($HI$2:$HI$72<>\"\",ROW($HI$2:$HI$72),\"\"),ROW(HI27))-2,0)","v":{"$error":"#NUM!"}},{"$f":"OFFSET($HJ$2,SMALL(IF($HJ$2:$HJ$72<>\"\",ROW($HJ$2:$HJ$72),\"\"),ROW(HJ27))-2,0)","v":{"$error":"#NUM!"}},{"$f":"OFFSET($HK$2,SMALL(IF($HK$2:$HK$72<>\"\",ROW($HK$2:$HK$72),\"\"),ROW(HK27))-2,0)","v":{"$error":"#NUM!"}},{"$f":"OFFSET($HL$2,SMALL(IF($HL$2:$HL$72<>\"\",ROW($HL$2:$HL$72),\"\"),ROW(HL27))-2,0)","v":{"$error":"#NUM!"}},{"$f":"IF(AND(教学计划表!N44<>\"\",教学计划表!BB44<>\"\"),教学计划表!I44,\"\")","v":""},{"$f":"IF(教学计划表!BB44<>\"\",教学计划表!N44,\"\")","v":""},{"$f":"IF(HU28<>\"\",IF(SEARCH(\"4\",教学计划表!AB44&\"4\",1)<=LEN(教学计划表!AB44),\"考试\",\"考查\"),\"\")","v":""},{"$f":"IF(教学计划表!FQ44<>0,教学计划表!FQ44,\"\")","v":""},{"$f":"IF(教学计划表!FQ44<>0,教学计划表!FV44,\"\")","v":""},{"$f":"IF(教学计划表!FQ44<>0,教学计划表!FW44,\"\")","v":""},{"$f":"IF(教学计划表!FQ44<>0,教学计划表!PR44,\"\")","v":""},{"$f":"OFFSET($HT$2,SMALL(IF($HT$2:$HT$72<>\"\",ROW($HT$2:$HT$72),\"\"),ROW(HT27))-2,0)","v":{"$error":"#NUM!"}},{"$f":"OFFSET($HU$2,SMALL(IF($HU$2:$HU$72<>\"\",ROW($HU$2:$HU$72),\"\"),ROW(HU27))-2,0)","v":{"$error":"#NUM!"}},{"$f":"OFFSET($HV$2,SMALL(IF($HV$2:$HV$72<>\"\",ROW($HV$2:$HV$72),\"\"),ROW(HV27))-2,0)","v":{"$error":"#NUM!"}},{"$f":"OFFSET($HW$2,SMALL(IF($HW$2:$HW$72<>\"\",ROW($HW$2:$HW$72),\"\"),ROW(HW27))-2,0)","v":{"$error":"#NUM!"}},{"$f":"OFFSET($HX$2,SMALL(IF($HX$2:$HX$72<>\"\",ROW($HX$2:$HX$72),\"\"),ROW(HX27))-2,0)","v":{"$error":"#NUM!"}},{"$f":"OFFSET($HY$2,SMALL(IF($HY$2:$HY$72<>\"\",ROW($HY$2:$HY$72),\"\"),ROW(HY27))-2,0)","v":{"$error":"#NUM!"}},{"$f":"OFFSET($HZ$2,SMALL(IF($HZ$2:$HZ$72<>\"\",ROW($HZ$2:$HZ$72),\"\"),ROW(HZ27))-2,0)","v":{"$error":"#NUM!"}},null,null,{"$f":"IF(AND(教学计划表!N44<>\"\",教学计划表!BE44<>\"\"),教学计划表!I44,\"\")","v":""},{"$f":"IF(教学计划表!BE44<>\"\",教学计划表!N44,\"\")","v":""},{"$f":"IF(IK28<>\"\",IF(SEARCH(\"5\",教学计划表!AB44&\"5\",1)<=LEN(教学计划表!AB44),\"考试\",\"考查\"),\"\")","v":""},{"$f":"IF(教学计划表!GL44<>0,教学计划表!GL44,\"\")","v":""},{"$f":"IF(教学计划表!GL44<>0,教学计划表!GQ44,\"\")","v":""},{"$f":"IF(教学计划表!GL44<>0,教学计划表!GR44,\"\")","v":""},{"$f":"IF(教学计划表!GL44<>0,教学计划表!QC44,\"\")","v":""},{"$f":"OFFSET($IJ$2,SMALL(IF($IJ$2:$IJ$72<>\"\",ROW($IJ$2:$IJ$72),\"\"),ROW(IJ27))-2,0)","v":{"$error":"#NUM!"}},{"$f":"OFFSET($IK$2,SMALL(IF($IK$2:$IK$72<>\"\",ROW($IK$2:$IK$72),\"\"),ROW(IK27))-2,0)","v":{"$error":"#NUM!"}},{"$f":"OFFSET($IL$2,SMALL(IF($IL$2:$IL$72<>\"\",ROW($IL$2:$IL$72),\"\"),ROW(IL27))-2,0)","v":{"$error":"#NUM!"}},{"$f":"OFFSET($IM$2,SMALL(IF($IM$2:$IM$72<>\"\",ROW($IM$2:$IM$72),\"\"),ROW(IM27))-2,0)","v":{"$error":"#NUM!"}},{"$f":"OFFSET($IN$2,SMALL(IF($IN$2:$IN$72<>\"\",ROW($IN$2:$IN$72),\"\"),ROW(IN27))-2,0)","v":{"$error":"#NUM!"}},{"$f":"OFFSET($IO$2,SMALL(IF($IO$2:$IO$72<>\"\",ROW($IO$2:$IO$72),\"\"),ROW(IO27))-2,0)","v":{"$error":"#NUM!"}},{"$f":"OFFSET($IP$2,SMALL(IF($IP$2:$IP$72<>\"\",ROW($IP$2:$IP$72),\"\"),ROW(IP27))-2,0)","v":{"$error":"#NUM!"}},null,{"$f":"IF(AND(教学计划表!N44<>\"\",教学计划表!BH44<>\"\"),教学计划表!I44,\"\")","v":""},{"$f":"IF(教学计划表!BH44<>\"\",教学计划表!N44,\"\")","v":""},{"$f":"IF(教学计划表!BH44<>\"\",IF(SEARCH(\"6\",教学计划表!AB44&\"6\",1)<=LEN(教学计划表!AB44),\"考试\",\"考查\"),\"\")","v":""},{"$f":"IF(教学计划表!BH44<>0,教学计划表!HG44,\"\")","v":""},{"$f":"IF(教学计划表!BH44<>0,教学计划表!HL44,\"\")","v":""},{"$f":"IF(教学计划表!BH44<>0,教学计划表!HM44,\"\")","v":""},{"$f":"IF(教学计划表!BH44<>0,教学计划表!QO44,\"\")","v":""},{"$f":"OFFSET($IY$2,SMALL(IF($IY$2:$IY$72<>\"\",ROW($IY$2:$IY$72),\"\"),ROW(IY27))-2,0)","v":{"$error":"#NUM!"}},{"$f":"OFFSET($IZ$2,SMALL(IF($IZ$2:$IZ$72<>\"\",ROW($IZ$2:$IZ$72),\"\"),ROW(IZ27))-2,0)","v":{"$error":"#NUM!"}},{"$f":"OFFSET($JA$2,SMALL(IF($JA$2:$JA$72<>\"\",ROW($JA$2:$JA$72),\"\"),ROW(JA27))-2,0)","v":{"$error":"#NUM!"}},{"$f":"OFFSET($JB$2,SMALL(IF($JB$2:$JB$72<>\"\",ROW($JB$2:$JB$72),\"\"),ROW(JB27))-2,0)","v":{"$error":"#NUM!"}},{"$f":"OFFSET($JC$2,SMALL(IF($JC$2:$JC$72<>\"\",ROW($JC$2:$JC$72),\"\"),ROW(JC27))-2,0)","v":{"$error":"#NUM!"}},{"$f":"OFFSET($JD$2,SMALL(IF($JD$2:$JD$72<>\"\",ROW($JD$2:$JD$72),\"\"),ROW(JD27))-2,0)","v":{"$error":"#NUM!"}},{"$f":"OFFSET($JE$2,SMALL(IF($JE$2:$JE$72<>\"\",ROW($JE$2:$JE$72),\"\"),ROW(JE27))-2,0)","v":{"$error":"#NUM!"}}]
["","","","","","","",null,"","","",{"$f":"IF(ISERROR(自动生成的开课信息!HB29),\"\",自动生成的开课信息!HB29)","v":""},{"$f":"IF(ISERROR(自动生成的开课信息!HC29),\"\",自动生成的开课信息!HC29)","v":""},{"$f":"IF(ISERROR(自动生成的开课信息!HD29),\"\",自动生成的开课信息!HD29)","v":""},{"$f":"IF(ISERROR(自动生成的开课信息!HE29),\"\",自动生成的开课信息!HE29)","v":""},null,"","","","","","","",null,"","","","","","","",null,"","","","","","","",null,"","","","","","","",null,null,null,null,null,null,null,null,null,null,null,null,null,null,null,null,null,null,null,null,null,null,null,null,null,null,null,null,null,null,null,null,null,null,null,null,null,null,null,null,null,null,null,null,null,null,null,null,null,null,null,null,null,null,null,null,null,null,null,null,null,null,null,null,null,null,null,null,null,null,null,null,null,null,null,null,null,null,null,null,null,null,null,null,null,null,null,null,null,null,null,null,null,null,null,null,null,null,null,null,null,null,null,null,null,null,null,null,null,null,null,null,null,null,null,null,null,null,null,null,null,null,null,null,null,null,null,null,null,null,null,null,null,null,null,null,null,null,{"$f":"IF(AND(教学计划表!N45<>\"\",教学计划表!AS45<>\"\"),教学计划表!I45,\"\")","v":""},{"$f":"IF(教学计划表!AS45<>\"\",教学计划表!N45,\"\")","v":""},{"$f":"IF(GE29<>\"\",IF(SEARCH(\"1\",教学计划表!AB45&\"1\",1)<=LEN(教学计划表!AB45),\"考试\",\"考查\"),\"\")","v":""},{"$f":"IF(教学计划表!DG45<>0,教学计划表!DG45,\"\")","v":""},{"$f":"IF(教学计划表!DG45<>0,教学计划表!DL45,\"\")","v":""},{"$f":"IF(教学计划表!DG45<>0,教学计划表!DM45,\"\")","v":""},{"$f":"IF(教学计划表!DG45<>0,教学计划表!OH45,\"\")","v":""},{"$f":"OFFSET($GD$2,SMALL(IF($GD$2:$GD$72<>\"\",ROW($2:$72),\"\"),ROW(GD28))-2,0)","v":{"$error":"#NUM!"}},{"$f":"OFFSET($GE$2,SMALL(IF($GE$2:$GE$72<>\"\",ROW($2:$72),\"\"),ROW(GE28))-2,0)","v":{"$error":"#NUM!"}},{"$f":"OFFSET($GF$2,SMALL(IF($GF$2:$GF$72<>\"\",ROW($2:$72),\"\"),ROW(GF28))-2,0)","v":{"$error":"#NUM!"}},{"$f":"OFFSET($GG$2,SMALL(IF($GG$2:$GG$72<>\"\",ROW($2:$72),\"\"),ROW(GG28))-2,0)","v":{"$error":"#NUM!"}},{"$f":"OFFSET($GH$2,SMALL(IF($GH$2:$GH$72<>\"\",ROW($2:$72),\"\"),ROW(GH28))-2,0)","v":{"$error":"#NUM!"}},{"$error":"#NUM!"},{"$f":"OFFSET($GJ$2,SMALL(IF($GJ$2:$GJ$72<>\"\",ROW($2:$72),\"\"),ROW(GJ28))-2,0)","v":{"$error":"#NUM!"}},{"$f":"IF(AND(教学计划表!N45<>\"\",教学计划表!AV45<>\"\"),教学计划表!I45,\"\")","v":""},{"$f":"IF(教学计划表!AV45<>\"\",教学计划表!N45,\"\")","v":""},{"$f":"IF(GS29<>\"\",IF(SEARCH(\"2\",教学计划表!AB45&\"2\",1)<=LEN(教学计划表!AB45),\"考试\",\"考查\"),\"\")","v":""},{"$f":"IF(教学计划表!EA45<>0,教学计划表!EA45,\"\")","v":""},{"$f":"IF(教学计划表!EA45<>0,教学计划表!EF45,\"\")","v":""},{"$f":"IF(教学计划表!EA45<>0,教学计划表!EG45,\"\")","v":""},{"$f":"IF(教学计划表!EA45<>0,教学计划表!OT45,\"\")","v":""},{"$f":"OFFSET($GR$2,SMALL(IF($GR$2:$GR$72<>\"\",ROW($I$2:$K$72),\"\"),ROW(GR28))-2,0)","v":{"$error":"#NUM!"}},{"$f":"OFFSET($GS$2,SMALL(IF($GS$2:$GS$72<>\"\",ROW($I$2:$K$72),\"\"),ROW(GS28))-2,0)","v":{"$error":"#NUM!"}},{"$f":"OFFSET($GT$2,SMALL(IF($GT$2:$GT$72<>\"\",ROW($I$2:$K$72),\"\"),ROW(GT28))-2,0)","v":{"$error":"#NUM!"}},{"$f":"OFFSET($GU$2,SMALL(IF($GU$2:$GU$72<>\"\",ROW($I$2:$K$72),\"\"),ROW(GU28))-2,0)","v":{"$error":"#NUM!"}},{"$f":"OFFSET($GV$2,SMALL(IF($GV$2:$GV$72<>\"\",ROW($GV$2:$GV$72),\"\"),ROW(GV28))-2,0)","v":{"$error":"#NUM!"}},{"$f":"OFFSET($GW$2,SMALL(IF($GW$2:$GW$72<>\"\",ROW($GW$2:$GW$72),\"\"),ROW(GW28))-2,0)","v":{"$error":"#NUM!"}},{"$f":"OFFSET($GX$2,SMALL(IF($GX$2:$GX$72<>\"\",ROW($GX$2:$GX$72),\"\"),ROW(GX28))-2,0)","v":{"$error":"#NUM!"}},{"$f":"IF(AND(教学计划表!N45<>\"\",教学计划表!AY45<>\"\"),教学计划表!I45,\"\")","v":""},{"$f":"IF(教学计划表!AY45<>\"\",教学计划表!N45,\"\")","v":""},{"$f":"IF(HG29<>\"\",IF(SEARCH(\"3\",教学计划表!AB45&\"3\",1)<=LEN(教学计划表!AB45),\"考试\",\"考查\"),\"\")","v":""},{"$f":"IF(教学计划表!EV45<>0,教学计划表!EV45,\"\")","v":""},{"$f":"IF(教学计划表!EV45<>0,教学计划表!FA45,\"\")","v":""},{"$f":"IF(教学计划表!EV45<>0,教学计划表!FB45,\"\")","v":""},{"$f":"IF(教学计划表!EV45<>0,教学计划表!PF45,\"\")","v":""},{"$f":"OFFSET($HF$2,SMALL(IF($HF$2:$HF$72<>\"\",ROW($HF$2:$HF$72),\"\"),ROW(HF28))-2,0)","v":{"$error":"#NUM!"}},{"$f":"OFFSET($HG$2,SMALL(IF($HG$2:$HG$72<>\"\",ROW($HG$2:$HG$72),\"\"),ROW(HG28))-2,0)","v":{"$error":"#NUM!"}},{"$f":"OFFSET($HH$2,SMALL(IF($HH$2:$HH$72<>\"\",ROW($HH$2:$HH$72),\"\"),ROW(HH28))-2,0)","v":{"$error":"#NUM!"}},{"$f":"OFFSET($HI$2,SMALL(IF($HI$2:$HI$72<>\"\",ROW($HI$2:$HI$72),\"\"),ROW(HI28))-2,0)","v":{"$error":"#NUM!"}},{"$f":"OFFSET($HJ$2,SMALL(IF($HJ$2:$HJ$72<>\"\",ROW($HJ$2:$HJ$72),\"\"),ROW(HJ28))-2,0)","v":{"$error":"#NUM!"}},{"$f":"OFFSET($HK$2,SMALL(IF($HK$2:$HK$72<>\"\",ROW($HK$2:$HK$72),\"\"),ROW(HK28))-2,0)","v":{"$error":"#NUM!"}},{"$f":"OFFSET($HL$2,SMALL(IF($HL$2:$HL$72<>\"\",ROW($HL$2:$HL$72),\"\"),ROW(HL28))-2,0)","v":{"$error":"#NUM!"}},{"$f":"IF(AND(教学计划表!N45<>\"\",教学计划表!BB45<>\"\"),教学计划表!I45,\"\")","v":""},{"$f":"IF(教学计划表!BB45<>\"\",教学计划表!N45,\"\")","v":""},{"$f":"IF(HU29<>\"\",IF(SEARCH(\"4\",教学计划表!AB45&\"4\",1)<=LEN(教学计划表!AB45),\"考试\",\"考查\"),\"\")","v":""},{"$f":"IF(教学计划表!FQ45<>0,教学计划表!FQ45,\"\")","v":""},{"$f":"IF(教学计划表!FQ45<>0,教学计划表!FV45,\"\")","v":""},{"$f":"IF(教学计划表!FQ45<>0,教学计划表!FW45,\"\")","v":""},{"$f":"IF(教学计划表!FQ45<>0,教学计划表!PR45,\"\")","v":""},{"$f":"OFFSET($HT$2,SMALL(IF($HT$2:$HT$72<>\"\",ROW($HT$2:$HT$72),\"\"),ROW(HT28))-2,0)","v":{"$error":"#NUM!"}},{"$f":"OFFSET($HU$2,SMALL(IF($HU$2:$HU$72<>\"\",ROW($HU$2:$HU$72),\"\"),ROW(HU28))-2,0)","v":{"$error":"#NUM!"}},{"$f":"OFFSET($HV$2,SMALL(IF($HV$2:$HV$72<>\"\",ROW($HV$2:$HV$72),\"\"),ROW(HV28))-2,0)","v":{"$error":"#NUM!"}},{"$f":"OFFSET($HW$2,SMALL(IF($HW$2:$HW$72<>\"\",ROW($HW$2:$HW$72),\"\"),ROW(HW28))-2,0)","v":{"$error":"#NUM!"}},{"$f":"OFFSET($HX$2,SMALL(IF($HX$2:$HX$72<>\"\",ROW($HX$2:$HX$72),\"\"),ROW(HX28))-2,0)","v":{"$error":"#NUM!"}},{"$f":"OFFSET($HY$2,SMALL(IF($HY$2:$HY$72<>\"\",ROW($HY$2:$HY$72),\"\"),ROW(HY28))-2,0)","v":{"$error":"#NUM!"}},{"$f":"OFFSET($HZ$2,SMALL(IF($HZ$2:$HZ$72<>\"\",ROW($HZ$2:$HZ$72),\"\"),ROW(HZ28))-2,0)","v":{"$error":"#NUM!"}},null,null,{"$f":"IF(AND(教学计划表!N45<>\"\",教学计划表!BE45<>\"\"),教学计划表!I45,\"\")","v":""},{"$f":"IF(教学计划表!BE45<>\"\",教学计划表!N45,\"\")","v":""},{"$f":"IF(IK29<>\"\",IF(SEARCH(\"5\",教学计划表!AB45&\"5\",1)<=LEN(教学计划表!AB45),\"考试\",\"考查\"),\"\")","v":""},{"$f":"IF(教学计划表!GL45<>0,教学计划表!GL45,\"\")","v":""},{"$f":"IF(教学计划表!GL45<>0,教学计划表!GQ45,\"\")","v":""},{"$f":"IF(教学计划表!GL45<>0,教学计划表!GR45,\"\")","v":""},{"$f":"IF(教学计划表!GL45<>0,教学计划表!QC45,\"\")","v":""},{"$f":"OFFSET($IJ$2,SMALL(IF($IJ$2:$IJ$72<>\"\",ROW($IJ$2:$IJ$72),\"\"),ROW(IJ28))-2,0)","v":{"$error":"#NUM!"}},{"$f":"OFFSET($IK$2,SMALL(IF($IK$2:$IK$72<>\"\",ROW($IK$2:$IK$72),\"\"),ROW(IK28))-2,0)","v":{"$error":"#NUM!"}},{"$f":"OFFSET($IL$2,SMALL(IF($IL$2:$IL$72<>\"\",ROW($IL$2:$IL$72),\"\"),ROW(IL28))-2,0)","v":{"$error":"#NUM!"}},{"$f":"OFFSET($IM$2,SMALL(IF($IM$2:$IM$72<>\"\",ROW($IM$2:$IM$72),\"\"),ROW(IM28))-2,0)","v":{"$error":"#NUM!"}},{"$f":"OFFSET($IN$2,SMALL(IF($IN$2:$IN$72<>\"\",ROW($IN$2:$IN$72),\"\"),ROW(IN28))-2,0)","v":{"$error":"#NUM!"}},{"$f":"OFFSET($IO$2,SMALL(IF($IO$2:$IO$72<>\"\",ROW($IO$2:$IO$72),\"\"),ROW(IO28))-2,0)","v":{"$error":"#NUM!"}},{"$f":"OFFSET($IP$2,SMALL(IF($IP$2:$IP$72<>\"\",ROW($IP$2:$IP$72),\"\"),ROW(IP28))-2,0)","v":{"$error":"#NUM!"}},null,{"$f":"IF(AND(教学计划表!N45<>\"\",教学计划表!BH45<>\"\"),教学计划表!I45,\"\")","v":""},{"$f":"IF(教学计划表!BH45<>\"\",教学计划表!N45,\"\")","v":""},{"$f":"IF(教学计划表!BH45<>\"\",IF(SEARCH(\"6\",教学计划表!AB45&\"6\",1)<=LEN(教学计划表!AB45),\"考试\",\"考查\"),\"\")","v":""},{"$f":"IF(教学计划表!BH45<>0,教学计划表!HG45,\"\")","v":""},{"$f":"IF(教学计划表!BH45<>0,教学计划表!HL45,\"\")","v":""},{"$f":"IF(教学计划表!BH45<>0,教学计划表!HM45,\"\")","v":""},{"$f":"IF(教学计划表!BH45<>0,教学计划表!QO45,\"\")","v":""},{"$f":"OFFSET($IY$2,SMALL(IF($IY$2:$IY$72<>\"\",ROW($IY$2:$IY$72),\"\"),ROW(IY28))-2,0)","v":{"$error":"#NUM!"}},{"$f":"OFFSET($IZ$2,SMALL(IF($IZ$2:$IZ$72<>\"\",ROW($IZ$2:$IZ$72),\"\"),ROW(IZ28))-2,0)","v":{"$error":"#NUM!"}},{"$f":"OFFSET($JA$2,SMALL(IF($JA$2:$JA$72<>\"\",ROW($JA$2:$JA$72),\"\"),ROW(JA28))-2,0)","v":{"$error":"#NUM!"}},{"$f":"OFFSET($JB$2,SMALL(IF($JB$2:$JB$72<>\"\",ROW($JB$2:$JB$72),\"\"),ROW(JB28))-2,0)","v":{"$error":"#NUM!"}},{"$f":"OFFSET($JC$2,SMALL(IF($JC$2:$JC$72<>\"\",ROW($JC$2:$JC$72),\"\"),ROW(JC28))-2,0)","v":{"$error":"#NUM!"}},{"$f":"OFFSET($JD$2,SMALL(IF($JD$2:$JD$72<>\"\",ROW($JD$2:$JD$72),\"\"),ROW(JD28))-2,0)","v":{"$error":"#NUM!"}},{"$f":"OFFSET($JE$2,SMALL(IF($JE$2:$JE$72<>\"\",ROW($JE$2:$JE$72),\"\"),ROW(JE28))-2,0)","v":{"$error":"#NUM!"}}]
["","","","","","","",null,"","","",{"$f":"IF(ISERROR(自动生成的开课信息!HB30),\"\",自动生成的开课信息!HB30)","v":""},{"$f":"IF(ISERROR(自动生成的开课信息!HC30),\"\",自动生成的开课信息!HC30)","v":""},{"$f":"IF(ISERROR(自动生成的开课信息!HD30),\"\",自动生成的开课信息!HD30)","v":""},{"$f":"IF(ISERROR(自动生成的开课信息!HE30),\"\",自动生成的开课信息!HE30)","v":""},null,"","","","","","","",null,"","","","","","","",null,"","","","","","","",null,"","","","","","","",null,null,null,null,null,null,null,null,null,null,null,null,null,null,null,null,null,null,null,null,null,null,null,null,null,null,null,null,null,null,null,null,null,null,null,null,null,null,null,null,null,null,null,null,null,null,null,null,null,null,null,null,null,null,null,null,null,null,null,null,null,null,null,null,null,null,null,null,null,null,null,null,null,null,null,null,null,null,null,null,null,null,null,null,null,null,null,null,null,null,null,null,null,null,null,null,null,null,null,null,null,null,null,null,null,null,null,null,null,null,null,null,null,null,null,null,null,null,null,null,null,null,null,null,null,null,null,null,null,null,null,null,null,null,null,null,null,null,{"$f":"IF(AND(教学计划表!N46<>\"\",教学计划表!AS46<>\"\"),教学计划表!I46,\"\")","v":""},{"$f":"IF(教学计划表!AS46<>\"\",教学计划表!N46,\"\")","v":""},{"$f":"IF(GE30<>\"\",IF(SEARCH(\"1\",教学计划表!AB46&\"1\",1)<=LEN(教学计划表!AB46),\"考试\",\"考查\"),\"\")","v":""},{"$f":"IF(教学计划表!DG46<>0,教学计划表!DG46,\"\")","v":""},{"$f":"IF(教学计划表!DG46<>0,教学计划表!DL46,\"\")","v":""},{"$f":"IF(教学计划表!DG46<>0,教学计划表!DM46,\"\")","v":""},{"$f":"IF(教学计划表!DG46<>0,教学计划表!OH46,\"\")","v":""},{"$f":"OFFSET($GD$2,SMALL(IF($GD$2:$GD$72<>\"\",ROW($2:$72),\"\"),ROW(GD29))-2,0)","v":{"$error":"#NUM!"}},{"$f":"OFFSET($GE$2,SMALL(IF($GE$2:$GE$72<>\"\",ROW($2:$72),\"\"),ROW(GE29))-2,0)","v":{"$error":"#NUM!"}},{"$f":"OFFSET($GF$2,SMALL(IF($GF$2:$GF$72<>\"\",ROW($2:$72),\"\"),ROW(GF29))-2,0)","v":{"$error":"#NUM!"}},{"$f":"OFFSET($GG$2,SMALL(IF($GG$2:$GG$72<>\"\",ROW($2:$72),\"\"),ROW(GG29))-2,0)","v":{"$error":"#NUM!"}},{"$f":"OFFSET($GH$2,SMALL(IF($GH$2:$GH$72<>\"\",ROW($2:$72),\"\"),ROW(GH29))-2,0)","v":{"$error":"#NUM!"}},{"$error":"#NUM!"},{"$f":"OFFSET($GJ$2,SMALL(IF($GJ$2:$GJ$72<>\"\",ROW($2:$72),\"\"),ROW(GJ29))-2,0)","v":{"$error":"#NUM!"}},{"$f":"IF(AND(教学计划表!N46<>\"\",教学计划表!AV46<>\"\"),教学计划表!I46,\"\")","v":""},{"$f":"IF(教学计划表!AV46<>\"\",教学计划表!N46,\"\")","v":""},{"$f":"IF(GS30<>\"\",IF(SEARCH(\"2\",教学计划表!AB46&\"2\",1)<=LEN(教学计划表!AB46),\"考试\",\"考查\"),\"\")","v":""},{"$f":"IF(教学计划表!EA46<>0,教学计划表!EA46,\"\")","v":""},{"$f":"IF(教学计划表!EA46<>0,教学计划表!EF46,\"\")","v":""},{"$f":"IF(教学计划表!EA46<>0,教学计划表!EG46,\"\")","v":""},{"$f":"IF(教学计划表!EA46<>0,教学计划表!OT46,\"\")","v":""},{"$f":"OFFSET($GR$2,SMALL(IF($GR$2:$GR$72<>\"\",ROW($I$2:$K$72),\"\"),ROW(GR29))-2,0)","v":{"$error":"#NUM!"}},{"$f":"OFFSET($GS$2,SMALL(IF($GS$2:$GS$72<>\"\",ROW($I$2:$K$72),\"\"),ROW(GS29))-2,0)","v":{"$error":"#NUM!"}},{"$f":"OFFSET($GT$2,SMALL(IF($GT$2:$GT$72<>\"\",ROW($I$2:$K$72),\"\"),ROW(GT29))-2,0)","v":{"$error":"#NUM!"}},{"$f":"OFFSET($GU$2,SMALL(IF($GU$2:$GU$72<>\"\",ROW($I$2:$K$72),\"\"),ROW(GU29))-2,0)","v":{"$error":"#NUM!"}},{"$f":"OFFSET($GV$2,SMALL(IF($GV$2:$GV$72<>\"\",ROW($GV$2:$GV$72),\"\"),ROW(GV29))-2,0)","v":{"$error":"#NUM!"}},{"$f":"OFFSET($GW$2,SMALL(IF($GW$2:$GW$72<>\"\",ROW($GW$2:$GW$72),\"\"),ROW(GW29))-2,0)","v":{"$error":"#NUM!"}},{"$f":"OFFSET($GX$2,SMALL(IF($GX$2:$GX$72<>\"\",ROW($GX$2:$GX$72),\"\"),ROW(GX29))-2,0)","v":{"$error":"#NUM!"}},{"$f":"IF(AND(教学计划表!N46<>\"\",教学计划表!AY46<>\"\"),教学计划表!I46,\"\")","v":""},{"$f":"IF(教学计划表!AY46<>\"\",教学计划表!N46,\"\")","v":""},{"$f":"IF(HG30<>\"\",IF(SEARCH(\"3\",教学计划表!AB46&\"3\",1)<=LEN(教学计划表!AB46),\"考试\",\"考查\"),\"\")","v":""},{"$f":"IF(教学计划表!EV46<>0,教学计划表!EV46,\"\")","v":""},{"$f":"IF(教学计划表!EV46<>0,教学计划表!FA46,\"\")","v":""},{"$f":"IF(教学计划表!EV46<>0,教学计划表!FB46,\"\")","v":""},{"$f":"IF(教学计划表!EV46<>0,教学计划表!PF46,\"\")","v":""},{"$f":"OFFSET($HF$2,SMALL(IF($HF$2:$HF$72<>\"\",ROW($HF$2:$HF$72),\"\"),ROW(HF29))-2,0)","v":{"$error":"#NUM!"}},{"$f":"OFFSET($HG$2,SMALL(IF($HG$2:$HG$72<>\"\",ROW($HG$2:$HG$72),\"\"),ROW(HG29))-2,0)","v":{"$error":"#NUM!"}},{"$f":"OFFSET($HH$2,SMALL(IF($HH$2:$HH$72<>\"\",ROW($HH$2:$HH$72),\"\"),ROW(HH29))-2,0)","v":{"$error":"#NUM!"}},{"$f":"OFFSET($HI$2,SMALL(IF($HI$2:$HI$72<>\"\",ROW($HI$2:$HI$72),\"\"),ROW(HI29))-2,0)","v":{"$error":"#NUM!"}},{"$f":"OFFSET($HJ$2,SMALL(IF($HJ$2:$HJ$72<>\"\",ROW($HJ$2:$HJ$72),\"\"),ROW(HJ29))-2,0)","v":{"$error":"#NUM!"}},{"$f":"OFFSET($HK$2,SMALL(IF($HK$2:$HK$72<>\"\",ROW($HK$2:$HK$72),\"\"),ROW(HK29))-2,0)","v":{"$error":"#NUM!"}},{"$f":"OFFSET($HL$2,SMALL(IF($HL$2:$HL$72<>\"\",ROW($HL$2:$HL$72),\"\"),ROW(HL29))-2,0)","v":{"$error":"#NUM!"}},{"$f":"IF(AND(教学计划表!N46<>\"\",教学计划表!BB46<>\"\"),教学计划表!I46,\"\")","v":""},{"$f":"IF(教学计划表!BB46<>\"\",教学计划表!N46,\"\")","v":""},{"$f":"IF(HU30<>\"\",IF(SEARCH(\"4\",教学计划表!AB46&\"4\",1)<=LEN(教学计划表!AB46),\"考试\",\"考查\"),\"\")","v":""},{"$f":"IF(教学计划表!FQ46<>0,教学计划表!FQ46,\"\")","v":""},{"$f":"IF(教学计划表!FQ46<>0,教学计划表!FV46,\"\")","v":""},{"$f":"IF(教学计划表!FQ46<>0,教学计划表!FW46,\"\")","v":""},{"$f":"IF(教学计划表!FQ46<>0,教学计划表!PR46,\"\")","v":""},{"$f":"OFFSET($HT$2,SMALL(IF($HT$2:$HT$72<>\"\",ROW($HT$2:$HT$72),\"\"),ROW(HT29))-2,0)","v":{"$error":"#NUM!"}},{"$f":"OFFSET($HU$2,SMALL(IF($HU$2:$HU$72<>\"\",ROW($HU$2:$HU$72),\"\"),ROW(HU29))-2,0)","v":{"$error":"#NUM!"}},{"$f":"OFFSET($HV$2,SMALL(IF($HV$2:$HV$72<>\"\",ROW($HV$2:$HV$72),\"\"),ROW(HV29))-2,0)","v":{"$error":"#NUM!"}},{"$f":"OFFSET($HW$2,SMALL(IF($HW$2:$HW$72<>\"\",ROW($HW$2:$HW$72),\"\"),ROW(HW29))-2,0)","v":{"$error":"#NUM!"}},{"$f":"OFFSET($HX$2,SMALL(IF($HX$2:$HX$72<>\"\",ROW($HX$2:$HX$72),\"\"),ROW(HX29))-2,0)","v":{"$error":"#NUM!"}},{"$f":"OFFSET($HY$2,SMALL(IF($HY$2:$HY$72<>\"\",ROW($HY$2:$HY$72),\"\"),ROW(HY29))-2,0)","v":{"$error":"#NUM!"}},{"$f":"OFFSET($HZ$2,SMALL(IF($HZ$2:$HZ$72<>\"\",ROW($HZ$2:$HZ$72),\"\"),ROW(HZ29))-2,0)","v":{"$error":"#NUM!"}},null,null,{"$f":"IF(AND(教学计划表!N46<>\"\",教学计划表!BE46<>\"\"),教学计划表!I46,\"\")","v":""},{"$f":"IF(教学计划表!BE46<>\"\",教学计划表!N46,\"\")","v":""},{"$f":"IF(IK30<>\"\",IF(SEARCH(\"5\",教学计划表!AB46&\"5\",1)<=LEN(教学计划表!AB46),\"考试\",\"考查\"),\"\")","v":""},{"$f":"IF(教学计划表!GL46<>0,教学计划表!GL46,\"\")","v":""},{"$f":"IF(教学计划表!GL46<>0,教学计划表!GQ46,\"\")","v":""},{"$f":"IF(教学计划表!GL46<>0,教学计划表!GR46,\"\")","v":""},{"$f":"IF(教学计划表!GL46<>0,教学计划表!QC46,\"\")","v":""},{"$f":"OFFSET($IJ$2,SMALL(IF($IJ$2:$IJ$72<>\"\",ROW($IJ$2:$IJ$72),\"\"),ROW(IJ29))-2,0)","v":{"$error":"#NUM!"}},{"$f":"OFFSET($IK$2,SMALL(IF($IK$2:$IK$72<>\"\",ROW($IK$2:$IK$72),\"\"),ROW(IK29))-2,0)","v":{"$error":"#NUM!"}},{"$f":"OFFSET($IL$2,SMALL(IF($IL$2:$IL$72<>\"\",ROW($IL$2:$IL$72),\"\"),ROW(IL29))-2,0)","v":{"$error":"#NUM!"}},{"$f":"OFFSET($IM$2,SMALL(IF($IM$2:$IM$72<>\"\",ROW($IM$2:$IM$72),\"\"),ROW(IM29))-2,0)","v":{"$error":"#NUM!"}},{"$f":"OFFSET($IN$2,SMALL(IF($IN$2:$IN$72<>\"\",ROW($IN$2:$IN$72),\"\"),ROW(IN29))-2,0)","v":{"$error":"#NUM!"}},{"$f":"OFFSET($IO$2,SMALL(IF($IO$2:$IO$72<>\"\",ROW($IO$2:$IO$72),\"\"),ROW(IO29))-2,0)","v":{"$error":"#NUM!"}},{"$f":"OFFSET($IP$2,SMALL(IF($IP$2:$IP$72<>\"\",ROW($IP$2:$IP$72),\"\"),ROW(IP29))-2,0)","v":{"$error":"#NUM!"}},null,{"$f":"IF(AND(教学计划表!N46<>\"\",教学计划表!BH46<>\"\"),教学计划表!I46,\"\")","v":""},{"$f":"IF(教学计划表!BH46<>\"\",教学计划表!N46,\"\")","v":""},{"$f":"IF(教学计划表!BH46<>\"\",IF(SEARCH(\"6\",教学计划表!AB46&\"6\",1)<=LEN(教学计划表!AB46),\"考试\",\"考查\"),\"\")","v":""},{"$f":"IF(教学计划表!BH46<>0,教学计划表!HG46,\"\")","v":""},{"$f":"IF(教学计划表!BH46<>0,教学计划表!HL46,\"\")","v":""},{"$f":"IF(教学计划表!BH46<>0,教学计划表!HM46,\"\")","v":""},{"$f":"IF(教学计划表!BH46<>0,教学计划表!QO46,\"\")","v":""},{"$f":"OFFSET($IY$2,SMALL(IF($IY$2:$IY$72<>\"\",ROW($IY$2:$IY$72),\"\"),ROW(IY29))-2,0)","v":{"$error":"#NUM!"}},{"$f":"OFFSET($IZ$2,SMALL(IF($IZ$2:$IZ$72<>\"\",ROW($IZ$2:$IZ$72),\"\"),ROW(IZ29))-2,0)","v":{"$error":"#NUM!"}},{"$f":"OFFSET($JA$2,SMALL(IF($JA$2:$JA$72<>\"\",ROW($JA$2:$JA$72),\"\"),ROW(JA29))-2,0)","v":{"$error":"#NUM!"}},{"$f":"OFFSET($JB$2,SMALL(IF($JB$2:$JB$72<>\"\",ROW($JB$2:$JB$72),\"\"),ROW(JB29))-2,0)","v":{"$error":"#NUM!"}},{"$f":"OFFSET($JC$2,SMALL(IF($JC$2:$JC$72<>\"\",ROW($JC$2:$JC$72),\"\"),ROW(JC29))-2,0)","v":{"$error":"#NUM!"}},{"$f":"OFFSET($JD$2,SMALL(IF($JD$2:$JD$72<>\"\",ROW($JD$2:$JD$72),\"\"),ROW(JD29))-2,0)","v":{"$error":"#NUM!"}},{"$f":"OFFSET($JE$2,SMALL(IF($JE$2:$JE$72<>\"\",ROW($JE$2:$JE$72),\"\"),ROW(JE29))-2,0)","v":{"$error":"#NUM!"}}]
["","","","","","","",null,"","","",{"$f":"IF(ISERROR(自动生成的开课信息!HB31),\"\",自动生成的开课信息!HB31)","v":""},{"$f":"IF(ISERROR(自动生成的开课信息!HC31),\"\",自动生成的开课信息!HC31)","v":""},{"$f":"IF(ISERROR(自动生成的开课信息!HD31),\"\",自动生成的开课信息!HD31)","v":""},{"$f":"IF(ISERROR(自动生成的开课信息!HE31),\"\",自动生成的开课信息!HE31)","v":""},null,"","","","","","","",null,"","","","","","","",null,"","","","","","","",null,"","","","","","","",null,null,null,null,null,null,null,null,null,null,null,null,null,null,null,null,null,null,null,null,null,null,null,null,null,null,null,null,null,null,null,null,null,null,null,null,null,null,null,null,null,null,null,null,null,null,null,null,null,null,null,null,null,null,null,null,null,null,null,null,null,null,null,null,null,null,null,null,null,null,null,null,null,null,null,null,null,null,null,null,null,null,null,null,null,null,null,null,null,null,null,null,null,null,null,null,null,null,null,null,null,null,null,null,null,null,null,null,null,null,null,null,null,null,null,null,null,null,null,null,null,null,null,null,null,null,null,null,null,null,null,null,null,null,null,null,null,null,{"$f":"IF(AND(教学计划表!N47<>\"\",教学计划表!AS47<>\"\"),教学计划表!I47,\"\")","v":""},{"$f":"IF(教学计划表!AS47<>\"\",教学计划表!N47,\"\")","v":""},{"$f":"IF(GE31<>\"\",IF(SEARCH(\"1\",教学计划表!AB47&\"1\",1)<=LEN(教学计划表!AB47),\"考试\",\"考查\"),\"\")","v":""},{"$f":"IF(教学计划表!DG47<>0,教学计划表!DG47,\"\")","v":""},{"$f":"IF(教学计划表!DG47<>0,教学计划表!DL47,\"\")","v":""},{"$f":"IF(教学计划表!DG47<>0,教学计划表!DM47,\"\")","v":""},{"$f":"IF(教学计划表!DG47<>0,教学计划表!OH47,\"\")","v":""},{"$f":"OFFSET($GD$2,SMALL(IF($GD$2:$GD$72<>\"\",ROW($2:$72),\"\"),ROW(GD30))-2,0)","v":{"$error":"#NUM!"}},{"$f":"OFFSET($GE$2,SMALL(IF($GE$2:$GE$72<>\"\",ROW($2:$72),\"\"),ROW(GE30))-2,0)","v":{"$error":"#NUM!"}},{"$f":"OFFSET($GF$2,SMALL(IF($GF$2:$GF$72<>\"\",ROW($2:$72),\"\"),ROW(GF30))-2,0)","v":{"$error":"#NUM!"}},{"$f":"OFFSET($GG$2,SMALL(IF($GG$2:$GG$72<>\"\",ROW($2:$72),\"\"),ROW(GG30))-2,0)","v":{"$error":"#NUM!"}},{"$f":"OFFSET($GH$2,SMALL(IF($GH$2:$GH$72<>\"\",ROW($2:$72),\"\"),ROW(GH30))-2,0)","v":{"$error":"#NUM!"}},{"$error":"#NUM!"},{"$f":"OFFSET($GJ$2,SMALL(IF($GJ$2:$GJ$72<>\"\",ROW($2:$72),\"\"),ROW(GJ30))-2,0)","v":{"$error":"#NUM!"}},{"$f":"IF(AND(教学计划表!N47<>\"\",教学计划表!AV47<>\"\"),教学计划表!I47,\"\")","v":""},{"$f":"IF(教学计划表!AV47<>\"\",教学计划表!N47,\"\")","v":""},{"$f":"IF(GS31<>\"\",IF(SEARCH(\"2\",教学计划表!AB47&\"2\",1)<=LEN(教学计划表!AB47),\"考试\",\"考查\"),\"\")","v":""},{"$f":"IF(教学计划表!EA47<>0,教学计划表!EA47,\"\")","v":""},{"$f":"IF(教学计划表!EA47<>0,教学计划表!EF47,\"\")","v":""},{"$f":"IF(教学计划表!EA47<>0,教学计划表!EG47,\"\")","v":""},{"$f":"IF(教学计划表!EA47<>0,教学计划表!OT47,\"\")","v":""},{"$f":"OFFSET($GR$2,SMALL(IF($GR$2:$GR$72<>\"\",ROW($I$2:$K$72),\"\"),ROW(GR30))-2,0)","v":{"$error":"#NUM!"}},{"$f":"OFFSET($GS$2,SMALL(IF($GS$2:$GS$72<>\"\",ROW($I$2:$K$72),\"\"),ROW(GS30))-2,0)","v":{"$error":"#NUM!"}},{"$f":"OFFSET($GT$2,SMALL(IF($GT$2:$GT$72<>\"\",ROW($I$2:$K$72),\"\"),ROW(GT30))-2,0)","v":{"$error":"#NUM!"}},{"$f":"OFFSET($GU$2,SMALL(IF($GU$2:$GU$72<>\"\",ROW($I$2:$K$72),\"\"),ROW(GU30))-2,0)","v":{"$error":"#NUM!"}},{"$f":"OFFSET($GV$2,SMALL(IF($GV$2:$GV$72<>\"\",ROW($GV$2:$GV$72),\"\"),ROW(GV30))-2,0)","v":{"$error":"#NUM!"}},{"$f":"OFFSET($GW$2,SMALL(IF($GW$2:$GW$72<>\"\",ROW($GW$2:$GW$72),\"\"),ROW(GW30))-2,0)","v":{"$error":"#NUM!"}},{"$f":"OFFSET($GX$2,SMALL(IF($GX$2:$GX$72<>\"\",ROW($GX$2:$GX$72),\"\"),ROW(GX30))-2,0)","v":{"$error":"#NUM!"}},{"$f":"IF(AND(教学计划表!N47<>\"\",教学计划表!AY47<>\"\"),教学计划表!I47,\"\")","v":""},{"$f":"IF(教学计划表!AY47<>\"\",教学计划表!N47,\"\")","v":""},{"$f":"IF(HG31<>\"\",IF(SEARCH(\"3\",教学计划表!AB47&\"3\",1)<=LEN(教学计划表!AB47),\"考试\",\"考查\"),\"\")","v":""},{"$f":"IF(教学计划表!EV47<>0,教学计划表!EV47,\"\")","v":""},{"$f":"IF(教学计划表!EV47<>0,教学计划表!FA47,\"\")","v":""},{"$f":"IF(教学计划表!EV47<>0,教学计划表!FB47,\"\")","v":""},{"$f":"IF(教学计划表!EV47<>0,教学计划表!PF47,\"\")","v":""},{"$f":"OFFSET($HF$2,SMALL(IF($HF$2:$HF$72<>\"\",ROW($HF$2:$HF$72),\"\"),ROW(HF30))-2,0)","v":{"$error":"#NUM!"}},{"$f":"OFFSET($HG$2,SMALL(IF($HG$2:$HG$72<>\"\",ROW($HG$2:$HG$72),\"\"),ROW(HG30))-2,0)","v":{"$error":"#NUM!"}},{"$f":"OFFSET($HH$2,SMALL(IF($HH$2:$HH$72<>\"\",ROW($HH$2:$HH$72),\"\"),ROW(HH30))-2,0)","v":{"$error":"#NUM!"}},{"$f":"OFFSET($HI$2,SMALL(IF($HI$2:$HI$72<>\"\",ROW($HI$2:$HI$72),\"\"),ROW(HI30))-2,0)","v":{"$error":"#NUM!"}},{"$f":"OFFSET($HJ$2,SMALL(IF($HJ$2:$HJ$72<>\"\",ROW($HJ$2:$HJ$72),\"\"),ROW(HJ30))-2,0)","v":{"$error":"#NUM!"}},{"$f":"OFFSET($HK$2,SMALL(IF($HK$2:$HK$72<>\"\",ROW($HK$2:$HK$72),\"\"),ROW(HK30))-2,0)","v":{"$error":"#NUM!"}},{"$f":"OFFSET($HL$2,SMALL(IF($HL$2:$HL$72<>\"\",ROW($HL$2:$HL$72),\"\"),ROW(HL30))-2,0)","v":{"$error":"#NUM!"}},{"$f":"IF(AND(教学计划表!N47<>\"\",教学计划表!BB47<>\"\"),教学计划表!I47,\"\")","v":""},{"$f":"IF(教学计划表!BB47<>\"\",教学计划表!N47,\"\")","v":""},{"$f":"IF(HU31<>\"\",IF(SEARCH(\"4\",教学计划表!AB47&\"4\",1)<=LEN(教学计划表!AB47),\"考试\",\"考查\"),\"\")","v":""},{"$f":"IF(教学计划表!FQ47<>0,教学计划表!FQ47,\"\")","v":""},{"$f":"IF(教学计划表!FQ47<>0,教学计划表!FV47,\"\")","v":""},{"$f":"IF(教学计划表!FQ47<>0,教学计划表!FW47,\"\")","v":""},{"$f":"IF(教学计划表!FQ47<>0,教学计划表!PR47,\"\")","v":""},{"$f":"OFFSET($HT$2,SMALL(IF($HT$2:$HT$72<>\"\",ROW($HT$2:$HT$72),\"\"),ROW(HT30))-2,0)","v":{"$error":"#NUM!"}},{"$f":"OFFSET($HU$2,SMALL(IF($HU$2:$HU$72<>\"\",ROW($HU$2:$HU$72),\"\"),ROW(HU30))-2,0)","v":{"$error":"#NUM!"}},{"$f":"OFFSET($HV$2,SMALL(IF($HV$2:$HV$72<>\"\",ROW($HV$2:$HV$72),\"\"),ROW(HV30))-2,0)","v":{"$error":"#NUM!"}},{"$f":"OFFSET($HW$2,SMALL(IF($HW$2:$HW$72<>\"\",ROW($HW$2:$HW$72),\"\"),ROW(HW30))-2,0)","v":{"$error":"#NUM!"}},{"$f":"OFFSET($HX$2,SMALL(IF($HX$2:$HX$72<>\"\",ROW($HX$2:$HX$72),\"\"),ROW(HX30))-2,0)","v":{"$error":"#NUM!"}},{"$f":"OFFSET($HY$2,SMALL(IF($HY$2:$HY$72<>\"\",ROW($HY$2:$HY$72),\"\"),ROW(HY30))-2,0)","v":{"$error":"#NUM!"}},{"$f":"OFFSET($HZ$2,SMALL(IF($HZ$2:$HZ$72<>\"\",ROW($HZ$2:$HZ$72),\"\"),ROW(HZ30))-2,0)","v":{"$error":"#NUM!"}},null,null,{"$f":"IF(AND(教学计划表!N47<>\"\",教学计划表!BE47<>\"\"),教学计划表!I47,\"\")","v":""},{"$f":"IF(教学计划表!BE47<>\"\",教学计划表!N47,\"\")","v":""},{"$f":"IF(IK31<>\"\",IF(SEARCH(\"5\",教学计划表!AB47&\"5\",1)<=LEN(教学计划表!AB47),\"考试\",\"考查\"),\"\")","v":""},{"$f":"IF(教学计划表!GL47<>0,教学计划表!GL47,\"\")","v":""},{"$f":"IF(教学计划表!GL47<>0,教学计划表!GQ47,\"\")","v":""},{"$f":"IF(教学计划表!GL47<>0,教学计划表!GR47,\"\")","v":""},{"$f":"IF(教学计划表!GL47<>0,教学计划表!QC47,\"\")","v":""},{"$f":"OFFSET($IJ$2,SMALL(IF($IJ$2:$IJ$72<>\"\",ROW($IJ$2:$IJ$72),\"\"),ROW(IJ30))-2,0)","v":{"$error":"#NUM!"}},{"$f":"OFFSET($IK$2,SMALL(IF($IK$2:$IK$72<>\"\",ROW($IK$2:$IK$72),\"\"),ROW(IK30))-2,0)","v":{"$error":"#NUM!"}},{"$f":"OFFSET($IL$2,SMALL(IF($IL$2:$IL$72<>\"\",ROW($IL$2:$IL$72),\"\"),ROW(IL30))-2,0)","v":{"$error":"#NUM!"}},{"$f":"OFFSET($IM$2,SMALL(IF($IM$2:$IM$72<>\"\",ROW($IM$2:$IM$72),\"\"),ROW(IM30))-2,0)","v":{"$error":"#NUM!"}},{"$f":"OFFSET($IN$2,SMALL(IF($IN$2:$IN$72<>\"\",ROW($IN$2:$IN$72),\"\"),ROW(IN30))-2,0)","v":{"$error":"#NUM!"}},{"$f":"OFFSET($IO$2,SMALL(IF($IO$2:$IO$72<>\"\",ROW($IO$2:$IO$72),\"\"),ROW(IO30))-2,0)","v":{"$error":"#NUM!"}},{"$f":"OFFSET($IP$2,SMALL(IF($IP$2:$IP$72<>\"\",ROW($IP$2:$IP$72),\"\"),ROW(IP30))-2,0)","v":{"$error":"#NUM!"}},null,{"$f":"IF(AND(教学计划表!N47<>\"\",教学计划表!BH47<>\"\"),教学计划表!I47,\"\")","v":""},{"$f":"IF(教学计划表!BH47<>\"\",教学计划表!N47,\"\")","v":""},{"$f":"IF(教学计划表!BH47<>\"\",IF(SEARCH(\"6\",教学计划表!AB47&\"6\",1)<=LEN(教学计划表!AB47),\"考试\",\"考查\"),\"\")","v":""},{"$f":"IF(教学计划表!BH47<>0,教学计划表!HG47,\"\")","v":""},{"$f":"IF(教学计划表!BH47<>0,教学计划表!HL47,\"\")","v":""},{"$f":"IF(教学计划表!BH47<>0,教学计划表!HM47,\"\")","v":""},{"$f":"IF(教学计划表!BH47<>0,教学计划表!QO47,\"\")","v":""},{"$f":"OFFSET($IY$2,SMALL(IF($IY$2:$IY$72<>\"\",ROW($IY$2:$IY$72),\"\"),ROW(IY30))-2,0)","v":{"$error":"#NUM!"}},{"$f":"OFFSET($IZ$2,SMALL(IF($IZ$2:$IZ$72<>\"\",ROW($IZ$2:$IZ$72),\"\"),ROW(IZ30))-2,0)","v":{"$error":"#NUM!"}},{"$f":"OFFSET($JA$2,SMALL(IF($JA$2:$JA$72<>\"\",ROW($JA$2:$JA$72),\"\"),ROW(JA30))-2,0)","v":{"$error":"#NUM!"}},{"$f":"OFFSET($JB$2,SMALL(IF($JB$2:$JB$72<>\"\",ROW($JB$2:$JB$72),\"\"),ROW(JB30))-2,0)","v":{"$error":"#NUM!"}},{"$f":"OFFSET($JC$2,SMALL(IF($JC$2:$JC$72<>\"\",ROW($JC$2:$JC$72),\"\"),ROW(JC30))-2,0)","v":{"$error":"#NUM!"}},{"$f":"OFFSET($JD$2,SMALL(IF($JD$2:$JD$72<>\"\",ROW($JD$2:$JD$72),\"\"),ROW(JD30))-2,0)","v":{"$error":"#NUM!"}},{"$f":"OFFSET($JE$2,SMALL(IF($JE$2:$JE$72<>\"\",ROW($JE$2:$JE$72),\"\"),ROW(JE30))-2,0)","v":{"$error":"#NUM!"}}]
["","","","","","","",null,"","","",{"$f":"IF(ISERROR(自动生成的开课信息!HB32),\"\",自动生成的开课信息!HB32)","v":""},{"$f":"IF(ISERROR(自动生成的开课信息!HC32),\"\",自动生成的开课信息!HC32)","v":""},{"$f":"IF(ISERROR(自动生成的开课信息!HD32),\"\",自动生成的开课信息!HD32)","v":""},{"$f":"IF(ISERROR(自动生成的开课信息!HE32),\"\",自动生成的开课信息!HE32)","v":""},null,"","","","","","","",null,"","","","","","","",null,"","","","","","","",null,"","","","","","","",null,null,null,null,null,null,null,null,null,null,null,null,null,null,null,null,null,null,null,null,null,null,null,null,null,null,null,null,null,null,null,null,null,null,null,null,null,null,null,null,null,null,null,null,null,null,null,null,null,null,null,null,null,null,null,null,null,null,null,null,null,null,null,null,null,null,null,null,null,null,null,null,null,null,null,null,null,null,null,null,null,null,null,null,null,null,null,null,null,null,null,null,null,null,null,null,null,null,null,null,null,null,null,null,null,null,null,null,null,null,null,null,null,null,null,null,null,null,null,null,null,null,null,null,null,null,null,null,null,null,null,null,null,null,null,null,null,null,{"$f":"IF(AND(教学计划表!N48<>\"\",教学计划表!AS48<>\"\"),教学计划表!I48,\"\")","v":""},{"$f":"IF(教学计划表!AS48<>\"\",教学计划表!N48,\"\")","v":""},{"$f":"IF(GE32<>\"\",IF(SEARCH(\"1\",教学计划表!AB48&\"1\",1)<=LEN(教学计划表!AB48),\"考试\",\"考查\"),\"\")","v":""},{"$f":"IF(教学计划表!DG48<>0,教学计划表!DG48,\"\")","v":""},{"$f":"IF(教学计划表!DG48<>0,教学计划表!DL48,\"\")","v":""},{"$f":"IF(教学计划表!DG48<>0,教学计划表!DM48,\"\")","v":""},{"$f":"IF(教学计划表!DG48<>0,教学计划表!OH48,\"\")","v":""},{"$f":"OFFSET($GD$2,SMALL(IF($GD$2:$GD$72<>\"\",ROW($2:$72),\"\"),ROW(GD31))-2,0)","v":{"$error":"#NUM!"}},{"$f":"OFFSET($GE$2,SMALL(IF($GE$2:$GE$72<>\"\",ROW($2:$72),\"\"),ROW(GE31))-2,0)","v":{"$error":"#NUM!"}},{"$f":"OFFSET($GF$2,SMALL(IF($GF$2:$GF$72<>\"\",ROW($2:$72),\"\"),ROW(GF31))-2,0)","v":{"$error":"#NUM!"}},{"$f":"OFFSET($GG$2,SMALL(IF($GG$2:$GG$72<>\"\",ROW($2:$72),\"\"),ROW(GG31))-2,0)","v":{"$error":"#NUM!"}},{"$f":"OFFSET($GH$2,SMALL(IF($GH$2:$GH$72<>\"\",ROW($2:$72),\"\"),ROW(GH31))-2,0)","v":{"$error":"#NUM!"}},{"$error":"#NUM!"},{"$f":"OFFSET($GJ$2,SMALL(IF($GJ$2:$GJ$72<>\"\",ROW($2:$72),\"\"),ROW(GJ31))-2,0)","v":{"$error":"#NUM!"}},{"$f":"IF(AND(教学计划表!N48<>\"\",教学计划表!AV48<>\"\"),教学计划表!I48,\"\")","v":""},{"$f":"IF(教学计划表!AV48<>\"\",教学计划表!N48,\"\")","v":""},{"$f":"IF(GS32<>\"\",IF(SEARCH(\"2\",教学计划表!AB48&\"2\",1)<=LEN(教学计划表!AB48),\"考试\",\"考查\"),\"\")","v":""},{"$f":"IF(教学计划表!EA48<>0,教学计划表!EA48,\"\")","v":""},{"$f":"IF(教学计划表!EA48<>0,教学计划表!EF48,\"\")","v":""},{"$f":"IF(教学计划表!EA48<>0,教学计划表!EG48,\"\")","v":""},{"$f":"IF(教学计划表!EA48<>0,教学计划表!OT48,\"\")","v":""},{"$f":"OFFSET($GR$2,SMALL(IF($GR$2:$GR$72<>\"\",ROW($I$2:$K$72),\"\"),ROW(GR31))-2,0)","v":{"$error":"#NUM!"}},{"$f":"OFFSET($GS$2,SMALL(IF($GS$2:$GS$72<>\"\",ROW($I$2:$K$72),\"\"),ROW(GS31))-2,0)","v":{"$error":"#NUM!"}},{"$f":"OFFSET($GT$2,SMALL(IF($GT$2:$GT$72<>\"\",ROW($I$2:$K$72),\"\"),ROW(GT31))-2,0)","v":{"$error":"#NUM!"}},{"$f":"OFFSET($GU$2,SMALL(IF($GU$2:$GU$72<>\"\",ROW($I$2:$K$72),\"\"),ROW(GU31))-2,0)","v":{"$error":"#NUM!"}},{"$f":"OFFSET($GV$2,SMALL(IF($GV$2:$GV$72<>\"\",ROW($GV$2:$GV$72),\"\"),ROW(GV31))-2,0)","v":{"$error":"#NUM!"}},{"$f":"OFFSET($GW$2,SMALL(IF($GW$2:$GW$72<>\"\",ROW($GW$2:$GW$72),\"\"),ROW(GW31))-2,0)","v":{"$error":"#NUM!"}},{"$f":"OFFSET($GX$2,SMALL(IF($GX$2:$GX$72<>\"\",ROW($GX$2:$GX$72),\"\"),ROW(GX31))-2,0)","v":{"$error":"#NUM!"}},{"$f":"IF(AND(教学计划表!N48<>\"\",教学计划表!AY48<>\"\"),教学计划表!I48,\"\")","v":""},{"$f":"IF(教学计划表!AY48<>\"\",教学计划表!N48,\"\")","v":""},{"$f":"IF(HG32<>\"\",IF(SEARCH(\"3\",教学计划表!AB48&\"3\",1)<=LEN(教学计划表!AB48),\"考试\",\"考查\"),\"\")","v":""},{"$f":"IF(教学计划表!EV48<>0,教学计划表!EV48,\"\")","v":""},{"$f":"IF(教学计划表!EV48<>0,教学计划表!FA48,\"\")","v":""},{"$f":"IF(教学计划表!EV48<>0,教学计划表!FB48,\"\")","v":""},{"$f":"IF(教学计划表!EV48<>0,教学计划表!PF48,\"\")","v":""},{"$f":"OFFSET($HF$2,SMALL(IF($HF$2:$HF$72<>\"\",ROW($HF$2:$HF$72),\"\"),ROW(HF31))-2,0)","v":{"$error":"#NUM!"}},{"$f":"OFFSET($HG$2,SMALL(IF($HG$2:$HG$72<>\"\",ROW($HG$2:$HG$72),\"\"),ROW(HG31))-2,0)","v":{"$error":"#NUM!"}},{"$f":"OFFSET($HH$2,SMALL(IF($HH$2:$HH$72<>\"\",ROW($HH$2:$HH$72),\"\"),ROW(HH31))-2,0)","v":{"$error":"#NUM!"}},{"$f":"OFFSET($HI$2,SMALL(IF($HI$2:$HI$72<>\"\",ROW($HI$2:$HI$72),\"\"),ROW(HI31))-2,0)","v":{"$error":"#NUM!"}},{"$f":"OFFSET($HJ$2,SMALL(IF($HJ$2:$HJ$72<>\"\",ROW($HJ$2:$HJ$72),\"\"),ROW(HJ31))-2,0)","v":{"$error":"#NUM!"}},{"$f":"OFFSET($HK$2,SMALL(IF($HK$2:$HK$72<>\"\",ROW($HK$2:$HK$72),\"\"),ROW(HK31))-2,0)","v":{"$error":"#NUM!"}},{"$f":"OFFSET($HL$2,SMALL(IF($HL$2:$HL$72<>\"\",ROW($HL$2:$HL$72),\"\"),ROW(HL31))-2,0)","v":{"$error":"#NUM!"}},{"$f":"IF(AND(教学计划表!N48<>\"\",教学计划表!BB48<>\"\"),教学计划表!I48,\"\")","v":""},{"$f":"IF(教学计划表!BB48<>\"\",教学计划表!N48,\"\")","v":""},{"$f":"IF(HU32<>\"\",IF(SEARCH(\"4\",教学计划表!AB48&\"4\",1)<=LEN(教学计划表!AB48),\"考试\",\"考查\"),\"\")","v":""},{"$f":"IF(教学计划表!FQ48<>0,教学计划表!FQ48,\"\")","v":""},{"$f":"IF(教学计划表!FQ48<>0,教学计划表!FV48,\"\")","v":""},{"$f":"IF(教学计划表!FQ48<>0,教学计划表!FW48,\"\")","v":""},{"$f":"IF(教学计划表!FQ48<>0,教学计划表!PR48,\"\")","v":""},{"$f":"OFFSET($HT$2,SMALL(IF($HT$2:$HT$72<>\"\",ROW($HT$2:$HT$72),\"\"),ROW(HT31))-2,0)","v":{"$error":"#NUM!"}},{"$f":"OFFSET($HU$2,SMALL(IF($HU$2:$HU$72<>\"\",ROW($HU$2:$HU$72),\"\"),ROW(HU31))-2,0)","v":{"$error":"#NUM!"}},{"$f":"OFFSET($HV$2,SMALL(IF($HV$2:$HV$72<>\"\",ROW($HV$2:$HV$72),\"\"),ROW(HV31))-2,0)","v":{"$error":"#NUM!"}},{"$f":"OFFSET($HW$2,SMALL(IF($HW$2:$HW$72<>\"\",ROW($HW$2:$HW$72),\"\"),ROW(HW31))-2,0)","v":{"$error":"#NUM!"}},{"$f":"OFFSET($HX$2,SMALL(IF($HX$2:$HX$72<>\"\",ROW($HX$2:$HX$72),\"\"),ROW(HX31))-2,0)","v":{"$error":"#NUM!"}},{"$f":"OFFSET($HY$2,SMALL(IF($HY$2:$HY$72<>\"\",ROW($HY$2:$HY$72),\"\"),ROW(HY31))-2,0)","v":{"$error":"#NUM!"}},{"$f":"OFFSET($HZ$2,SMALL(IF($HZ$2:$HZ$72<>\"\",ROW($HZ$2:$HZ$72),\"\"),ROW(HZ31))-2,0)","v":{"$error":"#NUM!"}},null,null,{"$f":"IF(AND(教学计划表!N48<>\"\",教学计划表!BE48<>\"\"),教学计划表!I48,\"\")","v":""},{"$f":"IF(教学计划表!BE48<>\"\",教学计划表!N48,\"\")","v":""},{"$f":"IF(IK32<>\"\",IF(SEARCH(\"5\",教学计划表!AB48&\"5\",1)<=LEN(教学计划表!AB48),\"考试\",\"考查\"),\"\")","v":""},{"$f":"IF(教学计划表!GL48<>0,教学计划表!GL48,\"\")","v":""},{"$f":"IF(教学计划表!GL48<>0,教学计划表!GQ48,\"\")","v":""},{"$f":"IF(教学计划表!GL48<>0,教学计划表!GR48,\"\")","v":""},{"$f":"IF(教学计划表!GL48<>0,教学计划表!QC48,\"\")","v":""},{"$f":"OFFSET($IJ$2,SMALL(IF($IJ$2:$IJ$72<>\"\",ROW($IJ$2:$IJ$72),\"\"),ROW(IJ31))-2,0)","v":{"$error":"#NUM!"}},{"$f":"OFFSET($IK$2,SMALL(IF($IK$2:$IK$72<>\"\",ROW($IK$2:$IK$72),\"\"),ROW(IK31))-2,0)","v":{"$error":"#NUM!"}},{"$f":"OFFSET($IL$2,SMALL(IF($IL$2:$IL$72<>\"\",ROW($IL$2:$IL$72),\"\"),ROW(IL31))-2,0)","v":{"$error":"#NUM!"}},{"$f":"OFFSET($IM$2,SMALL(IF($IM$2:$IM$72<>\"\",ROW($IM$2:$IM$72),\"\"),ROW(IM31))-2,0)","v":{"$error":"#NUM!"}},{"$f":"OFFSET($IN$2,SMALL(IF($IN$2:$IN$72<>\"\",ROW($IN$2:$IN$72),\"\"),ROW(IN31))-2,0)","v":{"$error":"#NUM!"}},{"$f":"OFFSET($IO$2,SMALL(IF($IO$2:$IO$72<>\"\",ROW($IO$2:$IO$72),\"\"),ROW(IO31))-2,0)","v":{"$error":"#NUM!"}},{"$f":"OFFSET($IP$2,SMALL(IF($IP$2:$IP$72<>\"\",ROW($IP$2:$IP$72),\"\"),ROW(IP31))-2,0)","v":{"$error":"#NUM!"}},null,{"$f":"IF(AND(教学计划表!N48<>\"\",教学计划表!BH48<>\"\"),教学计划表!I48,\"\")","v":""},{"$f":"IF(教学计划表!BH48<>\"\",教学计划表!N48,\"\")","v":""},{"$f":"IF(教学计划表!BH48<>\"\",IF(SEARCH(\"6\",教学计划表!AB48&\"6\",1)<=LEN(教学计划表!AB48),\"考试\",\"考查\"),\"\")","v":""},{"$f":"IF(教学计划表!BH48<>0,教学计划表!HG48,\"\")","v":""},{"$f":"IF(教学计划表!BH48<>0,教学计划表!HL48,\"\")","v":""},{"$f":"IF(教学计划表!BH48<>0,教学计划表!HM48,\"\")","v":""},{"$f":"IF(教学计划表!BH48<>0,教学计划表!QO48,\"\")","v":""},{"$f":"OFFSET($IY$2,SMALL(IF($IY$2:$IY$72<>\"\",ROW($IY$2:$IY$72),\"\"),ROW(IY31))-2,0)","v":{"$error":"#NUM!"}},{"$f":"OFFSET($IZ$2,SMALL(IF($IZ$2:$IZ$72<>\"\",ROW($IZ$2:$IZ$72),\"\"),ROW(IZ31))-2,0)","v":{"$error":"#NUM!"}},{"$f":"OFFSET($JA$2,SMALL(IF($JA$2:$JA$72<>\"\",ROW($JA$2:$JA$72),\"\"),ROW(JA31))-2,0)","v":{"$error":"#NUM!"}},{"$f":"OFFSET($JB$2,SMALL(IF($JB$2:$JB$72<>\"\",ROW($JB$2:$JB$72),\"\"),ROW(JB31))-2,0)","v":{"$error":"#NUM!"}},{"$f":"OFFSET($JC$2,SMALL(IF($JC$2:$JC$72<>\"\",ROW($JC$2:$JC$72),\"\"),ROW(JC31))-2,0)","v":{"$error":"#NUM!"}},{"$f":"OFFSET($JD$2,SMALL(IF($JD$2:$JD$72<>\"\",ROW($JD$2:$JD$72),\"\"),ROW(JD31))-2,0)","v":{"$error":"#NUM!"}},{"$f":"OFFSET($JE$2,SMALL(IF($JE$2:$JE$72<>\"\",ROW($JE$2:$JE$72),\"\"),ROW(JE31))-2,0)","v":{"$error":"#NUM!"}}]
["","","","","","","",null,"","","",{"$f":"IF(ISERROR(自动生成的开课信息!HB33),\"\",自动生成的开课信息!HB33)","v":""},{"$f":"IF(ISERROR(自动生成的开课信息!HC33),\"\",自动生成的开课信息!HC33)","v":""},{"$f":"IF(ISERROR(自动生成的开课信息!HD33),\"\",自动生成的开课信息!HD33)","v":""},{"$f":"IF(ISERROR(自动生成的开课信息!HE33),\"\",自动生成的开课信息!HE33)","v":""},null,"","","","","","","",null,"","","","","","","",null,"","","","","","","",null,"","","","","","","",null,null,null,null,null,null,null,null,null,null,null,null,null,null,null,null,null,null,null,null,null,null,null,null,null,null,null,null,null,null,null,null,null,null,null,null,null,null,null,null,null,null,null,null,null,null,null,null,null,null,null,null,null,null,null,null,null,null,null,null,null,null,null,null,null,null,null,null,null,null,null,null,null,null,null,null,null,null,null,null,null,null,null,null,null,null,null,null,null,null,null,null,null,null,null,null,null,null,null,null,null,null,null,null,null,null,null,null,null,null,null,null,null,null,null,null,null,null,null,null,null,null,null,null,null,null,null,null,null,null,null,null,null,null,null,null,null,null,{"$f":"IF(AND(教学计划表!N49<>\"\",教学计划表!AS49<>\"\"),教学计划表!I49,\"\")","v":""},{"$f":"IF(教学计划表!AS49<>\"\",教学计划表!N49,\"\")","v":""},{"$f":"IF(GE33<>\"\",IF(SEARCH(\"1\",教学计划表!AB49&\"1\",1)<=LEN(教学计划表!AB49),\"考试\",\"考查\"),\"\")","v":""},{"$f":"IF(教学计划表!DG49<>0,教学计划表!DG49,\"\")","v":""},{"$f":"IF(教学计划表!DG49<>0,教学计划表!DL49,\"\")","v":""},{"$f":"IF(教学计划表!DG49<>0,教学计划表!DM49,\"\")","v":""},{"$f":"IF(教学计划表!DG49<>0,教学计划表!OH49,\"\")","v":""},{"$f":"OFFSET($GD$2,SMALL(IF($GD$2:$GD$72<>\"\",ROW($2:$72),\"\"),ROW(GD32))-2,0)","v":{"$error":"#NUM!"}},{"$f":"OFFSET($GE$2,SMALL(IF($GE$2:$GE$72<>\"\",ROW($2:$72),\"\"),ROW(GE32))-2,0)","v":{"$error":"#NUM!"}},{"$f":"OFFSET($GF$2,SMALL(IF($GF$2:$GF$72<>\"\",ROW($2:$72),\"\"),ROW(GF32))-2,0)","v":{"$error":"#NUM!"}},{"$f":"OFFSET($GG$2,SMALL(IF($GG$2:$GG$72<>\"\",ROW($2:$72),\"\"),ROW(GG32))-2,0)","v":{"$error":"#NUM!"}},{"$f":"OFFSET($GH$2,SMALL(IF($GH$2:$GH$72<>\"\",ROW($2:$72),\"\"),ROW(GH32))-2,0)","v":{"$error":"#NUM!"}},{"$error":"#NUM!"},{"$f":"OFFSET($GJ$2,SMALL(IF($GJ$2:$GJ$72<>\"\",ROW($2:$72),\"\"),ROW(GJ32))-2,0)","v":{"$error":"#NUM!"}},{"$f":"IF(AND(教学计划表!N49<>\"\",教学计划表!AV49<>\"\"),教学计划表!I49,\"\")","v":""},{"$f":"IF(教学计划表!AV49<>\"\",教学计划表!N49,\"\")","v":""},{"$f":"IF(GS33<>\"\",IF(SEARCH(\"2\",教学计划表!AB49&\"2\",1)<=LEN(教学计划表!AB49),\"考试\",\"考查\"),\"\")","v":""},{"$f":"IF(教学计划表!EA49<>0,教学计划表!EA49,\"\")","v":""},{"$f":"IF(教学计划表!EA49<>0,教学计划表!EF49,\"\")","v":""},{"$f":"IF(教学计划表!EA49<>0,教学计划表!EG49,\"\")","v":""},{"$f":"IF(教学计划表!EA49<>0,教学计划表!OT49,\"\")","v":""},{"$f":"OFFSET($GR$2,SMALL(IF($GR$2:$GR$72<>\"\",ROW($I$2:$K$72),\"\"),ROW(GR32))-2,0)","v":{"$error":"#NUM!"}},{"$f":"OFFSET($GS$2,SMALL(IF($GS$2:$GS$72<>\"\",ROW($I$2:$K$72),\"\"),ROW(GS32))-2,0)","v":{"$error":"#NUM!"}},{"$f":"OFFSET($GT$2,SMALL(IF($GT$2:$GT$72<>\"\",ROW($I$2:$K$72),\"\"),ROW(GT32))-2,0)","v":{"$error":"#NUM!"}},{"$f":"OFFSET($GU$2,SMALL(IF($GU$2:$GU$72<>\"\",ROW($I$2:$K$72),\"\"),ROW(GU32))-2,0)","v":{"$error":"#NUM!"}},{"$f":"OFFSET($GV$2,SMALL(IF($GV$2:$GV$72<>\"\",ROW($GV$2:$GV$72),\"\"),ROW(GV32))-2,0)","v":{"$error":"#NUM!"}},{"$f":"OFFSET($GW$2,SMALL(IF($GW$2:$GW$72<>\"\",ROW($GW$2:$GW$72),\"\"),ROW(GW32))-2,0)","v":{"$error":"#NUM!"}},{"$f":"OFFSET($GX$2,SMALL(IF($GX$2:$GX$72<>\"\",ROW($GX$2:$GX$72),\"\"),ROW(GX32))-2,0)","v":{"$error":"#NUM!"}},{"$f":"IF(AND(教学计划表!N49<>\"\",教学计划表!AY49<>\"\"),教学计划表!I49,\"\")","v":""},{"$f":"IF(教学计划表!AY49<>\"\",教学计划表!N49,\"\")","v":""},{"$f":"IF(HG33<>\"\",IF(SEARCH(\"3\",教学计划表!AB49&\"3\",1)<=LEN(教学计划表!AB49),\"考试\",\"考查\"),\"\")","v":""},{"$f":"IF(教学计划表!EV49<>0,教学计划表!EV49,\"\")","v":""},{"$f":"IF(教学计划表!EV49<>0,教学计划表!FA49,\"\")","v":""},{"$f":"IF(教学计划表!EV49<>0,教学计划表!FB49,\"\")","v":""},{"$f":"IF(教学计划表!EV49<>0,教学计划表!PF49,\"\")","v":""},{"$f":"OFFSET($HF$2,SMALL(IF($HF$2:$HF$72<>\"\",ROW($HF$2:$HF$72),\"\"),ROW(HF32))-2,0)","v":{"$error":"#NUM!"}},{"$f":"OFFSET($HG$2,SMALL(IF($HG$2:$HG$72<>\"\",ROW($HG$2:$HG$72),\"\"),ROW(HG32))-2,0)","v":{"$error":"#NUM!"}},{"$f":"OFFSET($HH$2,SMALL(IF($HH$2:$HH$72<>\"\",ROW($HH$2:$HH$72),\"\"),ROW(HH32))-2,0)","v":{"$error":"#NUM!"}},{"$f":"OFFSET($HI$2,SMALL(IF($HI$2:$HI$72<>\"\",ROW($HI$2:$HI$72),\"\"),ROW(HI32))-2,0)","v":{"$error":"#NUM!"}},{"$f":"OFFSET($HJ$2,SMALL(IF($HJ$2:$HJ$72<>\"\",ROW($HJ$2:$HJ$72),\"\"),ROW(HJ32))-2,0)","v":{"$error":"#NUM!"}},{"$f":"OFFSET($HK$2,SMALL(IF($HK$2:$HK$72<>\"\",ROW($HK$2:$HK$72),\"\"),ROW(HK32))-2,0)","v":{"$error":"#NUM!"}},{"$f":"OFFSET($HL$2,SMALL(IF($HL$2:$HL$72<>\"\",ROW($HL$2:$HL$72),\"\"),ROW(HL32))-2,0)","v":{"$error":"#NUM!"}},{"$f":"IF(AND(教学计划表!N49<>\"\",教学计划表!BB49<>\"\"),教学计划表!I49,\"\")","v":""},{"$f":"IF(教学计划表!BB49<>\"\",教学计划表!N49,\"\")","v":""},{"$f":"IF(HU33<>\"\",IF(SEARCH(\"4\",教学计划表!AB49&\"4\",1)<=LEN(教学计划表!AB49),\"考试\",\"考查\"),\"\")","v":""},{"$f":"IF(教学计划表!FQ49<>0,教学计划表!FQ49,\"\")","v":""},{"$f":"IF(教学计划表!FQ49<>0,教学计划表!FV49,\"\")","v":""},{"$f":"IF(教学计划表!FQ49<>0,教学计划表!FW49,\"\")","v":""},{"$f":"IF(教学计划表!FQ49<>0,教学计划表!PR49,\"\")","v":""},{"$f":"OFFSET($HT$2,SMALL(IF($HT$2:$HT$72<>\"\",ROW($HT$2:$HT$72),\"\"),ROW(HT32))-2,0)","v":{"$error":"#NUM!"}},{"$f":"OFFSET($HU$2,SMALL(IF($HU$2:$HU$72<>\"\",ROW($HU$2:$HU$72),\"\"),ROW(HU32))-2,0)","v":{"$error":"#NUM!"}},{"$f":"OFFSET($HV$2,SMALL(IF($HV$2:$HV$72<>\"\",ROW($HV$2:$HV$72),\"\"),ROW(HV32))-2,0)","v":{"$error":"#NUM!"}},{"$f":"OFFSET($HW$2,SMALL(IF($HW$2:$HW$72<>\"\",ROW($HW$2:$HW$72),\"\"),ROW(HW32))-2,0)","v":{"$error":"#NUM!"}},{"$f":"OFFSET($HX$2,SMALL(IF($HX$2:$HX$72<>\"\",ROW($HX$2:$HX$72),\"\"),ROW(HX32))-2,0)","v":{"$error":"#NUM!"}},{"$f":"OFFSET($HY$2,SMALL(IF($HY$2:$HY$72<>\"\",ROW($HY$2:$HY$72),\"\"),ROW(HY32))-2,0)","v":{"$error":"#NUM!"}},{"$f":"OFFSET($HZ$2,SMALL(IF($HZ$2:$HZ$72<>\"\",ROW($HZ$2:$HZ$72),\"\"),ROW(HZ32))-2,0)","v":{"$error":"#NUM!"}},null,null,{"$f":"IF(AND(教学计划表!N49<>\"\",教学计划表!BE49<>\"\"),教学计划表!I49,\"\")","v":""},{"$f":"IF(教学计划表!BE49<>\"\",教学计划表!N49,\"\")","v":""},{"$f":"IF(IK33<>\"\",IF(SEARCH(\"5\",教学计划表!AB49&\"5\",1)<=LEN(教学计划表!AB49),\"考试\",\"考查\"),\"\")","v":""},{"$f":"IF(教学计划表!GL49<>0,教学计划表!GL49,\"\")","v":""},{"$f":"IF(教学计划表!GL49<>0,教学计划表!GQ49,\"\")","v":""},{"$f":"IF(教学计划表!GL49<>0,教学计划表!GR49,\"\")","v":""},{"$f":"IF(教学计划表!GL49<>0,教学计划表!QC49,\"\")","v":""},{"$f":"OFFSET($IJ$2,SMALL(IF($IJ$2:$IJ$72<>\"\",ROW($IJ$2:$IJ$72),\"\"),ROW(IJ32))-2,0)","v":{"$error":"#NUM!"}},{"$f":"OFFSET($IK$2,SMALL(IF($IK$2:$IK$72<>\"\",ROW($IK$2:$IK$72),\"\"),ROW(IK32))-2,0)","v":{"$error":"#NUM!"}},{"$f":"OFFSET($IL$2,SMALL(IF($IL$2:$IL$72<>\"\",ROW($IL$2:$IL$72),\"\"),ROW(IL32))-2,0)","v":{"$error":"#NUM!"}},{"$f":"OFFSET($IM$2,SMALL(IF($IM$2:$IM$72<>\"\",ROW($IM$2:$IM$72),\"\"),ROW(IM32))-2,0)","v":{"$error":"#NUM!"}},{"$f":"OFFSET($IN$2,SMALL(IF($IN$2:$IN$72<>\"\",ROW($IN$2:$IN$72),\"\"),ROW(IN32))-2,0)","v":{"$error":"#NUM!"}},{"$f":"OFFSET($IO$2,SMALL(IF($IO$2:$IO$72<>\"\",ROW($IO$2:$IO$72),\"\"),ROW(IO32))-2,0)","v":{"$error":"#NUM!"}},{"$f":"OFFSET($IP$2,SMALL(IF($IP$2:$IP$72<>\"\",ROW($IP$2:$IP$72),\"\"),ROW(IP32))-2,0)","v":{"$error":"#NUM!"}},null,{"$f":"IF(AND(教学计划表!N49<>\"\",教学计划表!BH49<>\"\"),教学计划表!I49,\"\")","v":""},{"$f":"IF(教学计划表!BH49<>\"\",教学计划表!N49,\"\")","v":""},{"$f":"IF(教学计划表!BH49<>\"\",IF(SEARCH(\"6\",教学计划表!AB49&\"6\",1)<=LEN(教学计划表!AB49),\"考试\",\"考查\"),\"\")","v":""},{"$f":"IF(教学计划表!BH49<>0,教学计划表!HG49,\"\")","v":""},{"$f":"IF(教学计划表!BH49<>0,教学计划表!HL49,\"\")","v":""},{"$f":"IF(教学计划表!BH49<>0,教学计划表!HM49,\"\")","v":""},{"$f":"IF(教学计划表!BH49<>0,教学计划表!QO49,\"\")","v":""},{"$f":"OFFSET($IY$2,SMALL(IF($IY$2:$IY$72<>\"\",ROW($IY$2:$IY$72),\"\"),ROW(IY32))-2,0)","v":{"$error":"#NUM!"}},{"$f":"OFFSET($IZ$2,SMALL(IF($IZ$2:$IZ$72<>\"\",ROW($IZ$2:$IZ$72),\"\"),ROW(IZ32))-2,0)","v":{"$error":"#NUM!"}},{"$f":"OFFSET($JA$2,SMALL(IF($JA$2:$JA$72<>\"\",ROW($JA$2:$JA$72),\"\"),ROW(JA32))-2,0)","v":{"$error":"#NUM!"}},{"$f":"OFFSET($JB$2,SMALL(IF($JB$2:$JB$72<>\"\",ROW($JB$2:$JB$72),\"\"),ROW(JB32))-2,0)","v":{"$error":"#NUM!"}},{"$f":"OFFSET($JC$2,SMALL(IF($JC$2:$JC$72<>\"\",ROW($JC$2:$JC$72),\"\"),ROW(JC32))-2,0)","v":{"$error":"#NUM!"}},{"$f":"OFFSET($JD$2,SMALL(IF($JD$2:$JD$72<>\"\",ROW($JD$2:$JD$72),\"\"),ROW(JD32))-2,0)","v":{"$error":"#NUM!"}},{"$f":"OFFSET($JE$2,SMALL(IF($JE$2:$JE$72<>\"\",ROW($JE$2:$JE$72),\"\"),ROW(JE32))-2,0)","v":{"$error":"#NUM!"}}]
["","","","","","","",null,"","","",{"$f":"IF(ISERROR(自动生成的开课信息!HB34),\"\",自动生成的开课信息!HB34)","v":""},{"$f":"IF(ISERROR(自动生成的开课信息!HC34),\"\",自动生成的开课信息!HC34)","v":""},{"$f":"IF(ISERROR(自动生成的开课信息!HD34),\"\",自动生成的开课信息!HD34)","v":""},{"$f":"IF(ISERROR(自动生成的开课信息!HE34),\"\",自动生成的开课信息!HE34)","v":""},null,"","","","","","","",null,"","","","","","","",null,"","","","","","","",null,"","","","","","","",null,null,null,null,null,null,null,null,null,null,null,null,null,null,null,null,null,null,null,null,null,null,null,null,null,null,null,null,null,null,null,null,null,null,null,null,null,null,null,null,null,null,null,null,null,null,null,null,null,null,null,null,null,null,null,null,null,null,null,null,null,null,null,null,null,null,null,null,null,null,null,null,null,null,null,null,null,null,null,null,null,null,null,null,null,null,null,null,null,null,null,null,null,null,null,null,null,null,null,null,null,null,null,null,null,null,null,null,null,null,null,null,null,null,null,null,null,null,null,null,null,null,null,null,null,null,null,null,null,null,null,null,null,null,null,null,null,null,{"$f":"IF(AND(教学计划表!N50<>\"\",教学计划表!AS50<>\"\"),教学计划表!I50,\"\")","v":""},{"$f":"IF(教学计划表!AS50<>\"\",教学计划表!N50,\"\")","v":""},{"$f":"IF(GE34<>\"\",IF(SEARCH(\"1\",教学计划表!AB50&\"1\",1)<=LEN(教学计划表!AB50),\"考试\",\"考查\"),\"\")","v":""},{"$f":"IF(教学计划表!DG50<>0,教学计划表!DG50,\"\")","v":""},{"$f":"IF(教学计划表!DG50<>0,教学计划表!DL50,\"\")","v":""},{"$f":"IF(教学计划表!DG50<>0,教学计划表!DM50,\"\")","v":""},{"$f":"IF(教学计划表!DG50<>0,教学计划表!OH50,\"\")","v":""},{"$f":"OFFSET($GD$2,SMALL(IF($GD$2:$GD$72<>\"\",ROW($2:$72),\"\"),ROW(GD33))-2,0)","v":{"$error":"#NUM!"}},{"$f":"OFFSET($GE$2,SMALL(IF($GE$2:$GE$72<>\"\",ROW($2:$72),\"\"),ROW(GE33))-2,0)","v":{"$error":"#NUM!"}},{"$f":"OFFSET($GF$2,SMALL(IF($GF$2:$GF$72<>\"\",ROW($2:$72),\"\"),ROW(GF33))-2,0)","v":{"$error":"#NUM!"}},{"$f":"OFFSET($GG$2,SMALL(IF($GG$2:$GG$72<>\"\",ROW($2:$72),\"\"),ROW(GG33))-2,0)","v":{"$error":"#NUM!"}},{"$f":"OFFSET($GH$2,SMALL(IF($GH$2:$GH$72<>\"\",ROW($2:$72),\"\"),ROW(GH33))-2,0)","v":{"$error":"#NUM!"}},{"$error":"#NUM!"},{"$f":"OFFSET($GJ$2,SMALL(IF($GJ$2:$GJ$72<>\"\",ROW($2:$72),\"\"),ROW(GJ33))-2,0)","v":{"$error":"#NUM!"}},{"$f":"IF(AND(教学计划表!N50<>\"\",教学计划表!AV50<>\"\"),教学计划表!I50,\"\")","v":""},{"$f":"IF(教学计划表!AV50<>\"\",教学计划表!N50,\"\")","v":""},{"$f":"IF(GS34<>\"\",IF(SEARCH(\"2\",教学计划表!AB50&\"2\",1)<=LEN(教学计划表!AB50),\"考试\",\"考查\"),\"\")","v":""},{"$f":"IF(教学计划表!EA50<>0,教学计划表!EA50,\"\")","v":""},{"$f":"IF(教学计划表!EA50<>0,教学计划表!EF50,\"\")","v":""},{"$f":"IF(教学计划表!EA50<>0,教学计划表!EG50,\"\")","v":""},{"$f":"IF(教学计划表!EA50<>0,教学计划表!OT50,\"\")","v":""},{"$f":"OFFSET($GR$2,SMALL(IF($GR$2:$GR$72<>\"\",ROW($I$2:$K$72),\"\"),ROW(GR33))-2,0)","v":{"$error":"#NUM!"}},{"$f":"OFFSET($GS$2,SMALL(IF($GS$2:$GS$72<>\"\",ROW($I$2:$K$72),\"\"),ROW(GS33))-2,0)","v":{"$error":"#NUM!"}},{"$f":"OFFSET($GT$2,SMALL(IF($GT$2:$GT$72<>\"\",ROW($I$2:$K$72),\"\"),ROW(GT33))-2,0)","v":{"$error":"#NUM!"}},{"$f":"OFFSET($GU$2,SMALL(IF($GU$2:$GU$72<>\"\",ROW($I$2:$K$72),\"\"),ROW(GU33))-2,0)","v":{"$error":"#NUM!"}},{"$f":"OFFSET($GV$2,SMALL(IF($GV$2:$GV$72<>\"\",ROW($GV$2:$GV$72),\"\"),ROW(GV33))-2,0)","v":{"$error":"#NUM!"}},{"$f":"OFFSET($GW$2,SMALL(IF($GW$2:$GW$72<>\"\",ROW($GW$2:$GW$72),\"\"),ROW(GW33))-2,0)","v":{"$error":"#NUM!"}},{"$f":"OFFSET($GX$2,SMALL(IF($GX$2:$GX$72<>\"\",ROW($GX$2:$GX$72),\"\"),ROW(GX33))-2,0)","v":{"$error":"#NUM!"}},{"$f":"IF(AND(教学计划表!N50<>\"\",教学计划表!AY50<>\"\"),教学计划表!I50,\"\")","v":""},{"$f":"IF(教学计划表!AY50<>\"\",教学计划表!N50,\"\")","v":""},{"$f":"IF(HG34<>\"\",IF(SEARCH(\"3\",教学计划表!AB50&\"3\",1)<=LEN(教学计划表!AB50),\"考试\",\"考查\"),\"\")","v":""},{"$f":"IF(教学计划表!EV50<>0,教学计划表!EV50,\"\")","v":""},{"$f":"IF(教学计划表!EV50<>0,教学计划表!FA50,\"\")","v":""},{"$f":"IF(教学计划表!EV50<>0,教学计划表!FB50,\"\")","v":""},{"$f":"IF(教学计划表!EV50<>0,教学计划表!PF50,\"\")","v":""},{"$f":"OFFSET($HF$2,SMALL(IF($HF$2:$HF$72<>\"\",ROW($HF$2:$HF$72),\"\"),ROW(HF33))-2,0)","v":{"$error":"#NUM!"}},{"$f":"OFFSET($HG$2,SMALL(IF($HG$2:$HG$72<>\"\",ROW($HG$2:$HG$72),\"\"),ROW(HG33))-2,0)","v":{"$error":"#NUM!"}},{"$f":"OFFSET($HH$2,SMALL(IF($HH$2:$HH$72<>\"\",ROW($HH$2:$HH$72),\"\"),ROW(HH33))-2,0)","v":{"$error":"#NUM!"}},{"$f":"OFFSET($HI$2,SMALL(IF($HI$2:$HI$72<>\"\",ROW($HI$2:$HI$72),\"\"),ROW(HI33))-2,0)","v":{"$error":"#NUM!"}},{"$f":"OFFSET($HJ$2,SMALL(IF($HJ$2:$HJ$72<>\"\",ROW($HJ$2:$HJ$72),\"\"),ROW(HJ33))-2,0)","v":{"$error":"#NUM!"}},{"$f":"OFFSET($HK$2,SMALL(IF($HK$2:$HK$72<>\"\",ROW($HK$2:$HK$72),\"\"),ROW(HK33))-2,0)","v":{"$error":"#NUM!"}},{"$f":"OFFSET($HL$2,SMALL(IF($HL$2:$HL$72<>\"\",ROW($HL$2:$HL$72),\"\"),ROW(HL33))-2,0)","v":{"$error":"#NUM!"}},{"$f":"IF(AND(教学计划表!N50<>\"\",教学计划表!BB50<>\"\"),教学计划表!I50,\"\")","v":""},{"$f":"IF(教学计划表!BB50<>\"\",教学计划表!N50,\"\")","v":""},{"$f":"IF(HU34<>\"\",IF(SEARCH(\"4\",教学计划表!AB50&\"4\",1)<=LEN(教学计划表!AB50),\"考试\",\"考查\"),\"\")","v":""},{"$f":"IF(教学计划表!FQ50<>0,教学计划表!FQ50,\"\")","v":""},{"$f":"IF(教学计划表!FQ50<>0,教学计划表!FV50,\"\")","v":""},{"$f":"IF(教学计划表!FQ50<>0,教学计划表!FW50,\"\")","v":""},{"$f":"IF(教学计划表!FQ50<>0,教学计划表!PR50,\"\")","v":""},{"$f":"OFFSET($HT$2,SMALL(IF($HT$2:$HT$72<>\"\",ROW($HT$2:$HT$72),\"\"),ROW(HT33))-2,0)","v":{"$error":"#NUM!"}},{"$f":"OFFSET($HU$2,SMALL(IF($HU$2:$HU$72<>\"\",ROW($HU$2:$HU$72),\"\"),ROW(HU33))-2,0)","v":{"$error":"#NUM!"}},{"$f":"OFFSET($HV$2,SMALL(IF($HV$2:$HV$72<>\"\",ROW($HV$2:$HV$72),\"\"),ROW(HV33))-2,0)","v":{"$error":"#NUM!"}},{"$f":"OFFSET($HW$2,SMALL(IF($HW$2:$HW$72<>\"\",ROW($HW$2:$HW$72),\"\"),ROW(HW33))-2,0)","v":{"$error":"#NUM!"}},{"$f":"OFFSET($HX$2,SMALL(IF($HX$2:$HX$72<>\"\",ROW($HX$2:$HX$72),\"\"),ROW(HX33))-2,0)","v":{"$error":"#NUM!"}},{"$f":"OFFSET($HY$2,SMALL(IF($HY$2:$HY$72<>\"\",ROW($HY$2:$HY$72),\"\"),ROW(HY33))-2,0)","v":{"$error":"#NUM!"}},{"$f":"OFFSET($HZ$2,SMALL(IF($HZ$2:$HZ$72<>\"\",ROW($HZ$2:$HZ$72),\"\"),ROW(HZ33))-2,0)","v":{"$error":"#NUM!"}},null,null,{"$f":"IF(AND(教学计划表!N50<>\"\",教学计划表!BE50<>\"\"),教学计划表!I50,\"\")","v":""},{"$f":"IF(教学计划表!BE50<>\"\",教学计划表!N50,\"\")","v":""},{"$f":"IF(IK34<>\"\",IF(SEARCH(\"5\",教学计划表!AB50&\"5\",1)<=LEN(教学计划表!AB50),\"考试\",\"考查\"),\"\")","v":""},{"$f":"IF(教学计划表!GL50<>0,教学计划表!GL50,\"\")","v":""},{"$f":"IF(教学计划表!GL50<>0,教学计划表!GQ50,\"\")","v":""},{"$f":"IF(教学计划表!GL50<>0,教学计划表!GR50,\"\")","v":""},{"$f":"IF(教学计划表!GL50<>0,教学计划表!QC50,\"\")","v":""},{"$f":"OFFSET($IJ$2,SMALL(IF($IJ$2:$IJ$72<>\"\",ROW($IJ$2:$IJ$72),\"\"),ROW(IJ33))-2,0)","v":{"$error":"#NUM!"}},{"$f":"OFFSET($IK$2,SMALL(IF($IK$2:$IK$72<>\"\",ROW($IK$2:$IK$72),\"\"),ROW(IK33))-2,0)","v":{"$error":"#NUM!"}},{"$f":"OFFSET($IL$2,SMALL(IF($IL$2:$IL$72<>\"\",ROW($IL$2:$IL$72),\"\"),ROW(IL33))-2,0)","v":{"$error":"#NUM!"}},{"$f":"OFFSET($IM$2,SMALL(IF($IM$2:$IM$72<>\"\",ROW($IM$2:$IM$72),\"\"),ROW(IM33))-2,0)","v":{"$error":"#NUM!"}},{"$f":"OFFSET($IN$2,SMALL(IF($IN$2:$IN$72<>\"\",ROW($IN$2:$IN$72),\"\"),ROW(IN33))-2,0)","v":{"$error":"#NUM!"}},{"$f":"OFFSET($IO$2,SMALL(IF($IO$2:$IO$72<>\"\",ROW($IO$2:$IO$72),\"\"),ROW(IO33))-2,0)","v":{"$error":"#NUM!"}},{"$f":"OFFSET($IP$2,SMALL(IF($IP$2:$IP$72<>\"\",ROW($IP$2:$IP$72),\"\"),ROW(IP33))-2,0)","v":{"$error":"#NUM!"}},null,{"$f":"IF(AND(教学计划表!N50<>\"\",教学计划表!BH50<>\"\"),教学计划表!I50,\"\")","v":""},{"$f":"IF(教学计划表!BH50<>\"\",教学计划表!N50,\"\")","v":""},{"$f":"IF(教学计划表!BH50<>\"\",IF(SEARCH(\"6\",教学计划表!AB50&\"6\",1)<=LEN(教学计划表!AB50),\"考试\",\"考查\"),\"\")","v":""},{"$f":"IF(教学计划表!BH50<>0,教学计划表!HG50,\"\")","v":""},{"$f":"IF(教学计划表!BH50<>0,教学计划表!HL50,\"\")","v":""},{"$f":"IF(教学计划表!BH50<>0,教学计划表!HM50,\"\")","v":""},{"$f":"IF(教学计划表!BH50<>0,教学计划表!QO50,\"\")","v":""},{"$f":"OFFSET($IY$2,SMALL(IF($IY$2:$IY$72<>\"\",ROW($IY$2:$IY$72),\"\"),ROW(IY33))-2,0)","v":{"$error":"#NUM!"}},{"$f":"OFFSET($IZ$2,SMALL(IF($IZ$2:$IZ$72<>\"\",ROW($IZ$2:$IZ$72),\"\"),ROW(IZ33))-2,0)","v":{"$error":"#NUM!"}},{"$f":"OFFSET($JA$2,SMALL(IF($JA$2:$JA$72<>\"\",ROW($JA$2:$JA$72),\"\"),ROW(JA33))-2,0)","v":{"$error":"#NUM!"}},{"$f":"OFFSET($JB$2,SMALL(IF($JB$2:$JB$72<>\"\",ROW($JB$2:$JB$72),\"\"),ROW(JB33))-2,0)","v":{"$error":"#NUM!"}},{"$f":"OFFSET($JC$2,SMALL(IF($JC$2:$JC$72<>\"\",ROW($JC$2:$JC$72),\"\"),ROW(JC33))-2,0)","v":{"$error":"#NUM!"}},{"$f":"OFFSET($JD$2,SMALL(IF($JD$2:$JD$72<>\"\",ROW($JD$2:$JD$72),\"\"),ROW(JD33))-2,0)","v":{"$error":"#NUM!"}},{"$f":"OFFSET($JE$2,SMALL(IF($JE$2:$JE$72<>\"\",ROW($JE$2:$JE$72),\"\"),ROW(JE33))-2,0)","v":{"$error":"#NUM!"}}]
["","","","","","","",null,"","","",{"$f":"IF(ISERROR(自动生成的开课信息!HB35),\"\",自动生成的开课信息!HB35)","v":""},{"$f":"IF(ISERROR(自动生成的开课信息!HC35),\"\",自动生成的开课信息!HC35)","v":""},{"$f":"IF(ISERROR(自动生成的开课信息!HD35),\"\",自动生成的开课信息!HD35)","v":""},{"$f":"IF(ISERROR(自动生成的开课信息!HE35),\"\",自动生成的开课信息!HE35)","v":""},null,"","","","","","","",null,"","","","","","","",null,"","","","","","","",null,"","","","","","","",null,null,null,null,null,null,null,null,null,null,null,null,null,null,null,null,null,null,null,null,null,null,null,null,null,null,null,null,null,null,null,null,null,null,null,null,null,null,null,null,null,null,null,null,null,null,null,null,null,null,null,null,null,null,null,null,null,null,null,null,null,null,null,null,null,null,null,null,null,null,null,null,null,null,null,null,null,null,null,null,null,null,null,null,null,null,null,null,null,null,null,null,null,null,null,null,null,null,null,null,null,null,null,null,null,null,null,null,null,null,null,null,null,null,null,null,null,null,null,null,null,null,null,null,null,null,null,null,null,null,null,null,null,null,null,null,null,null,{"$f":"IF(AND(教学计划表!N51<>\"\",教学计划表!AS51<>\"\"),教学计划表!I51,\"\")","v":""},{"$f":"IF(教学计划表!AS51<>\"\",教学计划表!N51,\"\")","v":""},{"$f":"IF(GE35<>\"\",IF(SEARCH(\"1\",教学计划表!AB51&\"1\",1)<=LEN(教学计划表!AB51),\"考试\",\"考查\"),\"\")","v":""},{"$f":"IF(教学计划表!DG51<>0,教学计划表!DG51,\"\")","v":""},{"$f":"IF(教学计划表!DG51<>0,教学计划表!DL51,\"\")","v":""},{"$f":"IF(教学计划表!DG51<>0,教学计划表!DM51,\"\")","v":""},{"$f":"IF(教学计划表!DG51<>0,教学计划表!OH51,\"\")","v":""},{"$f":"OFFSET($GD$2,SMALL(IF($GD$2:$GD$72<>\"\",ROW($2:$72),\"\"),ROW(GD34))-2,0)","v":{"$error":"#NUM!"}},{"$f":"OFFSET($GE$2,SMALL(IF($GE$2:$GE$72<>\"\",ROW($2:$72),\"\"),ROW(GE34))-2,0)","v":{"$error":"#NUM!"}},{"$f":"OFFSET($GF$2,SMALL(IF($GF$2:$GF$72<>\"\",ROW($2:$72),\"\"),ROW(GF34))-2,0)","v":{"$error":"#NUM!"}},{"$f":"OFFSET($GG$2,SMALL(IF($GG$2:$GG$72<>\"\",ROW($2:$72),\"\"),ROW(GG34))-2,0)","v":{"$error":"#NUM!"}},{"$f":"OFFSET($GH$2,SMALL(IF($GH$2:$GH$72<>\"\",ROW($2:$72),\"\"),ROW(GH34))-2,0)","v":{"$error":"#NUM!"}},{"$error":"#NUM!"},{"$f":"OFFSET($GJ$2,SMALL(IF($GJ$2:$GJ$72<>\"\",ROW($2:$72),\"\"),ROW(GJ34))-2,0)","v":{"$error":"#NUM!"}},{"$f":"IF(AND(教学计划表!N51<>\"\",教学计划表!AV51<>\"\"),教学计划表!I51,\"\")","v":""},{"$f":"IF(教学计划表!AV51<>\"\",教学计划表!N51,\"\")","v":""},{"$f":"IF(GS35<>\"\",IF(SEARCH(\"2\",教学计划表!AB51&\"2\",1)<=LEN(教学计划表!AB51),\"考试\",\"考查\"),\"\")","v":""},{"$f":"IF(教学计划表!EA51<>0,教学计划表!EA51,\"\")","v":""},{"$f":"IF(教学计划表!EA51<>0,教学计划表!EF51,\"\")","v":""},{"$f":"IF(教学计划表!EA51<>0,教学计划表!EG51,\"\")","v":""},{"$f":"IF(教学计划表!EA51<>0,教学计划表!OT51,\"\")","v":""},{"$f":"OFFSET($GR$2,SMALL(IF($GR$2:$GR$72<>\"\",ROW($I$2:$K$72),\"\"),ROW(GR34))-2,0)","v":{"$error":"#NUM!"}},{"$f":"OFFSET($GS$2,SMALL(IF($GS$2:$GS$72<>\"\",ROW($I$2:$K$72),\"\"),ROW(GS34))-2,0)","v":{"$error":"#NUM!"}},{"$f":"OFFSET($GT$2,SMALL(IF($GT$2:$GT$72<>\"\",ROW($I$2:$K$72),\"\"),ROW(GT34))-2,0)","v":{"$error":"#NUM!"}},{"$f":"OFFSET($GU$2,SMALL(IF($GU$2:$GU$72<>\"\",ROW($I$2:$K$72),\"\"),ROW(GU34))-2,0)","v":{"$error":"#NUM!"}},{"$f":"OFFSET($GV$2,SMALL(IF($GV$2:$GV$72<>\"\",ROW($GV$2:$GV$72),\"\"),ROW(GV34))-2,0)","v":{"$error":"#NUM!"}},{"$f":"OFFSET($GW$2,SMALL(IF($GW$2:$GW$72<>\"\",ROW($GW$2:$GW$72),\"\"),ROW(GW34))-2,0)","v":{"$error":"#NUM!"}},{"$f":"OFFSET($GX$2,SMALL(IF($GX$2:$GX$72<>\"\",ROW($GX$2:$GX$72),\"\"),ROW(GX34))-2,0)","v":{"$error":"#NUM!"}},{"$f":"IF(AND(教学计划表!N51<>\"\",教学计划表!AY51<>\"\"),教学计划表!I51,\"\")","v":""},{"$f":"IF(教学计划表!AY51<>\"\",教学计划表!N51,\"\")","v":""},{"$f":"IF(HG35<>\"\",IF(SEARCH(\"3\",教学计划表!AB51&\"3\",1)<=LEN(教学计划表!AB51),\"考试\",\"考查\"),\"\")","v":""},{"$f":"IF(教学计划表!EV51<>0,教学计划表!EV51,\"\")","v":""},{"$f":"IF(教学计划表!EV51<>0,教学计划表!FA51,\"\")","v":""},{"$f":"IF(教学计划表!EV51<>0,教学计划表!FB51,\"\")","v":""},{"$f":"IF(教学计划表!EV51<>0,教学计划表!PF51,\"\")","v":""},{"$f":"OFFSET($HF$2,SMALL(IF($HF$2:$HF$72<>\"\",ROW($HF$2:$HF$72),\"\"),ROW(HF34))-2,0)","v":{"$error":"#NUM!"}},{"$f":"OFFSET($HG$2,SMALL(IF($HG$2:$HG$72<>\"\",ROW($HG$2:$HG$72),\"\"),ROW(HG34))-2,0)","v":{"$error":"#NUM!"}},{"$f":"OFFSET($HH$2,SMALL(IF($HH$2:$HH$72<>\"\",ROW($HH$2:$HH$72),\"\"),ROW(HH34))-2,0)","v":{"$error":"#NUM!"}},{"$f":"OFFSET($HI$2,SMALL(IF($HI$2:$HI$72<>\"\",ROW($HI$2:$HI$72),\"\"),ROW(HI34))-2,0)","v":{"$error":"#NUM!"}},{"$f":"OFFSET($HJ$2,SMALL(IF($HJ$2:$HJ$72<>\"\",ROW($HJ$2:$HJ$72),\"\"),ROW(HJ34))-2,0)","v":{"$error":"#NUM!"}},{"$f":"OFFSET($HK$2,SMALL(IF($HK$2:$HK$72<>\"\",ROW($HK$2:$HK$72),\"\"),ROW(HK34))-2,0)","v":{"$error":"#NUM!"}},{"$f":"OFFSET($HL$2,SMALL(IF($HL$2:$HL$72<>\"\",ROW($HL$2:$HL$72),\"\"),ROW(HL34))-2,0)","v":{"$error":"#NUM!"}},{"$f":"IF(AND(教学计划表!N51<>\"\",教学计划表!BB51<>\"\"),教学计划表!I51,\"\")","v":""},{"$f":"IF(教学计划表!BB51<>\"\",教学计划表!N51,\"\")","v":""},{"$f":"IF(HU35<>\"\",IF(SEARCH(\"4\",教学计划表!AB51&\"4\",1)<=LEN(教学计划表!AB51),\"考试\",\"考查\"),\"\")","v":""},{"$f":"IF(教学计划表!FQ51<>0,教学计划表!FQ51,\"\")","v":""},{"$f":"IF(教学计划表!FQ51<>0,教学计划表!FV51,\"\")","v":""},{"$f":"IF(教学计划表!FQ51<>0,教学计划表!FW51,\"\")","v":""},{"$f":"IF(教学计划表!FQ51<>0,教学计划表!PR51,\"\")","v":""},{"$f":"OFFSET($HT$2,SMALL(IF($HT$2:$HT$72<>\"\",ROW($HT$2:$HT$72),\"\"),ROW(HT34))-2,0)","v":{"$error":"#NUM!"}},{"$f":"OFFSET($HU$2,SMALL(IF($HU$2:$HU$72<>\"\",ROW($HU$2:$HU$72),\"\"),ROW(HU34))-2,0)","v":{"$error":"#NUM!"}},{"$f":"OFFSET($HV$2,SMALL(IF($HV$2:$HV$72<>\"\",ROW($HV$2:$HV$72),\"\"),ROW(HV34))-2,0)","v":{"$error":"#NUM!"}},{"$f":"OFFSET($HW$2,SMALL(IF($HW$2:$HW$72<>\"\",ROW($HW$2:$HW$72),\"\"),ROW(HW34))-2,0)","v":{"$error":"#NUM!"}},{"$f":"OFFSET($HX$2,SMALL(IF($HX$2:$HX$72<>\"\",ROW($HX$2:$HX$72),\"\"),ROW(HX34))-2,0)","v":{"$error":"#NUM!"}},{"$f":"OFFSET($HY$2,SMALL(IF($HY$2:$HY$72<>\"\",ROW($HY$2:$HY$72),\"\"),ROW(HY34))-2,0)","v":{"$error":"#NUM!"}},{"$f":"OFFSET($HZ$2,SMALL(IF($HZ$2:$HZ$72<>\"\",ROW($HZ$2:$HZ$72),\"\"),ROW(HZ34))-2,0)","v":{"$error":"#NUM!"}},null,null,{"$f":"IF(AND(教学计划表!N51<>\"\",教学计划表!BE51<>\"\"),教学计划表!I51,\"\")","v":""},{"$f":"IF(教学计划表!BE51<>\"\",教学计划表!N51,\"\")","v":""},{"$f":"IF(IK35<>\"\",IF(SEARCH(\"5\",教学计划表!AB51&\"5\",1)<=LEN(教学计划表!AB51),\"考试\",\"考查\"),\"\")","v":""},{"$f":"IF(教学计划表!GL51<>0,教学计划表!GL51,\"\")","v":""},{"$f":"IF(教学计划表!GL51<>0,教学计划表!GQ51,\"\")","v":""},{"$f":"IF(教学计划表!GL51<>0,教学计划表!GR51,\"\")","v":""},{"$f":"IF(教学计划表!GL51<>0,教学计划表!QC51,\"\")","v":""},{"$f":"OFFSET($IJ$2,SMALL(IF($IJ$2:$IJ$72<>\"\",ROW($IJ$2:$IJ$72),\"\"),ROW(IJ34))-2,0)","v":{"$error":"#NUM!"}},{"$f":"OFFSET($IK$2,SMALL(IF($IK$2:$IK$72<>\"\",ROW($IK$2:$IK$72),\"\"),ROW(IK34))-2,0)","v":{"$error":"#NUM!"}},{"$f":"OFFSET($IL$2,SMALL(IF($IL$2:$IL$72<>\"\",ROW($IL$2:$IL$72),\"\"),ROW(IL34))-2,0)","v":{"$error":"#NUM!"}},{"$f":"OFFSET($IM$2,SMALL(IF($IM$2:$IM$72<>\"\",ROW($IM$2:$IM$72),\"\"),ROW(IM34))-2,0)","v":{"$error":"#NUM!"}},{"$f":"OFFSET($IN$2,SMALL(IF($IN$2:$IN$72<>\"\",ROW($IN$2:$IN$72),\"\"),ROW(IN34))-2,0)","v":{"$error":"#NUM!"}},{"$f":"OFFSET($IO$2,SMALL(IF($IO$2:$IO$72<>\"\",ROW($IO$2:$IO$72),\"\"),ROW(IO34))-2,0)","v":{"$error":"#NUM!"}},{"$f":"OFFSET($IP$2,SMALL(IF($IP$2:$IP$72<>\"\",ROW($IP$2:$IP$72),\"\"),ROW(IP34))-2,0)","v":{"$error":"#NUM!"}},null,{"$f":"IF(AND(教学计划表!N51<>\"\",教学计划表!BH51<>\"\"),教学计划表!I51,\"\")","v":""},{"$f":"IF(教学计划表!BH51<>\"\",教学计划表!N51,\"\")","v":""},{"$f":"IF(教学计划表!BH51<>\"\",IF(SEARCH(\"6\",教学计划表!AB51&\"6\",1)<=LEN(教学计划表!AB51),\"考试\",\"考查\"),\"\")","v":""},{"$f":"IF(教学计划表!BH51<>0,教学计划表!HG51,\"\")","v":""},{"$f":"IF(教学计划表!BH51<>0,教学计划表!HL51,\"\")","v":""},{"$f":"IF(教学计划表!BH51<>0,教学计划表!HM51,\"\")","v":""},{"$f":"IF(教学计划表!BH51<>0,教学计划表!QO51,\"\")","v":""},{"$f":"OFFSET($IY$2,SMALL(IF($IY$2:$IY$72<>\"\",ROW($IY$2:$IY$72),\"\"),ROW(IY34))-2,0)","v":{"$error":"#NUM!"}},{"$f":"OFFSET($IZ$2,SMALL(IF($IZ$2:$IZ$72<>\"\",ROW($IZ$2:$IZ$72),\"\"),ROW(IZ34))-2,0)","v":{"$error":"#NUM!"}},{"$f":"OFFSET($JA$2,SMALL(IF($JA$2:$JA$72<>\"\",ROW($JA$2:$JA$72),\"\"),ROW(JA34))-2,0)","v":{"$error":"#NUM!"}},{"$f":"OFFSET($JB$2,SMALL(IF($JB$2:$JB$72<>\"\",ROW($JB$2:$JB$72),\"\"),ROW(JB34))-2,0)","v":{"$error":"#NUM!"}},{"$f":"OFFSET($JC$2,SMALL(IF($JC$2:$JC$72<>\"\",ROW($JC$2:$JC$72),\"\"),ROW(JC34))-2,0)","v":{"$error":"#NUM!"}},{"$f":"OFFSET($JD$2,SMALL(IF($JD$2:$JD$72<>\"\",ROW($JD$2:$JD$72),\"\"),ROW(JD34))-2,0)","v":{"$error":"#NUM!"}},{"$f":"OFFSET($JE$2,SMALL(IF($JE$2:$JE$72<>\"\",ROW($JE$2:$JE$72),\"\"),ROW(JE34))-2,0)","v":{"$error":"#NUM!"}}]
["","","","","","","",null,"","","",{"$f":"IF(ISERROR(自动生成的开课信息!HB36),\"\",自动生成的开课信息!HB36)","v":""},{"$f":"IF(ISERROR(自动生成的开课信息!HC36),\"\",自动生成的开课信息!HC36)","v":""},{"$f":"IF(ISERROR(自动生成的开课信息!HD36),\"\",自动生成的开课信息!HD36)","v":""},{"$f":"IF(ISERROR(自动生成的开课信息!HE36),\"\",自动生成的开课信息!HE36)","v":""},null,"","","","","","","",null,"","","","","","","",null,"","","","","","","",null,"","","","","","","",null,null,null,null,null,null,null,null,null,null,null,null,null,null,null,null,null,null,null,null,null,null,null,null,null,null,null,null,null,null,null,null,null,null,null,null,null,null,null,null,null,null,null,null,null,null,null,null,null,null,null,null,null,null,null,null,null,null,null,null,null,null,null,null,null,null,null,null,null,null,null,null,null,null,null,null,null,null,null,null,null,null,null,null,null,null,null,null,null,null,null,null,null,null,null,null,null,null,null,null,null,null,null,null,null,null,null,null,null,null,null,null,null,null,null,null,null,null,null,null,null,null,null,null,null,null,null,null,null,null,null,null,null,null,null,null,null,null,{"$f":"IF(AND(教学计划表!N52<>\"\",教学计划表!AS52<>\"\"),教学计划表!I52,\"\")","v":""},{"$f":"IF(教学计划表!AS52<>\"\",教学计划表!N52,\"\")","v":""},{"$f":"IF(GE36<>\"\",IF(SEARCH(\"1\",教学计划表!AB52&\"1\",1)<=LEN(教学计划表!AB52),\"考试\",\"考查\"),\"\")","v":""},{"$f":"IF(教学计划表!DG52<>0,教学计划表!DG52,\"\")","v":""},{"$f":"IF(教学计划表!DG52<>0,教学计划表!DL52,\"\")","v":""},{"$f":"IF(教学计划表!DG52<>0,教学计划表!DM52,\"\")","v":""},{"$f":"IF(教学计划表!DG52<>0,教学计划表!OH52,\"\")","v":""},{"$f":"OFFSET($GD$2,SMALL(IF($GD$2:$GD$72<>\"\",ROW($2:$72),\"\"),ROW(GD35))-2,0)","v":{"$error":"#NUM!"}},{"$f":"OFFSET($GE$2,SMALL(IF($GE$2:$GE$72<>\"\",ROW($2:$72),\"\"),ROW(GE35))-2,0)","v":{"$error":"#NUM!"}},{"$f":"OFFSET($GF$2,SMALL(IF($GF$2:$GF$72<>\"\",ROW($2:$72),\"\"),ROW(GF35))-2,0)","v":{"$error":"#NUM!"}},{"$f":"OFFSET($GG$2,SMALL(IF($GG$2:$GG$72<>\"\",ROW($2:$72),\"\"),ROW(GG35))-2,0)","v":{"$error":"#NUM!"}},{"$f":"OFFSET($GH$2,SMALL(IF($GH$2:$GH$72<>\"\",ROW($2:$72),\"\"),ROW(GH35))-2,0)","v":{"$error":"#NUM!"}},{"$error":"#NUM!"},{"$f":"OFFSET($GJ$2,SMALL(IF($GJ$2:$GJ$72<>\"\",ROW($2:$72),\"\"),ROW(GJ35))-2,0)","v":{"$error":"#NUM!"}},{"$f":"IF(AND(教学计划表!N52<>\"\",教学计划表!AV52<>\"\"),教学计划表!I52,\"\")","v":""},{"$f":"IF(教学计划表!AV52<>\"\",教学计划表!N52,\"\")","v":""},{"$f":"IF(GS36<>\"\",IF(SEARCH(\"2\",教学计划表!AB52&\"2\",1)<=LEN(教学计划表!AB52),\"考试\",\"考查\"),\"\")","v":""},{"$f":"IF(教学计划表!EA52<>0,教学计划表!EA52,\"\")","v":""},{"$f":"IF(教学计划表!EA52<>0,教学计划表!EF52,\"\")","v":""},{"$f":"IF(教学计划表!EA52<>0,教学计划表!EG52,\"\")","v":""},{"$f":"IF(教学计划表!EA52<>0,教学计划表!OT52,\"\")","v":""},{"$f":"OFFSET($GR$2,SMALL(IF($GR$2:$GR$72<>\"\",ROW($I$2:$K$72),\"\"),ROW(GR35))-2,0)","v":{"$error":"#NUM!"}},{"$f":"OFFSET($GS$2,SMALL(IF($GS$2:$GS$72<>\"\",ROW($I$2:$K$72),\"\"),ROW(GS35))-2,0)","v":{"$error":"#NUM!"}},{"$f":"OFFSET($GT$2,SMALL(IF($GT$2:$GT$72<>\"\",ROW($I$2:$K$72),\"\"),ROW(GT35))-2,0)","v":{"$error":"#NUM!"}},{"$f":"OFFSET($GU$2,SMALL(IF($GU$2:$GU$72<>\"\",ROW($I$2:$K$72),\"\"),ROW(GU35))-2,0)","v":{"$error":"#NUM!"}},{"$f":"OFFSET($GV$2,SMALL(IF($GV$2:$GV$72<>\"\",ROW($GV$2:$GV$72),\"\"),ROW(GV35))-2,0)","v":{"$error":"#NUM!"}},{"$f":"OFFSET($GW$2,SMALL(IF($GW$2:$GW$72<>\"\",ROW($GW$2:$GW$72),\"\"),ROW(GW35))-2,0)","v":{"$error":"#NUM!"}},{"$f":"OFFSET($GX$2,SMALL(IF($GX$2:$GX$72<>\"\",ROW($GX$2:$GX$72),\"\"),ROW(GX35))-2,0)","v":{"$error":"#NUM!"}},{"$f":"IF(AND(教学计划表!N52<>\"\",教学计划表!AY52<>\"\"),教学计划表!I52,\"\")","v":""},{"$f":"IF(教学计划表!AY52<>\"\",教学计划表!N52,\"\")","v":""},{"$f":"IF(HG36<>\"\",IF(SEARCH(\"3\",教学计划表!AB52&\"3\",1)<=LEN(教学计划表!AB52),\"考试\",\"考查\"),\"\")","v":""},{"$f":"IF(教学计划表!EV52<>0,教学计划表!EV52,\"\")","v":""},{"$f":"IF(教学计划表!EV52<>0,教学计划表!FA52,\"\")","v":""},{"$f":"IF(教学计划表!EV52<>0,教学计划表!FB52,\"\")","v":""},{"$f":"IF(教学计划表!EV52<>0,教学计划表!PF52,\"\")","v":""},{"$f":"OFFSET($HF$2,SMALL(IF($HF$2:$HF$72<>\"\",ROW($HF$2:$HF$72),\"\"),ROW(HF35))-2,0)","v":{"$error":"#NUM!"}},{"$f":"OFFSET($HG$2,SMALL(IF($HG$2:$HG$72<>\"\",ROW($HG$2:$HG$72),\"\"),ROW(HG35))-2,0)","v":{"$error":"#NUM!"}},{"$f":"OFFSET($HH$2,SMALL(IF($HH$2:$HH$72<>\"\",ROW($HH$2:$HH$72),\"\"),ROW(HH35))-2,0)","v":{"$error":"#NUM!"}},{"$f":"OFFSET($HI$2,SMALL(IF($HI$2:$HI$72<>\"\",ROW($HI$2:$HI$72),\"\"),ROW(HI35))-2,0)","v":{"$error":"#NUM!"}},{"$f":"OFFSET($HJ$2,SMALL(IF($HJ$2:$HJ$72<>\"\",ROW($HJ$2:$HJ$72),\"\"),ROW(HJ35))-2,0)","v":{"$error":"#NUM!"}},{"$f":"OFFSET($HK$2,SMALL(IF($HK$2:$HK$72<>\"\",ROW($HK$2:$HK$72),\"\"),ROW(HK35))-2,0)","v":{"$error":"#NUM!"}},{"$f":"OFFSET($HL$2,SMALL(IF($HL$2:$HL$72<>\"\",ROW($HL$2:$HL$72),\"\"),ROW(HL35))-2,0)","v":{"$error":"#NUM!"}},{"$f":"IF(AND(教学计划表!N52<>\"\",教学计划表!BB52<>\"\"),教学计划表!I52,\"\")","v":""},{"$f":"IF(教学计划表!BB52<>\"\",教学计划表!N52,\"\")","v":""},{"$f":"IF(HU36<>\"\",IF(SEARCH(\"4\",教学计划表!AB52&\"4\",1)<=LEN(教学计划表!AB52),\"考试\",\"考查\"),\"\")","v":""},{"$f":"IF(教学计划表!FQ52<>0,教学计划表!FQ52,\"\")","v":""},{"$f":"IF(教学计划表!FQ52<>0,教学计划表!FV52,\"\")","v":""},{"$f":"IF(教学计划表!FQ52<>0,教学计划表!FW52,\"\")","v":""},{"$f":"IF(教学计划表!FQ52<>0,教学计划表!PR52,\"\")","v":""},{"$f":"OFFSET($HT$2,SMALL(IF($HT$2:$HT$72<>\"\",ROW($HT$2:$HT$72),\"\"),ROW(HT35))-2,0)","v":{"$error":"#NUM!"}},{"$f":"OFFSET($HU$2,SMALL(IF($HU$2:$HU$72<>\"\",ROW($HU$2:$HU$72),\"\"),ROW(HU35))-2,0)","v":{"$error":"#NUM!"}},{"$f":"OFFSET($HV$2,SMALL(IF($HV$2:$HV$72<>\"\",ROW($HV$2:$HV$72),\"\"),ROW(HV35))-2,0)","v":{"$error":"#NUM!"}},{"$f":"OFFSET($HW$2,SMALL(IF($HW$2:$HW$72<>\"\",ROW($HW$2:$HW$72),\"\"),ROW(HW35))-2,0)","v":{"$error":"#NUM!"}},{"$f":"OFFSET($HX$2,SMALL(IF($HX$2:$HX$72<>\"\",ROW($HX$2:$HX$72),\"\"),ROW(HX35))-2,0)","v":{"$error":"#NUM!"}},{"$f":"OFFSET($HY$2,SMALL(IF($HY$2:$HY$72<>\"\",ROW($HY$2:$HY$72),\"\"),ROW(HY35))-2,0)","v":{"$error":"#NUM!"}},{"$f":"OFFSET($HZ$2,SMALL(IF($HZ$2:$HZ$72<>\"\",ROW($HZ$2:$HZ$72),\"\"),ROW(HZ35))-2,0)","v":{"$error":"#NUM!"}},null,null,{"$f":"IF(AND(教学计划表!N52<>\"\",教学计划表!BE52<>\"\"),教学计划表!I52,\"\")","v":""},{"$f":"IF(教学计划表!BE52<>\"\",教学计划表!N52,\"\")","v":""},{"$f":"IF(IK36<>\"\",IF(SEARCH(\"5\",教学计划表!AB52&\"5\",1)<=LEN(教学计划表!AB52),\"考试\",\"考查\"),\"\")","v":""},{"$f":"IF(教学计划表!GL52<>0,教学计划表!GL52,\"\")","v":""},{"$f":"IF(教学计划表!GL52<>0,教学计划表!GQ52,\"\")","v":""},{"$f":"IF(教学计划表!GL52<>0,教学计划表!GR52,\"\")","v":""},{"$f":"IF(教学计划表!GL52<>0,教学计划表!QC52,\"\")","v":""},{"$f":"OFFSET($IJ$2,SMALL(IF($IJ$2:$IJ$72<>\"\",ROW($IJ$2:$IJ$72),\"\"),ROW(IJ35))-2,0)","v":{"$error":"#NUM!"}},{"$f":"OFFSET($IK$2,SMALL(IF($IK$2:$IK$72<>\"\",ROW($IK$2:$IK$72),\"\"),ROW(IK35))-2,0)","v":{"$error":"#NUM!"}},{"$f":"OFFSET($IL$2,SMALL(IF($IL$2:$IL$72<>\"\",ROW($IL$2:$IL$72),\"\"),ROW(IL35))-2,0)","v":{"$error":"#NUM!"}},{"$f":"OFFSET($IM$2,SMALL(IF($IM$2:$IM$72<>\"\",ROW($IM$2:$IM$72),\"\"),ROW(IM35))-2,0)","v":{"$error":"#NUM!"}},{"$f":"OFFSET($IN$2,SMALL(IF($IN$2:$IN$72<>\"\",ROW($IN$2:$IN$72),\"\"),ROW(IN35))-2,0)","v":{"$error":"#NUM!"}},{"$f":"OFFSET($IO$2,SMALL(IF($IO$2:$IO$72<>\"\",ROW($IO$2:$IO$72),\"\"),ROW(IO35))-2,0)","v":{"$error":"#NUM!"}},{"$f":"OFFSET($IP$2,SMALL(IF($IP$2:$IP$72<>\"\",ROW($IP$2:$IP$72),\"\"),ROW(IP35))-2,0)","v":{"$error":"#NUM!"}},null,{"$f":"IF(AND(教学计划表!N52<>\"\",教学计划表!BH52<>\"\"),教学计划表!I52,\"\")","v":""},{"$f":"IF(教学计划表!BH52<>\"\",教学计划表!N52,\"\")","v":""},{"$f":"IF(教学计划表!BH52<>\"\",IF(SEARCH(\"6\",教学计划表!AB52&\"6\",1)<=LEN(教学计划表!AB52),\"考试\",\"考查\"),\"\")","v":""},{"$f":"IF(教学计划表!BH52<>0,教学计划表!HG52,\"\")","v":""},{"$f":"IF(教学计划表!BH52<>0,教学计划表!HL52,\"\")","v":""},{"$f":"IF(教学计划表!BH52<>0,教学计划表!HM52,\"\")","v":""},{"$f":"IF(教学计划表!BH52<>0,教学计划表!QO52,\"\")","v":""},{"$f":"OFFSET($IY$2,SMALL(IF($IY$2:$IY$72<>\"\",ROW($IY$2:$IY$72),\"\"),ROW(IY35))-2,0)","v":{"$error":"#NUM!"}},{"$f":"OFFSET($IZ$2,SMALL(IF($IZ$2:$IZ$72<>\"\",ROW($IZ$2:$IZ$72),\"\"),ROW(IZ35))-2,0)","v":{"$error":"#NUM!"}},{"$f":"OFFSET($JA$2,SMALL(IF($JA$2:$JA$72<>\"\",ROW($JA$2:$JA$72),\"\"),ROW(JA35))-2,0)","v":{"$error":"#NUM!"}},{"$f":"OFFSET($JB$2,SMALL(IF($JB$2:$JB$72<>\"\",ROW($JB$2:$JB$72),\"\"),ROW(JB35))-2,0)","v":{"$error":"#NUM!"}},{"$f":"OFFSET($JC$2,SMALL(IF($JC$2:$JC$72<>\"\",ROW($JC$2:$JC$72),\"\"),ROW(JC35))-2,0)","v":{"$error":"#NUM!"}},{"$f":"OFFSET($JD$2,SMALL(IF($JD$2:$JD$72<>\"\",ROW($JD$2:$JD$72),\"\"),ROW(JD35))-2,0)","v":{"$error":"#NUM!"}},{"$f":"OFFSET($JE$2,SMALL(IF($JE$2:$JE$72<>\"\",ROW($JE$2:$JE$72),\"\"),ROW(JE35))-2,0)","v":{"$error":"#NUM!"}}]
["","","","","","","",null,"","","",{"$f":"IF(ISERROR(自动生成的开课信息!HB37),\"\",自动生成的开课信息!HB37)","v":""},{"$f":"IF(ISERROR(自动生成的开课信息!HC37),\"\",自动生成的开课信息!HC37)","v":""},{"$f":"IF(ISERROR(自动生成的开课信息!HD37),\"\",自动生成的开课信息!HD37)","v":""},{"$f":"IF(ISERROR(自动生成的开课信息!HE37),\"\",自动生成的开课信息!HE37)","v":""},null,"","","","","","","",null,"","","","","","","",null,"","","","","","","",null,"","","","","","","",null,null,null,null,null,null,null,null,null,null,null,null,null,null,null,null,null,null,null,null,null,null,null,null,null,null,null,null,null,null,null,null,null,null,null,null,null,null,null,null,null,null,null,null,null,null,null,null,null,null,null,null,null,null,null,null,null,null,null,null,null,null,null,null,null,null,null,null,null,null,null,null,null,null,null,null,null,null,null,null,null,null,null,null,null,null,null,null,null,null,null,null,null,null,null,null,null,null,null,null,null,null,null,null,null,null,null,null,null,null,null,null,null,null,null,null,null,null,null,null,null,null,null,null,null,null,null,null,null,null,null,null,null,null,null,null,null,null,{"$f":"IF(AND(教学计划表!N53<>\"\",教学计划表!AS53<>\"\"),教学计划表!I53,\"\")","v":""},{"$f":"IF(教学计划表!AS53<>\"\",教学计划表!N53,\"\")","v":""},{"$f":"IF(GE37<>\"\",IF(SEARCH(\"1\",教学计划表!AB53&\"1\",1)<=LEN(教学计划表!AB53),\"考试\",\"考查\"),\"\")","v":""},{"$f":"IF(教学计划表!DG53<>0,教学计划表!DG53,\"\")","v":""},{"$f":"IF(教学计划表!DG53<>0,教学计划表!DL53,\"\")","v":""},{"$f":"IF(教学计划表!DG53<>0,教学计划表!DM53,\"\")","v":""},{"$f":"IF(教学计划表!DG53<>0,教学计划表!OH53,\"\")","v":""},{"$f":"OFFSET($GD$2,SMALL(IF($GD$2:$GD$72<>\"\",ROW($2:$72),\"\"),ROW(GD36))-2,0)","v":{"$error":"#NUM!"}},{"$f":"OFFSET($GE$2,SMALL(IF($GE$2:$GE$72<>\"\",ROW($2:$72),\"\"),ROW(GE36))-2,0)","v":{"$error":"#NUM!"}},{"$f":"OFFSET($GF$2,SMALL(IF($GF$2:$GF$72<>\"\",ROW($2:$72),\"\"),ROW(GF36))-2,0)","v":{"$error":"#NUM!"}},{"$f":"OFFSET($GG$2,SMALL(IF($GG$2:$GG$72<>\"\",ROW($2:$72),\"\"),ROW(GG36))-2,0)","v":{"$error":"#NUM!"}},{"$f":"OFFSET($GH$2,SMALL(IF($GH$2:$GH$72<>\"\",ROW($2:$72),\"\"),ROW(GH36))-2,0)","v":{"$error":"#NUM!"}},{"$error":"#NUM!"},{"$f":"OFFSET($GJ$2,SMALL(IF($GJ$2:$GJ$72<>\"\",ROW($2:$72),\"\"),ROW(GJ36))-2,0)","v":{"$error":"#NUM!"}},{"$f":"IF(AND(教学计划表!N53<>\"\",教学计划表!AV53<>\"\"),教学计划表!I53,\"\")","v":""},{"$f":"IF(教学计划表!AV53<>\"\",教学计划表!N53,\"\")","v":""},{"$f":"IF(GS37<>\"\",IF(SEARCH(\"2\",教学计划表!AB53&\"2\",1)<=LEN(教学计划表!AB53),\"考试\",\"考查\"),\"\")","v":""},{"$f":"IF(教学计划表!EA53<>0,教学计划表!EA53,\"\")","v":""},{"$f":"IF(教学计划表!EA53<>0,教学计划表!EF53,\"\")","v":""},{"$f":"IF(教学计划表!EA53<>0,教学计划表!EG53,\"\")","v":""},{"$f":"IF(教学计划表!EA53<>0,教学计划表!OT53,\"\")","v":""},{"$f":"OFFSET($GR$2,SMALL(IF($GR$2:$GR$72<>\"\",ROW($I$2:$K$72),\"\"),ROW(GR36))-2,0)","v":{"$error":"#NUM!"}},{"$f":"OFFSET($GS$2,SMALL(IF($GS$2:$GS$72<>\"\",ROW($I$2:$K$72),\"\"),ROW(GS36))-2,0)","v":{"$error":"#NUM!"}},{"$f":"OFFSET($GT$2,SMALL(IF($GT$2:$GT$72<>\"\",ROW($I$2:$K$72),\"\"),ROW(GT36))-2,0)","v":{"$error":"#NUM!"}},{"$f":"OFFSET($GU$2,SMALL(IF($GU$2:$GU$72<>\"\",ROW($I$2:$K$72),\"\"),ROW(GU36))-2,0)","v":{"$error":"#NUM!"}},{"$f":"OFFSET($GV$2,SMALL(IF($GV$2:$GV$72<>\"\",ROW($GV$2:$GV$72),\"\"),ROW(GV36))-2,0)","v":{"$error":"#NUM!"}},{"$f":"OFFSET($GW$2,SMALL(IF($GW$2:$GW$72<>\"\",ROW($GW$2:$GW$72),\"\"),ROW(GW36))-2,0)","v":{"$error":"#NUM!"}},{"$f":"OFFSET($GX$2,SMALL(IF($GX$2:$GX$72<>\"\",ROW($GX$2:$GX$72),\"\"),ROW(GX36))-2,0)","v":{"$error":"#NUM!"}},{"$f":"IF(AND(教学计划表!N53<>\"\",教学计划表!AY53<>\"\"),教学计划表!I53,\"\")","v":""},{"$f":"IF(教学计划表!AY53<>\"\",教学计划表!N53,\"\")","v":""},{"$f":"IF(HG37<>\"\",IF(SEARCH(\"3\",教学计划表!AB53&\"3\",1)<=LEN(教学计划表!AB53),\"考试\",\"考查\"),\"\")","v":""},{"$f":"IF(教学计划表!EV53<>0,教学计划表!EV53,\"\")","v":""},{"$f":"IF(教学计划表!EV53<>0,教学计划表!FA53,\"\")","v":""},{"$f":"IF(教学计划表!EV53<>0,教学计划表!FB53,\"\")","v":""},{"$f":"IF(教学计划表!EV53<>0,教学计划表!PF53,\"\")","v":""},{"$f":"OFFSET($HF$2,SMALL(IF($HF$2:$HF$72<>\"\",ROW($HF$2:$HF$72),\"\"),ROW(HF36))-2,0)","v":{"$error":"#NUM!"}},{"$f":"OFFSET($HG$2,SMALL(IF($HG$2:$HG$72<>\"\",ROW($HG$2:$HG$72),\"\"),ROW(HG36))-2,0)","v":{"$error":"#NUM!"}},{"$f":"OFFSET($HH$2,SMALL(IF($HH$2:$HH$72<>\"\",ROW($HH$2:$HH$72),\"\"),ROW(HH36))-2,0)","v":{"$error":"#NUM!"}},{"$f":"OFFSET($HI$2,SMALL(IF($HI$2:$HI$72<>\"\",ROW($HI$2:$HI$72),\"\"),ROW(HI36))-2,0)","v":{"$error":"#NUM!"}},{"$f":"OFFSET($HJ$2,SMALL(IF($HJ$2:$HJ$72<>\"\",ROW($HJ$2:$HJ$72),\"\"),ROW(HJ36))-2,0)","v":{"$error":"#NUM!"}},{"$f":"OFFSET($HK$2,SMALL(IF($HK$2:$HK$72<>\"\",ROW($HK$2:$HK$72),\"\"),ROW(HK36))-2,0)","v":{"$error":"#NUM!"}},{"$f":"OFFSET($HL$2,SMALL(IF($HL$2:$HL$72<>\"\",ROW($HL$2:$HL$72),\"\"),ROW(HL36))-2,0)","v":{"$error":"#NUM!"}},{"$f":"IF(AND(教学计划表!N53<>\"\",教学计划表!BB53<>\"\"),教学计划表!I53,\"\")","v":""},{"$f":"IF(教学计划表!BB53<>\"\",教学计划表!N53,\"\")","v":""},{"$f":"IF(HU37<>\"\",IF(SEARCH(\"4\",教学计划表!AB53&\"4\",1)<=LEN(教学计划表!AB53),\"考试\",\"考查\"),\"\")","v":""},{"$f":"IF(教学计划表!FQ53<>0,教学计划表!FQ53,\"\")","v":""},{"$f":"IF(教学计划表!FQ53<>0,教学计划表!FV53,\"\")","v":""},{"$f":"IF(教学计划表!FQ53<>0,教学计划表!FW53,\"\")","v":""},{"$f":"IF(教学计划表!FQ53<>0,教学计划表!PR53,\"\")","v":""},{"$f":"OFFSET($HT$2,SMALL(IF($HT$2:$HT$72<>\"\",ROW($HT$2:$HT$72),\"\"),ROW(HT36))-2,0)","v":{"$error":"#NUM!"}},{"$f":"OFFSET($HU$2,SMALL(IF($HU$2:$HU$72<>\"\",ROW($HU$2:$HU$72),\"\"),ROW(HU36))-2,0)","v":{"$error":"#NUM!"}},{"$f":"OFFSET($HV$2,SMALL(IF($HV$2:$HV$72<>\"\",ROW($HV$2:$HV$72),\"\"),ROW(HV36))-2,0)","v":{"$error":"#NUM!"}},{"$f":"OFFSET($HW$2,SMALL(IF($HW$2:$HW$72<>\"\",ROW($HW$2:$HW$72),\"\"),ROW(HW36))-2,0)","v":{"$error":"#NUM!"}},{"$f":"OFFSET($HX$2,SMALL(IF($HX$2:$HX$72<>\"\",ROW($HX$2:$HX$72),\"\"),ROW(HX36))-2,0)","v":{"$error":"#NUM!"}},{"$f":"OFFSET($HY$2,SMALL(IF($HY$2:$HY$72<>\"\",ROW($HY$2:$HY$72),\"\"),ROW(HY36))-2,0)","v":{"$error":"#NUM!"}},{"$f":"OFFSET($HZ$2,SMALL(IF($HZ$2:$HZ$72<>\"\",ROW($HZ$2:$HZ$72),\"\"),ROW(HZ36))-2,0)","v":{"$error":"#NUM!"}},null,null,{"$f":"IF(AND(教学计划表!N53<>\"\",教学计划表!BE53<>\"\"),教学计划表!I53,\"\")","v":""},{"$f":"IF(教学计划表!BE53<>\"\",教学计划表!N53,\"\")","v":""},{"$f":"IF(IK37<>\"\",IF(SEARCH(\"5\",教学计划表!AB53&\"5\",1)<=LEN(教学计划表!AB53),\"考试\",\"考查\"),\"\")","v":""},{"$f":"IF(教学计划表!GL53<>0,教学计划表!GL53,\"\")","v":""},{"$f":"IF(教学计划表!GL53<>0,教学计划表!GQ53,\"\")","v":""},{"$f":"IF(教学计划表!GL53<>0,教学计划表!GR53,\"\")","v":""},{"$f":"IF(教学计划表!GL53<>0,教学计划表!QC53,\"\")","v":""},{"$f":"OFFSET($IJ$2,SMALL(IF($IJ$2:$IJ$72<>\"\",ROW($IJ$2:$IJ$72),\"\"),ROW(IJ36))-2,0)","v":{"$error":"#NUM!"}},{"$f":"OFFSET($IK$2,SMALL(IF($IK$2:$IK$72<>\"\",ROW($IK$2:$IK$72),\"\"),ROW(IK36))-2,0)","v":{"$error":"#NUM!"}},{"$f":"OFFSET($IL$2,SMALL(IF($IL$2:$IL$72<>\"\",ROW($IL$2:$IL$72),\"\"),ROW(IL36))-2,0)","v":{"$error":"#NUM!"}},{"$f":"OFFSET($IM$2,SMALL(IF($IM$2:$IM$72<>\"\",ROW($IM$2:$IM$72),\"\"),ROW(IM36))-2,0)","v":{"$error":"#NUM!"}},{"$f":"OFFSET($IN$2,SMALL(IF($IN$2:$IN$72<>\"\",ROW($IN$2:$IN$72),\"\"),ROW(IN36))-2,0)","v":{"$error":"#NUM!"}},{"$f":"OFFSET($IO$2,SMALL(IF($IO$2:$IO$72<>\"\",ROW($IO$2:$IO$72),\"\"),ROW(IO36))-2,0)","v":{"$error":"#NUM!"}},{"$f":"OFFSET($IP$2,SMALL(IF($IP$2:$IP$72<>\"\",ROW($IP$2:$IP$72),\"\"),ROW(IP36))-2,0)","v":{"$error":"#NUM!"}},null,{"$f":"IF(AND(教学计划表!N53<>\"\",教学计划表!BH53<>\"\"),教学计划表!I53,\"\")","v":""},{"$f":"IF(教学计划表!BH53<>\"\",教学计划表!N53,\"\")","v":""},{"$f":"IF(教学计划表!BH53<>\"\",IF(SEARCH(\"6\",教学计划表!AB53&\"6\",1)<=LEN(教学计划表!AB53),\"考试\",\"考查\"),\"\")","v":""},{"$f":"IF(教学计划表!BH53<>0,教学计划表!HG53,\"\")","v":""},{"$f":"IF(教学计划表!BH53<>0,教学计划表!HL53,\"\")","v":""},{"$f":"IF(教学计划表!BH53<>0,教学计划表!HM53,\"\")","v":""},{"$f":"IF(教学计划表!BH53<>0,教学计划表!QO53,\"\")","v":""},{"$f":"OFFSET($IY$2,SMALL(IF($IY$2:$IY$72<>\"\",ROW($IY$2:$IY$72),\"\"),ROW(IY36))-2,0)","v":{"$error":"#NUM!"}},{"$f":"OFFSET($IZ$2,SMALL(IF($IZ$2:$IZ$72<>\"\",ROW($IZ$2:$IZ$72),\"\"),ROW(IZ36))-2,0)","v":{"$error":"#NUM!"}},{"$f":"OFFSET($JA$2,SMALL(IF($JA$2:$JA$72<>\"\",ROW($JA$2:$JA$72),\"\"),ROW(JA36))-2,0)","v":{"$error":"#NUM!"}},{"$f":"OFFSET($JB$2,SMALL(IF($JB$2:$JB$72<>\"\",ROW($JB$2:$JB$72),\"\"),ROW(JB36))-2,0)","v":{"$error":"#NUM!"}},{"$f":"OFFSET($JC$2,SMALL(IF($JC$2:$JC$72<>\"\",ROW($JC$2:$JC$72),\"\"),ROW(JC36))-2,0)","v":{"$error":"#NUM!"}},{"$f":"OFFSET($JD$2,SMALL(IF($JD$2:$JD$72<>\"\",ROW($JD$2:$JD$72),\"\"),ROW(JD36))-2,0)","v":{"$error":"#NUM!"}},{"$f":"OFFSET($JE$2,SMALL(IF($JE$2:$JE$72<>\"\",ROW($JE$2:$JE$72),\"\"),ROW(JE36))-2,0)","v":{"$error":"#NUM!"}}]
["","","","","","","",null,"","","",{"$f":"IF(ISERROR(自动生成的开课信息!HB38),\"\",自动生成的开课信息!HB38)","v":""},{"$f":"IF(ISERROR(自动生成的开课信息!HC38),\"\",自动生成的开课信息!HC38)","v":""},{"$f":"IF(ISERROR(自动生成的开课信息!HD38),\"\",自动生成的开课信息!HD38)","v":""},{"$f":"IF(ISERROR(自动生成的开课信息!HE38),\"\",自动生成的开课信息!HE38)","v":""},null,"","","","","","","",null,"","","","","","","",null,"","","","","","","",null,"","","","","","","",null,null,null,null,null,null,null,null,null,null,null,null,null,null,null,null,null,null,null,null,null,null,null,null,null,null,null,null,null,null,null,null,null,null,null,null,null,null,null,null,null,null,null,null,null,null,null,null,null,null,null,null,null,null,null,null,null,null,null,null,null,null,null,null,null,null,null,null,null,null,null,null,null,null,null,null,null,null,null,null,null,null,null,null,null,null,null,null,null,null,null,null,null,null,null,null,null,null,null,null,null,null,null,null,null,null,null,null,null,null,null,null,null,null,null,null,null,null,null,null,null,null,null,null,null,null,null,null,null,null,null,null,null,null,null,null,null,null,{"$f":"IF(AND(教学计划表!N54<>\"\",教学计划表!AS54<>\"\"),教学计划表!I54,\"\")","v":""},{"$f":"IF(教学计划表!AS54<>\"\",教学计划表!N54,\"\")","v":""},{"$f":"IF(GE38<>\"\",IF(SEARCH(\"1\",教学计划表!AB54&\"1\",1)<=LEN(教学计划表!AB54),\"考试\",\"考查\"),\"\")","v":""},{"$f":"IF(教学计划表!DG54<>0,教学计划表!DG54,\"\")","v":""},{"$f":"IF(教学计划表!DG54<>0,教学计划表!DL54,\"\")","v":""},{"$f":"IF(教学计划表!DG54<>0,教学计划表!DM54,\"\")","v":""},{"$f":"IF(教学计划表!DG54<>0,教学计划表!OH54,\"\")","v":""},{"$f":"OFFSET($GD$2,SMALL(IF($GD$2:$GD$72<>\"\",ROW($2:$72),\"\"),ROW(GD37))-2,0)","v":{"$error":"#NUM!"}},{"$f":"OFFSET($GE$2,SMALL(IF($GE$2:$GE$72<>\"\",ROW($2:$72),\"\"),ROW(GE37))-2,0)","v":{"$error":"#NUM!"}},{"$f":"OFFSET($GF$2,SMALL(IF($GF$2:$GF$72<>\"\",ROW($2:$72),\"\"),ROW(GF37))-2,0)","v":{"$error":"#NUM!"}},{"$f":"OFFSET($GG$2,SMALL(IF($GG$2:$GG$72<>\"\",ROW($2:$72),\"\"),ROW(GG37))-2,0)","v":{"$error":"#NUM!"}},{"$f":"OFFSET($GH$2,SMALL(IF($GH$2:$GH$72<>\"\",ROW($2:$72),\"\"),ROW(GH37))-2,0)","v":{"$error":"#NUM!"}},{"$error":"#NUM!"},{"$f":"OFFSET($GJ$2,SMALL(IF($GJ$2:$GJ$72<>\"\",ROW($2:$72),\"\"),ROW(GJ37))-2,0)","v":{"$error":"#NUM!"}},{"$f":"IF(AND(教学计划表!N54<>\"\",教学计划表!AV54<>\"\"),教学计划表!I54,\"\")","v":""},{"$f":"IF(教学计划表!AV54<>\"\",教学计划表!N54,\"\")","v":""},{"$f":"IF(GS38<>\"\",IF(SEARCH(\"2\",教学计划表!AB54&\"2\",1)<=LEN(教学计划表!AB54),\"考试\",\"考查\"),\"\")","v":""},{"$f":"IF(教学计划表!EA54<>0,教学计划表!EA54,\"\")","v":""},{"$f":"IF(教学计划表!EA54<>0,教学计划表!EF54,\"\")","v":""},{"$f":"IF(教学计划表!EA54<>0,教学计划表!EG54,\"\")","v":""},{"$f":"IF(教学计划表!EA54<>0,教学计划表!OT54,\"\")","v":""},{"$f":"OFFSET($GR$2,SMALL(IF($GR$2:$GR$72<>\"\",ROW($I$2:$K$72),\"\"),ROW(GR37))-2,0)","v":{"$error":"#NUM!"}},{"$f":"OFFSET($GS$2,SMALL(IF($GS$2:$GS$72<>\"\",ROW($I$2:$K$72),\"\"),ROW(GS37))-2,0)","v":{"$error":"#NUM!"}},{"$f":"OFFSET($GT$2,SMALL(IF($GT$2:$GT$72<>\"\",ROW($I$2:$K$72),\"\"),ROW(GT37))-2,0)","v":{"$error":"#NUM!"}},{"$f":"OFFSET($GU$2,SMALL(IF($GU$2:$GU$72<>\"\",ROW($I$2:$K$72),\"\"),ROW(GU37))-2,0)","v":{"$error":"#NUM!"}},{"$f":"OFFSET($GV$2,SMALL(IF($GV$2:$GV$72<>\"\",ROW($GV$2:$GV$72),\"\"),ROW(GV37))-2,0)","v":{"$error":"#NUM!"}},{"$f":"OFFSET($GW$2,SMALL(IF($GW$2:$GW$72<>\"\",ROW($GW$2:$GW$72),\"\"),ROW(GW37))-2,0)","v":{"$error":"#NUM!"}},{"$f":"OFFSET($GX$2,SMALL(IF($GX$2:$GX$72<>\"\",ROW($GX$2:$GX$72),\"\"),ROW(GX37))-2,0)","v":{"$error":"#NUM!"}},{"$f":"IF(AND(教学计划表!N54<>\"\",教学计划表!AY54<>\"\"),教学计划表!I54,\"\")","v":""},{"$f":"IF(教学计划表!AY54<>\"\",教学计划表!N54,\"\")","v":""},{"$f":"IF(HG38<>\"\",IF(SEARCH(\"3\",教学计划表!AB54&\"3\",1)<=LEN(教学计划表!AB54),\"考试\",\"考查\"),\"\")","v":""},{"$f":"IF(教学计划表!EV54<>0,教学计划表!EV54,\"\")","v":""},{"$f":"IF(教学计划表!EV54<>0,教学计划表!FA54,\"\")","v":""},{"$f":"IF(教学计划表!EV54<>0,教学计划表!FB54,\"\")","v":""},{"$f":"IF(教学计划表!EV54<>0,教学计划表!PF54,\"\")","v":""},{"$f":"OFFSET($HF$2,SMALL(IF($HF$2:$HF$72<>\"\",ROW($HF$2:$HF$72),\"\"),ROW(HF37))-2,0)","v":{"$error":"#NUM!"}},{"$f":"OFFSET($HG$2,SMALL(IF($HG$2:$HG$72<>\"\",ROW($HG$2:$HG$72),\"\"),ROW(HG37))-2,0)","v":{"$error":"#NUM!"}},{"$f":"OFFSET($HH$2,SMALL(IF($HH$2:$HH$72<>\"\",ROW($HH$2:$HH$72),\"\"),ROW(HH37))-2,0)","v":{"$error":"#NUM!"}},{"$f":"OFFSET($HI$2,SMALL(IF($HI$2:$HI$72<>\"\",ROW($HI$2:$HI$72),\"\"),ROW(HI37))-2,0)","v":{"$error":"#NUM!"}},{"$f":"OFFSET($HJ$2,SMALL(IF($HJ$2:$HJ$72<>\"\",ROW($HJ$2:$HJ$72),\"\"),ROW(HJ37))-2,0)","v":{"$error":"#NUM!"}},{"$f":"OFFSET($HK$2,SMALL(IF($HK$2:$HK$72<>\"\",ROW($HK$2:$HK$72),\"\"),ROW(HK37))-2,0)","v":{"$error":"#NUM!"}},{"$f":"OFFSET($HL$2,SMALL(IF($HL$2:$HL$72<>\"\",ROW($HL$2:$HL$72),\"\"),ROW(HL37))-2,0)","v":{"$error":"#NUM!"}},{"$f":"IF(AND(教学计划表!N54<>\"\",教学计划表!BB54<>\"\"),教学计划表!I54,\"\")","v":""},{"$f":"IF(教学计划表!BB54<>\"\",教学计划表!N54,\"\")","v":""},{"$f":"IF(HU38<>\"\",IF(SEARCH(\"4\",教学计划表!AB54&\"4\",1)<=LEN(教学计划表!AB54),\"考试\",\"考查\"),\"\")","v":""},{"$f":"IF(教学计划表!FQ54<>0,教学计划表!FQ54,\"\")","v":""},{"$f":"IF(教学计划表!FQ54<>0,教学计划表!FV54,\"\")","v":""},{"$f":"IF(教学计划表!FQ54<>0,教学计划表!FW54,\"\")","v":""},{"$f":"IF(教学计划表!FQ54<>0,教学计划表!PR54,\"\")","v":""},{"$f":"OFFSET($HT$2,SMALL(IF($HT$2:$HT$72<>\"\",ROW($HT$2:$HT$72),\"\"),ROW(HT37))-2,0)","v":{"$error":"#NUM!"}},{"$f":"OFFSET($HU$2,SMALL(IF($HU$2:$HU$72<>\"\",ROW($HU$2:$HU$72),\"\"),ROW(HU37))-2,0)","v":{"$error":"#NUM!"}},{"$f":"OFFSET($HV$2,SMALL(IF($HV$2:$HV$72<>\"\",ROW($HV$2:$HV$72),\"\"),ROW(HV37))-2,0)","v":{"$error":"#NUM!"}},{"$f":"OFFSET($HW$2,SMALL(IF($HW$2:$HW$72<>\"\",ROW($HW$2:$HW$72),\"\"),ROW(HW37))-2,0)","v":{"$error":"#NUM!"}},{"$f":"OFFSET($HX$2,SMALL(IF($HX$2:$HX$72<>\"\",ROW($HX$2:$HX$72),\"\"),ROW(HX37))-2,0)","v":{"$error":"#NUM!"}},{"$f":"OFFSET($HY$2,SMALL(IF($HY$2:$HY$72<>\"\",ROW($HY$2:$HY$72),\"\"),ROW(HY37))-2,0)","v":{"$error":"#NUM!"}},{"$f":"OFFSET($HZ$2,SMALL(IF($HZ$2:$HZ$72<>\"\",ROW($HZ$2:$HZ$72),\"\"),ROW(HZ37))-2,0)","v":{"$error":"#NUM!"}},null,null,{"$f":"IF(AND(教学计划表!N54<>\"\",教学计划表!BE54<>\"\"),教学计划表!I54,\"\")","v":""},{"$f":"IF(教学计划表!BE54<>\"\",教学计划表!N54,\"\")","v":""},{"$f":"IF(IK38<>\"\",IF(SEARCH(\"5\",教学计划表!AB54&\"5\",1)<=LEN(教学计划表!AB54),\"考试\",\"考查\"),\"\")","v":""},{"$f":"IF(教学计划表!GL54<>0,教学计划表!GL54,\"\")","v":""},{"$f":"IF(教学计划表!GL54<>0,教学计划表!GQ54,\"\")","v":""},{"$f":"IF(教学计划表!GL54<>0,教学计划表!GR54,\"\")","v":""},{"$f":"IF(教学计划表!GL54<>0,教学计划表!QC54,\"\")","v":""},{"$f":"OFFSET($IJ$2,SMALL(IF($IJ$2:$IJ$72<>\"\",ROW($IJ$2:$IJ$72),\"\"),ROW(IJ37))-2,0)","v":{"$error":"#NUM!"}},{"$f":"OFFSET($IK$2,SMALL(IF($IK$2:$IK$72<>\"\",ROW($IK$2:$IK$72),\"\"),ROW(IK37))-2,0)","v":{"$error":"#NUM!"}},{"$f":"OFFSET($IL$2,SMALL(IF($IL$2:$IL$72<>\"\",ROW($IL$2:$IL$72),\"\"),ROW(IL37))-2,0)","v":{"$error":"#NUM!"}},{"$f":"OFFSET($IM$2,SMALL(IF($IM$2:$IM$72<>\"\",ROW($IM$2:$IM$72),\"\"),ROW(IM37))-2,0)","v":{"$error":"#NUM!"}},{"$f":"OFFSET($IN$2,SMALL(IF($IN$2:$IN$72<>\"\",ROW($IN$2:$IN$72),\"\"),ROW(IN37))-2,0)","v":{"$error":"#NUM!"}},{"$f":"OFFSET($IO$2,SMALL(IF($IO$2:$IO$72<>\"\",ROW($IO$2:$IO$72),\"\"),ROW(IO37))-2,0)","v":{"$error":"#NUM!"}},{"$f":"OFFSET($IP$2,SMALL(IF($IP$2:$IP$72<>\"\",ROW($IP$2:$IP$72),\"\"),ROW(IP37))-2,0)","v":{"$error":"#NUM!"}},null,{"$f":"IF(AND(教学计划表!N54<>\"\",教学计划表!BH54<>\"\"),教学计划表!I54,\"\")","v":""},{"$f":"IF(教学计划表!BH54<>\"\",教学计划表!N54,\"\")","v":""},{"$f":"IF(教学计划表!BH54<>\"\",IF(SEARCH(\"6\",教学计划表!AB54&\"6\",1)<=LEN(教学计划表!AB54),\"考试\",\"考查\"),\"\")","v":""},{"$f":"IF(教学计划表!BH54<>0,教学计划表!HG54,\"\")","v":""},{"$f":"IF(教学计划表!BH54<>0,教学计划表!HL54,\"\")","v":""},{"$f":"IF(教学计划表!BH54<>0,教学计划表!HM54,\"\")","v":""},{"$f":"IF(教学计划表!BH54<>0,教学计划表!QO54,\"\")","v":""},{"$f":"OFFSET($IY$2,SMALL(IF($IY$2:$IY$72<>\"\",ROW($IY$2:$IY$72),\"\"),ROW(IY37))-2,0)","v":{"$error":"#NUM!"}},{"$f":"OFFSET($IZ$2,SMALL(IF($IZ$2:$IZ$72<>\"\",ROW($IZ$2:$IZ$72),\"\"),ROW(IZ37))-2,0)","v":{"$error":"#NUM!"}},{"$f":"OFFSET($JA$2,SMALL(IF($JA$2:$JA$72<>\"\",ROW($JA$2:$JA$72),\"\"),ROW(JA37))-2,0)","v":{"$error":"#NUM!"}},{"$f":"OFFSET($JB$2,SMALL(IF($JB$2:$JB$72<>\"\",ROW($JB$2:$JB$72),\"\"),ROW(JB37))-2,0)","v":{"$error":"#NUM!"}},{"$f":"OFFSET($JC$2,SMALL(IF($JC$2:$JC$72<>\"\",ROW($JC$2:$JC$72),\"\"),ROW(JC37))-2,0)","v":{"$error":"#NUM!"}},{"$f":"OFFSET($JD$2,SMALL(IF($JD$2:$JD$72<>\"\",ROW($JD$2:$JD$72),\"\"),ROW(JD37))-2,0)","v":{"$error":"#NUM!"}},{"$f":"OFFSET($JE$2,SMALL(IF($JE$2:$JE$72<>\"\",ROW($JE$2:$JE$72),\"\"),ROW(JE37))-2,0)","v":{"$error":"#NUM!"}}]
["","","","","","","",null,"","","",{"$f":"IF(ISERROR(自动生成的开课信息!HB39),\"\",自动生成的开课信息!HB39)","v":""},{"$f":"IF(ISERROR(自动生成的开课信息!HC39),\"\",自动生成的开课信息!HC39)","v":""},{"$f":"IF(ISERROR(自动生成的开课信息!HD39),\"\",自动生成的开课信息!HD39)","v":""},{"$f":"IF(ISERROR(自动生成的开课信息!HE39),\"\",自动生成的开课信息!HE39)","v":""},null,"","","","","","","",null,"","","","","","","",null,"","","","","","","",null,"","","","","","","",null,null,null,null,null,null,null,null,null,null,null,null,null,null,null,null,null,null,null,null,null,null,null,null,null,null,null,null,null,null,null,null,null,null,null,null,null,null,null,null,null,null,null,null,null,null,null,null,null,null,null,null,null,null,null,null,null,null,null,null,null,null,null,null,null,null,null,null,null,null,null,null,null,null,null,null,null,null,null,null,null,null,null,null,null,null,null,null,null,null,null,null,null,null,null,null,null,null,null,null,null,null,null,null,null,null,null,null,null,null,null,null,null,null,null,null,null,null,null,null,null,null,null,null,null,null,null,null,null,null,null,null,null,null,null,null,null,null,{"$f":"IF(AND(教学计划表!N55<>\"\",教学计划表!AS55<>\"\"),教学计划表!I55,\"\")","v":""},{"$f":"IF(教学计划表!AS55<>\"\",教学计划表!N55,\"\")","v":""},{"$f":"IF(GE39<>\"\",IF(SEARCH(\"1\",教学计划表!AB55&\"1\",1)<=LEN(教学计划表!AB55),\"考试\",\"考查\"),\"\")","v":""},{"$f":"IF(教学计划表!DG55<>0,教学计划表!DG55,\"\")","v":""},{"$f":"IF(教学计划表!DG55<>0,教学计划表!DL55,\"\")","v":""},{"$f":"IF(教学计划表!DG55<>0,教学计划表!DM55,\"\")","v":""},{"$f":"IF(教学计划表!DG55<>0,教学计划表!OH55,\"\")","v":""},{"$f":"OFFSET($GD$2,SMALL(IF($GD$2:$GD$72<>\"\",ROW($2:$72),\"\"),ROW(GD38))-2,0)","v":{"$error":"#NUM!"}},{"$f":"OFFSET($GE$2,SMALL(IF($GE$2:$GE$72<>\"\",ROW($2:$72),\"\"),ROW(GE38))-2,0)","v":{"$error":"#NUM!"}},{"$f":"OFFSET($GF$2,SMALL(IF($GF$2:$GF$72<>\"\",ROW($2:$72),\"\"),ROW(GF38))-2,0)","v":{"$error":"#NUM!"}},{"$f":"OFFSET($GG$2,SMALL(IF($GG$2:$GG$72<>\"\",ROW($2:$72),\"\"),ROW(GG38))-2,0)","v":{"$error":"#NUM!"}},{"$f":"OFFSET($GH$2,SMALL(IF($GH$2:$GH$72<>\"\",ROW($2:$72),\"\"),ROW(GH38))-2,0)","v":{"$error":"#NUM!"}},{"$error":"#NUM!"},{"$f":"OFFSET($GJ$2,SMALL(IF($GJ$2:$GJ$72<>\"\",ROW($2:$72),\"\"),ROW(GJ38))-2,0)","v":{"$error":"#NUM!"}},{"$f":"IF(AND(教学计划表!N55<>\"\",教学计划表!AV55<>\"\"),教学计划表!I55,\"\")","v":""},{"$f":"IF(教学计划表!AV55<>\"\",教学计划表!N55,\"\")","v":""},{"$f":"IF(GS39<>\"\",IF(SEARCH(\"2\",教学计划表!AB55&\"2\",1)<=LEN(教学计划表!AB55),\"考试\",\"考查\"),\"\")","v":""},{"$f":"IF(教学计划表!EA55<>0,教学计划表!EA55,\"\")","v":""},{"$f":"IF(教学计划表!EA55<>0,教学计划表!EF55,\"\")","v":""},{"$f":"IF(教学计划表!EA55<>0,教学计划表!EG55,\"\")","v":""},{"$f":"IF(教学计划表!EA55<>0,教学计划表!OT55,\"\")","v":""},{"$f":"OFFSET($GR$2,SMALL(IF($GR$2:$GR$72<>\"\",ROW($I$2:$K$72),\"\"),ROW(GR38))-2,0)","v":{"$error":"#NUM!"}},{"$f":"OFFSET($GS$2,SMALL(IF($GS$2:$GS$72<>\"\",ROW($I$2:$K$72),\"\"),ROW(GS38))-2,0)","v":{"$error":"#NUM!"}},{"$f":"OFFSET($GT$2,SMALL(IF($GT$2:$GT$72<>\"\",ROW($I$2:$K$72),\"\"),ROW(GT38))-2,0)","v":{"$error":"#NUM!"}},{"$f":"OFFSET($GU$2,SMALL(IF($GU$2:$GU$72<>\"\",ROW($I$2:$K$72),\"\"),ROW(GU38))-2,0)","v":{"$error":"#NUM!"}},{"$f":"OFFSET($GV$2,SMALL(IF($GV$2:$GV$72<>\"\",ROW($GV$2:$GV$72),\"\"),ROW(GV38))-2,0)","v":{"$error":"#NUM!"}},{"$f":"OFFSET($GW$2,SMALL(IF($GW$2:$GW$72<>\"\",ROW($GW$2:$GW$72),\"\"),ROW(GW38))-2,0)","v":{"$error":"#NUM!"}},{"$f":"OFFSET($GX$2,SMALL(IF($GX$2:$GX$72<>\"\",ROW($GX$2:$GX$72),\"\"),ROW(GX38))-2,0)","v":{"$error":"#NUM!"}},{"$f":"IF(AND(教学计划表!N55<>\"\",教学计划表!AY55<>\"\"),教学计划表!I55,\"\")","v":""},{"$f":"IF(教学计划表!AY55<>\"\",教学计划表!N55,\"\")","v":""},{"$f":"IF(HG39<>\"\",IF(SEARCH(\"3\",教学计划表!AB55&\"3\",1)<=LEN(教学计划表!AB55),\"考试\",\"考查\"),\"\")","v":""},{"$f":"IF(教学计划表!EV55<>0,教学计划表!EV55,\"\")","v":""},{"$f":"IF(教学计划表!EV55<>0,教学计划表!FA55,\"\")","v":""},{"$f":"IF(教学计划表!EV55<>0,教学计划表!FB55,\"\")","v":""},{"$f":"IF(教学计划表!EV55<>0,教学计划表!PF55,\"\")","v":""},{"$f":"OFFSET($HF$2,SMALL(IF($HF$2:$HF$72<>\"\",ROW($HF$2:$HF$72),\"\"),ROW(HF38))-2,0)","v":{"$error":"#NUM!"}},{"$f":"OFFSET($HG$2,SMALL(IF($HG$2:$HG$72<>\"\",ROW($HG$2:$HG$72),\"\"),ROW(HG38))-2,0)","v":{"$error":"#NUM!"}},{"$f":"OFFSET($HH$2,SMALL(IF($HH$2:$HH$72<>\"\",ROW($HH$2:$HH$72),\"\"),ROW(HH38))-2,0)","v":{"$error":"#NUM!"}},{"$f":"OFFSET($HI$2,SMALL(IF($HI$2:$HI$72<>\"\",ROW($HI$2:$HI$72),\"\"),ROW(HI38))-2,0)","v":{"$error":"#NUM!"}},{"$f":"OFFSET($HJ$2,SMALL(IF($HJ$2:$HJ$72<>\"\",ROW($HJ$2:$HJ$72),\"\"),ROW(HJ38))-2,0)","v":{"$error":"#NUM!"}},{"$f":"OFFSET($HK$2,SMALL(IF($HK$2:$HK$72<>\"\",ROW($HK$2:$HK$72),\"\"),ROW(HK38))-2,0)","v":{"$error":"#NUM!"}},{"$f":"OFFSET($HL$2,SMALL(IF($HL$2:$HL$72<>\"\",ROW($HL$2:$HL$72),\"\"),ROW(HL38))-2,0)","v":{"$error":"#NUM!"}},{"$f":"IF(AND(教学计划表!N55<>\"\",教学计划表!BB55<>\"\"),教学计划表!I55,\"\")","v":""},{"$f":"IF(教学计划表!BB55<>\"\",教学计划表!N55,\"\")","v":""},{"$f":"IF(HU39<>\"\",IF(SEARCH(\"4\",教学计划表!AB55&\"4\",1)<=LEN(教学计划表!AB55),\"考试\",\"考查\"),\"\")","v":""},{"$f":"IF(教学计划表!FQ55<>0,教学计划表!FQ55,\"\")","v":""},{"$f":"IF(教学计划表!FQ55<>0,教学计划表!FV55,\"\")","v":""},{"$f":"IF(教学计划表!FQ55<>0,教学计划表!FW55,\"\")","v":""},{"$f":"IF(教学计划表!FQ55<>0,教学计划表!PR55,\"\")","v":""},{"$f":"OFFSET($HT$2,SMALL(IF($HT$2:$HT$72<>\"\",ROW($HT$2:$HT$72),\"\"),ROW(HT38))-2,0)","v":{"$error":"#NUM!"}},{"$f":"OFFSET($HU$2,SMALL(IF($HU$2:$HU$72<>\"\",ROW($HU$2:$HU$72),\"\"),ROW(HU38))-2,0)","v":{"$error":"#NUM!"}},{"$f":"OFFSET($HV$2,SMALL(IF($HV$2:$HV$72<>\"\",ROW($HV$2:$HV$72),\"\"),ROW(HV38))-2,0)","v":{"$error":"#NUM!"}},{"$f":"OFFSET($HW$2,SMALL(IF($HW$2:$HW$72<>\"\",ROW($HW$2:$HW$72),\"\"),ROW(HW38))-2,0)","v":{"$error":"#NUM!"}},{"$f":"OFFSET($HX$2,SMALL(IF($HX$2:$HX$72<>\"\",ROW($HX$2:$HX$72),\"\"),ROW(HX38))-2,0)","v":{"$error":"#NUM!"}},{"$f":"OFFSET($HY$2,SMALL(IF($HY$2:$HY$72<>\"\",ROW($HY$2:$HY$72),\"\"),ROW(HY38))-2,0)","v":{"$error":"#NUM!"}},{"$f":"OFFSET($HZ$2,SMALL(IF($HZ$2:$HZ$72<>\"\",ROW($HZ$2:$HZ$72),\"\"),ROW(HZ38))-2,0)","v":{"$error":"#NUM!"}},null,null,{"$f":"IF(AND(教学计划表!N55<>\"\",教学计划表!BE55<>\"\"),教学计划表!I55,\"\")","v":""},{"$f":"IF(教学计划表!BE55<>\"\",教学计划表!N55,\"\")","v":""},{"$f":"IF(IK39<>\"\",IF(SEARCH(\"5\",教学计划表!AB55&\"5\",1)<=LEN(教学计划表!AB55),\"考试\",\"考查\"),\"\")","v":""},{"$f":"IF(教学计划表!GL55<>0,教学计划表!GL55,\"\")","v":""},{"$f":"IF(教学计划表!GL55<>0,教学计划表!GQ55,\"\")","v":""},{"$f":"IF(教学计划表!GL55<>0,教学计划表!GR55,\"\")","v":""},{"$f":"IF(教学计划表!GL55<>0,教学计划表!QC55,\"\")","v":""},{"$f":"OFFSET($IJ$2,SMALL(IF($IJ$2:$IJ$72<>\"\",ROW($IJ$2:$IJ$72),\"\"),ROW(IJ38))-2,0)","v":{"$error":"#NUM!"}},{"$f":"OFFSET($IK$2,SMALL(IF($IK$2:$IK$72<>\"\",ROW($IK$2:$IK$72),\"\"),ROW(IK38))-2,0)","v":{"$error":"#NUM!"}},{"$f":"OFFSET($IL$2,SMALL(IF($IL$2:$IL$72<>\"\",ROW($IL$2:$IL$72),\"\"),ROW(IL38))-2,0)","v":{"$error":"#NUM!"}},{"$f":"OFFSET($IM$2,SMALL(IF($IM$2:$IM$72<>\"\",ROW($IM$2:$IM$72),\"\"),ROW(IM38))-2,0)","v":{"$error":"#NUM!"}},{"$f":"OFFSET($IN$2,SMALL(IF($IN$2:$IN$72<>\"\",ROW($IN$2:$IN$72),\"\"),ROW(IN38))-2,0)","v":{"$error":"#NUM!"}},{"$f":"OFFSET($IO$2,SMALL(IF($IO$2:$IO$72<>\"\",ROW($IO$2:$IO$72),\"\"),ROW(IO38))-2,0)","v":{"$error":"#NUM!"}},{"$f":"OFFSET($IP$2,SMALL(IF($IP$2:$IP$72<>\"\",ROW($IP$2:$IP$72),\"\"),ROW(IP38))-2,0)","v":{"$error":"#NUM!"}},null,{"$f":"IF(AND(教学计划表!N55<>\"\",教学计划表!BH55<>\"\"),教学计划表!I55,\"\")","v":""},{"$f":"IF(教学计划表!BH55<>\"\",教学计划表!N55,\"\")","v":""},{"$f":"IF(教学计划表!BH55<>\"\",IF(SEARCH(\"6\",教学计划表!AB55&\"6\",1)<=LEN(教学计划表!AB55),\"考试\",\"考查\"),\"\")","v":""},{"$f":"IF(教学计划表!BH55<>0,教学计划表!HG55,\"\")","v":""},{"$f":"IF(教学计划表!BH55<>0,教学计划表!HL55,\"\")","v":""},{"$f":"IF(教学计划表!BH55<>0,教学计划表!HM55,\"\")","v":""},{"$f":"IF(教学计划表!BH55<>0,教学计划表!QO55,\"\")","v":""},{"$f":"OFFSET($IY$2,SMALL(IF($IY$2:$IY$72<>\"\",ROW($IY$2:$IY$72),\"\"),ROW(IY38))-2,0)","v":{"$error":"#NUM!"}},{"$f":"OFFSET($IZ$2,SMALL(IF($IZ$2:$IZ$72<>\"\",ROW($IZ$2:$IZ$72),\"\"),ROW(IZ38))-2,0)","v":{"$error":"#NUM!"}},{"$f":"OFFSET($JA$2,SMALL(IF($JA$2:$JA$72<>\"\",ROW($JA$2:$JA$72),\"\"),ROW(JA38))-2,0)","v":{"$error":"#NUM!"}},{"$f":"OFFSET($JB$2,SMALL(IF($JB$2:$JB$72<>\"\",ROW($JB$2:$JB$72),\"\"),ROW(JB38))-2,0)","v":{"$error":"#NUM!"}},{"$f":"OFFSET($JC$2,SMALL(IF($JC$2:$JC$72<>\"\",ROW($JC$2:$JC$72),\"\"),ROW(JC38))-2,0)","v":{"$error":"#NUM!"}},{"$f":"OFFSET($JD$2,SMALL(IF($JD$2:$JD$72<>\"\",ROW($JD$2:$JD$72),\"\"),ROW(JD38))-2,0)","v":{"$error":"#NUM!"}},{"$f":"OFFSET($JE$2,SMALL(IF($JE$2:$JE$72<>\"\",ROW($JE$2:$JE$72),\"\"),ROW(JE38))-2,0)","v":{"$error":"#NUM!"}}]
["","","","","","","",null,"","","",{"$f":"IF(ISERROR(自动生成的开课信息!HB40),\"\",自动生成的开课信息!HB40)","v":""},{"$f":"IF(ISERROR(自动生成的开课信息!HC40),\"\",自动生成的开课信息!HC40)","v":""},{"$f":"IF(ISERROR(自动生成的开课信息!HD40),\"\",自动生成的开课信息!HD40)","v":""},{"$f":"IF(ISERROR(自动生成的开课信息!HE40),\"\",自动生成的开课信息!HE40)","v":""},null,"","","","","","","",null,"","","","","","","",null,"","","","","","","",null,"","","","","","","",null,null,null,null,null,null,null,null,null,null,null,null,null,null,null,null,null,null,null,null,null,null,null,null,null,null,null,null,null,null,null,null,null,null,null,null,null,null,null,null,null,null,null,null,null,null,null,null,null,null,null,null,null,null,null,null,null,null,null,null,null,null,null,null,null,null,null,null,null,null,null,null,null,null,null,null,null,null,null,null,null,null,null,null,null,null,null,null,null,null,null,null,null,null,null,null,null,null,null,null,null,null,null,null,null,null,null,null,null,null,null,null,null,null,null,null,null,null,null,null,null,null,null,null,null,null,null,null,null,null,null,null,null,null,null,null,null,null,{"$f":"IF(AND(教学计划表!N56<>\"\",教学计划表!AS56<>\"\"),教学计划表!I56,\"\")","v":""},{"$f":"IF(教学计划表!AS56<>\"\",教学计划表!N56,\"\")","v":""},{"$f":"IF(GE40<>\"\",IF(SEARCH(\"1\",教学计划表!AB56&\"1\",1)<=LEN(教学计划表!AB56),\"考试\",\"考查\"),\"\")","v":""},{"$f":"IF(教学计划表!DG56<>0,教学计划表!DG56,\"\")","v":""},{"$f":"IF(教学计划表!DG56<>0,教学计划表!DL56,\"\")","v":""},{"$f":"IF(教学计划表!DG56<>0,教学计划表!DM56,\"\")","v":""},{"$f":"IF(教学计划表!DG56<>0,教学计划表!OH56,\"\")","v":""},{"$f":"OFFSET($GD$2,SMALL(IF($GD$2:$GD$72<>\"\",ROW($2:$72),\"\"),ROW(GD39))-2,0)","v":{"$error":"#NUM!"}},{"$f":"OFFSET($GE$2,SMALL(IF($GE$2:$GE$72<>\"\",ROW($2:$72),\"\"),ROW(GE39))-2,0)","v":{"$error":"#NUM!"}},{"$f":"OFFSET($GF$2,SMALL(IF($GF$2:$GF$72<>\"\",ROW($2:$72),\"\"),ROW(GF39))-2,0)","v":{"$error":"#NUM!"}},{"$f":"OFFSET($GG$2,SMALL(IF($GG$2:$GG$72<>\"\",ROW($2:$72),\"\"),ROW(GG39))-2,0)","v":{"$error":"#NUM!"}},{"$f":"OFFSET($GH$2,SMALL(IF($GH$2:$GH$72<>\"\",ROW($2:$72),\"\"),ROW(GH39))-2,0)","v":{"$error":"#NUM!"}},{"$error":"#NUM!"},{"$f":"OFFSET($GJ$2,SMALL(IF($GJ$2:$GJ$72<>\"\",ROW($2:$72),\"\"),ROW(GJ39))-2,0)","v":{"$error":"#NUM!"}},{"$f":"IF(AND(教学计划表!N56<>\"\",教学计划表!AV56<>\"\"),教学计划表!I56,\"\")","v":""},{"$f":"IF(教学计划表!AV56<>\"\",教学计划表!N56,\"\")","v":""},{"$f":"IF(GS40<>\"\",IF(SEARCH(\"2\",教学计划表!AB56&\"2\",1)<=LEN(教学计划表!AB56),\"考试\",\"考查\"),\"\")","v":""},{"$f":"IF(教学计划表!EA56<>0,教学计划表!EA56,\"\")","v":""},{"$f":"IF(教学计划表!EA56<>0,教学计划表!EF56,\"\")","v":""},{"$f":"IF(教学计划表!EA56<>0,教学计划表!EG56,\"\")","v":""},{"$f":"IF(教学计划表!EA56<>0,教学计划表!OT56,\"\")","v":""},{"$f":"OFFSET($GR$2,SMALL(IF($GR$2:$GR$72<>\"\",ROW($I$2:$K$72),\"\"),ROW(GR39))-2,0)","v":{"$error":"#NUM!"}},{"$f":"OFFSET($GS$2,SMALL(IF($GS$2:$GS$72<>\"\",ROW($I$2:$K$72),\"\"),ROW(GS39))-2,0)","v":{"$error":"#NUM!"}},{"$f":"OFFSET($GT$2,SMALL(IF($GT$2:$GT$72<>\"\",ROW($I$2:$K$72),\"\"),ROW(GT39))-2,0)","v":{"$error":"#NUM!"}},{"$f":"OFFSET($GU$2,SMALL(IF($GU$2:$GU$72<>\"\",ROW($I$2:$K$72),\"\"),ROW(GU39))-2,0)","v":{"$error":"#NUM!"}},{"$f":"OFFSET($GV$2,SMALL(IF($GV$2:$GV$72<>\"\",ROW($GV$2:$GV$72),\"\"),ROW(GV39))-2,0)","v":{"$error":"#NUM!"}},{"$f":"OFFSET($GW$2,SMALL(IF($GW$2:$GW$72<>\"\",ROW($GW$2:$GW$72),\"\"),ROW(GW39))-2,0)","v":{"$error":"#NUM!"}},{"$f":"OFFSET($GX$2,SMALL(IF($GX$2:$GX$72<>\"\",ROW($GX$2:$GX$72),\"\"),ROW(GX39))-2,0)","v":{"$error":"#NUM!"}},{"$f":"IF(AND(教学计划表!N56<>\"\",教学计划表!AY56<>\"\"),教学计划表!I56,\"\")","v":""},{"$f":"IF(教学计划表!AY56<>\"\",教学计划表!N56,\"\")","v":""},{"$f":"IF(HG40<>\"\",IF(SEARCH(\"3\",教学计划表!AB56&\"3\",1)<=LEN(教学计划表!AB56),\"考试\",\"考查\"),\"\")","v":""},{"$f":"IF(教学计划表!EV56<>0,教学计划表!EV56,\"\")","v":""},{"$f":"IF(教学计划表!EV56<>0,教学计划表!FA56,\"\")","v":""},{"$f":"IF(教学计划表!EV56<>0,教学计划表!FB56,\"\")","v":""},{"$f":"IF(教学计划表!EV56<>0,教学计划表!PF56,\"\")","v":""},{"$f":"OFFSET($HF$2,SMALL(IF($HF$2:$HF$72<>\"\",ROW($HF$2:$HF$72),\"\"),ROW(HF39))-2,0)","v":{"$error":"#NUM!"}},{"$f":"OFFSET($HG$2,SMALL(IF($HG$2:$HG$72<>\"\",ROW($HG$2:$HG$72),\"\"),ROW(HG39))-2,0)","v":{"$error":"#NUM!"}},{"$f":"OFFSET($HH$2,SMALL(IF($HH$2:$HH$72<>\"\",ROW($HH$2:$HH$72),\"\"),ROW(HH39))-2,0)","v":{"$error":"#NUM!"}},{"$f":"OFFSET($HI$2,SMALL(IF($HI$2:$HI$72<>\"\",ROW($HI$2:$HI$72),\"\"),ROW(HI39))-2,0)","v":{"$error":"#NUM!"}},{"$f":"OFFSET($HJ$2,SMALL(IF($HJ$2:$HJ$72<>\"\",ROW($HJ$2:$HJ$72),\"\"),ROW(HJ39))-2,0)","v":{"$error":"#NUM!"}},{"$f":"OFFSET($HK$2,SMALL(IF($HK$2:$HK$72<>\"\",ROW($HK$2:$HK$72),\"\"),ROW(HK39))-2,0)","v":{"$error":"#NUM!"}},{"$f":"OFFSET($HL$2,SMALL(IF($HL$2:$HL$72<>\"\",ROW($HL$2:$HL$72),\"\"),ROW(HL39))-2,0)","v":{"$error":"#NUM!"}},{"$f":"IF(AND(教学计划表!N56<>\"\",教学计划表!BB56<>\"\"),教学计划表!I56,\"\")","v":""},{"$f":"IF(教学计划表!BB56<>\"\",教学计划表!N56,\"\")","v":""},{"$f":"IF(HU40<>\"\",IF(SEARCH(\"4\",教学计划表!AB56&\"4\",1)<=LEN(教学计划表!AB56),\"考试\",\"考查\"),\"\")","v":""},{"$f":"IF(教学计划表!FQ56<>0,教学计划表!FQ56,\"\")","v":""},{"$f":"IF(教学计划表!FQ56<>0,教学计划表!FV56,\"\")","v":""},{"$f":"IF(教学计划表!FQ56<>0,教学计划表!FW56,\"\")","v":""},{"$f":"IF(教学计划表!FQ56<>0,教学计划表!PR56,\"\")","v":""},{"$f":"OFFSET($HT$2,SMALL(IF($HT$2:$HT$72<>\"\",ROW($HT$2:$HT$72),\"\"),ROW(HT39))-2,0)","v":{"$error":"#NUM!"}},{"$f":"OFFSET($HU$2,SMALL(IF($HU$2:$HU$72<>\"\",ROW($HU$2:$HU$72),\"\"),ROW(HU39))-2,0)","v":{"$error":"#NUM!"}},{"$f":"OFFSET($HV$2,SMALL(IF($HV$2:$HV$72<>\"\",ROW($HV$2:$HV$72),\"\"),ROW(HV39))-2,0)","v":{"$error":"#NUM!"}},{"$f":"OFFSET($HW$2,SMALL(IF($HW$2:$HW$72<>\"\",ROW($HW$2:$HW$72),\"\"),ROW(HW39))-2,0)","v":{"$error":"#NUM!"}},{"$f":"OFFSET($HX$2,SMALL(IF($HX$2:$HX$72<>\"\",ROW($HX$2:$HX$72),\"\"),ROW(HX39))-2,0)","v":{"$error":"#NUM!"}},{"$f":"OFFSET($HY$2,SMALL(IF($HY$2:$HY$72<>\"\",ROW($HY$2:$HY$72),\"\"),ROW(HY39))-2,0)","v":{"$error":"#NUM!"}},{"$f":"OFFSET($HZ$2,SMALL(IF($HZ$2:$HZ$72<>\"\",ROW($HZ$2:$HZ$72),\"\"),ROW(HZ39))-2,0)","v":{"$error":"#NUM!"}},null,null,{"$f":"IF(AND(教学计划表!N56<>\"\",教学计划表!BE56<>\"\"),教学计划表!I56,\"\")","v":""},{"$f":"IF(教学计划表!BE56<>\"\",教学计划表!N56,\"\")","v":""},{"$f":"IF(IK40<>\"\",IF(SEARCH(\"5\",教学计划表!AB56&\"5\",1)<=LEN(教学计划表!AB56),\"考试\",\"考查\"),\"\")","v":""},{"$f":"IF(教学计划表!GL56<>0,教学计划表!GL56,\"\")","v":""},{"$f":"IF(教学计划表!GL56<>0,教学计划表!GQ56,\"\")","v":""},{"$f":"IF(教学计划表!GL56<>0,教学计划表!GR56,\"\")","v":""},{"$f":"IF(教学计划表!GL56<>0,教学计划表!QC56,\"\")","v":""},{"$f":"OFFSET($IJ$2,SMALL(IF($IJ$2:$IJ$72<>\"\",ROW($IJ$2:$IJ$72),\"\"),ROW(IJ39))-2,0)","v":{"$error":"#NUM!"}},{"$f":"OFFSET($IK$2,SMALL(IF($IK$2:$IK$72<>\"\",ROW($IK$2:$IK$72),\"\"),ROW(IK39))-2,0)","v":{"$error":"#NUM!"}},{"$f":"OFFSET($IL$2,SMALL(IF($IL$2:$IL$72<>\"\",ROW($IL$2:$IL$72),\"\"),ROW(IL39))-2,0)","v":{"$error":"#NUM!"}},{"$f":"OFFSET($IM$2,SMALL(IF($IM$2:$IM$72<>\"\",ROW($IM$2:$IM$72),\"\"),ROW(IM39))-2,0)","v":{"$error":"#NUM!"}},{"$f":"OFFSET($IN$2,SMALL(IF($IN$2:$IN$72<>\"\",ROW($IN$2:$IN$72),\"\"),ROW(IN39))-2,0)","v":{"$error":"#NUM!"}},{"$f":"OFFSET($IO$2,SMALL(IF($IO$2:$IO$72<>\"\",ROW($IO$2:$IO$72),\"\"),ROW(IO39))-2,0)","v":{"$error":"#NUM!"}},{"$f":"OFFSET($IP$2,SMALL(IF($IP$2:$IP$72<>\"\",ROW($IP$2:$IP$72),\"\"),ROW(IP39))-2,0)","v":{"$error":"#NUM!"}},null,{"$f":"IF(AND(教学计划表!N56<>\"\",教学计划表!BH56<>\"\"),教学计划表!I56,\"\")","v":""},{"$f":"IF(教学计划表!BH56<>\"\",教学计划表!N56,\"\")","v":""},{"$f":"IF(教学计划表!BH56<>\"\",IF(SEARCH(\"6\",教学计划表!AB56&\"6\",1)<=LEN(教学计划表!AB56),\"考试\",\"考查\"),\"\")","v":""},{"$f":"IF(教学计划表!BH56<>0,教学计划表!HG56,\"\")","v":""},{"$f":"IF(教学计划表!BH56<>0,教学计划表!HL56,\"\")","v":""},{"$f":"IF(教学计划表!BH56<>0,教学计划表!HM56,\"\")","v":""},{"$f":"IF(教学计划表!BH56<>0,教学计划表!QO56,\"\")","v":""},{"$f":"OFFSET($IY$2,SMALL(IF($IY$2:$IY$72<>\"\",ROW($IY$2:$IY$72),\"\"),ROW(IY39))-2,0)","v":{"$error":"#NUM!"}},{"$f":"OFFSET($IZ$2,SMALL(IF($IZ$2:$IZ$72<>\"\",ROW($IZ$2:$IZ$72),\"\"),ROW(IZ39))-2,0)","v":{"$error":"#NUM!"}},{"$f":"OFFSET($JA$2,SMALL(IF($JA$2:$JA$72<>\"\",ROW($JA$2:$JA$72),\"\"),ROW(JA39))-2,0)","v":{"$error":"#NUM!"}},{"$f":"OFFSET($JB$2,SMALL(IF($JB$2:$JB$72<>\"\",ROW($JB$2:$JB$72),\"\"),ROW(JB39))-2,0)","v":{"$error":"#NUM!"}},{"$f":"OFFSET($JC$2,SMALL(IF($JC$2:$JC$72<>\"\",ROW($JC$2:$JC$72),\"\"),ROW(JC39))-2,0)","v":{"$error":"#NUM!"}},{"$f":"OFFSET($JD$2,SMALL(IF($JD$2:$JD$72<>\"\",ROW($JD$2:$JD$72),\"\"),ROW(JD39))-2,0)","v":{"$error":"#NUM!"}},{"$f":"OFFSET($JE$2,SMALL(IF($JE$2:$JE$72<>\"\",ROW($JE$2:$JE$72),\"\"),ROW(JE39))-2,0)","v":{"$error":"#NUM!"}}]
["","","","","","","",null,"","","",{"$f":"IF(ISERROR(自动生成的开课信息!HB41),\"\",自动生成的开课信息!HB41)","v":""},{"$f":"IF(ISERROR(自动生成的开课信息!HC41),\"\",自动生成的开课信息!HC41)","v":""},{"$f":"IF(ISERROR(自动生成的开课信息!HD41),\"\",自动生成的开课信息!HD41)","v":""},{"$f":"IF(ISERROR(自动生成的开课信息!HE41),\"\",自动生成的开课信息!HE41)","v":""},null,"","","","","","","",null,"","","","","","","",null,"","","","","","","",null,"","","","","","","",null,null,null,null,null,null,null,null,null,null,null,null,null,null,null,null,null,null,null,null,null,null,null,null,null,null,null,null,null,null,null,null,null,null,null,null,null,null,null,null,null,null,null,null,null,null,null,null,null,null,null,null,null,null,null,null,null,null,null,null,null,null,null,null,null,null,null,null,null,null,null,null,null,null,null,null,null,null,null,null,null,null,null,null,null,null,null,null,null,null,null,null,null,null,null,null,null,null,null,null,null,null,null,null,null,null,null,null,null,null,null,null,null,null,null,null,null,null,null,null,null,null,null,null,null,null,null,null,null,null,null,null,null,null,null,null,null,null,{"$f":"IF(AND(教学计划表!N57<>\"\",教学计划表!AS57<>\"\"),教学计划表!I57,\"\")","v":""},{"$f":"IF(教学计划表!AS57<>\"\",教学计划表!N57,\"\")","v":""},{"$f":"IF(GE41<>\"\",IF(SEARCH(\"1\",教学计划表!AB57&\"1\",1)<=LEN(教学计划表!AB57),\"考试\",\"考查\"),\"\")","v":""},{"$f":"IF(教学计划表!DG57<>0,教学计划表!DG57,\"\")","v":""},{"$f":"IF(教学计划表!DG57<>0,教学计划表!DL57,\"\")","v":""},{"$f":"IF(教学计划表!DG57<>0,教学计划表!DM57,\"\")","v":""},{"$f":"IF(教学计划表!DG57<>0,教学计划表!OH57,\"\")","v":""},{"$f":"OFFSET($GD$2,SMALL(IF($GD$2:$GD$72<>\"\",ROW($2:$72),\"\"),ROW(GD40))-2,0)","v":{"$error":"#NUM!"}},{"$f":"OFFSET($GE$2,SMALL(IF($GE$2:$GE$72<>\"\",ROW($2:$72),\"\"),ROW(GE40))-2,0)","v":{"$error":"#NUM!"}},{"$f":"OFFSET($GF$2,SMALL(IF($GF$2:$GF$72<>\"\",ROW($2:$72),\"\"),ROW(GF40))-2,0)","v":{"$error":"#NUM!"}},{"$f":"OFFSET($GG$2,SMALL(IF($GG$2:$GG$72<>\"\",ROW($2:$72),\"\"),ROW(GG40))-2,0)","v":{"$error":"#NUM!"}},{"$f":"OFFSET($GH$2,SMALL(IF($GH$2:$GH$72<>\"\",ROW($2:$72),\"\"),ROW(GH40))-2,0)","v":{"$error":"#NUM!"}},{"$error":"#NUM!"},{"$f":"OFFSET($GJ$2,SMALL(IF($GJ$2:$GJ$72<>\"\",ROW($2:$72),\"\"),ROW(GJ40))-2,0)","v":{"$error":"#NUM!"}},{"$f":"IF(AND(教学计划表!N57<>\"\",教学计划表!AV57<>\"\"),教学计划表!I57,\"\")","v":""},{"$f":"IF(教学计划表!AV57<>\"\",教学计划表!N57,\"\")","v":""},{"$f":"IF(GS41<>\"\",IF(SEARCH(\"2\",教学计划表!AB57&\"2\",1)<=LEN(教学计划表!AB57),\"考试\",\"考查\"),\"\")","v":""},{"$f":"IF(教学计划表!EA57<>0,教学计划表!EA57,\"\")","v":""},{"$f":"IF(教学计划表!EA57<>0,教学计划表!EF57,\"\")","v":""},{"$f":"IF(教学计划表!EA57<>0,教学计划表!EG57,\"\")","v":""},{"$f":"IF(教学计划表!EA57<>0,教学计划表!OT57,\"\")","v":""},{"$f":"OFFSET($GR$2,SMALL(IF($GR$2:$GR$72<>\"\",ROW($I$2:$K$72),\"\"),ROW(GR40))-2,0)","v":{"$error":"#NUM!"}},{"$f":"OFFSET($GS$2,SMALL(IF($GS$2:$GS$72<>\"\",ROW($I$2:$K$72),\"\"),ROW(GS40))-2,0)","v":{"$error":"#NUM!"}},{"$f":"OFFSET($GT$2,SMALL(IF($GT$2:$GT$72<>\"\",ROW($I$2:$K$72),\"\"),ROW(GT40))-2,0)","v":{"$error":"#NUM!"}},{"$f":"OFFSET($GU$2,SMALL(IF($GU$2:$GU$72<>\"\",ROW($I$2:$K$72),\"\"),ROW(GU40))-2,0)","v":{"$error":"#NUM!"}},{"$f":"OFFSET($GV$2,SMALL(IF($GV$2:$GV$72<>\"\",ROW($GV$2:$GV$72),\"\"),ROW(GV40))-2,0)","v":{"$error":"#NUM!"}},{"$f":"OFFSET($GW$2,SMALL(IF($GW$2:$GW$72<>\"\",ROW($GW$2:$GW$72),\"\"),ROW(GW40))-2,0)","v":{"$error":"#NUM!"}},{"$f":"OFFSET($GX$2,SMALL(IF($GX$2:$GX$72<>\"\",ROW($GX$2:$GX$72),\"\"),ROW(GX40))-2,0)","v":{"$error":"#NUM!"}},{"$f":"IF(AND(教学计划表!N57<>\"\",教学计划表!AY57<>\"\"),教学计划表!I57,\"\")","v":""},{"$f":"IF(教学计划表!AY57<>\"\",教学计划表!N57,\"\")","v":""},{"$f":"IF(HG41<>\"\",IF(SEARCH(\"3\",教学计划表!AB57&\"3\",1)<=LEN(教学计划表!AB57),\"考试\",\"考查\"),\"\")","v":""},{"$f":"IF(教学计划表!EV57<>0,教学计划表!EV57,\"\")","v":""},{"$f":"IF(教学计划表!EV57<>0,教学计划表!FA57,\"\")","v":""},{"$f":"IF(教学计划表!EV57<>0,教学计划表!FB57,\"\")","v":""},{"$f":"IF(教学计划表!EV57<>0,教学计划表!PF57,\"\")","v":""},{"$f":"OFFSET($HF$2,SMALL(IF($HF$2:$HF$72<>\"\",ROW($HF$2:$HF$72),\"\"),ROW(HF40))-2,0)","v":{"$error":"#NUM!"}},{"$f":"OFFSET($HG$2,SMALL(IF($HG$2:$HG$72<>\"\",ROW($HG$2:$HG$72),\"\"),ROW(HG40))-2,0)","v":{"$error":"#NUM!"}},{"$f":"OFFSET($HH$2,SMALL(IF($HH$2:$HH$72<>\"\",ROW($HH$2:$HH$72),\"\"),ROW(HH40))-2,0)","v":{"$error":"#NUM!"}},{"$f":"OFFSET($HI$2,SMALL(IF($HI$2:$HI$72<>\"\",ROW($HI$2:$HI$72),\"\"),ROW(HI40))-2,0)","v":{"$error":"#NUM!"}},{"$f":"OFFSET($HJ$2,SMALL(IF($HJ$2:$HJ$72<>\"\",ROW($HJ$2:$HJ$72),\"\"),ROW(HJ40))-2,0)","v":{"$error":"#NUM!"}},{"$f":"OFFSET($HK$2,SMALL(IF($HK$2:$HK$72<>\"\",ROW($HK$2:$HK$72),\"\"),ROW(HK40))-2,0)","v":{"$error":"#NUM!"}},{"$f":"OFFSET($HL$2,SMALL(IF($HL$2:$HL$72<>\"\",ROW($HL$2:$HL$72),\"\"),ROW(HL40))-2,0)","v":{"$error":"#NUM!"}},{"$f":"IF(AND(教学计划表!N57<>\"\",教学计划表!BB57<>\"\"),教学计划表!I57,\"\")","v":""},{"$f":"IF(教学计划表!BB57<>\"\",教学计划表!N57,\"\")","v":""},{"$f":"IF(HU41<>\"\",IF(SEARCH(\"4\",教学计划表!AB57&\"4\",1)<=LEN(教学计划表!AB57),\"考试\",\"考查\"),\"\")","v":""},{"$f":"IF(教学计划表!FQ57<>0,教学计划表!FQ57,\"\")","v":""},{"$f":"IF(教学计划表!FQ57<>0,教学计划表!FV57,\"\")","v":""},{"$f":"IF(教学计划表!FQ57<>0,教学计划表!FW57,\"\")","v":""},{"$f":"IF(教学计划表!FQ57<>0,教学计划表!PR57,\"\")","v":""},{"$f":"OFFSET($HT$2,SMALL(IF($HT$2:$HT$72<>\"\",ROW($HT$2:$HT$72),\"\"),ROW(HT40))-2,0)","v":{"$error":"#NUM!"}},{"$f":"OFFSET($HU$2,SMALL(IF($HU$2:$HU$72<>\"\",ROW($HU$2:$HU$72),\"\"),ROW(HU40))-2,0)","v":{"$error":"#NUM!"}},{"$f":"OFFSET($HV$2,SMALL(IF($HV$2:$HV$72<>\"\",ROW($HV$2:$HV$72),\"\"),ROW(HV40))-2,0)","v":{"$error":"#NUM!"}},{"$f":"OFFSET($HW$2,SMALL(IF($HW$2:$HW$72<>\"\",ROW($HW$2:$HW$72),\"\"),ROW(HW40))-2,0)","v":{"$error":"#NUM!"}},{"$f":"OFFSET($HX$2,SMALL(IF($HX$2:$HX$72<>\"\",ROW($HX$2:$HX$72),\"\"),ROW(HX40))-2,0)","v":{"$error":"#NUM!"}},{"$f":"OFFSET($HY$2,SMALL(IF($HY$2:$HY$72<>\"\",ROW($HY$2:$HY$72),\"\"),ROW(HY40))-2,0)","v":{"$error":"#NUM!"}},{"$f":"OFFSET($HZ$2,SMALL(IF($HZ$2:$HZ$72<>\"\",ROW($HZ$2:$HZ$72),\"\"),ROW(HZ40))-2,0)","v":{"$error":"#NUM!"}},null,null,{"$f":"IF(AND(教学计划表!N57<>\"\",教学计划表!BE57<>\"\"),教学计划表!I57,\"\")","v":""},{"$f":"IF(教学计划表!BE57<>\"\",教学计划表!N57,\"\")","v":""},{"$f":"IF(IK41<>\"\",IF(SEARCH(\"5\",教学计划表!AB57&\"5\",1)<=LEN(教学计划表!AB57),\"考试\",\"考查\"),\"\")","v":""},{"$f":"IF(教学计划表!GL57<>0,教学计划表!GL57,\"\")","v":""},{"$f":"IF(教学计划表!GL57<>0,教学计划表!GQ57,\"\")","v":""},{"$f":"IF(教学计划表!GL57<>0,教学计划表!GR57,\"\")","v":""},{"$f":"IF(教学计划表!GL57<>0,教学计划表!QC57,\"\")","v":""},{"$f":"OFFSET($IJ$2,SMALL(IF($IJ$2:$IJ$72<>\"\",ROW($IJ$2:$IJ$72),\"\"),ROW(IJ40))-2,0)","v":{"$error":"#NUM!"}},{"$f":"OFFSET($IK$2,SMALL(IF($IK$2:$IK$72<>\"\",ROW($IK$2:$IK$72),\"\"),ROW(IK40))-2,0)","v":{"$error":"#NUM!"}},{"$f":"OFFSET($IL$2,SMALL(IF($IL$2:$IL$72<>\"\",ROW($IL$2:$IL$72),\"\"),ROW(IL40))-2,0)","v":{"$error":"#NUM!"}},{"$f":"OFFSET($IM$2,SMALL(IF($IM$2:$IM$72<>\"\",ROW($IM$2:$IM$72),\"\"),ROW(IM40))-2,0)","v":{"$error":"#NUM!"}},{"$f":"OFFSET($IN$2,SMALL(IF($IN$2:$IN$72<>\"\",ROW($IN$2:$IN$72),\"\"),ROW(IN40))-2,0)","v":{"$error":"#NUM!"}},{"$f":"OFFSET($IO$2,SMALL(IF($IO$2:$IO$72<>\"\",ROW($IO$2:$IO$72),\"\"),ROW(IO40))-2,0)","v":{"$error":"#NUM!"}},{"$f":"OFFSET($IP$2,SMALL(IF($IP$2:$IP$72<>\"\",ROW($IP$2:$IP$72),\"\"),ROW(IP40))-2,0)","v":{"$error":"#NUM!"}},null,{"$f":"IF(AND(教学计划表!N57<>\"\",教学计划表!BH57<>\"\"),教学计划表!I57,\"\")","v":""},{"$f":"IF(教学计划表!BH57<>\"\",教学计划表!N57,\"\")","v":""},{"$f":"IF(教学计划表!BH57<>\"\",IF(SEARCH(\"6\",教学计划表!AB57&\"6\",1)<=LEN(教学计划表!AB57),\"考试\",\"考查\"),\"\")","v":""},{"$f":"IF(教学计划表!BH57<>0,教学计划表!HG57,\"\")","v":""},{"$f":"IF(教学计划表!BH57<>0,教学计划表!HL57,\"\")","v":""},{"$f":"IF(教学计划表!BH57<>0,教学计划表!HM57,\"\")","v":""},{"$f":"IF(教学计划表!BH57<>0,教学计划表!QO57,\"\")","v":""},{"$f":"OFFSET($IY$2,SMALL(IF($IY$2:$IY$72<>\"\",ROW($IY$2:$IY$72),\"\"),ROW(IY40))-2,0)","v":{"$error":"#NUM!"}},{"$f":"OFFSET($IZ$2,SMALL(IF($IZ$2:$IZ$72<>\"\",ROW($IZ$2:$IZ$72),\"\"),ROW(IZ40))-2,0)","v":{"$error":"#NUM!"}},{"$f":"OFFSET($JA$2,SMALL(IF($JA$2:$JA$72<>\"\",ROW($JA$2:$JA$72),\"\"),ROW(JA40))-2,0)","v":{"$error":"#NUM!"}},{"$f":"OFFSET($JB$2,SMALL(IF($JB$2:$JB$72<>\"\",ROW($JB$2:$JB$72),\"\"),ROW(JB40))-2,0)","v":{"$error":"#NUM!"}},{"$f":"OFFSET($JC$2,SMALL(IF($JC$2:$JC$72<>\"\",ROW($JC$2:$JC$72),\"\"),ROW(JC40))-2,0)","v":{"$error":"#NUM!"}},{"$f":"OFFSET($JD$2,SMALL(IF($JD$2:$JD$72<>\"\",ROW($JD$2:$JD$72),\"\"),ROW(JD40))-2,0)","v":{"$error":"#NUM!"}},{"$f":"OFFSET($JE$2,SMALL(IF($JE$2:$JE$72<>\"\",ROW($JE$2:$JE$72),\"\"),ROW(JE40))-2,0)","v":{"$error":"#NUM!"}}]
["","","","","","","",null,"","","",{"$f":"IF(ISERROR(自动生成的开课信息!HB42),\"\",自动生成的开课信息!HB42)","v":""},{"$f":"IF(ISERROR(自动生成的开课信息!HC42),\"\",自动生成的开课信息!HC42)","v":""},{"$f":"IF(ISERROR(自动生成的开课信息!HD42),\"\",自动生成的开课信息!HD42)","v":""},{"$f":"IF(ISERROR(自动生成的开课信息!HE42),\"\",自动生成的开课信息!HE42)","v":""},null,"","","","","","","",null,"","","","","","","",null,"","","","","","","",null,"","","","","","","",null,null,null,null,null,null,null,null,null,null,null,null,null,null,null,null,null,null,null,null,null,null,null,null,null,null,null,null,null,null,null,null,null,null,null,null,null,null,null,null,null,null,null,null,null,null,null,null,null,null,null,null,null,null,null,null,null,null,null,null,null,null,null,null,null,null,null,null,null,null,null,null,null,null,null,null,null,null,null,null,null,null,null,null,null,null,null,null,null,null,null,null,null,null,null,null,null,null,null,null,null,null,null,null,null,null,null,null,null,null,null,null,null,null,null,null,null,null,null,null,null,null,null,null,null,null,null,null,null,null,null,null,null,null,null,null,null,null,{"$f":"IF(AND(教学计划表!N58<>\"\",教学计划表!AS58<>\"\"),教学计划表!I58,\"\")","v":""},{"$f":"IF(教学计划表!AS58<>\"\",教学计划表!N58,\"\")","v":""},{"$f":"IF(GE42<>\"\",IF(SEARCH(\"1\",教学计划表!AB58&\"1\",1)<=LEN(教学计划表!AB58),\"考试\",\"考查\"),\"\")","v":""},{"$f":"IF(教学计划表!DG58<>0,教学计划表!DG58,\"\")","v":""},{"$f":"IF(教学计划表!DG58<>0,教学计划表!DL58,\"\")","v":""},{"$f":"IF(教学计划表!DG58<>0,教学计划表!DM58,\"\")","v":""},{"$f":"IF(教学计划表!DG58<>0,教学计划表!OH58,\"\")","v":""},{"$f":"OFFSET($GD$2,SMALL(IF($GD$2:$GD$72<>\"\",ROW($2:$72),\"\"),ROW(GD41))-2,0)","v":{"$error":"#NUM!"}},{"$f":"OFFSET($GE$2,SMALL(IF($GE$2:$GE$72<>\"\",ROW($2:$72),\"\"),ROW(GE41))-2,0)","v":{"$error":"#NUM!"}},{"$f":"OFFSET($GF$2,SMALL(IF($GF$2:$GF$72<>\"\",ROW($2:$72),\"\"),ROW(GF41))-2,0)","v":{"$error":"#NUM!"}},{"$f":"OFFSET($GG$2,SMALL(IF($GG$2:$GG$72<>\"\",ROW($2:$72),\"\"),ROW(GG41))-2,0)","v":{"$error":"#NUM!"}},{"$f":"OFFSET($GH$2,SMALL(IF($GH$2:$GH$72<>\"\",ROW($2:$72),\"\"),ROW(GH41))-2,0)","v":{"$error":"#NUM!"}},{"$error":"#NUM!"},{"$f":"OFFSET($GJ$2,SMALL(IF($GJ$2:$GJ$72<>\"\",ROW($2:$72),\"\"),ROW(GJ41))-2,0)","v":{"$error":"#NUM!"}},{"$f":"IF(AND(教学计划表!N58<>\"\",教学计划表!AV58<>\"\"),教学计划表!I58,\"\")","v":""},{"$f":"IF(教学计划表!AV58<>\"\",教学计划表!N58,\"\")","v":""},{"$f":"IF(GS42<>\"\",IF(SEARCH(\"2\",教学计划表!AB58&\"2\",1)<=LEN(教学计划表!AB58),\"考试\",\"考查\"),\"\")","v":""},{"$f":"IF(教学计划表!EA58<>0,教学计划表!EA58,\"\")","v":""},{"$f":"IF(教学计划表!EA58<>0,教学计划表!EF58,\"\")","v":""},{"$f":"IF(教学计划表!EA58<>0,教学计划表!EG58,\"\")","v":""},{"$f":"IF(教学计划表!EA58<>0,教学计划表!OT58,\"\")","v":""},{"$f":"OFFSET($GR$2,SMALL(IF($GR$2:$GR$72<>\"\",ROW($I$2:$K$72),\"\"),ROW(GR41))-2,0)","v":{"$error":"#NUM!"}},{"$f":"OFFSET($GS$2,SMALL(IF($GS$2:$GS$72<>\"\",ROW($I$2:$K$72),\"\"),ROW(GS41))-2,0)","v":{"$error":"#NUM!"}},{"$f":"OFFSET($GT$2,SMALL(IF($GT$2:$GT$72<>\"\",ROW($I$2:$K$72),\"\"),ROW(GT41))-2,0)","v":{"$error":"#NUM!"}},{"$f":"OFFSET($GU$2,SMALL(IF($GU$2:$GU$72<>\"\",ROW($I$2:$K$72),\"\"),ROW(GU41))-2,0)","v":{"$error":"#NUM!"}},{"$f":"OFFSET($GV$2,SMALL(IF($GV$2:$GV$72<>\"\",ROW($GV$2:$GV$72),\"\"),ROW(GV41))-2,0)","v":{"$error":"#NUM!"}},{"$f":"OFFSET($GW$2,SMALL(IF($GW$2:$GW$72<>\"\",ROW($GW$2:$GW$72),\"\"),ROW(GW41))-2,0)","v":{"$error":"#NUM!"}},{"$f":"OFFSET($GX$2,SMALL(IF($GX$2:$GX$72<>\"\",ROW($GX$2:$GX$72),\"\"),ROW(GX41))-2,0)","v":{"$error":"#NUM!"}},{"$f":"IF(AND(教学计划表!N58<>\"\",教学计划表!AY58<>\"\"),教学计划表!I58,\"\")","v":""},{"$f":"IF(教学计划表!AY58<>\"\",教学计划表!N58,\"\")","v":""},{"$f":"IF(HG42<>\"\",IF(SEARCH(\"3\",教学计划表!AB58&\"3\",1)<=LEN(教学计划表!AB58),\"考试\",\"考查\"),\"\")","v":""},{"$f":"IF(教学计划表!EV58<>0,教学计划表!EV58,\"\")","v":""},{"$f":"IF(教学计划表!EV58<>0,教学计划表!FA58,\"\")","v":""},{"$f":"IF(教学计划表!EV58<>0,教学计划表!FB58,\"\")","v":""},{"$f":"IF(教学计划表!EV58<>0,教学计划表!PF58,\"\")","v":""},{"$f":"OFFSET($HF$2,SMALL(IF($HF$2:$HF$72<>\"\",ROW($HF$2:$HF$72),\"\"),ROW(HF41))-2,0)","v":{"$error":"#NUM!"}},{"$f":"OFFSET($HG$2,SMALL(IF($HG$2:$HG$72<>\"\",ROW($HG$2:$HG$72),\"\"),ROW(HG41))-2,0)","v":{"$error":"#NUM!"}},{"$f":"OFFSET($HH$2,SMALL(IF($HH$2:$HH$72<>\"\",ROW($HH$2:$HH$72),\"\"),ROW(HH41))-2,0)","v":{"$error":"#NUM!"}},{"$f":"OFFSET($HI$2,SMALL(IF($HI$2:$HI$72<>\"\",ROW($HI$2:$HI$72),\"\"),ROW(HI41))-2,0)","v":{"$error":"#NUM!"}},{"$f":"OFFSET($HJ$2,SMALL(IF($HJ$2:$HJ$72<>\"\",ROW($HJ$2:$HJ$72),\"\"),ROW(HJ41))-2,0)","v":{"$error":"#NUM!"}},{"$f":"OFFSET($HK$2,SMALL(IF($HK$2:$HK$72<>\"\",ROW($HK$2:$HK$72),\"\"),ROW(HK41))-2,0)","v":{"$error":"#NUM!"}},{"$f":"OFFSET($HL$2,SMALL(IF($HL$2:$HL$72<>\"\",ROW($HL$2:$HL$72),\"\"),ROW(HL41))-2,0)","v":{"$error":"#NUM!"}},{"$f":"IF(AND(教学计划表!N58<>\"\",教学计划表!BB58<>\"\"),教学计划表!I58,\"\")","v":""},{"$f":"IF(教学计划表!BB58<>\"\",教学计划表!N58,\"\")","v":""},{"$f":"IF(HU42<>\"\",IF(SEARCH(\"4\",教学计划表!AB58&\"4\",1)<=LEN(教学计划表!AB58),\"考试\",\"考查\"),\"\")","v":""},{"$f":"IF(教学计划表!FQ58<>0,教学计划表!FQ58,\"\")","v":""},{"$f":"IF(教学计划表!FQ58<>0,教学计划表!FV58,\"\")","v":""},{"$f":"IF(教学计划表!FQ58<>0,教学计划表!FW58,\"\")","v":""},{"$f":"IF(教学计划表!FQ58<>0,教学计划表!PR58,\"\")","v":""},{"$f":"OFFSET($HT$2,SMALL(IF($HT$2:$HT$72<>\"\",ROW($HT$2:$HT$72),\"\"),ROW(HT41))-2,0)","v":{"$error":"#NUM!"}},{"$f":"OFFSET($HU$2,SMALL(IF($HU$2:$HU$72<>\"\",ROW($HU$2:$HU$72),\"\"),ROW(HU41))-2,0)","v":{"$error":"#NUM!"}},{"$f":"OFFSET($HV$2,SMALL(IF($HV$2:$HV$72<>\"\",ROW($HV$2:$HV$72),\"\"),ROW(HV41))-2,0)","v":{"$error":"#NUM!"}},{"$f":"OFFSET($HW$2,SMALL(IF($HW$2:$HW$72<>\"\",ROW($HW$2:$HW$72),\"\"),ROW(HW41))-2,0)","v":{"$error":"#NUM!"}},{"$f":"OFFSET($HX$2,SMALL(IF($HX$2:$HX$72<>\"\",ROW($HX$2:$HX$72),\"\"),ROW(HX41))-2,0)","v":{"$error":"#NUM!"}},{"$f":"OFFSET($HY$2,SMALL(IF($HY$2:$HY$72<>\"\",ROW($HY$2:$HY$72),\"\"),ROW(HY41))-2,0)","v":{"$error":"#NUM!"}},{"$f":"OFFSET($HZ$2,SMALL(IF($HZ$2:$HZ$72<>\"\",ROW($HZ$2:$HZ$72),\"\"),ROW(HZ41))-2,0)","v":{"$error":"#NUM!"}},null,null,{"$f":"IF(AND(教学计划表!N58<>\"\",教学计划表!BE58<>\"\"),教学计划表!I58,\"\")","v":""},{"$f":"IF(教学计划表!BE58<>\"\",教学计划表!N58,\"\")","v":""},{"$f":"IF(IK42<>\"\",IF(SEARCH(\"5\",教学计划表!AB58&\"5\",1)<=LEN(教学计划表!AB58),\"考试\",\"考查\"),\"\")","v":""},{"$f":"IF(教学计划表!GL58<>0,教学计划表!GL58,\"\")","v":""},{"$f":"IF(教学计划表!GL58<>0,教学计划表!GQ58,\"\")","v":""},{"$f":"IF(教学计划表!GL58<>0,教学计划表!GR58,\"\")","v":""},{"$f":"IF(教学计划表!GL58<>0,教学计划表!QC58,\"\")","v":""},{"$f":"OFFSET($IJ$2,SMALL(IF($IJ$2:$IJ$72<>\"\",ROW($IJ$2:$IJ$72),\"\"),ROW(IJ41))-2,0)","v":{"$error":"#NUM!"}},{"$f":"OFFSET($IK$2,SMALL(IF($IK$2:$IK$72<>\"\",ROW($IK$2:$IK$72),\"\"),ROW(IK41))-2,0)","v":{"$error":"#NUM!"}},{"$f":"OFFSET($IL$2,SMALL(IF($IL$2:$IL$72<>\"\",ROW($IL$2:$IL$72),\"\"),ROW(IL41))-2,0)","v":{"$error":"#NUM!"}},{"$f":"OFFSET($IM$2,SMALL(IF($IM$2:$IM$72<>\"\",ROW($IM$2:$IM$72),\"\"),ROW(IM41))-2,0)","v":{"$error":"#NUM!"}},{"$f":"OFFSET($IN$2,SMALL(IF($IN$2:$IN$72<>\"\",ROW($IN$2:$IN$72),\"\"),ROW(IN41))-2,0)","v":{"$error":"#NUM!"}},{"$f":"OFFSET($IO$2,SMALL(IF($IO$2:$IO$72<>\"\",ROW($IO$2:$IO$72),\"\"),ROW(IO41))-2,0)","v":{"$error":"#NUM!"}},{"$f":"OFFSET($IP$2,SMALL(IF($IP$2:$IP$72<>\"\",ROW($IP$2:$IP$72),\"\"),ROW(IP41))-2,0)","v":{"$error":"#NUM!"}},null,{"$f":"IF(AND(教学计划表!N58<>\"\",教学计划表!BH58<>\"\"),教学计划表!I58,\"\")","v":""},{"$f":"IF(教学计划表!BH58<>\"\",教学计划表!N58,\"\")","v":""},{"$f":"IF(教学计划表!BH58<>\"\",IF(SEARCH(\"6\",教学计划表!AB58&\"6\",1)<=LEN(教学计划表!AB58),\"考试\",\"考查\"),\"\")","v":""},{"$f":"IF(教学计划表!BH58<>0,教学计划表!HG58,\"\")","v":""},{"$f":"IF(教学计划表!BH58<>0,教学计划表!HL58,\"\")","v":""},{"$f":"IF(教学计划表!BH58<>0,教学计划表!HM58,\"\")","v":""},{"$f":"IF(教学计划表!BH58<>0,教学计划表!QO58,\"\")","v":""},{"$f":"OFFSET($IY$2,SMALL(IF($IY$2:$IY$72<>\"\",ROW($IY$2:$IY$72),\"\"),ROW(IY41))-2,0)","v":{"$error":"#NUM!"}},{"$f":"OFFSET($IZ$2,SMALL(IF($IZ$2:$IZ$72<>\"\",ROW($IZ$2:$IZ$72),\"\"),ROW(IZ41))-2,0)","v":{"$error":"#NUM!"}},{"$f":"OFFSET($JA$2,SMALL(IF($JA$2:$JA$72<>\"\",ROW($JA$2:$JA$72),\"\"),ROW(JA41))-2,0)","v":{"$error":"#NUM!"}},{"$f":"OFFSET($JB$2,SMALL(IF($JB$2:$JB$72<>\"\",ROW($JB$2:$JB$72),\"\"),ROW(JB41))-2,0)","v":{"$error":"#NUM!"}},{"$f":"OFFSET($JC$2,SMALL(IF($JC$2:$JC$72<>\"\",ROW($JC$2:$JC$72),\"\"),ROW(JC41))-2,0)","v":{"$error":"#NUM!"}},{"$f":"OFFSET($JD$2,SMALL(IF($JD$2:$JD$72<>\"\",ROW($JD$2:$JD$72),\"\"),ROW(JD41))-2,0)","v":{"$error":"#NUM!"}},{"$f":"OFFSET($JE$2,SMALL(IF($JE$2:$JE$72<>\"\",ROW($JE$2:$JE$72),\"\"),ROW(JE41))-2,0)","v":{"$error":"#NUM!"}}]
["","","","","","","",null,"","","",{"$f":"IF(ISERROR(自动生成的开课信息!HB43),\"\",自动生成的开课信息!HB43)","v":""},{"$f":"IF(ISERROR(自动生成的开课信息!HC43),\"\",自动生成的开课信息!HC43)","v":""},{"$f":"IF(ISERROR(自动生成的开课信息!HD43),\"\",自动生成的开课信息!HD43)","v":""},{"$f":"IF(ISERROR(自动生成的开课信息!HE43),\"\",自动生成的开课信息!HE43)","v":""},null,"","","","","","","",null,"","","","","","","",null,"","","","","","","",null,"","","","","","","",null,null,null,null,null,null,null,null,null,null,null,null,null,null,null,null,null,null,null,null,null,null,null,null,null,null,null,null,null,null,null,null,null,null,null,null,null,null,null,null,null,null,null,null,null,null,null,null,null,null,null,null,null,null,null,null,null,null,null,null,null,null,null,null,null,null,null,null,null,null,null,null,null,null,null,null,null,null,null,null,null,null,null,null,null,null,null,null,null,null,null,null,null,null,null,null,null,null,null,null,null,null,null,null,null,null,null,null,null,null,null,null,null,null,null,null,null,null,null,null,null,null,null,null,null,null,null,null,null,null,null,null,null,null,null,null,null,null,{"$f":"IF(AND(教学计划表!N59<>\"\",教学计划表!AS59<>\"\"),教学计划表!I59,\"\")","v":""},{"$f":"IF(教学计划表!AS59<>\"\",教学计划表!N59,\"\")","v":""},{"$f":"IF(GE43<>\"\",IF(SEARCH(\"1\",教学计划表!AB59&\"1\",1)<=LEN(教学计划表!AB59),\"考试\",\"考查\"),\"\")","v":""},{"$f":"IF(教学计划表!DG59<>0,教学计划表!DG59,\"\")","v":""},{"$f":"IF(教学计划表!DG59<>0,教学计划表!DL59,\"\")","v":""},{"$f":"IF(教学计划表!DG59<>0,教学计划表!DM59,\"\")","v":""},{"$f":"IF(教学计划表!DG59<>0,教学计划表!OH59,\"\")","v":""},{"$f":"OFFSET($GD$2,SMALL(IF($GD$2:$GD$72<>\"\",ROW($2:$72),\"\"),ROW(GD42))-2,0)","v":{"$error":"#NUM!"}},{"$f":"OFFSET($GE$2,SMALL(IF($GE$2:$GE$72<>\"\",ROW($2:$72),\"\"),ROW(GE42))-2,0)","v":{"$error":"#NUM!"}},{"$f":"OFFSET($GF$2,SMALL(IF($GF$2:$GF$72<>\"\",ROW($2:$72),\"\"),ROW(GF42))-2,0)","v":{"$error":"#NUM!"}},{"$f":"OFFSET($GG$2,SMALL(IF($GG$2:$GG$72<>\"\",ROW($2:$72),\"\"),ROW(GG42))-2,0)","v":{"$error":"#NUM!"}},{"$f":"OFFSET($GH$2,SMALL(IF($GH$2:$GH$72<>\"\",ROW($2:$72),\"\"),ROW(GH42))-2,0)","v":{"$error":"#NUM!"}},{"$error":"#NUM!"},{"$f":"OFFSET($GJ$2,SMALL(IF($GJ$2:$GJ$72<>\"\",ROW($2:$72),\"\"),ROW(GJ42))-2,0)","v":{"$error":"#NUM!"}},{"$f":"IF(AND(教学计划表!N59<>\"\",教学计划表!AV59<>\"\"),教学计划表!I59,\"\")","v":""},{"$f":"IF(教学计划表!AV59<>\"\",教学计划表!N59,\"\")","v":""},{"$f":"IF(GS43<>\"\",IF(SEARCH(\"2\",教学计划表!AB59&\"2\",1)<=LEN(教学计划表!AB59),\"考试\",\"考查\"),\"\")","v":""},{"$f":"IF(教学计划表!EA59<>0,教学计划表!EA59,\"\")","v":""},{"$f":"IF(教学计划表!EA59<>0,教学计划表!EF59,\"\")","v":""},{"$f":"IF(教学计划表!EA59<>0,教学计划表!EG59,\"\")","v":""},{"$f":"IF(教学计划表!EA59<>0,教学计划表!OT59,\"\")","v":""},{"$f":"OFFSET($GR$2,SMALL(IF($GR$2:$GR$72<>\"\",ROW($I$2:$K$72),\"\"),ROW(GR42))-2,0)","v":{"$error":"#NUM!"}},{"$f":"OFFSET($GS$2,SMALL(IF($GS$2:$GS$72<>\"\",ROW($I$2:$K$72),\"\"),ROW(GS42))-2,0)","v":{"$error":"#NUM!"}},{"$f":"OFFSET($GT$2,SMALL(IF($GT$2:$GT$72<>\"\",ROW($I$2:$K$72),\"\"),ROW(GT42))-2,0)","v":{"$error":"#NUM!"}},{"$f":"OFFSET($GU$2,SMALL(IF($GU$2:$GU$72<>\"\",ROW($I$2:$K$72),\"\"),ROW(GU42))-2,0)","v":{"$error":"#NUM!"}},{"$f":"OFFSET($GV$2,SMALL(IF($GV$2:$GV$72<>\"\",ROW($GV$2:$GV$72),\"\"),ROW(GV42))-2,0)","v":{"$error":"#NUM!"}},{"$f":"OFFSET($GW$2,SMALL(IF($GW$2:$GW$72<>\"\",ROW($GW$2:$GW$72),\"\"),ROW(GW42))-2,0)","v":{"$error":"#NUM!"}},{"$f":"OFFSET($GX$2,SMALL(IF($GX$2:$GX$72<>\"\",ROW($GX$2:$GX$72),\"\"),ROW(GX42))-2,0)","v":{"$error":"#NUM!"}},{"$f":"IF(AND(教学计划表!N59<>\"\",教学计划表!AY59<>\"\"),教学计划表!I59,\"\")","v":""},{"$f":"IF(教学计划表!AY59<>\"\",教学计划表!N59,\"\")","v":""},{"$f":"IF(HG43<>\"\",IF(SEARCH(\"3\",教学计划表!AB59&\"3\",1)<=LEN(教学计划表!AB59),\"考试\",\"考查\"),\"\")","v":""},{"$f":"IF(教学计划表!EV59<>0,教学计划表!EV59,\"\")","v":""},{"$f":"IF(教学计划表!EV59<>0,教学计划表!FA59,\"\")","v":""},{"$f":"IF(教学计划表!EV59<>0,教学计划表!FB59,\"\")","v":""},{"$f":"IF(教学计划表!EV59<>0,教学计划表!PF59,\"\")","v":""},{"$f":"OFFSET($HF$2,SMALL(IF($HF$2:$HF$72<>\"\",ROW($HF$2:$HF$72),\"\"),ROW(HF42))-2,0)","v":{"$error":"#NUM!"}},{"$f":"OFFSET($HG$2,SMALL(IF($HG$2:$HG$72<>\"\",ROW($HG$2:$HG$72),\"\"),ROW(HG42))-2,0)","v":{"$error":"#NUM!"}},{"$f":"OFFSET($HH$2,SMALL(IF($HH$2:$HH$72<>\"\",ROW($HH$2:$HH$72),\"\"),ROW(HH42))-2,0)","v":{"$error":"#NUM!"}},{"$f":"OFFSET($HI$2,SMALL(IF($HI$2:$HI$72<>\"\",ROW($HI$2:$HI$72),\"\"),ROW(HI42))-2,0)","v":{"$error":"#NUM!"}},{"$f":"OFFSET($HJ$2,SMALL(IF($HJ$2:$HJ$72<>\"\",ROW($HJ$2:$HJ$72),\"\"),ROW(HJ42))-2,0)","v":{"$error":"#NUM!"}},{"$f":"OFFSET($HK$2,SMALL(IF($HK$2:$HK$72<>\"\",ROW($HK$2:$HK$72),\"\"),ROW(HK42))-2,0)","v":{"$error":"#NUM!"}},{"$f":"OFFSET($HL$2,SMALL(IF($HL$2:$HL$72<>\"\",ROW($HL$2:$HL$72),\"\"),ROW(HL42))-2,0)","v":{"$error":"#NUM!"}},{"$f":"IF(AND(教学计划表!N59<>\"\",教学计划表!BB59<>\"\"),教学计划表!I59,\"\")","v":""},{"$f":"IF(教学计划表!BB59<>\"\",教学计划表!N59,\"\")","v":""},{"$f":"IF(HU43<>\"\",IF(SEARCH(\"4\",教学计划表!AB59&\"4\",1)<=LEN(教学计划表!AB59),\"考试\",\"考查\"),\"\")","v":""},{"$f":"IF(教学计划表!FQ59<>0,教学计划表!FQ59,\"\")","v":""},{"$f":"IF(教学计划表!FQ59<>0,教学计划表!FV59,\"\")","v":""},{"$f":"IF(教学计划表!FQ59<>0,教学计划表!FW59,\"\")","v":""},{"$f":"IF(教学计划表!FQ59<>0,教学计划表!PR59,\"\")","v":""},{"$f":"OFFSET($HT$2,SMALL(IF($HT$2:$HT$72<>\"\",ROW($HT$2:$HT$72),\"\"),ROW(HT42))-2,0)","v":{"$error":"#NUM!"}},{"$f":"OFFSET($HU$2,SMALL(IF($HU$2:$HU$72<>\"\",ROW($HU$2:$HU$72),\"\"),ROW(HU42))-2,0)","v":{"$error":"#NUM!"}},{"$f":"OFFSET($HV$2,SMALL(IF($HV$2:$HV$72<>\"\",ROW($HV$2:$HV$72),\"\"),ROW(HV42))-2,0)","v":{"$error":"#NUM!"}},{"$f":"OFFSET($HW$2,SMALL(IF($HW$2:$HW$72<>\"\",ROW($HW$2:$HW$72),\"\"),ROW(HW42))-2,0)","v":{"$error":"#NUM!"}},{"$f":"OFFSET($HX$2,SMALL(IF($HX$2:$HX$72<>\"\",ROW($HX$2:$HX$72),\"\"),ROW(HX42))-2,0)","v":{"$error":"#NUM!"}},{"$f":"OFFSET($HY$2,SMALL(IF($HY$2:$HY$72<>\"\",ROW($HY$2:$HY$72),\"\"),ROW(HY42))-2,0)","v":{"$error":"#NUM!"}},{"$f":"OFFSET($HZ$2,SMALL(IF($HZ$2:$HZ$72<>\"\",ROW($HZ$2:$HZ$72),\"\"),ROW(HZ42))-2,0)","v":{"$error":"#NUM!"}},null,null,{"$f":"IF(AND(教学计划表!N59<>\"\",教学计划表!BE59<>\"\"),教学计划表!I59,\"\")","v":""},{"$f":"IF(教学计划表!BE59<>\"\",教学计划表!N59,\"\")","v":""},{"$f":"IF(IK43<>\"\",IF(SEARCH(\"5\",教学计划表!AB59&\"5\",1)<=LEN(教学计划表!AB59),\"考试\",\"考查\"),\"\")","v":""},{"$f":"IF(教学计划表!GL59<>0,教学计划表!GL59,\"\")","v":""},{"$f":"IF(教学计划表!GL59<>0,教学计划表!GQ59,\"\")","v":""},{"$f":"IF(教学计划表!GL59<>0,教学计划表!GR59,\"\")","v":""},{"$f":"IF(教学计划表!GL59<>0,教学计划表!QC59,\"\")","v":""},{"$f":"OFFSET($IJ$2,SMALL(IF($IJ$2:$IJ$72<>\"\",ROW($IJ$2:$IJ$72),\"\"),ROW(IJ42))-2,0)","v":{"$error":"#NUM!"}},{"$f":"OFFSET($IK$2,SMALL(IF($IK$2:$IK$72<>\"\",ROW($IK$2:$IK$72),\"\"),ROW(IK42))-2,0)","v":{"$error":"#NUM!"}},{"$f":"OFFSET($IL$2,SMALL(IF($IL$2:$IL$72<>\"\",ROW($IL$2:$IL$72),\"\"),ROW(IL42))-2,0)","v":{"$error":"#NUM!"}},{"$f":"OFFSET($IM$2,SMALL(IF($IM$2:$IM$72<>\"\",ROW($IM$2:$IM$72),\"\"),ROW(IM42))-2,0)","v":{"$error":"#NUM!"}},{"$f":"OFFSET($IN$2,SMALL(IF($IN$2:$IN$72<>\"\",ROW($IN$2:$IN$72),\"\"),ROW(IN42))-2,0)","v":{"$error":"#NUM!"}},{"$f":"OFFSET($IO$2,SMALL(IF($IO$2:$IO$72<>\"\",ROW($IO$2:$IO$72),\"\"),ROW(IO42))-2,0)","v":{"$error":"#NUM!"}},{"$f":"OFFSET($IP$2,SMALL(IF($IP$2:$IP$72<>\"\",ROW($IP$2:$IP$72),\"\"),ROW(IP42))-2,0)","v":{"$error":"#NUM!"}},null,{"$f":"IF(AND(教学计划表!N59<>\"\",教学计划表!BH59<>\"\"),教学计划表!I59,\"\")","v":""},{"$f":"IF(教学计划表!BH59<>\"\",教学计划表!N59,\"\")","v":""},{"$f":"IF(教学计划表!BH59<>\"\",IF(SEARCH(\"6\",教学计划表!AB59&\"6\",1)<=LEN(教学计划表!AB59),\"考试\",\"考查\"),\"\")","v":""},{"$f":"IF(教学计划表!BH59<>0,教学计划表!HG59,\"\")","v":""},{"$f":"IF(教学计划表!BH59<>0,教学计划表!HL59,\"\")","v":""},{"$f":"IF(教学计划表!BH59<>0,教学计划表!HM59,\"\")","v":""},{"$f":"IF(教学计划表!BH59<>0,教学计划表!QO59,\"\")","v":""},{"$f":"OFFSET($IY$2,SMALL(IF($IY$2:$IY$72<>\"\",ROW($IY$2:$IY$72),\"\"),ROW(IY42))-2,0)","v":{"$error":"#NUM!"}},{"$f":"OFFSET($IZ$2,SMALL(IF($IZ$2:$IZ$72<>\"\",ROW($IZ$2:$IZ$72),\"\"),ROW(IZ42))-2,0)","v":{"$error":"#NUM!"}},{"$f":"OFFSET($JA$2,SMALL(IF($JA$2:$JA$72<>\"\",ROW($JA$2:$JA$72),\"\"),ROW(JA42))-2,0)","v":{"$error":"#NUM!"}},{"$f":"OFFSET($JB$2,SMALL(IF($JB$2:$JB$72<>\"\",ROW($JB$2:$JB$72),\"\"),ROW(JB42))-2,0)","v":{"$error":"#NUM!"}},{"$f":"OFFSET($JC$2,SMALL(IF($JC$2:$JC$72<>\"\",ROW($JC$2:$JC$72),\"\"),ROW(JC42))-2,0)","v":{"$error":"#NUM!"}},{"$f":"OFFSET($JD$2,SMALL(IF($JD$2:$JD$72<>\"\",ROW($JD$2:$JD$72),\"\"),ROW(JD42))-2,0)","v":{"$error":"#NUM!"}},{"$f":"OFFSET($JE$2,SMALL(IF($JE$2:$JE$72<>\"\",ROW($JE$2:$JE$72),\"\"),ROW(JE42))-2,0)","v":{"$error":"#NUM!"}}]
["","","","","","","",null,"","","",{"$f":"IF(ISERROR(自动生成的开课信息!HB44),\"\",自动生成的开课信息!HB44)","v":""},{"$f":"IF(ISERROR(自动生成的开课信息!HC44),\"\",自动生成的开课信息!HC44)","v":""},{"$f":"IF(ISERROR(自动生成的开课信息!HD44),\"\",自动生成的开课信息!HD44)","v":""},{"$f":"IF(ISERROR(自动生成的开课信息!HE44),\"\",自动生成的开课信息!HE44)","v":""},null,"","","","","","","",null,"","","","","","","",null,"","","","","","","",null,"","","","","","","",null,null,null,null,null,null,null,null,null,null,null,null,null,null,null,null,null,null,null,null,null,null,null,null,null,null,null,null,null,null,null,null,null,null,null,null,null,null,null,null,null,null,null,null,null,null,null,null,null,null,null,null,null,null,null,null,null,null,null,null,null,null,null,null,null,null,null,null,null,null,null,null,null,null,null,null,null,null,null,null,null,null,null,null,null,null,null,null,null,null,null,null,null,null,null,null,null,null,null,null,null,null,null,null,null,null,null,null,null,null,null,null,null,null,null,null,null,null,null,null,null,null,null,null,null,null,null,null,null,null,null,null,null,null,null,null,null,null,{"$f":"IF(AND(教学计划表!N60<>\"\",教学计划表!AS60<>\"\"),教学计划表!I60,\"\")","v":""},{"$f":"IF(教学计划表!AS60<>\"\",教学计划表!N60,\"\")","v":""},{"$f":"IF(GE44<>\"\",IF(SEARCH(\"1\",教学计划表!AB60&\"1\",1)<=LEN(教学计划表!AB60),\"考试\",\"考查\"),\"\")","v":""},{"$f":"IF(教学计划表!DG60<>0,教学计划表!DG60,\"\")","v":""},{"$f":"IF(教学计划表!DG60<>0,教学计划表!DL60,\"\")","v":""},{"$f":"IF(教学计划表!DG60<>0,教学计划表!DM60,\"\")","v":""},{"$f":"IF(教学计划表!DG60<>0,教学计划表!OH60,\"\")","v":""},{"$f":"OFFSET($GD$2,SMALL(IF($GD$2:$GD$72<>\"\",ROW($2:$72),\"\"),ROW(GD43))-2,0)","v":{"$error":"#NUM!"}},{"$f":"OFFSET($GE$2,SMALL(IF($GE$2:$GE$72<>\"\",ROW($2:$72),\"\"),ROW(GE43))-2,0)","v":{"$error":"#NUM!"}},{"$f":"OFFSET($GF$2,SMALL(IF($GF$2:$GF$72<>\"\",ROW($2:$72),\"\"),ROW(GF43))-2,0)","v":{"$error":"#NUM!"}},{"$f":"OFFSET($GG$2,SMALL(IF($GG$2:$GG$72<>\"\",ROW($2:$72),\"\"),ROW(GG43))-2,0)","v":{"$error":"#NUM!"}},{"$f":"OFFSET($GH$2,SMALL(IF($GH$2:$GH$72<>\"\",ROW($2:$72),\"\"),ROW(GH43))-2,0)","v":{"$error":"#NUM!"}},{"$error":"#NUM!"},{"$f":"OFFSET($GJ$2,SMALL(IF($GJ$2:$GJ$72<>\"\",ROW($2:$72),\"\"),ROW(GJ43))-2,0)","v":{"$error":"#NUM!"}},{"$f":"IF(AND(教学计划表!N60<>\"\",教学计划表!AV60<>\"\"),教学计划表!I60,\"\")","v":""},{"$f":"IF(教学计划表!AV60<>\"\",教学计划表!N60,\"\")","v":""},{"$f":"IF(GS44<>\"\",IF(SEARCH(\"2\",教学计划表!AB60&\"2\",1)<=LEN(教学计划表!AB60),\"考试\",\"考查\"),\"\")","v":""},{"$f":"IF(教学计划表!EA60<>0,教学计划表!EA60,\"\")","v":""},{"$f":"IF(教学计划表!EA60<>0,教学计划表!EF60,\"\")","v":""},{"$f":"IF(教学计划表!EA60<>0,教学计划表!EG60,\"\")","v":""},{"$f":"IF(教学计划表!EA60<>0,教学计划表!OT60,\"\")","v":""},{"$f":"OFFSET($GR$2,SMALL(IF($GR$2:$GR$72<>\"\",ROW($I$2:$K$72),\"\"),ROW(GR43))-2,0)","v":{"$error":"#NUM!"}},{"$f":"OFFSET($GS$2,SMALL(IF($GS$2:$GS$72<>\"\",ROW($I$2:$K$72),\"\"),ROW(GS43))-2,0)","v":{"$error":"#NUM!"}},{"$f":"OFFSET($GT$2,SMALL(IF($GT$2:$GT$72<>\"\",ROW($I$2:$K$72),\"\"),ROW(GT43))-2,0)","v":{"$error":"#NUM!"}},{"$f":"OFFSET($GU$2,SMALL(IF($GU$2:$GU$72<>\"\",ROW($I$2:$K$72),\"\"),ROW(GU43))-2,0)","v":{"$error":"#NUM!"}},{"$f":"OFFSET($GV$2,SMALL(IF($GV$2:$GV$72<>\"\",ROW($GV$2:$GV$72),\"\"),ROW(GV43))-2,0)","v":{"$error":"#NUM!"}},{"$f":"OFFSET($GW$2,SMALL(IF($GW$2:$GW$72<>\"\",ROW($GW$2:$GW$72),\"\"),ROW(GW43))-2,0)","v":{"$error":"#NUM!"}},{"$f":"OFFSET($GX$2,SMALL(IF($GX$2:$GX$72<>\"\",ROW($GX$2:$GX$72),\"\"),ROW(GX43))-2,0)","v":{"$error":"#NUM!"}},{"$f":"IF(AND(教学计划表!N60<>\"\",教学计划表!AY60<>\"\"),教学计划表!I60,\"\")","v":""},{"$f":"IF(教学计划表!AY60<>\"\",教学计划表!N60,\"\")","v":""},{"$f":"IF(HG44<>\"\",IF(SEARCH(\"3\",教学计划表!AB60&\"3\",1)<=LEN(教学计划表!AB60),\"考试\",\"考查\"),\"\")","v":""},{"$f":"IF(教学计划表!EV60<>0,教学计划表!EV60,\"\")","v":""},{"$f":"IF(教学计划表!EV60<>0,教学计划表!FA60,\"\")","v":""},{"$f":"IF(教学计划表!EV60<>0,教学计划表!FB60,\"\")","v":""},{"$f":"IF(教学计划表!EV60<>0,教学计划表!PF60,\"\")","v":""},{"$f":"OFFSET($HF$2,SMALL(IF($HF$2:$HF$72<>\"\",ROW($HF$2:$HF$72),\"\"),ROW(HF43))-2,0)","v":{"$error":"#NUM!"}},{"$f":"OFFSET($HG$2,SMALL(IF($HG$2:$HG$72<>\"\",ROW($HG$2:$HG$72),\"\"),ROW(HG43))-2,0)","v":{"$error":"#NUM!"}},{"$f":"OFFSET($HH$2,SMALL(IF($HH$2:$HH$72<>\"\",ROW($HH$2:$HH$72),\"\"),ROW(HH43))-2,0)","v":{"$error":"#NUM!"}},{"$f":"OFFSET($HI$2,SMALL(IF($HI$2:$HI$72<>\"\",ROW($HI$2:$HI$72),\"\"),ROW(HI43))-2,0)","v":{"$error":"#NUM!"}},{"$f":"OFFSET($HJ$2,SMALL(IF($HJ$2:$HJ$72<>\"\",ROW($HJ$2:$HJ$72),\"\"),ROW(HJ43))-2,0)","v":{"$error":"#NUM!"}},{"$f":"OFFSET($HK$2,SMALL(IF($HK$2:$HK$72<>\"\",ROW($HK$2:$HK$72),\"\"),ROW(HK43))-2,0)","v":{"$error":"#NUM!"}},{"$f":"OFFSET($HL$2,SMALL(IF($HL$2:$HL$72<>\"\",ROW($HL$2:$HL$72),\"\"),ROW(HL43))-2,0)","v":{"$error":"#NUM!"}},{"$f":"IF(AND(教学计划表!N60<>\"\",教学计划表!BB60<>\"\"),教学计划表!I60,\"\")","v":""},{"$f":"IF(教学计划表!BB60<>\"\",教学计划表!N60,\"\")","v":""},{"$f":"IF(HU44<>\"\",IF(SEARCH(\"4\",教学计划表!AB60&\"4\",1)<=LEN(教学计划表!AB60),\"考试\",\"考查\"),\"\")","v":""},{"$f":"IF(教学计划表!FQ60<>0,教学计划表!FQ60,\"\")","v":""},{"$f":"IF(教学计划表!FQ60<>0,教学计划表!FV60,\"\")","v":""},{"$f":"IF(教学计划表!FQ60<>0,教学计划表!FW60,\"\")","v":""},{"$f":"IF(教学计划表!FQ60<>0,教学计划表!PR60,\"\")","v":""},{"$f":"OFFSET($HT$2,SMALL(IF($HT$2:$HT$72<>\"\",ROW($HT$2:$HT$72),\"\"),ROW(HT43))-2,0)","v":{"$error":"#NUM!"}},{"$f":"OFFSET($HU$2,SMALL(IF($HU$2:$HU$72<>\"\",ROW($HU$2:$HU$72),\"\"),ROW(HU43))-2,0)","v":{"$error":"#NUM!"}},{"$f":"OFFSET($HV$2,SMALL(IF($HV$2:$HV$72<>\"\",ROW($HV$2:$HV$72),\"\"),ROW(HV43))-2,0)","v":{"$error":"#NUM!"}},{"$f":"OFFSET($HW$2,SMALL(IF($HW$2:$HW$72<>\"\",ROW($HW$2:$HW$72),\"\"),ROW(HW43))-2,0)","v":{"$error":"#NUM!"}},{"$f":"OFFSET($HX$2,SMALL(IF($HX$2:$HX$72<>\"\",ROW($HX$2:$HX$72),\"\"),ROW(HX43))-2,0)","v":{"$error":"#NUM!"}},{"$f":"OFFSET($HY$2,SMALL(IF($HY$2:$HY$72<>\"\",ROW($HY$2:$HY$72),\"\"),ROW(HY43))-2,0)","v":{"$error":"#NUM!"}},{"$f":"OFFSET($HZ$2,SMALL(IF($HZ$2:$HZ$72<>\"\",ROW($HZ$2:$HZ$72),\"\"),ROW(HZ43))-2,0)","v":{"$error":"#NUM!"}},null,null,{"$f":"IF(AND(教学计划表!N60<>\"\",教学计划表!BE60<>\"\"),教学计划表!I60,\"\")","v":""},{"$f":"IF(教学计划表!BE60<>\"\",教学计划表!N60,\"\")","v":""},{"$f":"IF(IK44<>\"\",IF(SEARCH(\"5\",教学计划表!AB60&\"5\",1)<=LEN(教学计划表!AB60),\"考试\",\"考查\"),\"\")","v":""},{"$f":"IF(教学计划表!GL60<>0,教学计划表!GL60,\"\")","v":""},{"$f":"IF(教学计划表!GL60<>0,教学计划表!GQ60,\"\")","v":""},{"$f":"IF(教学计划表!GL60<>0,教学计划表!GR60,\"\")","v":""},{"$f":"IF(教学计划表!GL60<>0,教学计划表!QC60,\"\")","v":""},{"$f":"OFFSET($IJ$2,SMALL(IF($IJ$2:$IJ$72<>\"\",ROW($IJ$2:$IJ$72),\"\"),ROW(IJ43))-2,0)","v":{"$error":"#NUM!"}},{"$f":"OFFSET($IK$2,SMALL(IF($IK$2:$IK$72<>\"\",ROW($IK$2:$IK$72),\"\"),ROW(IK43))-2,0)","v":{"$error":"#NUM!"}},{"$f":"OFFSET($IL$2,SMALL(IF($IL$2:$IL$72<>\"\",ROW($IL$2:$IL$72),\"\"),ROW(IL43))-2,0)","v":{"$error":"#NUM!"}},{"$f":"OFFSET($IM$2,SMALL(IF($IM$2:$IM$72<>\"\",ROW($IM$2:$IM$72),\"\"),ROW(IM43))-2,0)","v":{"$error":"#NUM!"}},{"$f":"OFFSET($IN$2,SMALL(IF($IN$2:$IN$72<>\"\",ROW($IN$2:$IN$72),\"\"),ROW(IN43))-2,0)","v":{"$error":"#NUM!"}},{"$f":"OFFSET($IO$2,SMALL(IF($IO$2:$IO$72<>\"\",ROW($IO$2:$IO$72),\"\"),ROW(IO43))-2,0)","v":{"$error":"#NUM!"}},{"$f":"OFFSET($IP$2,SMALL(IF($IP$2:$IP$72<>\"\",ROW($IP$2:$IP$72),\"\"),ROW(IP43))-2,0)","v":{"$error":"#NUM!"}},null,{"$f":"IF(AND(教学计划表!N60<>\"\",教学计划表!BH60<>\"\"),教学计划表!I60,\"\")","v":""},{"$f":"IF(教学计划表!BH60<>\"\",教学计划表!N60,\"\")","v":""},{"$f":"IF(教学计划表!BH60<>\"\",IF(SEARCH(\"6\",教学计划表!AB60&\"6\",1)<=LEN(教学计划表!AB60),\"考试\",\"考查\"),\"\")","v":""},{"$f":"IF(教学计划表!BH60<>0,教学计划表!HG60,\"\")","v":""},{"$f":"IF(教学计划表!BH60<>0,教学计划表!HL60,\"\")","v":""},{"$f":"IF(教学计划表!BH60<>0,教学计划表!HM60,\"\")","v":""},{"$f":"IF(教学计划表!BH60<>0,教学计划表!QO60,\"\")","v":""},{"$f":"OFFSET($IY$2,SMALL(IF($IY$2:$IY$72<>\"\",ROW($IY$2:$IY$72),\"\"),ROW(IY43))-2,0)","v":{"$error":"#NUM!"}},{"$f":"OFFSET($IZ$2,SMALL(IF($IZ$2:$IZ$72<>\"\",ROW($IZ$2:$IZ$72),\"\"),ROW(IZ43))-2,0)","v":{"$error":"#NUM!"}},{"$f":"OFFSET($JA$2,SMALL(IF($JA$2:$JA$72<>\"\",ROW($JA$2:$JA$72),\"\"),ROW(JA43))-2,0)","v":{"$error":"#NUM!"}},{"$f":"OFFSET($JB$2,SMALL(IF($JB$2:$JB$72<>\"\",ROW($JB$2:$JB$72),\"\"),ROW(JB43))-2,0)","v":{"$error":"#NUM!"}},{"$f":"OFFSET($JC$2,SMALL(IF($JC$2:$JC$72<>\"\",ROW($JC$2:$JC$72),\"\"),ROW(JC43))-2,0)","v":{"$error":"#NUM!"}},{"$f":"OFFSET($JD$2,SMALL(IF($JD$2:$JD$72<>\"\",ROW($JD$2:$JD$72),\"\"),ROW(JD43))-2,0)","v":{"$error":"#NUM!"}},{"$f":"OFFSET($JE$2,SMALL(IF($JE$2:$JE$72<>\"\",ROW($JE$2:$JE$72),\"\"),ROW(JE43))-2,0)","v":{"$error":"#NUM!"}}]
["","","","","","","",null,"","","",{"$f":"IF(ISERROR(自动生成的开课信息!HB45),\"\",自动生成的开课信息!HB45)","v":""},{"$f":"IF(ISERROR(自动生成的开课信息!HC45),\"\",自动生成的开课信息!HC45)","v":""},{"$f":"IF(ISERROR(自动生成的开课信息!HD45),\"\",自动生成的开课信息!HD45)","v":""},{"$f":"IF(ISERROR(自动生成的开课信息!HE45),\"\",自动生成的开课信息!HE45)","v":""},null,"","","","","","","",null,"","","","","","","",null,"","","","","","","",null,"","","","","","","",null,null,null,null,null,null,null,null,null,null,null,null,null,null,null,null,null,null,null,null,null,null,null,null,null,null,null,null,null,null,null,null,null,null,null,null,null,null,null,null,null,null,null,null,null,null,null,null,null,null,null,null,null,null,null,null,null,null,null,null,null,null,null,null,null,null,null,null,null,null,null,null,null,null,null,null,null,null,null,null,null,null,null,null,null,null,null,null,null,null,null,null,null,null,null,null,null,null,null,null,null,null,null,null,null,null,null,null,null,null,null,null,null,null,null,null,null,null,null,null,null,null,null,null,null,null,null,null,null,null,null,null,null,null,null,null,null,null,{"$f":"IF(AND(教学计划表!N61<>\"\",教学计划表!AS61<>\"\"),教学计划表!I61,\"\")","v":""},{"$f":"IF(教学计划表!AS61<>\"\",教学计划表!N61,\"\")","v":""},{"$f":"IF(GE45<>\"\",IF(SEARCH(\"1\",教学计划表!AB61&\"1\",1)<=LEN(教学计划表!AB61),\"考试\",\"考查\"),\"\")","v":""},{"$f":"IF(教学计划表!DG61<>0,教学计划表!DG61,\"\")","v":""},{"$f":"IF(教学计划表!DG61<>0,教学计划表!DL61,\"\")","v":""},{"$f":"IF(教学计划表!DG61<>0,教学计划表!DM61,\"\")","v":""},{"$f":"IF(教学计划表!DG61<>0,教学计划表!OH61,\"\")","v":""},{"$f":"OFFSET($GD$2,SMALL(IF($GD$2:$GD$72<>\"\",ROW($2:$72),\"\"),ROW(GD44))-2,0)","v":{"$error":"#NUM!"}},{"$f":"OFFSET($GE$2,SMALL(IF($GE$2:$GE$72<>\"\",ROW($2:$72),\"\"),ROW(GE44))-2,0)","v":{"$error":"#NUM!"}},{"$f":"OFFSET($GF$2,SMALL(IF($GF$2:$GF$72<>\"\",ROW($2:$72),\"\"),ROW(GF44))-2,0)","v":{"$error":"#NUM!"}},{"$f":"OFFSET($GG$2,SMALL(IF($GG$2:$GG$72<>\"\",ROW($2:$72),\"\"),ROW(GG44))-2,0)","v":{"$error":"#NUM!"}},{"$f":"OFFSET($GH$2,SMALL(IF($GH$2:$GH$72<>\"\",ROW($2:$72),\"\"),ROW(GH44))-2,0)","v":{"$error":"#NUM!"}},{"$error":"#NUM!"},{"$f":"OFFSET($GJ$2,SMALL(IF($GJ$2:$GJ$72<>\"\",ROW($2:$72),\"\"),ROW(GJ44))-2,0)","v":{"$error":"#NUM!"}},{"$f":"IF(AND(教学计划表!N61<>\"\",教学计划表!AV61<>\"\"),教学计划表!I61,\"\")","v":""},{"$f":"IF(教学计划表!AV61<>\"\",教学计划表!N61,\"\")","v":""},{"$f":"IF(GS45<>\"\",IF(SEARCH(\"2\",教学计划表!AB61&\"2\",1)<=LEN(教学计划表!AB61),\"考试\",\"考查\"),\"\")","v":""},{"$f":"IF(教学计划表!EA61<>0,教学计划表!EA61,\"\")","v":""},{"$f":"IF(教学计划表!EA61<>0,教学计划表!EF61,\"\")","v":""},{"$f":"IF(教学计划表!EA61<>0,教学计划表!EG61,\"\")","v":""},{"$f":"IF(教学计划表!EA61<>0,教学计划表!OT61,\"\")","v":""},{"$f":"OFFSET($GR$2,SMALL(IF($GR$2:$GR$72<>\"\",ROW($I$2:$K$72),\"\"),ROW(GR44))-2,0)","v":{"$error":"#NUM!"}},{"$f":"OFFSET($GS$2,SMALL(IF($GS$2:$GS$72<>\"\",ROW($I$2:$K$72),\"\"),ROW(GS44))-2,0)","v":{"$error":"#NUM!"}},{"$f":"OFFSET($GT$2,SMALL(IF($GT$2:$GT$72<>\"\",ROW($I$2:$K$72),\"\"),ROW(GT44))-2,0)","v":{"$error":"#NUM!"}},{"$f":"OFFSET($GU$2,SMALL(IF($GU$2:$GU$72<>\"\",ROW($I$2:$K$72),\"\"),ROW(GU44))-2,0)","v":{"$error":"#NUM!"}},{"$f":"OFFSET($GV$2,SMALL(IF($GV$2:$GV$72<>\"\",ROW($GV$2:$GV$72),\"\"),ROW(GV44))-2,0)","v":{"$error":"#NUM!"}},{"$f":"OFFSET($GW$2,SMALL(IF($GW$2:$GW$72<>\"\",ROW($GW$2:$GW$72),\"\"),ROW(GW44))-2,0)","v":{"$error":"#NUM!"}},{"$f":"OFFSET($GX$2,SMALL(IF($GX$2:$GX$72<>\"\",ROW($GX$2:$GX$72),\"\"),ROW(GX44))-2,0)","v":{"$error":"#NUM!"}},{"$f":"IF(AND(教学计划表!N61<>\"\",教学计划表!AY61<>\"\"),教学计划表!I61,\"\")","v":""},{"$f":"IF(教学计划表!AY61<>\"\",教学计划表!N61,\"\")","v":""},{"$f":"IF(HG45<>\"\",IF(SEARCH(\"3\",教学计划表!AB61&\"3\",1)<=LEN(教学计划表!AB61),\"考试\",\"考查\"),\"\")","v":""},{"$f":"IF(教学计划表!EV61<>0,教学计划表!EV61,\"\")","v":""},{"$f":"IF(教学计划表!EV61<>0,教学计划表!FA61,\"\")","v":""},{"$f":"IF(教学计划表!EV61<>0,教学计划表!FB61,\"\")","v":""},{"$f":"IF(教学计划表!EV61<>0,教学计划表!PF61,\"\")","v":""},{"$f":"OFFSET($HF$2,SMALL(IF($HF$2:$HF$72<>\"\",ROW($HF$2:$HF$72),\"\"),ROW(HF44))-2,0)","v":{"$error":"#NUM!"}},{"$f":"OFFSET($HG$2,SMALL(IF($HG$2:$HG$72<>\"\",ROW($HG$2:$HG$72),\"\"),ROW(HG44))-2,0)","v":{"$error":"#NUM!"}},{"$f":"OFFSET($HH$2,SMALL(IF($HH$2:$HH$72<>\"\",ROW($HH$2:$HH$72),\"\"),ROW(HH44))-2,0)","v":{"$error":"#NUM!"}},{"$f":"OFFSET($HI$2,SMALL(IF($HI$2:$HI$72<>\"\",ROW($HI$2:$HI$72),\"\"),ROW(HI44))-2,0)","v":{"$error":"#NUM!"}},{"$f":"OFFSET($HJ$2,SMALL(IF($HJ$2:$HJ$72<>\"\",ROW($HJ$2:$HJ$72),\"\"),ROW(HJ44))-2,0)","v":{"$error":"#NUM!"}},{"$f":"OFFSET($HK$2,SMALL(IF($HK$2:$HK$72<>\"\",ROW($HK$2:$HK$72),\"\"),ROW(HK44))-2,0)","v":{"$error":"#NUM!"}},{"$f":"OFFSET($HL$2,SMALL(IF($HL$2:$HL$72<>\"\",ROW($HL$2:$HL$72),\"\"),ROW(HL44))-2,0)","v":{"$error":"#NUM!"}},{"$f":"IF(AND(教学计划表!N61<>\"\",教学计划表!BB61<>\"\"),教学计划表!I61,\"\")","v":""},{"$f":"IF(教学计划表!BB61<>\"\",教学计划表!N61,\"\")","v":""},{"$f":"IF(HU45<>\"\",IF(SEARCH(\"4\",教学计划表!AB61&\"4\",1)<=LEN(教学计划表!AB61),\"考试\",\"考查\"),\"\")","v":""},{"$f":"IF(教学计划表!FQ61<>0,教学计划表!FQ61,\"\")","v":""},{"$f":"IF(教学计划表!FQ61<>0,教学计划表!FV61,\"\")","v":""},{"$f":"IF(教学计划表!FQ61<>0,教学计划表!FW61,\"\")","v":""},{"$f":"IF(教学计划表!FQ61<>0,教学计划表!PR61,\"\")","v":""},{"$f":"OFFSET($HT$2,SMALL(IF($HT$2:$HT$72<>\"\",ROW($HT$2:$HT$72),\"\"),ROW(HT44))-2,0)","v":{"$error":"#NUM!"}},{"$f":"OFFSET($HU$2,SMALL(IF($HU$2:$HU$72<>\"\",ROW($HU$2:$HU$72),\"\"),ROW(HU44))-2,0)","v":{"$error":"#NUM!"}},{"$f":"OFFSET($HV$2,SMALL(IF($HV$2:$HV$72<>\"\",ROW($HV$2:$HV$72),\"\"),ROW(HV44))-2,0)","v":{"$error":"#NUM!"}},{"$f":"OFFSET($HW$2,SMALL(IF($HW$2:$HW$72<>\"\",ROW($HW$2:$HW$72),\"\"),ROW(HW44))-2,0)","v":{"$error":"#NUM!"}},{"$f":"OFFSET($HX$2,SMALL(IF($HX$2:$HX$72<>\"\",ROW($HX$2:$HX$72),\"\"),ROW(HX44))-2,0)","v":{"$error":"#NUM!"}},{"$f":"OFFSET($HY$2,SMALL(IF($HY$2:$HY$72<>\"\",ROW($HY$2:$HY$72),\"\"),ROW(HY44))-2,0)","v":{"$error":"#NUM!"}},{"$f":"OFFSET($HZ$2,SMALL(IF($HZ$2:$HZ$72<>\"\",ROW($HZ$2:$HZ$72),\"\"),ROW(HZ44))-2,0)","v":{"$error":"#NUM!"}},null,null,{"$f":"IF(AND(教学计划表!N61<>\"\",教学计划表!BE61<>\"\"),教学计划表!I61,\"\")","v":""},{"$f":"IF(教学计划表!BE61<>\"\",教学计划表!N61,\"\")","v":""},{"$f":"IF(IK45<>\"\",IF(SEARCH(\"5\",教学计划表!AB61&\"5\",1)<=LEN(教学计划表!AB61),\"考试\",\"考查\"),\"\")","v":""},{"$f":"IF(教学计划表!GL61<>0,教学计划表!GL61,\"\")","v":""},{"$f":"IF(教学计划表!GL61<>0,教学计划表!GQ61,\"\")","v":""},{"$f":"IF(教学计划表!GL61<>0,教学计划表!GR61,\"\")","v":""},{"$f":"IF(教学计划表!GL61<>0,教学计划表!QC61,\"\")","v":""},{"$f":"OFFSET($IJ$2,SMALL(IF($IJ$2:$IJ$72<>\"\",ROW($IJ$2:$IJ$72),\"\"),ROW(IJ44))-2,0)","v":{"$error":"#NUM!"}},{"$f":"OFFSET($IK$2,SMALL(IF($IK$2:$IK$72<>\"\",ROW($IK$2:$IK$72),\"\"),ROW(IK44))-2,0)","v":{"$error":"#NUM!"}},{"$f":"OFFSET($IL$2,SMALL(IF($IL$2:$IL$72<>\"\",ROW($IL$2:$IL$72),\"\"),ROW(IL44))-2,0)","v":{"$error":"#NUM!"}},{"$f":"OFFSET($IM$2,SMALL(IF($IM$2:$IM$72<>\"\",ROW($IM$2:$IM$72),\"\"),ROW(IM44))-2,0)","v":{"$error":"#NUM!"}},{"$f":"OFFSET($IN$2,SMALL(IF($IN$2:$IN$72<>\"\",ROW($IN$2:$IN$72),\"\"),ROW(IN44))-2,0)","v":{"$error":"#NUM!"}},{"$f":"OFFSET($IO$2,SMALL(IF($IO$2:$IO$72<>\"\",ROW($IO$2:$IO$72),\"\"),ROW(IO44))-2,0)","v":{"$error":"#NUM!"}},{"$f":"OFFSET($IP$2,SMALL(IF($IP$2:$IP$72<>\"\",ROW($IP$2:$IP$72),\"\"),ROW(IP44))-2,0)","v":{"$error":"#NUM!"}},null,{"$f":"IF(AND(教学计划表!N61<>\"\",教学计划表!BH61<>\"\"),教学计划表!I61,\"\")","v":""},{"$f":"IF(教学计划表!BH61<>\"\",教学计划表!N61,\"\")","v":""},{"$f":"IF(教学计划表!BH61<>\"\",IF(SEARCH(\"6\",教学计划表!AB61&\"6\",1)<=LEN(教学计划表!AB61),\"考试\",\"考查\"),\"\")","v":""},{"$f":"IF(教学计划表!BH61<>0,教学计划表!HG61,\"\")","v":""},{"$f":"IF(教学计划表!BH61<>0,教学计划表!HL61,\"\")","v":""},{"$f":"IF(教学计划表!BH61<>0,教学计划表!HM61,\"\")","v":""},{"$f":"IF(教学计划表!BH61<>0,教学计划表!QO61,\"\")","v":""},{"$f":"OFFSET($IY$2,SMALL(IF($IY$2:$IY$72<>\"\",ROW($IY$2:$IY$72),\"\"),ROW(IY44))-2,0)","v":{"$error":"#NUM!"}},{"$f":"OFFSET($IZ$2,SMALL(IF($IZ$2:$IZ$72<>\"\",ROW($IZ$2:$IZ$72),\"\"),ROW(IZ44))-2,0)","v":{"$error":"#NUM!"}},{"$f":"OFFSET($JA$2,SMALL(IF($JA$2:$JA$72<>\"\",ROW($JA$2:$JA$72),\"\"),ROW(JA44))-2,0)","v":{"$error":"#NUM!"}},{"$f":"OFFSET($JB$2,SMALL(IF($JB$2:$JB$72<>\"\",ROW($JB$2:$JB$72),\"\"),ROW(JB44))-2,0)","v":{"$error":"#NUM!"}},{"$f":"OFFSET($JC$2,SMALL(IF($JC$2:$JC$72<>\"\",ROW($JC$2:$JC$72),\"\"),ROW(JC44))-2,0)","v":{"$error":"#NUM!"}},{"$f":"OFFSET($JD$2,SMALL(IF($JD$2:$JD$72<>\"\",ROW($JD$2:$JD$72),\"\"),ROW(JD44))-2,0)","v":{"$error":"#NUM!"}},{"$f":"OFFSET($JE$2,SMALL(IF($JE$2:$JE$72<>\"\",ROW($JE$2:$JE$72),\"\"),ROW(JE44))-2,0)","v":{"$error":"#NUM!"}}]
["","","","","","","",null,"","","",{"$f":"IF(ISERROR(自动生成的开课信息!HB46),\"\",自动生成的开课信息!HB46)","v":""},{"$f":"IF(ISERROR(自动生成的开课信息!HC46),\"\",自动生成的开课信息!HC46)","v":""},{"$f":"IF(ISERROR(自动生成的开课信息!HD46),\"\",自动生成的开课信息!HD46)","v":""},{"$f":"IF(ISERROR(自动生成的开课信息!HE46),\"\",自动生成的开课信息!HE46)","v":""},null,"","","","","","","",null,"","","","","","","",null,"","","","","","","",null,"","","","","","","",null,null,null,null,null,null,null,null,null,null,null,null,null,null,null,null,null,null,null,null,null,null,null,null,null,null,null,null,null,null,null,null,null,null,null,null,null,null,null,null,null,null,null,null,null,null,null,null,null,null,null,null,null,null,null,null,null,null,null,null,null,null,null,null,null,null,null,null,null,null,null,null,null,null,null,null,null,null,null,null,null,null,null,null,null,null,null,null,null,null,null,null,null,null,null,null,null,null,null,null,null,null,null,null,null,null,null,null,null,null,null,null,null,null,null,null,null,null,null,null,null,null,null,null,null,null,null,null,null,null,null,null,null,null,null,null,null,null,{"$f":"IF(AND(教学计划表!N62<>\"\",教学计划表!AS62<>\"\"),教学计划表!I62,\"\")","v":""},{"$f":"IF(教学计划表!AS62<>\"\",教学计划表!N62,\"\")","v":""},{"$f":"IF(GE46<>\"\",IF(SEARCH(\"1\",教学计划表!AB62&\"1\",1)<=LEN(教学计划表!AB62),\"考试\",\"考查\"),\"\")","v":""},{"$f":"IF(教学计划表!DG62<>0,教学计划表!DG62,\"\")","v":""},{"$f":"IF(教学计划表!DG62<>0,教学计划表!DL62,\"\")","v":""},{"$f":"IF(教学计划表!DG62<>0,教学计划表!DM62,\"\")","v":""},{"$f":"IF(教学计划表!DG62<>0,教学计划表!OH62,\"\")","v":""},{"$f":"OFFSET($GD$2,SMALL(IF($GD$2:$GD$72<>\"\",ROW($2:$72),\"\"),ROW(GD45))-2,0)","v":{"$error":"#NUM!"}},{"$f":"OFFSET($GE$2,SMALL(IF($GE$2:$GE$72<>\"\",ROW($2:$72),\"\"),ROW(GE45))-2,0)","v":{"$error":"#NUM!"}},{"$f":"OFFSET($GF$2,SMALL(IF($GF$2:$GF$72<>\"\",ROW($2:$72),\"\"),ROW(GF45))-2,0)","v":{"$error":"#NUM!"}},{"$f":"OFFSET($GG$2,SMALL(IF($GG$2:$GG$72<>\"\",ROW($2:$72),\"\"),ROW(GG45))-2,0)","v":{"$error":"#NUM!"}},{"$f":"OFFSET($GH$2,SMALL(IF($GH$2:$GH$72<>\"\",ROW($2:$72),\"\"),ROW(GH45))-2,0)","v":{"$error":"#NUM!"}},{"$error":"#NUM!"},{"$f":"OFFSET($GJ$2,SMALL(IF($GJ$2:$GJ$72<>\"\",ROW($2:$72),\"\"),ROW(GJ45))-2,0)","v":{"$error":"#NUM!"}},{"$f":"IF(AND(教学计划表!N62<>\"\",教学计划表!AV62<>\"\"),教学计划表!I62,\"\")","v":""},{"$f":"IF(教学计划表!AV62<>\"\",教学计划表!N62,\"\")","v":""},{"$f":"IF(GS46<>\"\",IF(SEARCH(\"2\",教学计划表!AB62&\"2\",1)<=LEN(教学计划表!AB62),\"考试\",\"考查\"),\"\")","v":""},{"$f":"IF(教学计划表!EA62<>0,教学计划表!EA62,\"\")","v":""},{"$f":"IF(教学计划表!EA62<>0,教学计划表!EF62,\"\")","v":""},{"$f":"IF(教学计划表!EA62<>0,教学计划表!EG62,\"\")","v":""},{"$f":"IF(教学计划表!EA62<>0,教学计划表!OT62,\"\")","v":""},{"$f":"OFFSET($GR$2,SMALL(IF($GR$2:$GR$72<>\"\",ROW($I$2:$K$72),\"\"),ROW(GR45))-2,0)","v":{"$error":"#NUM!"}},{"$f":"OFFSET($GS$2,SMALL(IF($GS$2:$GS$72<>\"\",ROW($I$2:$K$72),\"\"),ROW(GS45))-2,0)","v":{"$error":"#NUM!"}},{"$f":"OFFSET($GT$2,SMALL(IF($GT$2:$GT$72<>\"\",ROW($I$2:$K$72),\"\"),ROW(GT45))-2,0)","v":{"$error":"#NUM!"}},{"$f":"OFFSET($GU$2,SMALL(IF($GU$2:$GU$72<>\"\",ROW($I$2:$K$72),\"\"),ROW(GU45))-2,0)","v":{"$error":"#NUM!"}},{"$f":"OFFSET($GV$2,SMALL(IF($GV$2:$GV$72<>\"\",ROW($GV$2:$GV$72),\"\"),ROW(GV45))-2,0)","v":{"$error":"#NUM!"}},{"$f":"OFFSET($GW$2,SMALL(IF($GW$2:$GW$72<>\"\",ROW($GW$2:$GW$72),\"\"),ROW(GW45))-2,0)","v":{"$error":"#NUM!"}},{"$f":"OFFSET($GX$2,SMALL(IF($GX$2:$GX$72<>\"\",ROW($GX$2:$GX$72),\"\"),ROW(GX45))-2,0)","v":{"$error":"#NUM!"}},{"$f":"IF(AND(教学计划表!N62<>\"\",教学计划表!AY62<>\"\"),教学计划表!I62,\"\")","v":""},{"$f":"IF(教学计划表!AY62<>\"\",教学计划表!N62,\"\")","v":""},{"$f":"IF(HG46<>\"\",IF(SEARCH(\"3\",教学计划表!AB62&\"3\",1)<=LEN(教学计划表!AB62),\"考试\",\"考查\"),\"\")","v":""},{"$f":"IF(教学计划表!EV62<>0,教学计划表!EV62,\"\")","v":""},{"$f":"IF(教学计划表!EV62<>0,教学计划表!FA62,\"\")","v":""},{"$f":"IF(教学计划表!EV62<>0,教学计划表!FB62,\"\")","v":""},{"$f":"IF(教学计划表!EV62<>0,教学计划表!PF62,\"\")","v":""},{"$f":"OFFSET($HF$2,SMALL(IF($HF$2:$HF$72<>\"\",ROW($HF$2:$HF$72),\"\"),ROW(HF45))-2,0)","v":{"$error":"#NUM!"}},{"$f":"OFFSET($HG$2,SMALL(IF($HG$2:$HG$72<>\"\",ROW($HG$2:$HG$72),\"\"),ROW(HG45))-2,0)","v":{"$error":"#NUM!"}},{"$f":"OFFSET($HH$2,SMALL(IF($HH$2:$HH$72<>\"\",ROW($HH$2:$HH$72),\"\"),ROW(HH45))-2,0)","v":{"$error":"#NUM!"}},{"$f":"OFFSET($HI$2,SMALL(IF($HI$2:$HI$72<>\"\",ROW($HI$2:$HI$72),\"\"),ROW(HI45))-2,0)","v":{"$error":"#NUM!"}},{"$f":"OFFSET($HJ$2,SMALL(IF($HJ$2:$HJ$72<>\"\",ROW($HJ$2:$HJ$72),\"\"),ROW(HJ45))-2,0)","v":{"$error":"#NUM!"}},{"$f":"OFFSET($HK$2,SMALL(IF($HK$2:$HK$72<>\"\",ROW($HK$2:$HK$72),\"\"),ROW(HK45))-2,0)","v":{"$error":"#NUM!"}},{"$f":"OFFSET($HL$2,SMALL(IF($HL$2:$HL$72<>\"\",ROW($HL$2:$HL$72),\"\"),ROW(HL45))-2,0)","v":{"$error":"#NUM!"}},{"$f":"IF(AND(教学计划表!N62<>\"\",教学计划表!BB62<>\"\"),教学计划表!I62,\"\")","v":""},{"$f":"IF(教学计划表!BB62<>\"\",教学计划表!N62,\"\")","v":""},{"$f":"IF(HU46<>\"\",IF(SEARCH(\"4\",教学计划表!AB62&\"4\",1)<=LEN(教学计划表!AB62),\"考试\",\"考查\"),\"\")","v":""},{"$f":"IF(教学计划表!FQ62<>0,教学计划表!FQ62,\"\")","v":""},{"$f":"IF(教学计划表!FQ62<>0,教学计划表!FV62,\"\")","v":""},{"$f":"IF(教学计划表!FQ62<>0,教学计划表!FW62,\"\")","v":""},{"$f":"IF(教学计划表!FQ62<>0,教学计划表!PR62,\"\")","v":""},{"$f":"OFFSET($HT$2,SMALL(IF($HT$2:$HT$72<>\"\",ROW($HT$2:$HT$72),\"\"),ROW(HT45))-2,0)","v":{"$error":"#NUM!"}},{"$f":"OFFSET($HU$2,SMALL(IF($HU$2:$HU$72<>\"\",ROW($HU$2:$HU$72),\"\"),ROW(HU45))-2,0)","v":{"$error":"#NUM!"}},{"$f":"OFFSET($HV$2,SMALL(IF($HV$2:$HV$72<>\"\",ROW($HV$2:$HV$72),\"\"),ROW(HV45))-2,0)","v":{"$error":"#NUM!"}},{"$f":"OFFSET($HW$2,SMALL(IF($HW$2:$HW$72<>\"\",ROW($HW$2:$HW$72),\"\"),ROW(HW45))-2,0)","v":{"$error":"#NUM!"}},{"$f":"OFFSET($HX$2,SMALL(IF($HX$2:$HX$72<>\"\",ROW($HX$2:$HX$72),\"\"),ROW(HX45))-2,0)","v":{"$error":"#NUM!"}},{"$f":"OFFSET($HY$2,SMALL(IF($HY$2:$HY$72<>\"\",ROW($HY$2:$HY$72),\"\"),ROW(HY45))-2,0)","v":{"$error":"#NUM!"}},{"$f":"OFFSET($HZ$2,SMALL(IF($HZ$2:$HZ$72<>\"\",ROW($HZ$2:$HZ$72),\"\"),ROW(HZ45))-2,0)","v":{"$error":"#NUM!"}},null,null,{"$f":"IF(AND(教学计划表!N62<>\"\",教学计划表!BE62<>\"\"),教学计划表!I62,\"\")","v":""},{"$f":"IF(教学计划表!BE62<>\"\",教学计划表!N62,\"\")","v":""},{"$f":"IF(IK46<>\"\",IF(SEARCH(\"5\",教学计划表!AB62&\"5\",1)<=LEN(教学计划表!AB62),\"考试\",\"考查\"),\"\")","v":""},{"$f":"IF(教学计划表!GL62<>0,教学计划表!GL62,\"\")","v":""},{"$f":"IF(教学计划表!GL62<>0,教学计划表!GQ62,\"\")","v":""},{"$f":"IF(教学计划表!GL62<>0,教学计划表!GR62,\"\")","v":""},{"$f":"IF(教学计划表!GL62<>0,教学计划表!QC62,\"\")","v":""},{"$f":"OFFSET($IJ$2,SMALL(IF($IJ$2:$IJ$72<>\"\",ROW($IJ$2:$IJ$72),\"\"),ROW(IJ45))-2,0)","v":{"$error":"#NUM!"}},{"$f":"OFFSET($IK$2,SMALL(IF($IK$2:$IK$72<>\"\",ROW($IK$2:$IK$72),\"\"),ROW(IK45))-2,0)","v":{"$error":"#NUM!"}},{"$f":"OFFSET($IL$2,SMALL(IF($IL$2:$IL$72<>\"\",ROW($IL$2:$IL$72),\"\"),ROW(IL45))-2,0)","v":{"$error":"#NUM!"}},{"$f":"OFFSET($IM$2,SMALL(IF($IM$2:$IM$72<>\"\",ROW($IM$2:$IM$72),\"\"),ROW(IM45))-2,0)","v":{"$error":"#NUM!"}},{"$f":"OFFSET($IN$2,SMALL(IF($IN$2:$IN$72<>\"\",ROW($IN$2:$IN$72),\"\"),ROW(IN45))-2,0)","v":{"$error":"#NUM!"}},{"$f":"OFFSET($IO$2,SMALL(IF($IO$2:$IO$72<>\"\",ROW($IO$2:$IO$72),\"\"),ROW(IO45))-2,0)","v":{"$error":"#NUM!"}},{"$f":"OFFSET($IP$2,SMALL(IF($IP$2:$IP$72<>\"\",ROW($IP$2:$IP$72),\"\"),ROW(IP45))-2,0)","v":{"$error":"#NUM!"}},null,{"$f":"IF(AND(教学计划表!N62<>\"\",教学计划表!BH62<>\"\"),教学计划表!I62,\"\")","v":""},{"$f":"IF(教学计划表!BH62<>\"\",教学计划表!N62,\"\")","v":""},{"$f":"IF(教学计划表!BH62<>\"\",IF(SEARCH(\"6\",教学计划表!AB62&\"6\",1)<=LEN(教学计划表!AB62),\"考试\",\"考查\"),\"\")","v":""},{"$f":"IF(教学计划表!BH62<>0,教学计划表!HG62,\"\")","v":""},{"$f":"IF(教学计划表!BH62<>0,教学计划表!HL62,\"\")","v":""},{"$f":"IF(教学计划表!BH62<>0,教学计划表!HM62,\"\")","v":""},{"$f":"IF(教学计划表!BH62<>0,教学计划表!QO62,\"\")","v":""},{"$f":"OFFSET($IY$2,SMALL(IF($IY$2:$IY$72<>\"\",ROW($IY$2:$IY$72),\"\"),ROW(IY45))-2,0)","v":{"$error":"#NUM!"}},{"$f":"OFFSET($IZ$2,SMALL(IF($IZ$2:$IZ$72<>\"\",ROW($IZ$2:$IZ$72),\"\"),ROW(IZ45))-2,0)","v":{"$error":"#NUM!"}},{"$f":"OFFSET($JA$2,SMALL(IF($JA$2:$JA$72<>\"\",ROW($JA$2:$JA$72),\"\"),ROW(JA45))-2,0)","v":{"$error":"#NUM!"}},{"$f":"OFFSET($JB$2,SMALL(IF($JB$2:$JB$72<>\"\",ROW($JB$2:$JB$72),\"\"),ROW(JB45))-2,0)","v":{"$error":"#NUM!"}},{"$f":"OFFSET($JC$2,SMALL(IF($JC$2:$JC$72<>\"\",ROW($JC$2:$JC$72),\"\"),ROW(JC45))-2,0)","v":{"$error":"#NUM!"}},{"$f":"OFFSET($JD$2,SMALL(IF($JD$2:$JD$72<>\"\",ROW($JD$2:$JD$72),\"\"),ROW(JD45))-2,0)","v":{"$error":"#NUM!"}},{"$f":"OFFSET($JE$2,SMALL(IF($JE$2:$JE$72<>\"\",ROW($JE$2:$JE$72),\"\"),ROW(JE45))-2,0)","v":{"$error":"#NUM!"}}]
["","","","","","","",null,"","","",{"$f":"IF(ISERROR(自动生成的开课信息!HB47),\"\",自动生成的开课信息!HB47)","v":""},{"$f":"IF(ISERROR(自动生成的开课信息!HC47),\"\",自动生成的开课信息!HC47)","v":""},{"$f":"IF(ISERROR(自动生成的开课信息!HD47),\"\",自动生成的开课信息!HD47)","v":""},{"$f":"IF(ISERROR(自动生成的开课信息!HE47),\"\",自动生成的开课信息!HE47)","v":""},null,"","","","","","","",null,"","","","","","","",null,"","","","","","","",null,"","","","","","","",null,null,null,null,null,null,null,null,null,null,null,null,null,null,null,null,null,null,null,null,null,null,null,null,null,null,null,null,null,null,null,null,null,null,null,null,null,null,null,null,null,null,null,null,null,null,null,null,null,null,null,null,null,null,null,null,null,null,null,null,null,null,null,null,null,null,null,null,null,null,null,null,null,null,null,null,null,null,null,null,null,null,null,null,null,null,null,null,null,null,null,null,null,null,null,null,null,null,null,null,null,null,null,null,null,null,null,null,null,null,null,null,null,null,null,null,null,null,null,null,null,null,null,null,null,null,null,null,null,null,null,null,null,null,null,null,null,null,{"$f":"IF(AND(教学计划表!N63<>\"\",教学计划表!AS63<>\"\"),教学计划表!I63,\"\")","v":""},{"$f":"IF(教学计划表!AS63<>\"\",教学计划表!N63,\"\")","v":""},{"$f":"IF(GE47<>\"\",IF(SEARCH(\"1\",教学计划表!AB63&\"1\",1)<=LEN(教学计划表!AB63),\"考试\",\"考查\"),\"\")","v":""},{"$f":"IF(教学计划表!DG63<>0,教学计划表!DG63,\"\")","v":""},{"$f":"IF(教学计划表!DG63<>0,教学计划表!DL63,\"\")","v":""},{"$f":"IF(教学计划表!DG63<>0,教学计划表!DM63,\"\")","v":""},{"$f":"IF(教学计划表!DG63<>0,教学计划表!OH63,\"\")","v":""},{"$f":"OFFSET($GD$2,SMALL(IF($GD$2:$GD$72<>\"\",ROW($2:$72),\"\"),ROW(GD46))-2,0)","v":{"$error":"#NUM!"}},{"$f":"OFFSET($GE$2,SMALL(IF($GE$2:$GE$72<>\"\",ROW($2:$72),\"\"),ROW(GE46))-2,0)","v":{"$error":"#NUM!"}},{"$f":"OFFSET($GF$2,SMALL(IF($GF$2:$GF$72<>\"\",ROW($2:$72),\"\"),ROW(GF46))-2,0)","v":{"$error":"#NUM!"}},{"$f":"OFFSET($GG$2,SMALL(IF($GG$2:$GG$72<>\"\",ROW($2:$72),\"\"),ROW(GG46))-2,0)","v":{"$error":"#NUM!"}},{"$f":"OFFSET($GH$2,SMALL(IF($GH$2:$GH$72<>\"\",ROW($2:$72),\"\"),ROW(GH46))-2,0)","v":{"$error":"#NUM!"}},{"$error":"#NUM!"},{"$f":"OFFSET($GJ$2,SMALL(IF($GJ$2:$GJ$72<>\"\",ROW($2:$72),\"\"),ROW(GJ46))-2,0)","v":{"$error":"#NUM!"}},{"$f":"IF(AND(教学计划表!N63<>\"\",教学计划表!AV63<>\"\"),教学计划表!I63,\"\")","v":""},{"$f":"IF(教学计划表!AV63<>\"\",教学计划表!N63,\"\")","v":""},{"$f":"IF(GS47<>\"\",IF(SEARCH(\"2\",教学计划表!AB63&\"2\",1)<=LEN(教学计划表!AB63),\"考试\",\"考查\"),\"\")","v":""},{"$f":"IF(教学计划表!EA63<>0,教学计划表!EA63,\"\")","v":""},{"$f":"IF(教学计划表!EA63<>0,教学计划表!EF63,\"\")","v":""},{"$f":"IF(教学计划表!EA63<>0,教学计划表!EG63,\"\")","v":""},{"$f":"IF(教学计划表!EA63<>0,教学计划表!OT63,\"\")","v":""},{"$f":"OFFSET($GR$2,SMALL(IF($GR$2:$GR$72<>\"\",ROW($I$2:$K$72),\"\"),ROW(GR46))-2,0)","v":{"$error":"#NUM!"}},{"$f":"OFFSET($GS$2,SMALL(IF($GS$2:$GS$72<>\"\",ROW($I$2:$K$72),\"\"),ROW(GS46))-2,0)","v":{"$error":"#NUM!"}},{"$f":"OFFSET($GT$2,SMALL(IF($GT$2:$GT$72<>\"\",ROW($I$2:$K$72),\"\"),ROW(GT46))-2,0)","v":{"$error":"#NUM!"}},{"$f":"OFFSET($GU$2,SMALL(IF($GU$2:$GU$72<>\"\",ROW($I$2:$K$72),\"\"),ROW(GU46))-2,0)","v":{"$error":"#NUM!"}},{"$f":"OFFSET($GV$2,SMALL(IF($GV$2:$GV$72<>\"\",ROW($GV$2:$GV$72),\"\"),ROW(GV46))-2,0)","v":{"$error":"#NUM!"}},{"$f":"OFFSET($GW$2,SMALL(IF($GW$2:$GW$72<>\"\",ROW($GW$2:$GW$72),\"\"),ROW(GW46))-2,0)","v":{"$error":"#NUM!"}},{"$f":"OFFSET($GX$2,SMALL(IF($GX$2:$GX$72<>\"\",ROW($GX$2:$GX$72),\"\"),ROW(GX46))-2,0)","v":{"$error":"#NUM!"}},{"$f":"IF(AND(教学计划表!N63<>\"\",教学计划表!AY63<>\"\"),教学计划表!I63,\"\")","v":""},{"$f":"IF(教学计划表!AY63<>\"\",教学计划表!N63,\"\")","v":""},{"$f":"IF(HG47<>\"\",IF(SEARCH(\"3\",教学计划表!AB63&\"3\",1)<=LEN(教学计划表!AB63),\"考试\",\"考查\"),\"\")","v":""},{"$f":"IF(教学计划表!EV63<>0,教学计划表!EV63,\"\")","v":""},{"$f":"IF(教学计划表!EV63<>0,教学计划表!FA63,\"\")","v":""},{"$f":"IF(教学计划表!EV63<>0,教学计划表!FB63,\"\")","v":""},{"$f":"IF(教学计划表!EV63<>0,教学计划表!PF63,\"\")","v":""},{"$f":"OFFSET($HF$2,SMALL(IF($HF$2:$HF$72<>\"\",ROW($HF$2:$HF$72),\"\"),ROW(HF46))-2,0)","v":{"$error":"#NUM!"}},{"$f":"OFFSET($HG$2,SMALL(IF($HG$2:$HG$72<>\"\",ROW($HG$2:$HG$72),\"\"),ROW(HG46))-2,0)","v":{"$error":"#NUM!"}},{"$f":"OFFSET($HH$2,SMALL(IF($HH$2:$HH$72<>\"\",ROW($HH$2:$HH$72),\"\"),ROW(HH46))-2,0)","v":{"$error":"#NUM!"}},{"$f":"OFFSET($HI$2,SMALL(IF($HI$2:$HI$72<>\"\",ROW($HI$2:$HI$72),\"\"),ROW(HI46))-2,0)","v":{"$error":"#NUM!"}},{"$f":"OFFSET($HJ$2,SMALL(IF($HJ$2:$HJ$72<>\"\",ROW($HJ$2:$HJ$72),\"\"),ROW(HJ46))-2,0)","v":{"$error":"#NUM!"}},{"$f":"OFFSET($HK$2,SMALL(IF($HK$2:$HK$72<>\"\",ROW($HK$2:$HK$72),\"\"),ROW(HK46))-2,0)","v":{"$error":"#NUM!"}},{"$f":"OFFSET($HL$2,SMALL(IF($HL$2:$HL$72<>\"\",ROW($HL$2:$HL$72),\"\"),ROW(HL46))-2,0)","v":{"$error":"#NUM!"}},{"$f":"IF(AND(教学计划表!N63<>\"\",教学计划表!BB63<>\"\"),教学计划表!I63,\"\")","v":""},{"$f":"IF(教学计划表!BB63<>\"\",教学计划表!N63,\"\")","v":""},{"$f":"IF(HU47<>\"\",IF(SEARCH(\"4\",教学计划表!AB63&\"4\",1)<=LEN(教学计划表!AB63),\"考试\",\"考查\"),\"\")","v":""},{"$f":"IF(教学计划表!FQ63<>0,教学计划表!FQ63,\"\")","v":""},{"$f":"IF(教学计划表!FQ63<>0,教学计划表!FV63,\"\")","v":""},{"$f":"IF(教学计划表!FQ63<>0,教学计划表!FW63,\"\")","v":""},{"$f":"IF(教学计划表!FQ63<>0,教学计划表!PR63,\"\")","v":""},{"$f":"OFFSET($HT$2,SMALL(IF($HT$2:$HT$72<>\"\",ROW($HT$2:$HT$72),\"\"),ROW(HT46))-2,0)","v":{"$error":"#NUM!"}},{"$f":"OFFSET($HU$2,SMALL(IF($HU$2:$HU$72<>\"\",ROW($HU$2:$HU$72),\"\"),ROW(HU46))-2,0)","v":{"$error":"#NUM!"}},{"$f":"OFFSET($HV$2,SMALL(IF($HV$2:$HV$72<>\"\",ROW($HV$2:$HV$72),\"\"),ROW(HV46))-2,0)","v":{"$error":"#NUM!"}},{"$f":"OFFSET($HW$2,SMALL(IF($HW$2:$HW$72<>\"\",ROW($HW$2:$HW$72),\"\"),ROW(HW46))-2,0)","v":{"$error":"#NUM!"}},{"$f":"OFFSET($HX$2,SMALL(IF($HX$2:$HX$72<>\"\",ROW($HX$2:$HX$72),\"\"),ROW(HX46))-2,0)","v":{"$error":"#NUM!"}},{"$f":"OFFSET($HY$2,SMALL(IF($HY$2:$HY$72<>\"\",ROW($HY$2:$HY$72),\"\"),ROW(HY46))-2,0)","v":{"$error":"#NUM!"}},{"$f":"OFFSET($HZ$2,SMALL(IF($HZ$2:$HZ$72<>\"\",ROW($HZ$2:$HZ$72),\"\"),ROW(HZ46))-2,0)","v":{"$error":"#NUM!"}},null,null,{"$f":"IF(AND(教学计划表!N63<>\"\",教学计划表!BE63<>\"\"),教学计划表!I63,\"\")","v":""},{"$f":"IF(教学计划表!BE63<>\"\",教学计划表!N63,\"\")","v":""},{"$f":"IF(IK47<>\"\",IF(SEARCH(\"5\",教学计划表!AB63&\"5\",1)<=LEN(教学计划表!AB63),\"考试\",\"考查\"),\"\")","v":""},{"$f":"IF(教学计划表!GL63<>0,教学计划表!GL63,\"\")","v":""},{"$f":"IF(教学计划表!GL63<>0,教学计划表!GQ63,\"\")","v":""},{"$f":"IF(教学计划表!GL63<>0,教学计划表!GR63,\"\")","v":""},{"$f":"IF(教学计划表!GL63<>0,教学计划表!QC63,\"\")","v":""},{"$f":"OFFSET($IJ$2,SMALL(IF($IJ$2:$IJ$72<>\"\",ROW($IJ$2:$IJ$72),\"\"),ROW(IJ46))-2,0)","v":{"$error":"#NUM!"}},{"$f":"OFFSET($IK$2,SMALL(IF($IK$2:$IK$72<>\"\",ROW($IK$2:$IK$72),\"\"),ROW(IK46))-2,0)","v":{"$error":"#NUM!"}},{"$f":"OFFSET($IL$2,SMALL(IF($IL$2:$IL$72<>\"\",ROW($IL$2:$IL$72),\"\"),ROW(IL46))-2,0)","v":{"$error":"#NUM!"}},{"$f":"OFFSET($IM$2,SMALL(IF($IM$2:$IM$72<>\"\",ROW($IM$2:$IM$72),\"\"),ROW(IM46))-2,0)","v":{"$error":"#NUM!"}},{"$f":"OFFSET($IN$2,SMALL(IF($IN$2:$IN$72<>\"\",ROW($IN$2:$IN$72),\"\"),ROW(IN46))-2,0)","v":{"$error":"#NUM!"}},{"$f":"OFFSET($IO$2,SMALL(IF($IO$2:$IO$72<>\"\",ROW($IO$2:$IO$72),\"\"),ROW(IO46))-2,0)","v":{"$error":"#NUM!"}},{"$f":"OFFSET($IP$2,SMALL(IF($IP$2:$IP$72<>\"\",ROW($IP$2:$IP$72),\"\"),ROW(IP46))-2,0)","v":{"$error":"#NUM!"}},null,{"$f":"IF(AND(教学计划表!N63<>\"\",教学计划表!BH63<>\"\"),教学计划表!I63,\"\")","v":""},{"$f":"IF(教学计划表!BH63<>\"\",教学计划表!N63,\"\")","v":""},{"$f":"IF(教学计划表!BH63<>\"\",IF(SEARCH(\"6\",教学计划表!AB63&\"6\",1)<=LEN(教学计划表!AB63),\"考试\",\"考查\"),\"\")","v":""},{"$f":"IF(教学计划表!BH63<>0,教学计划表!HG63,\"\")","v":""},{"$f":"IF(教学计划表!BH63<>0,教学计划表!HL63,\"\")","v":""},{"$f":"IF(教学计划表!BH63<>0,教学计划表!HM63,\"\")","v":""},{"$f":"IF(教学计划表!BH63<>0,教学计划表!QO63,\"\")","v":""},{"$f":"OFFSET($IY$2,SMALL(IF($IY$2:$IY$72<>\"\",ROW($IY$2:$IY$72),\"\"),ROW(IY46))-2,0)","v":{"$error":"#NUM!"}},{"$f":"OFFSET($IZ$2,SMALL(IF($IZ$2:$IZ$72<>\"\",ROW($IZ$2:$IZ$72),\"\"),ROW(IZ46))-2,0)","v":{"$error":"#NUM!"}},{"$f":"OFFSET($JA$2,SMALL(IF($JA$2:$JA$72<>\"\",ROW($JA$2:$JA$72),\"\"),ROW(JA46))-2,0)","v":{"$error":"#NUM!"}},{"$f":"OFFSET($JB$2,SMALL(IF($JB$2:$JB$72<>\"\",ROW($JB$2:$JB$72),\"\"),ROW(JB46))-2,0)","v":{"$error":"#NUM!"}},{"$f":"OFFSET($JC$2,SMALL(IF($JC$2:$JC$72<>\"\",ROW($JC$2:$JC$72),\"\"),ROW(JC46))-2,0)","v":{"$error":"#NUM!"}},{"$f":"OFFSET($JD$2,SMALL(IF($JD$2:$JD$72<>\"\",ROW($JD$2:$JD$72),\"\"),ROW(JD46))-2,0)","v":{"$error":"#NUM!"}},{"$f":"OFFSET($JE$2,SMALL(IF($JE$2:$JE$72<>\"\",ROW($JE$2:$JE$72),\"\"),ROW(JE46))-2,0)","v":{"$error":"#NUM!"}}]
["","","","","","","",null,"","","",{"$f":"IF(ISERROR(自动生成的开课信息!HB48),\"\",自动生成的开课信息!HB48)","v":""},{"$f":"IF(ISERROR(自动生成的开课信息!HC48),\"\",自动生成的开课信息!HC48)","v":""},{"$f":"IF(ISERROR(自动生成的开课信息!HD48),\"\",自动生成的开课信息!HD48)","v":""},{"$f":"IF(ISERROR(自动生成的开课信息!HE48),\"\",自动生成的开课信息!HE48)","v":""},null,"","","","","","","",null,"","","","","","","",null,"","","","","","","",null,"","","","","","","",null,null,null,null,null,null,null,null,null,null,null,null,null,null,null,null,null,null,null,null,null,null,null,null,null,null,null,null,null,null,null,null,null,null,null,null,null,null,null,null,null,null,null,null,null,null,null,null,null,null,null,null,null,null,null,null,null,null,null,null,null,null,null,null,null,null,null,null,null,null,null,null,null,null,null,null,null,null,null,null,null,null,null,null,null,null,null,null,null,null,null,null,null,null,null,null,null,null,null,null,null,null,null,null,null,null,null,null,null,null,null,null,null,null,null,null,null,null,null,null,null,null,null,null,null,null,null,null,null,null,null,null,null,null,null,null,null,null,{"$f":"IF(AND(教学计划表!N64<>\"\",教学计划表!AS64<>\"\"),教学计划表!I64,\"\")","v":""},{"$f":"IF(教学计划表!AS64<>\"\",教学计划表!N64,\"\")","v":""},{"$f":"IF(GE48<>\"\",IF(SEARCH(\"1\",教学计划表!AB64&\"1\",1)<=LEN(教学计划表!AB64),\"考试\",\"考查\"),\"\")","v":""},{"$f":"IF(教学计划表!DG64<>0,教学计划表!DG64,\"\")","v":""},{"$f":"IF(教学计划表!DG64<>0,教学计划表!DL64,\"\")","v":""},{"$f":"IF(教学计划表!DG64<>0,教学计划表!DM64,\"\")","v":""},{"$f":"IF(教学计划表!DG64<>0,教学计划表!OH64,\"\")","v":""},{"$f":"OFFSET($GD$2,SMALL(IF($GD$2:$GD$72<>\"\",ROW($2:$72),\"\"),ROW(GD47))-2,0)","v":{"$error":"#NUM!"}},{"$f":"OFFSET($GE$2,SMALL(IF($GE$2:$GE$72<>\"\",ROW($2:$72),\"\"),ROW(GE47))-2,0)","v":{"$error":"#NUM!"}},{"$f":"OFFSET($GF$2,SMALL(IF($GF$2:$GF$72<>\"\",ROW($2:$72),\"\"),ROW(GF47))-2,0)","v":{"$error":"#NUM!"}},{"$f":"OFFSET($GG$2,SMALL(IF($GG$2:$GG$72<>\"\",ROW($2:$72),\"\"),ROW(GG47))-2,0)","v":{"$error":"#NUM!"}},{"$f":"OFFSET($GH$2,SMALL(IF($GH$2:$GH$72<>\"\",ROW($2:$72),\"\"),ROW(GH47))-2,0)","v":{"$error":"#NUM!"}},{"$error":"#NUM!"},{"$f":"OFFSET($GJ$2,SMALL(IF($GJ$2:$GJ$72<>\"\",ROW($2:$72),\"\"),ROW(GJ47))-2,0)","v":{"$error":"#NUM!"}},{"$f":"IF(AND(教学计划表!N64<>\"\",教学计划表!AV64<>\"\"),教学计划表!I64,\"\")","v":""},{"$f":"IF(教学计划表!AV64<>\"\",教学计划表!N64,\"\")","v":""},{"$f":"IF(GS48<>\"\",IF(SEARCH(\"2\",教学计划表!AB64&\"2\",1)<=LEN(教学计划表!AB64),\"考试\",\"考查\"),\"\")","v":""},{"$f":"IF(教学计划表!EA64<>0,教学计划表!EA64,\"\")","v":""},{"$f":"IF(教学计划表!EA64<>0,教学计划表!EF64,\"\")","v":""},{"$f":"IF(教学计划表!EA64<>0,教学计划表!EG64,\"\")","v":""},{"$f":"IF(教学计划表!EA64<>0,教学计划表!OT64,\"\")","v":""},{"$f":"OFFSET($GR$2,SMALL(IF($GR$2:$GR$72<>\"\",ROW($I$2:$K$72),\"\"),ROW(GR47))-2,0)","v":{"$error":"#NUM!"}},{"$f":"OFFSET($GS$2,SMALL(IF($GS$2:$GS$72<>\"\",ROW($I$2:$K$72),\"\"),ROW(GS47))-2,0)","v":{"$error":"#NUM!"}},{"$f":"OFFSET($GT$2,SMALL(IF($GT$2:$GT$72<>\"\",ROW($I$2:$K$72),\"\"),ROW(GT47))-2,0)","v":{"$error":"#NUM!"}},{"$f":"OFFSET($GU$2,SMALL(IF($GU$2:$GU$72<>\"\",ROW($I$2:$K$72),\"\"),ROW(GU47))-2,0)","v":{"$error":"#NUM!"}},{"$f":"OFFSET($GV$2,SMALL(IF($GV$2:$GV$72<>\"\",ROW($GV$2:$GV$72),\"\"),ROW(GV47))-2,0)","v":{"$error":"#NUM!"}},{"$f":"OFFSET($GW$2,SMALL(IF($GW$2:$GW$72<>\"\",ROW($GW$2:$GW$72),\"\"),ROW(GW47))-2,0)","v":{"$error":"#NUM!"}},{"$f":"OFFSET($GX$2,SMALL(IF($GX$2:$GX$72<>\"\",ROW($GX$2:$GX$72),\"\"),ROW(GX47))-2,0)","v":{"$error":"#NUM!"}},{"$f":"IF(AND(教学计划表!N64<>\"\",教学计划表!AY64<>\"\"),教学计划表!I64,\"\")","v":""},{"$f":"IF(教学计划表!AY64<>\"\",教学计划表!N64,\"\")","v":""},{"$f":"IF(HG48<>\"\",IF(SEARCH(\"3\",教学计划表!AB64&\"3\",1)<=LEN(教学计划表!AB64),\"考试\",\"考查\"),\"\")","v":""},{"$f":"IF(教学计划表!EV64<>0,教学计划表!EV64,\"\")","v":""},{"$f":"IF(教学计划表!EV64<>0,教学计划表!FA64,\"\")","v":""},{"$f":"IF(教学计划表!EV64<>0,教学计划表!FB64,\"\")","v":""},{"$f":"IF(教学计划表!EV64<>0,教学计划表!PF64,\"\")","v":""},{"$f":"OFFSET($HF$2,SMALL(IF($HF$2:$HF$72<>\"\",ROW($HF$2:$HF$72),\"\"),ROW(HF47))-2,0)","v":{"$error":"#NUM!"}},{"$f":"OFFSET($HG$2,SMALL(IF($HG$2:$HG$72<>\"\",ROW($HG$2:$HG$72),\"\"),ROW(HG47))-2,0)","v":{"$error":"#NUM!"}},{"$f":"OFFSET($HH$2,SMALL(IF($HH$2:$HH$72<>\"\",ROW($HH$2:$HH$72),\"\"),ROW(HH47))-2,0)","v":{"$error":"#NUM!"}},{"$f":"OFFSET($HI$2,SMALL(IF($HI$2:$HI$72<>\"\",ROW($HI$2:$HI$72),\"\"),ROW(HI47))-2,0)","v":{"$error":"#NUM!"}},{"$f":"OFFSET($HJ$2,SMALL(IF($HJ$2:$HJ$72<>\"\",ROW($HJ$2:$HJ$72),\"\"),ROW(HJ47))-2,0)","v":{"$error":"#NUM!"}},{"$f":"OFFSET($HK$2,SMALL(IF($HK$2:$HK$72<>\"\",ROW($HK$2:$HK$72),\"\"),ROW(HK47))-2,0)","v":{"$error":"#NUM!"}},{"$f":"OFFSET($HL$2,SMALL(IF($HL$2:$HL$72<>\"\",ROW($HL$2:$HL$72),\"\"),ROW(HL47))-2,0)","v":{"$error":"#NUM!"}},{"$f":"IF(AND(教学计划表!N64<>\"\",教学计划表!BB64<>\"\"),教学计划表!I64,\"\")","v":""},{"$f":"IF(教学计划表!BB64<>\"\",教学计划表!N64,\"\")","v":""},{"$f":"IF(HU48<>\"\",IF(SEARCH(\"4\",教学计划表!AB64&\"4\",1)<=LEN(教学计划表!AB64),\"考试\",\"考查\"),\"\")","v":""},{"$f":"IF(教学计划表!FQ64<>0,教学计划表!FQ64,\"\")","v":""},{"$f":"IF(教学计划表!FQ64<>0,教学计划表!FV64,\"\")","v":""},{"$f":"IF(教学计划表!FQ64<>0,教学计划表!FW64,\"\")","v":""},{"$f":"IF(教学计划表!FQ64<>0,教学计划表!PR64,\"\")","v":""},{"$f":"OFFSET($HT$2,SMALL(IF($HT$2:$HT$72<>\"\",ROW($HT$2:$HT$72),\"\"),ROW(HT47))-2,0)","v":{"$error":"#NUM!"}},{"$f":"OFFSET($HU$2,SMALL(IF($HU$2:$HU$72<>\"\",ROW($HU$2:$HU$72),\"\"),ROW(HU47))-2,0)","v":{"$error":"#NUM!"}},{"$f":"OFFSET($HV$2,SMALL(IF($HV$2:$HV$72<>\"\",ROW($HV$2:$HV$72),\"\"),ROW(HV47))-2,0)","v":{"$error":"#NUM!"}},{"$f":"OFFSET($HW$2,SMALL(IF($HW$2:$HW$72<>\"\",ROW($HW$2:$HW$72),\"\"),ROW(HW47))-2,0)","v":{"$error":"#NUM!"}},{"$f":"OFFSET($HX$2,SMALL(IF($HX$2:$HX$72<>\"\",ROW($HX$2:$HX$72),\"\"),ROW(HX47))-2,0)","v":{"$error":"#NUM!"}},{"$f":"OFFSET($HY$2,SMALL(IF($HY$2:$HY$72<>\"\",ROW($HY$2:$HY$72),\"\"),ROW(HY47))-2,0)","v":{"$error":"#NUM!"}},{"$f":"OFFSET($HZ$2,SMALL(IF($HZ$2:$HZ$72<>\"\",ROW($HZ$2:$HZ$72),\"\"),ROW(HZ47))-2,0)","v":{"$error":"#NUM!"}},null,null,{"$f":"IF(AND(教学计划表!N64<>\"\",教学计划表!BE64<>\"\"),教学计划表!I64,\"\")","v":""},{"$f":"IF(教学计划表!BE64<>\"\",教学计划表!N64,\"\")","v":""},{"$f":"IF(IK48<>\"\",IF(SEARCH(\"5\",教学计划表!AB64&\"5\",1)<=LEN(教学计划表!AB64),\"考试\",\"考查\"),\"\")","v":""},{"$f":"IF(教学计划表!GL64<>0,教学计划表!GL64,\"\")","v":""},{"$f":"IF(教学计划表!GL64<>0,教学计划表!GQ64,\"\")","v":""},{"$f":"IF(教学计划表!GL64<>0,教学计划表!GR64,\"\")","v":""},{"$f":"IF(教学计划表!GL64<>0,教学计划表!QC64,\"\")","v":""},{"$f":"OFFSET($IJ$2,SMALL(IF($IJ$2:$IJ$72<>\"\",ROW($IJ$2:$IJ$72),\"\"),ROW(IJ47))-2,0)","v":{"$error":"#NUM!"}},{"$f":"OFFSET($IK$2,SMALL(IF($IK$2:$IK$72<>\"\",ROW($IK$2:$IK$72),\"\"),ROW(IK47))-2,0)","v":{"$error":"#NUM!"}},{"$f":"OFFSET($IL$2,SMALL(IF($IL$2:$IL$72<>\"\",ROW($IL$2:$IL$72),\"\"),ROW(IL47))-2,0)","v":{"$error":"#NUM!"}},{"$f":"OFFSET($IM$2,SMALL(IF($IM$2:$IM$72<>\"\",ROW($IM$2:$IM$72),\"\"),ROW(IM47))-2,0)","v":{"$error":"#NUM!"}},{"$f":"OFFSET($IN$2,SMALL(IF($IN$2:$IN$72<>\"\",ROW($IN$2:$IN$72),\"\"),ROW(IN47))-2,0)","v":{"$error":"#NUM!"}},{"$f":"OFFSET($IO$2,SMALL(IF($IO$2:$IO$72<>\"\",ROW($IO$2:$IO$72),\"\"),ROW(IO47))-2,0)","v":{"$error":"#NUM!"}},{"$f":"OFFSET($IP$2,SMALL(IF($IP$2:$IP$72<>\"\",ROW($IP$2:$IP$72),\"\"),ROW(IP47))-2,0)","v":{"$error":"#NUM!"}},null,{"$f":"IF(AND(教学计划表!N64<>\"\",教学计划表!BH64<>\"\"),教学计划表!I64,\"\")","v":""},{"$f":"IF(教学计划表!BH64<>\"\",教学计划表!N64,\"\")","v":""},{"$f":"IF(教学计划表!BH64<>\"\",IF(SEARCH(\"6\",教学计划表!AB64&\"6\",1)<=LEN(教学计划表!AB64),\"考试\",\"考查\"),\"\")","v":""},{"$f":"IF(教学计划表!BH64<>0,教学计划表!HG64,\"\")","v":""},{"$f":"IF(教学计划表!BH64<>0,教学计划表!HL64,\"\")","v":""},{"$f":"IF(教学计划表!BH64<>0,教学计划表!HM64,\"\")","v":""},{"$f":"IF(教学计划表!BH64<>0,教学计划表!QO64,\"\")","v":""},{"$f":"OFFSET($IY$2,SMALL(IF($IY$2:$IY$72<>\"\",ROW($IY$2:$IY$72),\"\"),ROW(IY47))-2,0)","v":{"$error":"#NUM!"}},{"$f":"OFFSET($IZ$2,SMALL(IF($IZ$2:$IZ$72<>\"\",ROW($IZ$2:$IZ$72),\"\"),ROW(IZ47))-2,0)","v":{"$error":"#NUM!"}},{"$f":"OFFSET($JA$2,SMALL(IF($JA$2:$JA$72<>\"\",ROW($JA$2:$JA$72),\"\"),ROW(JA47))-2,0)","v":{"$error":"#NUM!"}},{"$f":"OFFSET($JB$2,SMALL(IF($JB$2:$JB$72<>\"\",ROW($JB$2:$JB$72),\"\"),ROW(JB47))-2,0)","v":{"$error":"#NUM!"}},{"$f":"OFFSET($JC$2,SMALL(IF($JC$2:$JC$72<>\"\",ROW($JC$2:$JC$72),\"\"),ROW(JC47))-2,0)","v":{"$error":"#NUM!"}},{"$f":"OFFSET($JD$2,SMALL(IF($JD$2:$JD$72<>\"\",ROW($JD$2:$JD$72),\"\"),ROW(JD47))-2,0)","v":{"$error":"#NUM!"}},{"$f":"OFFSET($JE$2,SMALL(IF($JE$2:$JE$72<>\"\",ROW($JE$2:$JE$72),\"\"),ROW(JE47))-2,0)","v":{"$error":"#NUM!"}}]
["","","","","","","",null,"","","",{"$f":"IF(ISERROR(自动生成的开课信息!HB49),\"\",自动生成的开课信息!HB49)","v":""},{"$f":"IF(ISERROR(自动生成的开课信息!HC49),\"\",自动生成的开课信息!HC49)","v":""},{"$f":"IF(ISERROR(自动生成的开课信息!HD49),\"\",自动生成的开课信息!HD49)","v":""},{"$f":"IF(ISERROR(自动生成的开课信息!HE49),\"\",自动生成的开课信息!HE49)","v":""},null,"","","","","","","",null,"","","","","","","",null,"","","","","","","",null,"","","","","","","",null,null,null,null,null,null,null,null,null,null,null,null,null,null,null,null,null,null,null,null,null,null,null,null,null,null,null,null,null,null,null,null,null,null,null,null,null,null,null,null,null,null,null,null,null,null,null,null,null,null,null,null,null,null,null,null,null,null,null,null,null,null,null,null,null,null,null,null,null,null,null,null,null,null,null,null,null,null,null,null,null,null,null,null,null,null,null,null,null,null,null,null,null,null,null,null,null,null,null,null,null,null,null,null,null,null,null,null,null,null,null,null,null,null,null,null,null,null,null,null,null,null,null,null,null,null,null,null,null,null,null,null,null,null,null,null,null,null,{"$f":"IF(AND(教学计划表!N65<>\"\",教学计划表!AS65<>\"\"),教学计划表!I65,\"\")","v":""},{"$f":"IF(教学计划表!AS65<>\"\",教学计划表!N65,\"\")","v":""},{"$f":"IF(GE49<>\"\",IF(SEARCH(\"1\",教学计划表!AB65&\"1\",1)<=LEN(教学计划表!AB65),\"考试\",\"考查\"),\"\")","v":""},{"$f":"IF(教学计划表!DG65<>0,教学计划表!DG65,\"\")","v":""},{"$f":"IF(教学计划表!DG65<>0,教学计划表!DL65,\"\")","v":""},{"$f":"IF(教学计划表!DG65<>0,教学计划表!DM65,\"\")","v":""},{"$f":"IF(教学计划表!DG65<>0,教学计划表!OH65,\"\")","v":""},{"$f":"OFFSET($GD$2,SMALL(IF($GD$2:$GD$72<>\"\",ROW($2:$72),\"\"),ROW(GD48))-2,0)","v":{"$error":"#NUM!"}},{"$f":"OFFSET($GE$2,SMALL(IF($GE$2:$GE$72<>\"\",ROW($2:$72),\"\"),ROW(GE48))-2,0)","v":{"$error":"#NUM!"}},{"$f":"OFFSET($GF$2,SMALL(IF($GF$2:$GF$72<>\"\",ROW($2:$72),\"\"),ROW(GF48))-2,0)","v":{"$error":"#NUM!"}},{"$f":"OFFSET($GG$2,SMALL(IF($GG$2:$GG$72<>\"\",ROW($2:$72),\"\"),ROW(GG48))-2,0)","v":{"$error":"#NUM!"}},{"$f":"OFFSET($GH$2,SMALL(IF($GH$2:$GH$72<>\"\",ROW($2:$72),\"\"),ROW(GH48))-2,0)","v":{"$error":"#NUM!"}},{"$error":"#NUM!"},{"$f":"OFFSET($GJ$2,SMALL(IF($GJ$2:$GJ$72<>\"\",ROW($2:$72),\"\"),ROW(GJ48))-2,0)","v":{"$error":"#NUM!"}},{"$f":"IF(AND(教学计划表!N65<>\"\",教学计划表!AV65<>\"\"),教学计划表!I65,\"\")","v":""},{"$f":"IF(教学计划表!AV65<>\"\",教学计划表!N65,\"\")","v":""},{"$f":"IF(GS49<>\"\",IF(SEARCH(\"2\",教学计划表!AB65&\"2\",1)<=LEN(教学计划表!AB65),\"考试\",\"考查\"),\"\")","v":""},{"$f":"IF(教学计划表!EA65<>0,教学计划表!EA65,\"\")","v":""},{"$f":"IF(教学计划表!EA65<>0,教学计划表!EF65,\"\")","v":""},{"$f":"IF(教学计划表!EA65<>0,教学计划表!EG65,\"\")","v":""},{"$f":"IF(教学计划表!EA65<>0,教学计划表!OT65,\"\")","v":""},{"$f":"OFFSET($GR$2,SMALL(IF($GR$2:$GR$72<>\"\",ROW($I$2:$K$72),\"\"),ROW(GR48))-2,0)","v":{"$error":"#NUM!"}},{"$f":"OFFSET($GS$2,SMALL(IF($GS$2:$GS$72<>\"\",ROW($I$2:$K$72),\"\"),ROW(GS48))-2,0)","v":{"$error":"#NUM!"}},{"$f":"OFFSET($GT$2,SMALL(IF($GT$2:$GT$72<>\"\",ROW($I$2:$K$72),\"\"),ROW(GT48))-2,0)","v":{"$error":"#NUM!"}},{"$f":"OFFSET($GU$2,SMALL(IF($GU$2:$GU$72<>\"\",ROW($I$2:$K$72),\"\"),ROW(GU48))-2,0)","v":{"$error":"#NUM!"}},{"$f":"OFFSET($GV$2,SMALL(IF($GV$2:$GV$72<>\"\",ROW($GV$2:$GV$72),\"\"),ROW(GV48))-2,0)","v":{"$error":"#NUM!"}},{"$f":"OFFSET($GW$2,SMALL(IF($GW$2:$GW$72<>\"\",ROW($GW$2:$GW$72),\"\"),ROW(GW48))-2,0)","v":{"$error":"#NUM!"}},{"$f":"OFFSET($GX$2,SMALL(IF($GX$2:$GX$72<>\"\",ROW($GX$2:$GX$72),\"\"),ROW(GX48))-2,0)","v":{"$error":"#NUM!"}},{"$f":"IF(AND(教学计划表!N65<>\"\",教学计划表!AY65<>\"\"),教学计划表!I65,\"\")","v":""},{"$f":"IF(教学计划表!AY65<>\"\",教学计划表!N65,\"\")","v":""},{"$f":"IF(HG49<>\"\",IF(SEARCH(\"3\",教学计划表!AB65&\"3\",1)<=LEN(教学计划表!AB65),\"考试\",\"考查\"),\"\")","v":""},{"$f":"IF(教学计划表!EV65<>0,教学计划表!EV65,\"\")","v":""},{"$f":"IF(教学计划表!EV65<>0,教学计划表!FA65,\"\")","v":""},{"$f":"IF(教学计划表!EV65<>0,教学计划表!FB65,\"\")","v":""},{"$f":"IF(教学计划表!EV65<>0,教学计划表!PF65,\"\")","v":""},{"$f":"OFFSET($HF$2,SMALL(IF($HF$2:$HF$72<>\"\",ROW($HF$2:$HF$72),\"\"),ROW(HF48))-2,0)","v":{"$error":"#NUM!"}},{"$f":"OFFSET($HG$2,SMALL(IF($HG$2:$HG$72<>\"\",ROW($HG$2:$HG$72),\"\"),ROW(HG48))-2,0)","v":{"$error":"#NUM!"}},{"$f":"OFFSET($HH$2,SMALL(IF($HH$2:$HH$72<>\"\",ROW($HH$2:$HH$72),\"\"),ROW(HH48))-2,0)","v":{"$error":"#NUM!"}},{"$f":"OFFSET($HI$2,SMALL(IF($HI$2:$HI$72<>\"\",ROW($HI$2:$HI$72),\"\"),ROW(HI48))-2,0)","v":{"$error":"#NUM!"}},{"$f":"OFFSET($HJ$2,SMALL(IF($HJ$2:$HJ$72<>\"\",ROW($HJ$2:$HJ$72),\"\"),ROW(HJ48))-2,0)","v":{"$error":"#NUM!"}},{"$f":"OFFSET($HK$2,SMALL(IF($HK$2:$HK$72<>\"\",ROW($HK$2:$HK$72),\"\"),ROW(HK48))-2,0)","v":{"$error":"#NUM!"}},{"$f":"OFFSET($HL$2,SMALL(IF($HL$2:$HL$72<>\"\",ROW($HL$2:$HL$72),\"\"),ROW(HL48))-2,0)","v":{"$error":"#NUM!"}},{"$f":"IF(AND(教学计划表!N65<>\"\",教学计划表!BB65<>\"\"),教学计划表!I65,\"\")","v":""},{"$f":"IF(教学计划表!BB65<>\"\",教学计划表!N65,\"\")","v":""},{"$f":"IF(HU49<>\"\",IF(SEARCH(\"4\",教学计划表!AB65&\"4\",1)<=LEN(教学计划表!AB65),\"考试\",\"考查\"),\"\")","v":""},{"$f":"IF(教学计划表!FQ65<>0,教学计划表!FQ65,\"\")","v":""},{"$f":"IF(教学计划表!FQ65<>0,教学计划表!FV65,\"\")","v":""},{"$f":"IF(教学计划表!FQ65<>0,教学计划表!FW65,\"\")","v":""},{"$f":"IF(教学计划表!FQ65<>0,教学计划表!PR65,\"\")","v":""},{"$f":"OFFSET($HT$2,SMALL(IF($HT$2:$HT$72<>\"\",ROW($HT$2:$HT$72),\"\"),ROW(HT48))-2,0)","v":{"$error":"#NUM!"}},{"$f":"OFFSET($HU$2,SMALL(IF($HU$2:$HU$72<>\"\",ROW($HU$2:$HU$72),\"\"),ROW(HU48))-2,0)","v":{"$error":"#NUM!"}},{"$f":"OFFSET($HV$2,SMALL(IF($HV$2:$HV$72<>\"\",ROW($HV$2:$HV$72),\"\"),ROW(HV48))-2,0)","v":{"$error":"#NUM!"}},{"$f":"OFFSET($HW$2,SMALL(IF($HW$2:$HW$72<>\"\",ROW($HW$2:$HW$72),\"\"),ROW(HW48))-2,0)","v":{"$error":"#NUM!"}},{"$f":"OFFSET($HX$2,SMALL(IF($HX$2:$HX$72<>\"\",ROW($HX$2:$HX$72),\"\"),ROW(HX48))-2,0)","v":{"$error":"#NUM!"}},{"$f":"OFFSET($HY$2,SMALL(IF($HY$2:$HY$72<>\"\",ROW($HY$2:$HY$72),\"\"),ROW(HY48))-2,0)","v":{"$error":"#NUM!"}},{"$f":"OFFSET($HZ$2,SMALL(IF($HZ$2:$HZ$72<>\"\",ROW($HZ$2:$HZ$72),\"\"),ROW(HZ48))-2,0)","v":{"$error":"#NUM!"}},null,null,{"$f":"IF(AND(教学计划表!N65<>\"\",教学计划表!BE65<>\"\"),教学计划表!I65,\"\")","v":""},{"$f":"IF(教学计划表!BE65<>\"\",教学计划表!N65,\"\")","v":""},{"$f":"IF(IK49<>\"\",IF(SEARCH(\"5\",教学计划表!AB65&\"5\",1)<=LEN(教学计划表!AB65),\"考试\",\"考查\"),\"\")","v":""},{"$f":"IF(教学计划表!GL65<>0,教学计划表!GL65,\"\")","v":""},{"$f":"IF(教学计划表!GL65<>0,教学计划表!GQ65,\"\")","v":""},{"$f":"IF(教学计划表!GL65<>0,教学计划表!GR65,\"\")","v":""},{"$f":"IF(教学计划表!GL65<>0,教学计划表!QC65,\"\")","v":""},{"$f":"OFFSET($IJ$2,SMALL(IF($IJ$2:$IJ$72<>\"\",ROW($IJ$2:$IJ$72),\"\"),ROW(IJ48))-2,0)","v":{"$error":"#NUM!"}},{"$f":"OFFSET($IK$2,SMALL(IF($IK$2:$IK$72<>\"\",ROW($IK$2:$IK$72),\"\"),ROW(IK48))-2,0)","v":{"$error":"#NUM!"}},{"$f":"OFFSET($IL$2,SMALL(IF($IL$2:$IL$72<>\"\",ROW($IL$2:$IL$72),\"\"),ROW(IL48))-2,0)","v":{"$error":"#NUM!"}},{"$f":"OFFSET($IM$2,SMALL(IF($IM$2:$IM$72<>\"\",ROW($IM$2:$IM$72),\"\"),ROW(IM48))-2,0)","v":{"$error":"#NUM!"}},{"$f":"OFFSET($IN$2,SMALL(IF($IN$2:$IN$72<>\"\",ROW($IN$2:$IN$72),\"\"),ROW(IN48))-2,0)","v":{"$error":"#NUM!"}},{"$f":"OFFSET($IO$2,SMALL(IF($IO$2:$IO$72<>\"\",ROW($IO$2:$IO$72),\"\"),ROW(IO48))-2,0)","v":{"$error":"#NUM!"}},{"$f":"OFFSET($IP$2,SMALL(IF($IP$2:$IP$72<>\"\",ROW($IP$2:$IP$72),\"\"),ROW(IP48))-2,0)","v":{"$error":"#NUM!"}},null,{"$f":"IF(AND(教学计划表!N65<>\"\",教学计划表!BH65<>\"\"),教学计划表!I65,\"\")","v":""},{"$f":"IF(教学计划表!BH65<>\"\",教学计划表!N65,\"\")","v":""},{"$f":"IF(教学计划表!BH65<>\"\",IF(SEARCH(\"6\",教学计划表!AB65&\"6\",1)<=LEN(教学计划表!AB65),\"考试\",\"考查\"),\"\")","v":""},{"$f":"IF(教学计划表!BH65<>0,教学计划表!HG65,\"\")","v":""},{"$f":"IF(教学计划表!BH65<>0,教学计划表!HL65,\"\")","v":""},{"$f":"IF(教学计划表!BH65<>0,教学计划表!HM65,\"\")","v":""},{"$f":"IF(教学计划表!BH65<>0,教学计划表!QO65,\"\")","v":""},{"$f":"OFFSET($IY$2,SMALL(IF($IY$2:$IY$72<>\"\",ROW($IY$2:$IY$72),\"\"),ROW(IY48))-2,0)","v":{"$error":"#NUM!"}},{"$f":"OFFSET($IZ$2,SMALL(IF($IZ$2:$IZ$72<>\"\",ROW($IZ$2:$IZ$72),\"\"),ROW(IZ48))-2,0)","v":{"$error":"#NUM!"}},{"$f":"OFFSET($JA$2,SMALL(IF($JA$2:$JA$72<>\"\",ROW($JA$2:$JA$72),\"\"),ROW(JA48))-2,0)","v":{"$error":"#NUM!"}},{"$f":"OFFSET($JB$2,SMALL(IF($JB$2:$JB$72<>\"\",ROW($JB$2:$JB$72),\"\"),ROW(JB48))-2,0)","v":{"$error":"#NUM!"}},{"$f":"OFFSET($JC$2,SMALL(IF($JC$2:$JC$72<>\"\",ROW($JC$2:$JC$72),\"\"),ROW(JC48))-2,0)","v":{"$error":"#NUM!"}},{"$f":"OFFSET($JD$2,SMALL(IF($JD$2:$JD$72<>\"\",ROW($JD$2:$JD$72),\"\"),ROW(JD48))-2,0)","v":{"$error":"#NUM!"}},{"$f":"OFFSET($JE$2,SMALL(IF($JE$2:$JE$72<>\"\",ROW($JE$2:$JE$72),\"\"),ROW(JE48))-2,0)","v":{"$error":"#NUM!"}}]
["","","","","","","",null,"","","",{"$f":"IF(ISERROR(自动生成的开课信息!HB50),\"\",自动生成的开课信息!HB50)","v":""},{"$f":"IF(ISERROR(自动生成的开课信息!HC50),\"\",自动生成的开课信息!HC50)","v":""},{"$f":"IF(ISERROR(自动生成的开课信息!HD50),\"\",自动生成的开课信息!HD50)","v":""},{"$f":"IF(ISERROR(自动生成的开课信息!HE50),\"\",自动生成的开课信息!HE50)","v":""},null,"","","","","","","",null,"","","","","","","",null,"","","","","","","",null,"","","","","","","",null,null,null,null,null,null,null,null,null,null,null,null,null,null,null,null,null,null,null,null,null,null,null,null,null,null,null,null,null,null,null,null,null,null,null,null,null,null,null,null,null,null,null,null,null,null,null,null,null,null,null,null,null,null,null,null,null,null,null,null,null,null,null,null,null,null,null,null,null,null,null,null,null,null,null,null,null,null,null,null,null,null,null,null,null,null,null,null,null,null,null,null,null,null,null,null,null,null,null,null,null,null,null,null,null,null,null,null,null,null,null,null,null,null,null,null,null,null,null,null,null,null,null,null,null,null,null,null,null,null,null,null,null,null,null,null,null,null,{"$f":"IF(AND(教学计划表!N66<>\"\",教学计划表!AS66<>\"\"),教学计划表!I66,\"\")","v":""},{"$f":"IF(教学计划表!AS66<>\"\",教学计划表!N66,\"\")","v":""},{"$f":"IF(GE50<>\"\",IF(SEARCH(\"1\",教学计划表!AB66&\"1\",1)<=LEN(教学计划表!AB66),\"考试\",\"考查\"),\"\")","v":""},{"$f":"IF(教学计划表!DG66<>0,教学计划表!DG66,\"\")","v":""},{"$f":"IF(教学计划表!DG66<>0,教学计划表!DL66,\"\")","v":""},{"$f":"IF(教学计划表!DG66<>0,教学计划表!DM66,\"\")","v":""},{"$f":"IF(教学计划表!DG66<>0,教学计划表!OH66,\"\")","v":""},{"$f":"OFFSET($GD$2,SMALL(IF($GD$2:$GD$72<>\"\",ROW($2:$72),\"\"),ROW(GD49))-2,0)","v":{"$error":"#NUM!"}},{"$f":"OFFSET($GE$2,SMALL(IF($GE$2:$GE$72<>\"\",ROW($2:$72),\"\"),ROW(GE49))-2,0)","v":{"$error":"#NUM!"}},{"$f":"OFFSET($GF$2,SMALL(IF($GF$2:$GF$72<>\"\",ROW($2:$72),\"\"),ROW(GF49))-2,0)","v":{"$error":"#NUM!"}},{"$f":"OFFSET($GG$2,SMALL(IF($GG$2:$GG$72<>\"\",ROW($2:$72),\"\"),ROW(GG49))-2,0)","v":{"$error":"#NUM!"}},{"$f":"OFFSET($GH$2,SMALL(IF($GH$2:$GH$72<>\"\",ROW($2:$72),\"\"),ROW(GH49))-2,0)","v":{"$error":"#NUM!"}},{"$error":"#NUM!"},{"$f":"OFFSET($GJ$2,SMALL(IF($GJ$2:$GJ$72<>\"\",ROW($2:$72),\"\"),ROW(GJ49))-2,0)","v":{"$error":"#NUM!"}},{"$f":"IF(AND(教学计划表!N66<>\"\",教学计划表!AV66<>\"\"),教学计划表!I66,\"\")","v":""},{"$f":"IF(教学计划表!AV66<>\"\",教学计划表!N66,\"\")","v":""},{"$f":"IF(GS50<>\"\",IF(SEARCH(\"2\",教学计划表!AB66&\"2\",1)<=LEN(教学计划表!AB66),\"考试\",\"考查\"),\"\")","v":""},{"$f":"IF(教学计划表!EA66<>0,教学计划表!EA66,\"\")","v":""},{"$f":"IF(教学计划表!EA66<>0,教学计划表!EF66,\"\")","v":""},{"$f":"IF(教学计划表!EA66<>0,教学计划表!EG66,\"\")","v":""},{"$f":"IF(教学计划表!EA66<>0,教学计划表!OT66,\"\")","v":""},{"$f":"OFFSET($GR$2,SMALL(IF($GR$2:$GR$72<>\"\",ROW($I$2:$K$72),\"\"),ROW(GR49))-2,0)","v":{"$error":"#NUM!"}},{"$f":"OFFSET($GS$2,SMALL(IF($GS$2:$GS$72<>\"\",ROW($I$2:$K$72),\"\"),ROW(GS49))-2,0)","v":{"$error":"#NUM!"}},{"$f":"OFFSET($GT$2,SMALL(IF($GT$2:$GT$72<>\"\",ROW($I$2:$K$72),\"\"),ROW(GT49))-2,0)","v":{"$error":"#NUM!"}},{"$f":"OFFSET($GU$2,SMALL(IF($GU$2:$GU$72<>\"\",ROW($I$2:$K$72),\"\"),ROW(GU49))-2,0)","v":{"$error":"#NUM!"}},{"$f":"OFFSET($GV$2,SMALL(IF($GV$2:$GV$72<>\"\",ROW($GV$2:$GV$72),\"\"),ROW(GV49))-2,0)","v":{"$error":"#NUM!"}},{"$f":"OFFSET($GW$2,SMALL(IF($GW$2:$GW$72<>\"\",ROW($GW$2:$GW$72),\"\"),ROW(GW49))-2,0)","v":{"$error":"#NUM!"}},{"$f":"OFFSET($GX$2,SMALL(IF($GX$2:$GX$72<>\"\",ROW($GX$2:$GX$72),\"\"),ROW(GX49))-2,0)","v":{"$error":"#NUM!"}},{"$f":"IF(AND(教学计划表!N66<>\"\",教学计划表!AY66<>\"\"),教学计划表!I66,\"\")","v":""},{"$f":"IF(教学计划表!AY66<>\"\",教学计划表!N66,\"\")","v":""},{"$f":"IF(HG50<>\"\",IF(SEARCH(\"3\",教学计划表!AB66&\"3\",1)<=LEN(教学计划表!AB66),\"考试\",\"考查\"),\"\")","v":""},{"$f":"IF(教学计划表!EV66<>0,教学计划表!EV66,\"\")","v":""},{"$f":"IF(教学计划表!EV66<>0,教学计划表!FA66,\"\")","v":""},{"$f":"IF(教学计划表!EV66<>0,教学计划表!FB66,\"\")","v":""},{"$f":"IF(教学计划表!EV66<>0,教学计划表!PF66,\"\")","v":""},{"$f":"OFFSET($HF$2,SMALL(IF($HF$2:$HF$72<>\"\",ROW($HF$2:$HF$72),\"\"),ROW(HF49))-2,0)","v":{"$error":"#NUM!"}},{"$f":"OFFSET($HG$2,SMALL(IF($HG$2:$HG$72<>\"\",ROW($HG$2:$HG$72),\"\"),ROW(HG49))-2,0)","v":{"$error":"#NUM!"}},{"$f":"OFFSET($HH$2,SMALL(IF($HH$2:$HH$72<>\"\",ROW($HH$2:$HH$72),\"\"),ROW(HH49))-2,0)","v":{"$error":"#NUM!"}},{"$f":"OFFSET($HI$2,SMALL(IF($HI$2:$HI$72<>\"\",ROW($HI$2:$HI$72),\"\"),ROW(HI49))-2,0)","v":{"$error":"#NUM!"}},{"$f":"OFFSET($HJ$2,SMALL(IF($HJ$2:$HJ$72<>\"\",ROW($HJ$2:$HJ$72),\"\"),ROW(HJ49))-2,0)","v":{"$error":"#NUM!"}},{"$f":"OFFSET($HK$2,SMALL(IF($HK$2:$HK$72<>\"\",ROW($HK$2:$HK$72),\"\"),ROW(HK49))-2,0)","v":{"$error":"#NUM!"}},{"$f":"OFFSET($HL$2,SMALL(IF($HL$2:$HL$72<>\"\",ROW($HL$2:$HL$72),\"\"),ROW(HL49))-2,0)","v":{"$error":"#NUM!"}},{"$f":"IF(AND(教学计划表!N66<>\"\",教学计划表!BB66<>\"\"),教学计划表!I66,\"\")","v":""},{"$f":"IF(教学计划表!BB66<>\"\",教学计划表!N66,\"\")","v":""},{"$f":"IF(HU50<>\"\",IF(SEARCH(\"4\",教学计划表!AB66&\"4\",1)<=LEN(教学计划表!AB66),\"考试\",\"考查\"),\"\")","v":""},{"$f":"IF(教学计划表!FQ66<>0,教学计划表!FQ66,\"\")","v":""},{"$f":"IF(教学计划表!FQ66<>0,教学计划表!FV66,\"\")","v":""},{"$f":"IF(教学计划表!FQ66<>0,教学计划表!FW66,\"\")","v":""},{"$f":"IF(教学计划表!FQ66<>0,教学计划表!PR66,\"\")","v":""},{"$f":"OFFSET($HT$2,SMALL(IF($HT$2:$HT$72<>\"\",ROW($HT$2:$HT$72),\"\"),ROW(HT49))-2,0)","v":{"$error":"#NUM!"}},{"$f":"OFFSET($HU$2,SMALL(IF($HU$2:$HU$72<>\"\",ROW($HU$2:$HU$72),\"\"),ROW(HU49))-2,0)","v":{"$error":"#NUM!"}},{"$f":"OFFSET($HV$2,SMALL(IF($HV$2:$HV$72<>\"\",ROW($HV$2:$HV$72),\"\"),ROW(HV49))-2,0)","v":{"$error":"#NUM!"}},{"$f":"OFFSET($HW$2,SMALL(IF($HW$2:$HW$72<>\"\",ROW($HW$2:$HW$72),\"\"),ROW(HW49))-2,0)","v":{"$error":"#NUM!"}},{"$f":"OFFSET($HX$2,SMALL(IF($HX$2:$HX$72<>\"\",ROW($HX$2:$HX$72),\"\"),ROW(HX49))-2,0)","v":{"$error":"#NUM!"}},{"$f":"OFFSET($HY$2,SMALL(IF($HY$2:$HY$72<>\"\",ROW($HY$2:$HY$72),\"\"),ROW(HY49))-2,0)","v":{"$error":"#NUM!"}},{"$f":"OFFSET($HZ$2,SMALL(IF($HZ$2:$HZ$72<>\"\",ROW($HZ$2:$HZ$72),\"\"),ROW(HZ49))-2,0)","v":{"$error":"#NUM!"}},null,null,{"$f":"IF(AND(教学计划表!N66<>\"\",教学计划表!BE66<>\"\"),教学计划表!I66,\"\")","v":""},{"$f":"IF(教学计划表!BE66<>\"\",教学计划表!N66,\"\")","v":""},{"$f":"IF(IK50<>\"\",IF(SEARCH(\"5\",教学计划表!AB66&\"5\",1)<=LEN(教学计划表!AB66),\"考试\",\"考查\"),\"\")","v":""},{"$f":"IF(教学计划表!GL66<>0,教学计划表!GL66,\"\")","v":""},{"$f":"IF(教学计划表!GL66<>0,教学计划表!GQ66,\"\")","v":""},{"$f":"IF(教学计划表!GL66<>0,教学计划表!GR66,\"\")","v":""},{"$f":"IF(教学计划表!GL66<>0,教学计划表!QC66,\"\")","v":""},{"$f":"OFFSET($IJ$2,SMALL(IF($IJ$2:$IJ$72<>\"\",ROW($IJ$2:$IJ$72),\"\"),ROW(IJ49))-2,0)","v":{"$error":"#NUM!"}},{"$f":"OFFSET($IK$2,SMALL(IF($IK$2:$IK$72<>\"\",ROW($IK$2:$IK$72),\"\"),ROW(IK49))-2,0)","v":{"$error":"#NUM!"}},{"$f":"OFFSET($IL$2,SMALL(IF($IL$2:$IL$72<>\"\",ROW($IL$2:$IL$72),\"\"),ROW(IL49))-2,0)","v":{"$error":"#NUM!"}},{"$f":"OFFSET($IM$2,SMALL(IF($IM$2:$IM$72<>\"\",ROW($IM$2:$IM$72),\"\"),ROW(IM49))-2,0)","v":{"$error":"#NUM!"}},{"$f":"OFFSET($IN$2,SMALL(IF($IN$2:$IN$72<>\"\",ROW($IN$2:$IN$72),\"\"),ROW(IN49))-2,0)","v":{"$error":"#NUM!"}},{"$f":"OFFSET($IO$2,SMALL(IF($IO$2:$IO$72<>\"\",ROW($IO$2:$IO$72),\"\"),ROW(IO49))-2,0)","v":{"$error":"#NUM!"}},{"$f":"OFFSET($IP$2,SMALL(IF($IP$2:$IP$72<>\"\",ROW($IP$2:$IP$72),\"\"),ROW(IP49))-2,0)","v":{"$error":"#NUM!"}},null,{"$f":"IF(AND(教学计划表!N66<>\"\",教学计划表!BH66<>\"\"),教学计划表!I66,\"\")","v":""},{"$f":"IF(教学计划表!BH66<>\"\",教学计划表!N66,\"\")","v":""},{"$f":"IF(教学计划表!BH66<>\"\",IF(SEARCH(\"6\",教学计划表!AB66&\"6\",1)<=LEN(教学计划表!AB66),\"考试\",\"考查\"),\"\")","v":""},{"$f":"IF(教学计划表!BH66<>0,教学计划表!HG66,\"\")","v":""},{"$f":"IF(教学计划表!BH66<>0,教学计划表!HL66,\"\")","v":""},{"$f":"IF(教学计划表!BH66<>0,教学计划表!HM66,\"\")","v":""},{"$f":"IF(教学计划表!BH66<>0,教学计划表!QO66,\"\")","v":""},{"$f":"OFFSET($IY$2,SMALL(IF($IY$2:$IY$72<>\"\",ROW($IY$2:$IY$72),\"\"),ROW(IY49))-2,0)","v":{"$error":"#NUM!"}},{"$f":"OFFSET($IZ$2,SMALL(IF($IZ$2:$IZ$72<>\"\",ROW($IZ$2:$IZ$72),\"\"),ROW(IZ49))-2,0)","v":{"$error":"#NUM!"}},{"$f":"OFFSET($JA$2,SMALL(IF($JA$2:$JA$72<>\"\",ROW($JA$2:$JA$72),\"\"),ROW(JA49))-2,0)","v":{"$error":"#NUM!"}},{"$f":"OFFSET($JB$2,SMALL(IF($JB$2:$JB$72<>\"\",ROW($JB$2:$JB$72),\"\"),ROW(JB49))-2,0)","v":{"$error":"#NUM!"}},{"$f":"OFFSET($JC$2,SMALL(IF($JC$2:$JC$72<>\"\",ROW($JC$2:$JC$72),\"\"),ROW(JC49))-2,0)","v":{"$error":"#NUM!"}},{"$f":"OFFSET($JD$2,SMALL(IF($JD$2:$JD$72<>\"\",ROW($JD$2:$JD$72),\"\"),ROW(JD49))-2,0)","v":{"$error":"#NUM!"}},{"$f":"OFFSET($JE$2,SMALL(IF($JE$2:$JE$72<>\"\",ROW($JE$2:$JE$72),\"\"),ROW(JE49))-2,0)","v":{"$error":"#NUM!"}}]
["","","","","","","",null,"","","",{"$f":"IF(ISERROR(自动生成的开课信息!HB51),\"\",自动生成的开课信息!HB51)","v":""},{"$f":"IF(ISERROR(自动生成的开课信息!HC51),\"\",自动生成的开课信息!HC51)","v":""},{"$f":"IF(ISERROR(自动生成的开课信息!HD51),\"\",自动生成的开课信息!HD51)","v":""},{"$f":"IF(ISERROR(自动生成的开课信息!HE51),\"\",自动生成的开课信息!HE51)","v":""},null,"","","","","","","",null,"","","","","","","",null,"","","","","","","",null,"","","","","","","",null,null,null,null,null,null,null,null,null,null,null,null,null,null,null,null,null,null,null,null,null,null,null,null,null,null,null,null,null,null,null,null,null,null,null,null,null,null,null,null,null,null,null,null,null,null,null,null,null,null,null,null,null,null,null,null,null,null,null,null,null,null,null,null,null,null,null,null,null,null,null,null,null,null,null,null,null,null,null,null,null,null,null,null,null,null,null,null,null,null,null,null,null,null,null,null,null,null,null,null,null,null,null,null,null,null,null,null,null,null,null,null,null,null,null,null,null,null,null,null,null,null,null,null,null,null,null,null,null,null,null,null,null,null,null,null,null,null,{"$f":"IF(AND(教学计划表!N67<>\"\",教学计划表!AS67<>\"\"),教学计划表!I67,\"\")","v":""},{"$f":"IF(教学计划表!AS67<>\"\",教学计划表!N67,\"\")","v":""},{"$f":"IF(GE51<>\"\",IF(SEARCH(\"1\",教学计划表!AB67&\"1\",1)<=LEN(教学计划表!AB67),\"考试\",\"考查\"),\"\")","v":""},{"$f":"IF(教学计划表!DG67<>0,教学计划表!DG67,\"\")","v":""},{"$f":"IF(教学计划表!DG67<>0,教学计划表!DL67,\"\")","v":""},{"$f":"IF(教学计划表!DG67<>0,教学计划表!DM67,\"\")","v":""},{"$f":"IF(教学计划表!DG67<>0,教学计划表!OH67,\"\")","v":""},{"$f":"OFFSET($GD$2,SMALL(IF($GD$2:$GD$72<>\"\",ROW($2:$72),\"\"),ROW(GD50))-2,0)","v":{"$error":"#NUM!"}},{"$f":"OFFSET($GE$2,SMALL(IF($GE$2:$GE$72<>\"\",ROW($2:$72),\"\"),ROW(GE50))-2,0)","v":{"$error":"#NUM!"}},{"$f":"OFFSET($GF$2,SMALL(IF($GF$2:$GF$72<>\"\",ROW($2:$72),\"\"),ROW(GF50))-2,0)","v":{"$error":"#NUM!"}},{"$f":"OFFSET($GG$2,SMALL(IF($GG$2:$GG$72<>\"\",ROW($2:$72),\"\"),ROW(GG50))-2,0)","v":{"$error":"#NUM!"}},{"$f":"OFFSET($GH$2,SMALL(IF($GH$2:$GH$72<>\"\",ROW($2:$72),\"\"),ROW(GH50))-2,0)","v":{"$error":"#NUM!"}},{"$error":"#NUM!"},{"$f":"OFFSET($GJ$2,SMALL(IF($GJ$2:$GJ$72<>\"\",ROW($2:$72),\"\"),ROW(GJ50))-2,0)","v":{"$error":"#NUM!"}},{"$f":"IF(AND(教学计划表!N67<>\"\",教学计划表!AV67<>\"\"),教学计划表!I67,\"\")","v":""},{"$f":"IF(教学计划表!AV67<>\"\",教学计划表!N67,\"\")","v":""},{"$f":"IF(GS51<>\"\",IF(SEARCH(\"2\",教学计划表!AB67&\"2\",1)<=LEN(教学计划表!AB67),\"考试\",\"考查\"),\"\")","v":""},{"$f":"IF(教学计划表!EA67<>0,教学计划表!EA67,\"\")","v":""},{"$f":"IF(教学计划表!EA67<>0,教学计划表!EF67,\"\")","v":""},{"$f":"IF(教学计划表!EA67<>0,教学计划表!EG67,\"\")","v":""},{"$f":"IF(教学计划表!EA67<>0,教学计划表!OT67,\"\")","v":""},{"$f":"OFFSET($GR$2,SMALL(IF($GR$2:$GR$72<>\"\",ROW($I$2:$K$72),\"\"),ROW(GR50))-2,0)","v":{"$error":"#NUM!"}},{"$f":"OFFSET($GS$2,SMALL(IF($GS$2:$GS$72<>\"\",ROW($I$2:$K$72),\"\"),ROW(GS50))-2,0)","v":{"$error":"#NUM!"}},{"$f":"OFFSET($GT$2,SMALL(IF($GT$2:$GT$72<>\"\",ROW($I$2:$K$72),\"\"),ROW(GT50))-2,0)","v":{"$error":"#NUM!"}},{"$f":"OFFSET($GU$2,SMALL(IF($GU$2:$GU$72<>\"\",ROW($I$2:$K$72),\"\"),ROW(GU50))-2,0)","v":{"$error":"#NUM!"}},{"$f":"OFFSET($GV$2,SMALL(IF($GV$2:$GV$72<>\"\",ROW($GV$2:$GV$72),\"\"),ROW(GV50))-2,0)","v":{"$error":"#NUM!"}},{"$f":"OFFSET($GW$2,SMALL(IF($GW$2:$GW$72<>\"\",ROW($GW$2:$GW$72),\"\"),ROW(GW50))-2,0)","v":{"$error":"#NUM!"}},{"$f":"OFFSET($GX$2,SMALL(IF($GX$2:$GX$72<>\"\",ROW($GX$2:$GX$72),\"\"),ROW(GX50))-2,0)","v":{"$error":"#NUM!"}},{"$f":"IF(AND(教学计划表!N67<>\"\",教学计划表!AY67<>\"\"),教学计划表!I67,\"\")","v":""},{"$f":"IF(教学计划表!AY67<>\"\",教学计划表!N67,\"\")","v":""},{"$f":"IF(HG51<>\"\",IF(SEARCH(\"3\",教学计划表!AB67&\"3\",1)<=LEN(教学计划表!AB67),\"考试\",\"考查\"),\"\")","v":""},{"$f":"IF(教学计划表!EV67<>0,教学计划表!EV67,\"\")","v":""},{"$f":"IF(教学计划表!EV67<>0,教学计划表!FA67,\"\")","v":""},{"$f":"IF(教学计划表!EV67<>0,教学计划表!FB67,\"\")","v":""},{"$f":"IF(教学计划表!EV67<>0,教学计划表!PF67,\"\")","v":""},{"$f":"OFFSET($HF$2,SMALL(IF($HF$2:$HF$72<>\"\",ROW($HF$2:$HF$72),\"\"),ROW(HF50))-2,0)","v":{"$error":"#NUM!"}},{"$f":"OFFSET($HG$2,SMALL(IF($HG$2:$HG$72<>\"\",ROW($HG$2:$HG$72),\"\"),ROW(HG50))-2,0)","v":{"$error":"#NUM!"}},{"$f":"OFFSET($HH$2,SMALL(IF($HH$2:$HH$72<>\"\",ROW($HH$2:$HH$72),\"\"),ROW(HH50))-2,0)","v":{"$error":"#NUM!"}},{"$f":"OFFSET($HI$2,SMALL(IF($HI$2:$HI$72<>\"\",ROW($HI$2:$HI$72),\"\"),ROW(HI50))-2,0)","v":{"$error":"#NUM!"}},{"$f":"OFFSET($HJ$2,SMALL(IF($HJ$2:$HJ$72<>\"\",ROW($HJ$2:$HJ$72),\"\"),ROW(HJ50))-2,0)","v":{"$error":"#NUM!"}},{"$f":"OFFSET($HK$2,SMALL(IF($HK$2:$HK$72<>\"\",ROW($HK$2:$HK$72),\"\"),ROW(HK50))-2,0)","v":{"$error":"#NUM!"}},{"$f":"OFFSET($HL$2,SMALL(IF($HL$2:$HL$72<>\"\",ROW($HL$2:$HL$72),\"\"),ROW(HL50))-2,0)","v":{"$error":"#NUM!"}},{"$f":"IF(AND(教学计划表!N67<>\"\",教学计划表!BB67<>\"\"),教学计划表!I67,\"\")","v":""},{"$f":"IF(教学计划表!BB67<>\"\",教学计划表!N67,\"\")","v":""},{"$f":"IF(HU51<>\"\",IF(SEARCH(\"4\",教学计划表!AB67&\"4\",1)<=LEN(教学计划表!AB67),\"考试\",\"考查\"),\"\")","v":""},{"$f":"IF(教学计划表!FQ67<>0,教学计划表!FQ67,\"\")","v":""},{"$f":"IF(教学计划表!FQ67<>0,教学计划表!FV67,\"\")","v":""},{"$f":"IF(教学计划表!FQ67<>0,教学计划表!FW67,\"\")","v":""},{"$f":"IF(教学计划表!FQ67<>0,教学计划表!PR67,\"\")","v":""},{"$f":"OFFSET($HT$2,SMALL(IF($HT$2:$HT$72<>\"\",ROW($HT$2:$HT$72),\"\"),ROW(HT50))-2,0)","v":{"$error":"#NUM!"}},{"$f":"OFFSET($HU$2,SMALL(IF($HU$2:$HU$72<>\"\",ROW($HU$2:$HU$72),\"\"),ROW(HU50))-2,0)","v":{"$error":"#NUM!"}},{"$f":"OFFSET($HV$2,SMALL(IF($HV$2:$HV$72<>\"\",ROW($HV$2:$HV$72),\"\"),ROW(HV50))-2,0)","v":{"$error":"#NUM!"}},{"$f":"OFFSET($HW$2,SMALL(IF($HW$2:$HW$72<>\"\",ROW($HW$2:$HW$72),\"\"),ROW(HW50))-2,0)","v":{"$error":"#NUM!"}},{"$f":"OFFSET($HX$2,SMALL(IF($HX$2:$HX$72<>\"\",ROW($HX$2:$HX$72),\"\"),ROW(HX50))-2,0)","v":{"$error":"#NUM!"}},{"$f":"OFFSET($HY$2,SMALL(IF($HY$2:$HY$72<>\"\",ROW($HY$2:$HY$72),\"\"),ROW(HY50))-2,0)","v":{"$error":"#NUM!"}},{"$f":"OFFSET($HZ$2,SMALL(IF($HZ$2:$HZ$72<>\"\",ROW($HZ$2:$HZ$72),\"\"),ROW(HZ50))-2,0)","v":{"$error":"#NUM!"}},null,null,{"$f":"IF(AND(教学计划表!N67<>\"\",教学计划表!BE67<>\"\"),教学计划表!I67,\"\")","v":""},{"$f":"IF(教学计划表!BE67<>\"\",教学计划表!N67,\"\")","v":""},{"$f":"IF(IK51<>\"\",IF(SEARCH(\"5\",教学计划表!AB67&\"5\",1)<=LEN(教学计划表!AB67),\"考试\",\"考查\"),\"\")","v":""},{"$f":"IF(教学计划表!GL67<>0,教学计划表!GL67,\"\")","v":""},{"$f":"IF(教学计划表!GL67<>0,教学计划表!GQ67,\"\")","v":""},{"$f":"IF(教学计划表!GL67<>0,教学计划表!GR67,\"\")","v":""},{"$f":"IF(教学计划表!GL67<>0,教学计划表!QC67,\"\")","v":""},{"$f":"OFFSET($IJ$2,SMALL(IF($IJ$2:$IJ$72<>\"\",ROW($IJ$2:$IJ$72),\"\"),ROW(IJ50))-2,0)","v":{"$error":"#NUM!"}},{"$f":"OFFSET($IK$2,SMALL(IF($IK$2:$IK$72<>\"\",ROW($IK$2:$IK$72),\"\"),ROW(IK50))-2,0)","v":{"$error":"#NUM!"}},{"$f":"OFFSET($IL$2,SMALL(IF($IL$2:$IL$72<>\"\",ROW($IL$2:$IL$72),\"\"),ROW(IL50))-2,0)","v":{"$error":"#NUM!"}},{"$f":"OFFSET($IM$2,SMALL(IF($IM$2:$IM$72<>\"\",ROW($IM$2:$IM$72),\"\"),ROW(IM50))-2,0)","v":{"$error":"#NUM!"}},{"$f":"OFFSET($IN$2,SMALL(IF($IN$2:$IN$72<>\"\",ROW($IN$2:$IN$72),\"\"),ROW(IN50))-2,0)","v":{"$error":"#NUM!"}},{"$f":"OFFSET($IO$2,SMALL(IF($IO$2:$IO$72<>\"\",ROW($IO$2:$IO$72),\"\"),ROW(IO50))-2,0)","v":{"$error":"#NUM!"}},{"$f":"OFFSET($IP$2,SMALL(IF($IP$2:$IP$72<>\"\",ROW($IP$2:$IP$72),\"\"),ROW(IP50))-2,0)","v":{"$error":"#NUM!"}},null,{"$f":"IF(AND(教学计划表!N67<>\"\",教学计划表!BH67<>\"\"),教学计划表!I67,\"\")","v":""},{"$f":"IF(教学计划表!BH67<>\"\",教学计划表!N67,\"\")","v":""},{"$f":"IF(教学计划表!BH67<>\"\",IF(SEARCH(\"6\",教学计划表!AB67&\"6\",1)<=LEN(教学计划表!AB67),\"考试\",\"考查\"),\"\")","v":""},{"$f":"IF(教学计划表!BH67<>0,教学计划表!HG67,\"\")","v":""},{"$f":"IF(教学计划表!BH67<>0,教学计划表!HL67,\"\")","v":""},{"$f":"IF(教学计划表!BH67<>0,教学计划表!HM67,\"\")","v":""},{"$f":"IF(教学计划表!BH67<>0,教学计划表!QO67,\"\")","v":""},{"$f":"OFFSET($IY$2,SMALL(IF($IY$2:$IY$72<>\"\",ROW($IY$2:$IY$72),\"\"),ROW(IY50))-2,0)","v":{"$error":"#NUM!"}},{"$f":"OFFSET($IZ$2,SMALL(IF($IZ$2:$IZ$72<>\"\",ROW($IZ$2:$IZ$72),\"\"),ROW(IZ50))-2,0)","v":{"$error":"#NUM!"}},{"$f":"OFFSET($JA$2,SMALL(IF($JA$2:$JA$72<>\"\",ROW($JA$2:$JA$72),\"\"),ROW(JA50))-2,0)","v":{"$error":"#NUM!"}},{"$f":"OFFSET($JB$2,SMALL(IF($JB$2:$JB$72<>\"\",ROW($JB$2:$JB$72),\"\"),ROW(JB50))-2,0)","v":{"$error":"#NUM!"}},{"$f":"OFFSET($JC$2,SMALL(IF($JC$2:$JC$72<>\"\",ROW($JC$2:$JC$72),\"\"),ROW(JC50))-2,0)","v":{"$error":"#NUM!"}},{"$f":"OFFSET($JD$2,SMALL(IF($JD$2:$JD$72<>\"\",ROW($JD$2:$JD$72),\"\"),ROW(JD50))-2,0)","v":{"$error":"#NUM!"}},{"$f":"OFFSET($JE$2,SMALL(IF($JE$2:$JE$72<>\"\",ROW($JE$2:$JE$72),\"\"),ROW(JE50))-2,0)","v":{"$error":"#NUM!"}}]
["","","","","","","",null,"","","",{"$f":"IF(ISERROR(自动生成的开课信息!HB52),\"\",自动生成的开课信息!HB52)","v":""},{"$f":"IF(ISERROR(自动生成的开课信息!HC52),\"\",自动生成的开课信息!HC52)","v":""},{"$f":"IF(ISERROR(自动生成的开课信息!HD52),\"\",自动生成的开课信息!HD52)","v":""},{"$f":"IF(ISERROR(自动生成的开课信息!HE52),\"\",自动生成的开课信息!HE52)","v":""},null,"","","","","","","",null,"","","","","","","",null,"","","","","","","",null,"","","","","","","",null,null,null,null,null,null,null,null,null,null,null,null,null,null,null,null,null,null,null,null,null,null,null,null,null,null,null,null,null,null,null,null,null,null,null,null,null,null,null,null,null,null,null,null,null,null,null,null,null,null,null,null,null,null,null,null,null,null,null,null,null,null,null,null,null,null,null,null,null,null,null,null,null,null,null,null,null,null,null,null,null,null,null,null,null,null,null,null,null,null,null,null,null,null,null,null,null,null,null,null,null,null,null,null,null,null,null,null,null,null,null,null,null,null,null,null,null,null,null,null,null,null,null,null,null,null,null,null,null,null,null,null,null,null,null,null,null,null,{"$f":"IF(AND(教学计划表!N68<>\"\",教学计划表!AS68<>\"\"),教学计划表!I68,\"\")","v":""},{"$f":"IF(教学计划表!AS68<>\"\",教学计划表!N68,\"\")","v":""},{"$f":"IF(GE52<>\"\",IF(SEARCH(\"1\",教学计划表!AB68&\"1\",1)<=LEN(教学计划表!AB68),\"考试\",\"考查\"),\"\")","v":""},{"$f":"IF(教学计划表!DG68<>0,教学计划表!DG68,\"\")","v":""},{"$f":"IF(教学计划表!DG68<>0,教学计划表!DL68,\"\")","v":""},{"$f":"IF(教学计划表!DG68<>0,教学计划表!DM68,\"\")","v":""},{"$f":"IF(教学计划表!DG68<>0,教学计划表!OH68,\"\")","v":""},{"$f":"OFFSET($GD$2,SMALL(IF($GD$2:$GD$72<>\"\",ROW($2:$72),\"\"),ROW(GD51))-2,0)","v":{"$error":"#NUM!"}},{"$f":"OFFSET($GE$2,SMALL(IF($GE$2:$GE$72<>\"\",ROW($2:$72),\"\"),ROW(GE51))-2,0)","v":{"$error":"#NUM!"}},{"$f":"OFFSET($GF$2,SMALL(IF($GF$2:$GF$72<>\"\",ROW($2:$72),\"\"),ROW(GF51))-2,0)","v":{"$error":"#NUM!"}},{"$f":"OFFSET($GG$2,SMALL(IF($GG$2:$GG$72<>\"\",ROW($2:$72),\"\"),ROW(GG51))-2,0)","v":{"$error":"#NUM!"}},{"$f":"OFFSET($GH$2,SMALL(IF($GH$2:$GH$72<>\"\",ROW($2:$72),\"\"),ROW(GH51))-2,0)","v":{"$error":"#NUM!"}},{"$error":"#NUM!"},{"$f":"OFFSET($GJ$2,SMALL(IF($GJ$2:$GJ$72<>\"\",ROW($2:$72),\"\"),ROW(GJ51))-2,0)","v":{"$error":"#NUM!"}},{"$f":"IF(AND(教学计划表!N68<>\"\",教学计划表!AV68<>\"\"),教学计划表!I68,\"\")","v":""},{"$f":"IF(教学计划表!AV68<>\"\",教学计划表!N68,\"\")","v":""},{"$f":"IF(GS52<>\"\",IF(SEARCH(\"2\",教学计划表!AB68&\"2\",1)<=LEN(教学计划表!AB68),\"考试\",\"考查\"),\"\")","v":""},{"$f":"IF(教学计划表!EA68<>0,教学计划表!EA68,\"\")","v":""},{"$f":"IF(教学计划表!EA68<>0,教学计划表!EF68,\"\")","v":""},{"$f":"IF(教学计划表!EA68<>0,教学计划表!EG68,\"\")","v":""},{"$f":"IF(教学计划表!EA68<>0,教学计划表!OT68,\"\")","v":""},{"$f":"OFFSET($GR$2,SMALL(IF($GR$2:$GR$72<>\"\",ROW($I$2:$K$72),\"\"),ROW(GR51))-2,0)","v":{"$error":"#NUM!"}},{"$f":"OFFSET($GS$2,SMALL(IF($GS$2:$GS$72<>\"\",ROW($I$2:$K$72),\"\"),ROW(GS51))-2,0)","v":{"$error":"#NUM!"}},{"$f":"OFFSET($GT$2,SMALL(IF($GT$2:$GT$72<>\"\",ROW($I$2:$K$72),\"\"),ROW(GT51))-2,0)","v":{"$error":"#NUM!"}},{"$f":"OFFSET($GU$2,SMALL(IF($GU$2:$GU$72<>\"\",ROW($I$2:$K$72),\"\"),ROW(GU51))-2,0)","v":{"$error":"#NUM!"}},{"$f":"OFFSET($GV$2,SMALL(IF($GV$2:$GV$72<>\"\",ROW($GV$2:$GV$72),\"\"),ROW(GV51))-2,0)","v":{"$error":"#NUM!"}},{"$f":"OFFSET($GW$2,SMALL(IF($GW$2:$GW$72<>\"\",ROW($GW$2:$GW$72),\"\"),ROW(GW51))-2,0)","v":{"$error":"#NUM!"}},{"$f":"OFFSET($GX$2,SMALL(IF($GX$2:$GX$72<>\"\",ROW($GX$2:$GX$72),\"\"),ROW(GX51))-2,0)","v":{"$error":"#NUM!"}},{"$f":"IF(AND(教学计划表!N68<>\"\",教学计划表!AY68<>\"\"),教学计划表!I68,\"\")","v":""},{"$f":"IF(教学计划表!AY68<>\"\",教学计划表!N68,\"\")","v":""},{"$f":"IF(HG52<>\"\",IF(SEARCH(\"3\",教学计划表!AB68&\"3\",1)<=LEN(教学计划表!AB68),\"考试\",\"考查\"),\"\")","v":""},{"$f":"IF(教学计划表!EV68<>0,教学计划表!EV68,\"\")","v":""},{"$f":"IF(教学计划表!EV68<>0,教学计划表!FA68,\"\")","v":""},{"$f":"IF(教学计划表!EV68<>0,教学计划表!FB68,\"\")","v":""},{"$f":"IF(教学计划表!EV68<>0,教学计划表!PF68,\"\")","v":""},{"$f":"OFFSET($HF$2,SMALL(IF($HF$2:$HF$72<>\"\",ROW($HF$2:$HF$72),\"\"),ROW(HF51))-2,0)","v":{"$error":"#NUM!"}},{"$f":"OFFSET($HG$2,SMALL(IF($HG$2:$HG$72<>\"\",ROW($HG$2:$HG$72),\"\"),ROW(HG51))-2,0)","v":{"$error":"#NUM!"}},{"$f":"OFFSET($HH$2,SMALL(IF($HH$2:$HH$72<>\"\",ROW($HH$2:$HH$72),\"\"),ROW(HH51))-2,0)","v":{"$error":"#NUM!"}},{"$f":"OFFSET($HI$2,SMALL(IF($HI$2:$HI$72<>\"\",ROW($HI$2:$HI$72),\"\"),ROW(HI51))-2,0)","v":{"$error":"#NUM!"}},{"$f":"OFFSET($HJ$2,SMALL(IF($HJ$2:$HJ$72<>\"\",ROW($HJ$2:$HJ$72),\"\"),ROW(HJ51))-2,0)","v":{"$error":"#NUM!"}},{"$f":"OFFSET($HK$2,SMALL(IF($HK$2:$HK$72<>\"\",ROW($HK$2:$HK$72),\"\"),ROW(HK51))-2,0)","v":{"$error":"#NUM!"}},{"$f":"OFFSET($HL$2,SMALL(IF($HL$2:$HL$72<>\"\",ROW($HL$2:$HL$72),\"\"),ROW(HL51))-2,0)","v":{"$error":"#NUM!"}},{"$f":"IF(AND(教学计划表!N68<>\"\",教学计划表!BB68<>\"\"),教学计划表!I68,\"\")","v":""},{"$f":"IF(教学计划表!BB68<>\"\",教学计划表!N68,\"\")","v":""},{"$f":"IF(HU52<>\"\",IF(SEARCH(\"4\",教学计划表!AB68&\"4\",1)<=LEN(教学计划表!AB68),\"考试\",\"考查\"),\"\")","v":""},{"$f":"IF(教学计划表!FQ68<>0,教学计划表!FQ68,\"\")","v":""},{"$f":"IF(教学计划表!FQ68<>0,教学计划表!FV68,\"\")","v":""},{"$f":"IF(教学计划表!FQ68<>0,教学计划表!FW68,\"\")","v":""},{"$f":"IF(教学计划表!FQ68<>0,教学计划表!PR68,\"\")","v":""},{"$f":"OFFSET($HT$2,SMALL(IF($HT$2:$HT$72<>\"\",ROW($HT$2:$HT$72),\"\"),ROW(HT51))-2,0)","v":{"$error":"#NUM!"}},{"$f":"OFFSET($HU$2,SMALL(IF($HU$2:$HU$72<>\"\",ROW($HU$2:$HU$72),\"\"),ROW(HU51))-2,0)","v":{"$error":"#NUM!"}},{"$f":"OFFSET($HV$2,SMALL(IF($HV$2:$HV$72<>\"\",ROW($HV$2:$HV$72),\"\"),ROW(HV51))-2,0)","v":{"$error":"#NUM!"}},{"$f":"OFFSET($HW$2,SMALL(IF($HW$2:$HW$72<>\"\",ROW($HW$2:$HW$72),\"\"),ROW(HW51))-2,0)","v":{"$error":"#NUM!"}},{"$f":"OFFSET($HX$2,SMALL(IF($HX$2:$HX$72<>\"\",ROW($HX$2:$HX$72),\"\"),ROW(HX51))-2,0)","v":{"$error":"#NUM!"}},{"$f":"OFFSET($HY$2,SMALL(IF($HY$2:$HY$72<>\"\",ROW($HY$2:$HY$72),\"\"),ROW(HY51))-2,0)","v":{"$error":"#NUM!"}},{"$f":"OFFSET($HZ$2,SMALL(IF($HZ$2:$HZ$72<>\"\",ROW($HZ$2:$HZ$72),\"\"),ROW(HZ51))-2,0)","v":{"$error":"#NUM!"}},null,null,{"$f":"IF(AND(教学计划表!N68<>\"\",教学计划表!BE68<>\"\"),教学计划表!I68,\"\")","v":""},{"$f":"IF(教学计划表!BE68<>\"\",教学计划表!N68,\"\")","v":""},{"$f":"IF(IK52<>\"\",IF(SEARCH(\"5\",教学计划表!AB68&\"5\",1)<=LEN(教学计划表!AB68),\"考试\",\"考查\"),\"\")","v":""},{"$f":"IF(教学计划表!GL68<>0,教学计划表!GL68,\"\")","v":""},{"$f":"IF(教学计划表!GL68<>0,教学计划表!GQ68,\"\")","v":""},{"$f":"IF(教学计划表!GL68<>0,教学计划表!GR68,\"\")","v":""},{"$f":"IF(教学计划表!GL68<>0,教学计划表!QC68,\"\")","v":""},{"$f":"OFFSET($IJ$2,SMALL(IF($IJ$2:$IJ$72<>\"\",ROW($IJ$2:$IJ$72),\"\"),ROW(IJ51))-2,0)","v":{"$error":"#NUM!"}},{"$f":"OFFSET($IK$2,SMALL(IF($IK$2:$IK$72<>\"\",ROW($IK$2:$IK$72),\"\"),ROW(IK51))-2,0)","v":{"$error":"#NUM!"}},{"$f":"OFFSET($IL$2,SMALL(IF($IL$2:$IL$72<>\"\",ROW($IL$2:$IL$72),\"\"),ROW(IL51))-2,0)","v":{"$error":"#NUM!"}},{"$f":"OFFSET($IM$2,SMALL(IF($IM$2:$IM$72<>\"\",ROW($IM$2:$IM$72),\"\"),ROW(IM51))-2,0)","v":{"$error":"#NUM!"}},{"$f":"OFFSET($IN$2,SMALL(IF($IN$2:$IN$72<>\"\",ROW($IN$2:$IN$72),\"\"),ROW(IN51))-2,0)","v":{"$error":"#NUM!"}},{"$f":"OFFSET($IO$2,SMALL(IF($IO$2:$IO$72<>\"\",ROW($IO$2:$IO$72),\"\"),ROW(IO51))-2,0)","v":{"$error":"#NUM!"}},{"$f":"OFFSET($IP$2,SMALL(IF($IP$2:$IP$72<>\"\",ROW($IP$2:$IP$72),\"\"),ROW(IP51))-2,0)","v":{"$error":"#NUM!"}},null,{"$f":"IF(AND(教学计划表!N68<>\"\",教学计划表!BH68<>\"\"),教学计划表!I68,\"\")","v":""},{"$f":"IF(教学计划表!BH68<>\"\",教学计划表!N68,\"\")","v":""},{"$f":"IF(教学计划表!BH68<>\"\",IF(SEARCH(\"6\",教学计划表!AB68&\"6\",1)<=LEN(教学计划表!AB68),\"考试\",\"考查\"),\"\")","v":""},{"$f":"IF(教学计划表!BH68<>0,教学计划表!HG68,\"\")","v":""},{"$f":"IF(教学计划表!BH68<>0,教学计划表!HL68,\"\")","v":""},{"$f":"IF(教学计划表!BH68<>0,教学计划表!HM68,\"\")","v":""},{"$f":"IF(教学计划表!BH68<>0,教学计划表!QO68,\"\")","v":""},{"$f":"OFFSET($IY$2,SMALL(IF($IY$2:$IY$72<>\"\",ROW($IY$2:$IY$72),\"\"),ROW(IY51))-2,0)","v":{"$error":"#NUM!"}},{"$f":"OFFSET($IZ$2,SMALL(IF($IZ$2:$IZ$72<>\"\",ROW($IZ$2:$IZ$72),\"\"),ROW(IZ51))-2,0)","v":{"$error":"#NUM!"}},{"$f":"OFFSET($JA$2,SMALL(IF($JA$2:$JA$72<>\"\",ROW($JA$2:$JA$72),\"\"),ROW(JA51))-2,0)","v":{"$error":"#NUM!"}},{"$f":"OFFSET($JB$2,SMALL(IF($JB$2:$JB$72<>\"\",ROW($JB$2:$JB$72),\"\"),ROW(JB51))-2,0)","v":{"$error":"#NUM!"}},{"$f":"OFFSET($JC$2,SMALL(IF($JC$2:$JC$72<>\"\",ROW($JC$2:$JC$72),\"\"),ROW(JC51))-2,0)","v":{"$error":"#NUM!"}},{"$f":"OFFSET($JD$2,SMALL(IF($JD$2:$JD$72<>\"\",ROW($JD$2:$JD$72),\"\"),ROW(JD51))-2,0)","v":{"$error":"#NUM!"}},{"$f":"OFFSET($JE$2,SMALL(IF($JE$2:$JE$72<>\"\",ROW($JE$2:$JE$72),\"\"),ROW(JE51))-2,0)","v":{"$error":"#NUM!"}}]
["","","","","","","",null,"","","",{"$f":"IF(ISERROR(自动生成的开课信息!HB53),\"\",自动生成的开课信息!HB53)","v":""},{"$f":"IF(ISERROR(自动生成的开课信息!HC53),\"\",自动生成的开课信息!HC53)","v":""},{"$f":"IF(ISERROR(自动生成的开课信息!HD53),\"\",自动生成的开课信息!HD53)","v":""},{"$f":"IF(ISERROR(自动生成的开课信息!HE53),\"\",自动生成的开课信息!HE53)","v":""},null,"","","","","","","",null,"","","","","","","",null,"","","","","","","",null,"","","","","","","",null,null,null,null,null,null,null,null,null,null,null,null,null,null,null,null,null,null,null,null,null,null,null,null,null,null,null,null,null,null,null,null,null,null,null,null,null,null,null,null,null,null,null,null,null,null,null,null,null,null,null,null,null,null,null,null,null,null,null,null,null,null,null,null,null,null,null,null,null,null,null,null,null,null,null,null,null,null,null,null,null,null,null,null,null,null,null,null,null,null,null,null,null,null,null,null,null,null,null,null,null,null,null,null,null,null,null,null,null,null,null,null,null,null,null,null,null,null,null,null,null,null,null,null,null,null,null,null,null,null,null,null,null,null,null,null,null,null,{"$f":"IF(AND(教学计划表!N69<>\"\",教学计划表!AS69<>\"\"),教学计划表!I69,\"\")","v":""},{"$f":"IF(教学计划表!AS69<>\"\",教学计划表!N69,\"\")","v":""},{"$f":"IF(GE53<>\"\",IF(SEARCH(\"1\",教学计划表!AB69&\"1\",1)<=LEN(教学计划表!AB69),\"考试\",\"考查\"),\"\")","v":""},{"$f":"IF(教学计划表!DG69<>0,教学计划表!DG69,\"\")","v":""},{"$f":"IF(教学计划表!DG69<>0,教学计划表!DL69,\"\")","v":""},{"$f":"IF(教学计划表!DG69<>0,教学计划表!DM69,\"\")","v":""},{"$f":"IF(教学计划表!DG69<>0,教学计划表!OH69,\"\")","v":""},{"$f":"OFFSET($GD$2,SMALL(IF($GD$2:$GD$72<>\"\",ROW($2:$72),\"\"),ROW(GD52))-2,0)","v":{"$error":"#NUM!"}},{"$f":"OFFSET($GE$2,SMALL(IF($GE$2:$GE$72<>\"\",ROW($2:$72),\"\"),ROW(GE52))-2,0)","v":{"$error":"#NUM!"}},{"$f":"OFFSET($GF$2,SMALL(IF($GF$2:$GF$72<>\"\",ROW($2:$72),\"\"),ROW(GF52))-2,0)","v":{"$error":"#NUM!"}},{"$f":"OFFSET($GG$2,SMALL(IF($GG$2:$GG$72<>\"\",ROW($2:$72),\"\"),ROW(GG52))-2,0)","v":{"$error":"#NUM!"}},{"$f":"OFFSET($GH$2,SMALL(IF($GH$2:$GH$72<>\"\",ROW($2:$72),\"\"),ROW(GH52))-2,0)","v":{"$error":"#NUM!"}},{"$error":"#NUM!"},{"$f":"OFFSET($GJ$2,SMALL(IF($GJ$2:$GJ$72<>\"\",ROW($2:$72),\"\"),ROW(GJ52))-2,0)","v":{"$error":"#NUM!"}},{"$f":"IF(AND(教学计划表!N69<>\"\",教学计划表!AV69<>\"\"),教学计划表!I69,\"\")","v":""},{"$f":"IF(教学计划表!AV69<>\"\",教学计划表!N69,\"\")","v":""},{"$f":"IF(GS53<>\"\",IF(SEARCH(\"2\",教学计划表!AB69&\"2\",1)<=LEN(教学计划表!AB69),\"考试\",\"考查\"),\"\")","v":""},{"$f":"IF(教学计划表!EA69<>0,教学计划表!EA69,\"\")","v":""},{"$f":"IF(教学计划表!EA69<>0,教学计划表!EF69,\"\")","v":""},{"$f":"IF(教学计划表!EA69<>0,教学计划表!EG69,\"\")","v":""},{"$f":"IF(教学计划表!EA69<>0,教学计划表!OT69,\"\")","v":""},{"$f":"OFFSET($GR$2,SMALL(IF($GR$2:$GR$72<>\"\",ROW($I$2:$K$72),\"\"),ROW(GR52))-2,0)","v":{"$error":"#NUM!"}},{"$f":"OFFSET($GS$2,SMALL(IF($GS$2:$GS$72<>\"\",ROW($I$2:$K$72),\"\"),ROW(GS52))-2,0)","v":{"$error":"#NUM!"}},{"$f":"OFFSET($GT$2,SMALL(IF($GT$2:$GT$72<>\"\",ROW($I$2:$K$72),\"\"),ROW(GT52))-2,0)","v":{"$error":"#NUM!"}},{"$f":"OFFSET($GU$2,SMALL(IF($GU$2:$GU$72<>\"\",ROW($I$2:$K$72),\"\"),ROW(GU52))-2,0)","v":{"$error":"#NUM!"}},{"$f":"OFFSET($GV$2,SMALL(IF($GV$2:$GV$72<>\"\",ROW($GV$2:$GV$72),\"\"),ROW(GV52))-2,0)","v":{"$error":"#NUM!"}},{"$f":"OFFSET($GW$2,SMALL(IF($GW$2:$GW$72<>\"\",ROW($GW$2:$GW$72),\"\"),ROW(GW52))-2,0)","v":{"$error":"#NUM!"}},{"$f":"OFFSET($GX$2,SMALL(IF($GX$2:$GX$72<>\"\",ROW($GX$2:$GX$72),\"\"),ROW(GX52))-2,0)","v":{"$error":"#NUM!"}},{"$f":"IF(AND(教学计划表!N69<>\"\",教学计划表!AY69<>\"\"),教学计划表!I69,\"\")","v":""},{"$f":"IF(教学计划表!AY69<>\"\",教学计划表!N69,\"\")","v":""},{"$f":"IF(HG53<>\"\",IF(SEARCH(\"3\",教学计划表!AB69&\"3\",1)<=LEN(教学计划表!AB69),\"考试\",\"考查\"),\"\")","v":""},{"$f":"IF(教学计划表!EV69<>0,教学计划表!EV69,\"\")","v":""},{"$f":"IF(教学计划表!EV69<>0,教学计划表!FA69,\"\")","v":""},{"$f":"IF(教学计划表!EV69<>0,教学计划表!FB69,\"\")","v":""},{"$f":"IF(教学计划表!EV69<>0,教学计划表!PF69,\"\")","v":""},{"$f":"OFFSET($HF$2,SMALL(IF($HF$2:$HF$72<>\"\",ROW($HF$2:$HF$72),\"\"),ROW(HF52))-2,0)","v":{"$error":"#NUM!"}},{"$f":"OFFSET($HG$2,SMALL(IF($HG$2:$HG$72<>\"\",ROW($HG$2:$HG$72),\"\"),ROW(HG52))-2,0)","v":{"$error":"#NUM!"}},{"$f":"OFFSET($HH$2,SMALL(IF($HH$2:$HH$72<>\"\",ROW($HH$2:$HH$72),\"\"),ROW(HH52))-2,0)","v":{"$error":"#NUM!"}},{"$f":"OFFSET($HI$2,SMALL(IF($HI$2:$HI$72<>\"\",ROW($HI$2:$HI$72),\"\"),ROW(HI52))-2,0)","v":{"$error":"#NUM!"}},{"$f":"OFFSET($HJ$2,SMALL(IF($HJ$2:$HJ$72<>\"\",ROW($HJ$2:$HJ$72),\"\"),ROW(HJ52))-2,0)","v":{"$error":"#NUM!"}},{"$f":"OFFSET($HK$2,SMALL(IF($HK$2:$HK$72<>\"\",ROW($HK$2:$HK$72),\"\"),ROW(HK52))-2,0)","v":{"$error":"#NUM!"}},{"$f":"OFFSET($HL$2,SMALL(IF($HL$2:$HL$72<>\"\",ROW($HL$2:$HL$72),\"\"),ROW(HL52))-2,0)","v":{"$error":"#NUM!"}},{"$f":"IF(AND(教学计划表!N69<>\"\",教学计划表!BB69<>\"\"),教学计划表!I69,\"\")","v":""},{"$f":"IF(教学计划表!BB69<>\"\",教学计划表!N69,\"\")","v":""},{"$f":"IF(HU53<>\"\",IF(SEARCH(\"4\",教学计划表!AB69&\"4\",1)<=LEN(教学计划表!AB69),\"考试\",\"考查\"),\"\")","v":""},{"$f":"IF(教学计划表!FQ69<>0,教学计划表!FQ69,\"\")","v":""},{"$f":"IF(教学计划表!FQ69<>0,教学计划表!FV69,\"\")","v":""},{"$f":"IF(教学计划表!FQ69<>0,教学计划表!FW69,\"\")","v":""},{"$f":"IF(教学计划表!FQ69<>0,教学计划表!PR69,\"\")","v":""},{"$f":"OFFSET($HT$2,SMALL(IF($HT$2:$HT$72<>\"\",ROW($HT$2:$HT$72),\"\"),ROW(HT52))-2,0)","v":{"$error":"#NUM!"}},{"$f":"OFFSET($HU$2,SMALL(IF($HU$2:$HU$72<>\"\",ROW($HU$2:$HU$72),\"\"),ROW(HU52))-2,0)","v":{"$error":"#NUM!"}},{"$f":"OFFSET($HV$2,SMALL(IF($HV$2:$HV$72<>\"\",ROW($HV$2:$HV$72),\"\"),ROW(HV52))-2,0)","v":{"$error":"#NUM!"}},{"$f":"OFFSET($HW$2,SMALL(IF($HW$2:$HW$72<>\"\",ROW($HW$2:$HW$72),\"\"),ROW(HW52))-2,0)","v":{"$error":"#NUM!"}},{"$f":"OFFSET($HX$2,SMALL(IF($HX$2:$HX$72<>\"\",ROW($HX$2:$HX$72),\"\"),ROW(HX52))-2,0)","v":{"$error":"#NUM!"}},{"$f":"OFFSET($HY$2,SMALL(IF($HY$2:$HY$72<>\"\",ROW($HY$2:$HY$72),\"\"),ROW(HY52))-2,0)","v":{"$error":"#NUM!"}},{"$f":"OFFSET($HZ$2,SMALL(IF($HZ$2:$HZ$72<>\"\",ROW($HZ$2:$HZ$72),\"\"),ROW(HZ52))-2,0)","v":{"$error":"#NUM!"}},null,null,{"$f":"IF(AND(教学计划表!N69<>\"\",教学计划表!BE69<>\"\"),教学计划表!I69,\"\")","v":""},{"$f":"IF(教学计划表!BE69<>\"\",教学计划表!N69,\"\")","v":""},{"$f":"IF(IK53<>\"\",IF(SEARCH(\"5\",教学计划表!AB69&\"5\",1)<=LEN(教学计划表!AB69),\"考试\",\"考查\"),\"\")","v":""},{"$f":"IF(教学计划表!GL69<>0,教学计划表!GL69,\"\")","v":""},{"$f":"IF(教学计划表!GL69<>0,教学计划表!GQ69,\"\")","v":""},{"$f":"IF(教学计划表!GL69<>0,教学计划表!GR69,\"\")","v":""},{"$f":"IF(教学计划表!GL69<>0,教学计划表!QC69,\"\")","v":""},{"$f":"OFFSET($IJ$2,SMALL(IF($IJ$2:$IJ$72<>\"\",ROW($IJ$2:$IJ$72),\"\"),ROW(IJ52))-2,0)","v":{"$error":"#NUM!"}},{"$f":"OFFSET($IK$2,SMALL(IF($IK$2:$IK$72<>\"\",ROW($IK$2:$IK$72),\"\"),ROW(IK52))-2,0)","v":{"$error":"#NUM!"}},{"$f":"OFFSET($IL$2,SMALL(IF($IL$2:$IL$72<>\"\",ROW($IL$2:$IL$72),\"\"),ROW(IL52))-2,0)","v":{"$error":"#NUM!"}},{"$f":"OFFSET($IM$2,SMALL(IF($IM$2:$IM$72<>\"\",ROW($IM$2:$IM$72),\"\"),ROW(IM52))-2,0)","v":{"$error":"#NUM!"}},{"$f":"OFFSET($IN$2,SMALL(IF($IN$2:$IN$72<>\"\",ROW($IN$2:$IN$72),\"\"),ROW(IN52))-2,0)","v":{"$error":"#NUM!"}},{"$f":"OFFSET($IO$2,SMALL(IF($IO$2:$IO$72<>\"\",ROW($IO$2:$IO$72),\"\"),ROW(IO52))-2,0)","v":{"$error":"#NUM!"}},{"$f":"OFFSET($IP$2,SMALL(IF($IP$2:$IP$72<>\"\",ROW($IP$2:$IP$72),\"\"),ROW(IP52))-2,0)","v":{"$error":"#NUM!"}},null,{"$f":"IF(AND(教学计划表!N69<>\"\",教学计划表!BH69<>\"\"),教学计划表!I69,\"\")","v":""},{"$f":"IF(教学计划表!BH69<>\"\",教学计划表!N69,\"\")","v":""},{"$f":"IF(教学计划表!BH69<>\"\",IF(SEARCH(\"6\",教学计划表!AB69&\"6\",1)<=LEN(教学计划表!AB69),\"考试\",\"考查\"),\"\")","v":""},{"$f":"IF(教学计划表!BH69<>0,教学计划表!HG69,\"\")","v":""},{"$f":"IF(教学计划表!BH69<>0,教学计划表!HL69,\"\")","v":""},{"$f":"IF(教学计划表!BH69<>0,教学计划表!HM69,\"\")","v":""},{"$f":"IF(教学计划表!BH69<>0,教学计划表!QO69,\"\")","v":""},{"$f":"OFFSET($IY$2,SMALL(IF($IY$2:$IY$72<>\"\",ROW($IY$2:$IY$72),\"\"),ROW(IY52))-2,0)","v":{"$error":"#NUM!"}},{"$f":"OFFSET($IZ$2,SMALL(IF($IZ$2:$IZ$72<>\"\",ROW($IZ$2:$IZ$72),\"\"),ROW(IZ52))-2,0)","v":{"$error":"#NUM!"}},{"$f":"OFFSET($JA$2,SMALL(IF($JA$2:$JA$72<>\"\",ROW($JA$2:$JA$72),\"\"),ROW(JA52))-2,0)","v":{"$error":"#NUM!"}},{"$f":"OFFSET($JB$2,SMALL(IF($JB$2:$JB$72<>\"\",ROW($JB$2:$JB$72),\"\"),ROW(JB52))-2,0)","v":{"$error":"#NUM!"}},{"$f":"OFFSET($JC$2,SMALL(IF($JC$2:$JC$72<>\"\",ROW($JC$2:$JC$72),\"\"),ROW(JC52))-2,0)","v":{"$error":"#NUM!"}},{"$f":"OFFSET($JD$2,SMALL(IF($JD$2:$JD$72<>\"\",ROW($JD$2:$JD$72),\"\"),ROW(JD52))-2,0)","v":{"$error":"#NUM!"}},{"$f":"OFFSET($JE$2,SMALL(IF($JE$2:$JE$72<>\"\",ROW($JE$2:$JE$72),\"\"),ROW(JE52))-2,0)","v":{"$error":"#NUM!"}}]
["","","","","","","",null,"","","",{"$f":"IF(ISERROR(自动生成的开课信息!HB54),\"\",自动生成的开课信息!HB54)","v":""},{"$f":"IF(ISERROR(自动生成的开课信息!HC54),\"\",自动生成的开课信息!HC54)","v":""},{"$f":"IF(ISERROR(自动生成的开课信息!HD54),\"\",自动生成的开课信息!HD54)","v":""},{"$f":"IF(ISERROR(自动生成的开课信息!HE54),\"\",自动生成的开课信息!HE54)","v":""},null,"","","","","","","",null,"","","","","","","",null,"","","","","","","",null,"","","","","","","",null,null,null,null,null,null,null,null,null,null,null,null,null,null,null,null,null,null,null,null,null,null,null,null,null,null,null,null,null,null,null,null,null,null,null,null,null,null,null,null,null,null,null,null,null,null,null,null,null,null,null,null,null,null,null,null,null,null,null,null,null,null,null,null,null,null,null,null,null,null,null,null,null,null,null,null,null,null,null,null,null,null,null,null,null,null,null,null,null,null,null,null,null,null,null,null,null,null,null,null,null,null,null,null,null,null,null,null,null,null,null,null,null,null,null,null,null,null,null,null,null,null,null,null,null,null,null,null,null,null,null,null,null,null,null,null,null,null,{"$f":"IF(AND(教学计划表!N70<>\"\",教学计划表!AS70<>\"\"),教学计划表!I70,\"\")","v":""},{"$f":"IF(教学计划表!AS70<>\"\",教学计划表!N70,\"\")","v":""},{"$f":"IF(GE54<>\"\",IF(SEARCH(\"1\",教学计划表!AB70&\"1\",1)<=LEN(教学计划表!AB70),\"考试\",\"考查\"),\"\")","v":""},{"$f":"IF(教学计划表!DG70<>0,教学计划表!DG70,\"\")","v":""},{"$f":"IF(教学计划表!DG70<>0,教学计划表!DL70,\"\")","v":""},{"$f":"IF(教学计划表!DG70<>0,教学计划表!DM70,\"\")","v":""},{"$f":"IF(教学计划表!DG70<>0,教学计划表!OH70,\"\")","v":""},{"$f":"OFFSET($GD$2,SMALL(IF($GD$2:$GD$72<>\"\",ROW($2:$72),\"\"),ROW(GD53))-2,0)","v":{"$error":"#NUM!"}},{"$f":"OFFSET($GE$2,SMALL(IF($GE$2:$GE$72<>\"\",ROW($2:$72),\"\"),ROW(GE53))-2,0)","v":{"$error":"#NUM!"}},{"$f":"OFFSET($GF$2,SMALL(IF($GF$2:$GF$72<>\"\",ROW($2:$72),\"\"),ROW(GF53))-2,0)","v":{"$error":"#NUM!"}},{"$f":"OFFSET($GG$2,SMALL(IF($GG$2:$GG$72<>\"\",ROW($2:$72),\"\"),ROW(GG53))-2,0)","v":{"$error":"#NUM!"}},{"$f":"OFFSET($GH$2,SMALL(IF($GH$2:$GH$72<>\"\",ROW($2:$72),\"\"),ROW(GH53))-2,0)","v":{"$error":"#NUM!"}},{"$error":"#NUM!"},{"$f":"OFFSET($GJ$2,SMALL(IF($GJ$2:$GJ$72<>\"\",ROW($2:$72),\"\"),ROW(GJ53))-2,0)","v":{"$error":"#NUM!"}},{"$f":"IF(AND(教学计划表!N70<>\"\",教学计划表!AV70<>\"\"),教学计划表!I70,\"\")","v":""},{"$f":"IF(教学计划表!AV70<>\"\",教学计划表!N70,\"\")","v":""},{"$f":"IF(GS54<>\"\",IF(SEARCH(\"2\",教学计划表!AB70&\"2\",1)<=LEN(教学计划表!AB70),\"考试\",\"考查\"),\"\")","v":""},{"$f":"IF(教学计划表!EA70<>0,教学计划表!EA70,\"\")","v":""},{"$f":"IF(教学计划表!EA70<>0,教学计划表!EF70,\"\")","v":""},{"$f":"IF(教学计划表!EA70<>0,教学计划表!EG70,\"\")","v":""},{"$f":"IF(教学计划表!EA70<>0,教学计划表!OT70,\"\")","v":""},{"$f":"OFFSET($GR$2,SMALL(IF($GR$2:$GR$72<>\"\",ROW($I$2:$K$72),\"\"),ROW(GR53))-2,0)","v":{"$error":"#NUM!"}},{"$f":"OFFSET($GS$2,SMALL(IF($GS$2:$GS$72<>\"\",ROW($I$2:$K$72),\"\"),ROW(GS53))-2,0)","v":{"$error":"#NUM!"}},{"$f":"OFFSET($GT$2,SMALL(IF($GT$2:$GT$72<>\"\",ROW($I$2:$K$72),\"\"),ROW(GT53))-2,0)","v":{"$error":"#NUM!"}},{"$f":"OFFSET($GU$2,SMALL(IF($GU$2:$GU$72<>\"\",ROW($I$2:$K$72),\"\"),ROW(GU53))-2,0)","v":{"$error":"#NUM!"}},{"$f":"OFFSET($GV$2,SMALL(IF($GV$2:$GV$72<>\"\",ROW($GV$2:$GV$72),\"\"),ROW(GV53))-2,0)","v":{"$error":"#NUM!"}},{"$f":"OFFSET($GW$2,SMALL(IF($GW$2:$GW$72<>\"\",ROW($GW$2:$GW$72),\"\"),ROW(GW53))-2,0)","v":{"$error":"#NUM!"}},{"$f":"OFFSET($GX$2,SMALL(IF($GX$2:$GX$72<>\"\",ROW($GX$2:$GX$72),\"\"),ROW(GX53))-2,0)","v":{"$error":"#NUM!"}},{"$f":"IF(AND(教学计划表!N70<>\"\",教学计划表!AY70<>\"\"),教学计划表!I70,\"\")","v":""},{"$f":"IF(教学计划表!AY70<>\"\",教学计划表!N70,\"\")","v":""},{"$f":"IF(HG54<>\"\",IF(SEARCH(\"3\",教学计划表!AB70&\"3\",1)<=LEN(教学计划表!AB70),\"考试\",\"考查\"),\"\")","v":""},{"$f":"IF(教学计划表!EV70<>0,教学计划表!EV70,\"\")","v":""},{"$f":"IF(教学计划表!EV70<>0,教学计划表!FA70,\"\")","v":""},{"$f":"IF(教学计划表!EV70<>0,教学计划表!FB70,\"\")","v":""},{"$f":"IF(教学计划表!EV70<>0,教学计划表!PF70,\"\")","v":""},{"$f":"OFFSET($HF$2,SMALL(IF($HF$2:$HF$72<>\"\",ROW($HF$2:$HF$72),\"\"),ROW(HF53))-2,0)","v":{"$error":"#NUM!"}},{"$f":"OFFSET($HG$2,SMALL(IF($HG$2:$HG$72<>\"\",ROW($HG$2:$HG$72),\"\"),ROW(HG53))-2,0)","v":{"$error":"#NUM!"}},{"$f":"OFFSET($HH$2,SMALL(IF($HH$2:$HH$72<>\"\",ROW($HH$2:$HH$72),\"\"),ROW(HH53))-2,0)","v":{"$error":"#NUM!"}},{"$f":"OFFSET($HI$2,SMALL(IF($HI$2:$HI$72<>\"\",ROW($HI$2:$HI$72),\"\"),ROW(HI53))-2,0)","v":{"$error":"#NUM!"}},{"$f":"OFFSET($HJ$2,SMALL(IF($HJ$2:$HJ$72<>\"\",ROW($HJ$2:$HJ$72),\"\"),ROW(HJ53))-2,0)","v":{"$error":"#NUM!"}},{"$f":"OFFSET($HK$2,SMALL(IF($HK$2:$HK$72<>\"\",ROW($HK$2:$HK$72),\"\"),ROW(HK53))-2,0)","v":{"$error":"#NUM!"}},{"$f":"OFFSET($HL$2,SMALL(IF($HL$2:$HL$72<>\"\",ROW($HL$2:$HL$72),\"\"),ROW(HL53))-2,0)","v":{"$error":"#NUM!"}},{"$f":"IF(AND(教学计划表!N70<>\"\",教学计划表!BB70<>\"\"),教学计划表!I70,\"\")","v":""},{"$f":"IF(教学计划表!BB70<>\"\",教学计划表!N70,\"\")","v":""},{"$f":"IF(HU54<>\"\",IF(SEARCH(\"4\",教学计划表!AB70&\"4\",1)<=LEN(教学计划表!AB70),\"考试\",\"考查\"),\"\")","v":""},{"$f":"IF(教学计划表!FQ70<>0,教学计划表!FQ70,\"\")","v":""},{"$f":"IF(教学计划表!FQ70<>0,教学计划表!FV70,\"\")","v":""},{"$f":"IF(教学计划表!FQ70<>0,教学计划表!FW70,\"\")","v":""},{"$f":"IF(教学计划表!FQ70<>0,教学计划表!PR70,\"\")","v":""},{"$f":"OFFSET($HT$2,SMALL(IF($HT$2:$HT$72<>\"\",ROW($HT$2:$HT$72),\"\"),ROW(HT53))-2,0)","v":{"$error":"#NUM!"}},{"$f":"OFFSET($HU$2,SMALL(IF($HU$2:$HU$72<>\"\",ROW($HU$2:$HU$72),\"\"),ROW(HU53))-2,0)","v":{"$error":"#NUM!"}},{"$f":"OFFSET($HV$2,SMALL(IF($HV$2:$HV$72<>\"\",ROW($HV$2:$HV$72),\"\"),ROW(HV53))-2,0)","v":{"$error":"#NUM!"}},{"$f":"OFFSET($HW$2,SMALL(IF($HW$2:$HW$72<>\"\",ROW($HW$2:$HW$72),\"\"),ROW(HW53))-2,0)","v":{"$error":"#NUM!"}},{"$f":"OFFSET($HX$2,SMALL(IF($HX$2:$HX$72<>\"\",ROW($HX$2:$HX$72),\"\"),ROW(HX53))-2,0)","v":{"$error":"#NUM!"}},{"$f":"OFFSET($HY$2,SMALL(IF($HY$2:$HY$72<>\"\",ROW($HY$2:$HY$72),\"\"),ROW(HY53))-2,0)","v":{"$error":"#NUM!"}},{"$f":"OFFSET($HZ$2,SMALL(IF($HZ$2:$HZ$72<>\"\",ROW($HZ$2:$HZ$72),\"\"),ROW(HZ53))-2,0)","v":{"$error":"#NUM!"}},null,null,{"$f":"IF(AND(教学计划表!N70<>\"\",教学计划表!BE70<>\"\"),教学计划表!I70,\"\")","v":""},{"$f":"IF(教学计划表!BE70<>\"\",教学计划表!N70,\"\")","v":""},{"$f":"IF(IK54<>\"\",IF(SEARCH(\"5\",教学计划表!AB70&\"5\",1)<=LEN(教学计划表!AB70),\"考试\",\"考查\"),\"\")","v":""},{"$f":"IF(教学计划表!GL70<>0,教学计划表!GL70,\"\")","v":""},{"$f":"IF(教学计划表!GL70<>0,教学计划表!GQ70,\"\")","v":""},{"$f":"IF(教学计划表!GL70<>0,教学计划表!GR70,\"\")","v":""},{"$f":"IF(教学计划表!GL70<>0,教学计划表!QC70,\"\")","v":""},{"$f":"OFFSET($IJ$2,SMALL(IF($IJ$2:$IJ$72<>\"\",ROW($IJ$2:$IJ$72),\"\"),ROW(IJ53))-2,0)","v":{"$error":"#NUM!"}},{"$f":"OFFSET($IK$2,SMALL(IF($IK$2:$IK$72<>\"\",ROW($IK$2:$IK$72),\"\"),ROW(IK53))-2,0)","v":{"$error":"#NUM!"}},{"$f":"OFFSET($IL$2,SMALL(IF($IL$2:$IL$72<>\"\",ROW($IL$2:$IL$72),\"\"),ROW(IL53))-2,0)","v":{"$error":"#NUM!"}},{"$f":"OFFSET($IM$2,SMALL(IF($IM$2:$IM$72<>\"\",ROW($IM$2:$IM$72),\"\"),ROW(IM53))-2,0)","v":{"$error":"#NUM!"}},{"$f":"OFFSET($IN$2,SMALL(IF($IN$2:$IN$72<>\"\",ROW($IN$2:$IN$72),\"\"),ROW(IN53))-2,0)","v":{"$error":"#NUM!"}},{"$f":"OFFSET($IO$2,SMALL(IF($IO$2:$IO$72<>\"\",ROW($IO$2:$IO$72),\"\"),ROW(IO53))-2,0)","v":{"$error":"#NUM!"}},{"$f":"OFFSET($IP$2,SMALL(IF($IP$2:$IP$72<>\"\",ROW($IP$2:$IP$72),\"\"),ROW(IP53))-2,0)","v":{"$error":"#NUM!"}},null,{"$f":"IF(AND(教学计划表!N70<>\"\",教学计划表!BH70<>\"\"),教学计划表!I70,\"\")","v":""},{"$f":"IF(教学计划表!BH70<>\"\",教学计划表!N70,\"\")","v":""},{"$f":"IF(教学计划表!BH70<>\"\",IF(SEARCH(\"6\",教学计划表!AB70&\"6\",1)<=LEN(教学计划表!AB70),\"考试\",\"考查\"),\"\")","v":""},{"$f":"IF(教学计划表!BH70<>0,教学计划表!HG70,\"\")","v":""},{"$f":"IF(教学计划表!BH70<>0,教学计划表!HL70,\"\")","v":""},{"$f":"IF(教学计划表!BH70<>0,教学计划表!HM70,\"\")","v":""},{"$f":"IF(教学计划表!BH70<>0,教学计划表!QO70,\"\")","v":""},{"$f":"OFFSET($IY$2,SMALL(IF($IY$2:$IY$72<>\"\",ROW($IY$2:$IY$72),\"\"),ROW(IY53))-2,0)","v":{"$error":"#NUM!"}},{"$f":"OFFSET($IZ$2,SMALL(IF($IZ$2:$IZ$72<>\"\",ROW($IZ$2:$IZ$72),\"\"),ROW(IZ53))-2,0)","v":{"$error":"#NUM!"}},{"$f":"OFFSET($JA$2,SMALL(IF($JA$2:$JA$72<>\"\",ROW($JA$2:$JA$72),\"\"),ROW(JA53))-2,0)","v":{"$error":"#NUM!"}},{"$f":"OFFSET($JB$2,SMALL(IF($JB$2:$JB$72<>\"\",ROW($JB$2:$JB$72),\"\"),ROW(JB53))-2,0)","v":{"$error":"#NUM!"}},{"$f":"OFFSET($JC$2,SMALL(IF($JC$2:$JC$72<>\"\",ROW($JC$2:$JC$72),\"\"),ROW(JC53))-2,0)","v":{"$error":"#NUM!"}},{"$f":"OFFSET($JD$2,SMALL(IF($JD$2:$JD$72<>\"\",ROW($JD$2:$JD$72),\"\"),ROW(JD53))-2,0)","v":{"$error":"#NUM!"}},{"$f":"OFFSET($JE$2,SMALL(IF($JE$2:$JE$72<>\"\",ROW($JE$2:$JE$72),\"\"),ROW(JE53))-2,0)","v":{"$error":"#NUM!"}}]
["","","","","","","",null,"","","",{"$f":"IF(ISERROR(自动生成的开课信息!HB55),\"\",自动生成的开课信息!HB55)","v":""},{"$f":"IF(ISERROR(自动生成的开课信息!HC55),\"\",自动生成的开课信息!HC55)","v":""},{"$f":"IF(ISERROR(自动生成的开课信息!HD55),\"\",自动生成的开课信息!HD55)","v":""},{"$f":"IF(ISERROR(自动生成的开课信息!HE55),\"\",自动生成的开课信息!HE55)","v":""},null,"","","","","","","",null,"","","","","","","",null,"","","","","","","",null,"","","","","","","",null,null,null,null,null,null,null,null,null,null,null,null,null,null,null,null,null,null,null,null,null,null,null,null,null,null,null,null,null,null,null,null,null,null,null,null,null,null,null,null,null,null,null,null,null,null,null,null,null,null,null,null,null,null,null,null,null,null,null,null,null,null,null,null,null,null,null,null,null,null,null,null,null,null,null,null,null,null,null,null,null,null,null,null,null,null,null,null,null,null,null,null,null,null,null,null,null,null,null,null,null,null,null,null,null,null,null,null,null,null,null,null,null,null,null,null,null,null,null,null,null,null,null,null,null,null,null,null,null,null,null,null,null,null,null,null,null,null,{"$f":"IF(AND(教学计划表!N71<>\"\",教学计划表!AS71<>\"\"),教学计划表!I71,\"\")","v":""},{"$f":"IF(教学计划表!AS71<>\"\",教学计划表!N71,\"\")","v":""},{"$f":"IF(GE55<>\"\",IF(SEARCH(\"1\",教学计划表!AB71&\"1\",1)<=LEN(教学计划表!AB71),\"考试\",\"考查\"),\"\")","v":""},{"$f":"IF(教学计划表!DG71<>0,教学计划表!DG71,\"\")","v":""},{"$f":"IF(教学计划表!DG71<>0,教学计划表!DL71,\"\")","v":""},{"$f":"IF(教学计划表!DG71<>0,教学计划表!DM71,\"\")","v":""},{"$f":"IF(教学计划表!DG71<>0,教学计划表!OH71,\"\")","v":""},{"$f":"OFFSET($GD$2,SMALL(IF($GD$2:$GD$72<>\"\",ROW($2:$72),\"\"),ROW(GD54))-2,0)","v":{"$error":"#NUM!"}},{"$f":"OFFSET($GE$2,SMALL(IF($GE$2:$GE$72<>\"\",ROW($2:$72),\"\"),ROW(GE54))-2,0)","v":{"$error":"#NUM!"}},{"$f":"OFFSET($GF$2,SMALL(IF($GF$2:$GF$72<>\"\",ROW($2:$72),\"\"),ROW(GF54))-2,0)","v":{"$error":"#NUM!"}},{"$f":"OFFSET($GG$2,SMALL(IF($GG$2:$GG$72<>\"\",ROW($2:$72),\"\"),ROW(GG54))-2,0)","v":{"$error":"#NUM!"}},{"$f":"OFFSET($GH$2,SMALL(IF($GH$2:$GH$72<>\"\",ROW($2:$72),\"\"),ROW(GH54))-2,0)","v":{"$error":"#NUM!"}},{"$error":"#NUM!"},{"$f":"OFFSET($GJ$2,SMALL(IF($GJ$2:$GJ$72<>\"\",ROW($2:$72),\"\"),ROW(GJ54))-2,0)","v":{"$error":"#NUM!"}},{"$f":"IF(AND(教学计划表!N71<>\"\",教学计划表!AV71<>\"\"),教学计划表!I71,\"\")","v":""},{"$f":"IF(教学计划表!AV71<>\"\",教学计划表!N71,\"\")","v":""},{"$f":"IF(GS55<>\"\",IF(SEARCH(\"2\",教学计划表!AB71&\"2\",1)<=LEN(教学计划表!AB71),\"考试\",\"考查\"),\"\")","v":""},{"$f":"IF(教学计划表!EA71<>0,教学计划表!EA71,\"\")","v":""},{"$f":"IF(教学计划表!EA71<>0,教学计划表!EF71,\"\")","v":""},{"$f":"IF(教学计划表!EA71<>0,教学计划表!EG71,\"\")","v":""},{"$f":"IF(教学计划表!EA71<>0,教学计划表!OT71,\"\")","v":""},{"$f":"OFFSET($GR$2,SMALL(IF($GR$2:$GR$72<>\"\",ROW($I$2:$K$72),\"\"),ROW(GR54))-2,0)","v":{"$error":"#NUM!"}},{"$f":"OFFSET($GS$2,SMALL(IF($GS$2:$GS$72<>\"\",ROW($I$2:$K$72),\"\"),ROW(GS54))-2,0)","v":{"$error":"#NUM!"}},{"$f":"OFFSET($GT$2,SMALL(IF($GT$2:$GT$72<>\"\",ROW($I$2:$K$72),\"\"),ROW(GT54))-2,0)","v":{"$error":"#NUM!"}},{"$f":"OFFSET($GU$2,SMALL(IF($GU$2:$GU$72<>\"\",ROW($I$2:$K$72),\"\"),ROW(GU54))-2,0)","v":{"$error":"#NUM!"}},{"$f":"OFFSET($GV$2,SMALL(IF($GV$2:$GV$72<>\"\",ROW($GV$2:$GV$72),\"\"),ROW(GV54))-2,0)","v":{"$error":"#NUM!"}},{"$f":"OFFSET($GW$2,SMALL(IF($GW$2:$GW$72<>\"\",ROW($GW$2:$GW$72),\"\"),ROW(GW54))-2,0)","v":{"$error":"#NUM!"}},{"$f":"OFFSET($GX$2,SMALL(IF($GX$2:$GX$72<>\"\",ROW($GX$2:$GX$72),\"\"),ROW(GX54))-2,0)","v":{"$error":"#NUM!"}},{"$f":"IF(AND(教学计划表!N71<>\"\",教学计划表!AY71<>\"\"),教学计划表!I71,\"\")","v":""},{"$f":"IF(教学计划表!AY71<>\"\",教学计划表!N71,\"\")","v":""},{"$f":"IF(HG55<>\"\",IF(SEARCH(\"3\",教学计划表!AB71&\"3\",1)<=LEN(教学计划表!AB71),\"考试\",\"考查\"),\"\")","v":""},{"$f":"IF(教学计划表!EV71<>0,教学计划表!EV71,\"\")","v":""},{"$f":"IF(教学计划表!EV71<>0,教学计划表!FA71,\"\")","v":""},{"$f":"IF(教学计划表!EV71<>0,教学计划表!FB71,\"\")","v":""},{"$f":"IF(教学计划表!EV71<>0,教学计划表!PF71,\"\")","v":""},{"$f":"OFFSET($HF$2,SMALL(IF($HF$2:$HF$72<>\"\",ROW($HF$2:$HF$72),\"\"),ROW(HF54))-2,0)","v":{"$error":"#NUM!"}},{"$f":"OFFSET($HG$2,SMALL(IF($HG$2:$HG$72<>\"\",ROW($HG$2:$HG$72),\"\"),ROW(HG54))-2,0)","v":{"$error":"#NUM!"}},{"$f":"OFFSET($HH$2,SMALL(IF($HH$2:$HH$72<>\"\",ROW($HH$2:$HH$72),\"\"),ROW(HH54))-2,0)","v":{"$error":"#NUM!"}},{"$f":"OFFSET($HI$2,SMALL(IF($HI$2:$HI$72<>\"\",ROW($HI$2:$HI$72),\"\"),ROW(HI54))-2,0)","v":{"$error":"#NUM!"}},{"$f":"OFFSET($HJ$2,SMALL(IF($HJ$2:$HJ$72<>\"\",ROW($HJ$2:$HJ$72),\"\"),ROW(HJ54))-2,0)","v":{"$error":"#NUM!"}},{"$f":"OFFSET($HK$2,SMALL(IF($HK$2:$HK$72<>\"\",ROW($HK$2:$HK$72),\"\"),ROW(HK54))-2,0)","v":{"$error":"#NUM!"}},{"$f":"OFFSET($HL$2,SMALL(IF($HL$2:$HL$72<>\"\",ROW($HL$2:$HL$72),\"\"),ROW(HL54))-2,0)","v":{"$error":"#NUM!"}},{"$f":"IF(AND(教学计划表!N71<>\"\",教学计划表!BB71<>\"\"),教学计划表!I71,\"\")","v":""},{"$f":"IF(教学计划表!BB71<>\"\",教学计划表!N71,\"\")","v":""},{"$f":"IF(HU55<>\"\",IF(SEARCH(\"4\",教学计划表!AB71&\"4\",1)<=LEN(教学计划表!AB71),\"考试\",\"考查\"),\"\")","v":""},{"$f":"IF(教学计划表!FQ71<>0,教学计划表!FQ71,\"\")","v":""},{"$f":"IF(教学计划表!FQ71<>0,教学计划表!FV71,\"\")","v":""},{"$f":"IF(教学计划表!FQ71<>0,教学计划表!FW71,\"\")","v":""},{"$f":"IF(教学计划表!FQ71<>0,教学计划表!PR71,\"\")","v":""},{"$f":"OFFSET($HT$2,SMALL(IF($HT$2:$HT$72<>\"\",ROW($HT$2:$HT$72),\"\"),ROW(HT54))-2,0)","v":{"$error":"#NUM!"}},{"$f":"OFFSET($HU$2,SMALL(IF($HU$2:$HU$72<>\"\",ROW($HU$2:$HU$72),\"\"),ROW(HU54))-2,0)","v":{"$error":"#NUM!"}},{"$f":"OFFSET($HV$2,SMALL(IF($HV$2:$HV$72<>\"\",ROW($HV$2:$HV$72),\"\"),ROW(HV54))-2,0)","v":{"$error":"#NUM!"}},{"$f":"OFFSET($HW$2,SMALL(IF($HW$2:$HW$72<>\"\",ROW($HW$2:$HW$72),\"\"),ROW(HW54))-2,0)","v":{"$error":"#NUM!"}},{"$f":"OFFSET($HX$2,SMALL(IF($HX$2:$HX$72<>\"\",ROW($HX$2:$HX$72),\"\"),ROW(HX54))-2,0)","v":{"$error":"#NUM!"}},{"$f":"OFFSET($HY$2,SMALL(IF($HY$2:$HY$72<>\"\",ROW($HY$2:$HY$72),\"\"),ROW(HY54))-2,0)","v":{"$error":"#NUM!"}},{"$f":"OFFSET($HZ$2,SMALL(IF($HZ$2:$HZ$72<>\"\",ROW($HZ$2:$HZ$72),\"\"),ROW(HZ54))-2,0)","v":{"$error":"#NUM!"}},null,null,{"$f":"IF(AND(教学计划表!N71<>\"\",教学计划表!BE71<>\"\"),教学计划表!I71,\"\")","v":""},{"$f":"IF(教学计划表!BE71<>\"\",教学计划表!N71,\"\")","v":""},{"$f":"IF(IK55<>\"\",IF(SEARCH(\"5\",教学计划表!AB71&\"5\",1)<=LEN(教学计划表!AB71),\"考试\",\"考查\"),\"\")","v":""},{"$f":"IF(教学计划表!GL71<>0,教学计划表!GL71,\"\")","v":""},{"$f":"IF(教学计划表!GL71<>0,教学计划表!GQ71,\"\")","v":""},{"$f":"IF(教学计划表!GL71<>0,教学计划表!GR71,\"\")","v":""},{"$f":"IF(教学计划表!GL71<>0,教学计划表!QC71,\"\")","v":""},{"$f":"OFFSET($IJ$2,SMALL(IF($IJ$2:$IJ$72<>\"\",ROW($IJ$2:$IJ$72),\"\"),ROW(IJ54))-2,0)","v":{"$error":"#NUM!"}},{"$f":"OFFSET($IK$2,SMALL(IF($IK$2:$IK$72<>\"\",ROW($IK$2:$IK$72),\"\"),ROW(IK54))-2,0)","v":{"$error":"#NUM!"}},{"$f":"OFFSET($IL$2,SMALL(IF($IL$2:$IL$72<>\"\",ROW($IL$2:$IL$72),\"\"),ROW(IL54))-2,0)","v":{"$error":"#NUM!"}},{"$f":"OFFSET($IM$2,SMALL(IF($IM$2:$IM$72<>\"\",ROW($IM$2:$IM$72),\"\"),ROW(IM54))-2,0)","v":{"$error":"#NUM!"}},{"$f":"OFFSET($IN$2,SMALL(IF($IN$2:$IN$72<>\"\",ROW($IN$2:$IN$72),\"\"),ROW(IN54))-2,0)","v":{"$error":"#NUM!"}},{"$f":"OFFSET($IO$2,SMALL(IF($IO$2:$IO$72<>\"\",ROW($IO$2:$IO$72),\"\"),ROW(IO54))-2,0)","v":{"$error":"#NUM!"}},{"$f":"OFFSET($IP$2,SMALL(IF($IP$2:$IP$72<>\"\",ROW($IP$2:$IP$72),\"\"),ROW(IP54))-2,0)","v":{"$error":"#NUM!"}},null,{"$f":"IF(AND(教学计划表!N71<>\"\",教学计划表!BH71<>\"\"),教学计划表!I71,\"\")","v":""},{"$f":"IF(教学计划表!BH71<>\"\",教学计划表!N71,\"\")","v":""},{"$f":"IF(教学计划表!BH71<>\"\",IF(SEARCH(\"6\",教学计划表!AB71&\"6\",1)<=LEN(教学计划表!AB71),\"考试\",\"考查\"),\"\")","v":""},{"$f":"IF(教学计划表!BH71<>0,教学计划表!HG71,\"\")","v":""},{"$f":"IF(教学计划表!BH71<>0,教学计划表!HL71,\"\")","v":""},{"$f":"IF(教学计划表!BH71<>0,教学计划表!HM71,\"\")","v":""},{"$f":"IF(教学计划表!BH71<>0,教学计划表!QO71,\"\")","v":""},{"$f":"OFFSET($IY$2,SMALL(IF($IY$2:$IY$72<>\"\",ROW($IY$2:$IY$72),\"\"),ROW(IY54))-2,0)","v":{"$error":"#NUM!"}},{"$f":"OFFSET($IZ$2,SMALL(IF($IZ$2:$IZ$72<>\"\",ROW($IZ$2:$IZ$72),\"\"),ROW(IZ54))-2,0)","v":{"$error":"#NUM!"}},{"$f":"OFFSET($JA$2,SMALL(IF($JA$2:$JA$72<>\"\",ROW($JA$2:$JA$72),\"\"),ROW(JA54))-2,0)","v":{"$error":"#NUM!"}},{"$f":"OFFSET($JB$2,SMALL(IF($JB$2:$JB$72<>\"\",ROW($JB$2:$JB$72),\"\"),ROW(JB54))-2,0)","v":{"$error":"#NUM!"}},{"$f":"OFFSET($JC$2,SMALL(IF($JC$2:$JC$72<>\"\",ROW($JC$2:$JC$72),\"\"),ROW(JC54))-2,0)","v":{"$error":"#NUM!"}},{"$f":"OFFSET($JD$2,SMALL(IF($JD$2:$JD$72<>\"\",ROW($JD$2:$JD$72),\"\"),ROW(JD54))-2,0)","v":{"$error":"#NUM!"}},{"$f":"OFFSET($JE$2,SMALL(IF($JE$2:$JE$72<>\"\",ROW($JE$2:$JE$72),\"\"),ROW(JE54))-2,0)","v":{"$error":"#NUM!"}}]
["","","","","","","",null,"","","",{"$f":"IF(ISERROR(自动生成的开课信息!HB56),\"\",自动生成的开课信息!HB56)","v":""},{"$f":"IF(ISERROR(自动生成的开课信息!HC56),\"\",自动生成的开课信息!HC56)","v":""},{"$f":"IF(ISERROR(自动生成的开课信息!HD56),\"\",自动生成的开课信息!HD56)","v":""},{"$f":"IF(ISERROR(自动生成的开课信息!HE56),\"\",自动生成的开课信息!HE56)","v":""},null,"","","","","","","",null,"","","","","","","",null,"","","","","","","",null,"","","","","","","",null,null,null,null,null,null,null,null,null,null,null,null,null,null,null,null,null,null,null,null,null,null,null,null,null,null,null,null,null,null,null,null,null,null,null,null,null,null,null,null,null,null,null,null,null,null,null,null,null,null,null,null,null,null,null,null,null,null,null,null,null,null,null,null,null,null,null,null,null,null,null,null,null,null,null,null,null,null,null,null,null,null,null,null,null,null,null,null,null,null,null,null,null,null,null,null,null,null,null,null,null,null,null,null,null,null,null,null,null,null,null,null,null,null,null,null,null,null,null,null,null,null,null,null,null,null,null,null,null,null,null,null,null,null,null,null,null,null,{"$f":"IF(AND(教学计划表!N72<>\"\",教学计划表!AS72<>\"\"),教学计划表!I72,\"\")","v":""},{"$f":"IF(教学计划表!AS72<>\"\",教学计划表!N72,\"\")","v":""},{"$f":"IF(GE56<>\"\",IF(SEARCH(\"1\",教学计划表!AB72&\"1\",1)<=LEN(教学计划表!AB72),\"考试\",\"考查\"),\"\")","v":""},{"$f":"IF(教学计划表!DG72<>0,教学计划表!DG72,\"\")","v":""},{"$f":"IF(教学计划表!DG72<>0,教学计划表!DL72,\"\")","v":""},{"$f":"IF(教学计划表!DG72<>0,教学计划表!DM72,\"\")","v":""},{"$f":"IF(教学计划表!DG72<>0,教学计划表!OH72,\"\")","v":""},{"$f":"OFFSET($GD$2,SMALL(IF($GD$2:$GD$72<>\"\",ROW($2:$72),\"\"),ROW(GD55))-2,0)","v":{"$error":"#NUM!"}},{"$f":"OFFSET($GE$2,SMALL(IF($GE$2:$GE$72<>\"\",ROW($2:$72),\"\"),ROW(GE55))-2,0)","v":{"$error":"#NUM!"}},{"$f":"OFFSET($GF$2,SMALL(IF($GF$2:$GF$72<>\"\",ROW($2:$72),\"\"),ROW(GF55))-2,0)","v":{"$error":"#NUM!"}},{"$f":"OFFSET($GG$2,SMALL(IF($GG$2:$GG$72<>\"\",ROW($2:$72),\"\"),ROW(GG55))-2,0)","v":{"$error":"#NUM!"}},{"$f":"OFFSET($GH$2,SMALL(IF($GH$2:$GH$72<>\"\",ROW($2:$72),\"\"),ROW(GH55))-2,0)","v":{"$error":"#NUM!"}},{"$error":"#NUM!"},{"$f":"OFFSET($GJ$2,SMALL(IF($GJ$2:$GJ$72<>\"\",ROW($2:$72),\"\"),ROW(GJ55))-2,0)","v":{"$error":"#NUM!"}},{"$f":"IF(AND(教学计划表!N72<>\"\",教学计划表!AV72<>\"\"),教学计划表!I72,\"\")","v":""},{"$f":"IF(教学计划表!AV72<>\"\",教学计划表!N72,\"\")","v":""},{"$f":"IF(GS56<>\"\",IF(SEARCH(\"2\",教学计划表!AB72&\"2\",1)<=LEN(教学计划表!AB72),\"考试\",\"考查\"),\"\")","v":""},{"$f":"IF(教学计划表!EA72<>0,教学计划表!EA72,\"\")","v":""},{"$f":"IF(教学计划表!EA72<>0,教学计划表!EF72,\"\")","v":""},{"$f":"IF(教学计划表!EA72<>0,教学计划表!EG72,\"\")","v":""},{"$f":"IF(教学计划表!EA72<>0,教学计划表!OT72,\"\")","v":""},{"$f":"OFFSET($GR$2,SMALL(IF($GR$2:$GR$72<>\"\",ROW($I$2:$K$72),\"\"),ROW(GR55))-2,0)","v":{"$error":"#NUM!"}},{"$f":"OFFSET($GS$2,SMALL(IF($GS$2:$GS$72<>\"\",ROW($I$2:$K$72),\"\"),ROW(GS55))-2,0)","v":{"$error":"#NUM!"}},{"$f":"OFFSET($GT$2,SMALL(IF($GT$2:$GT$72<>\"\",ROW($I$2:$K$72),\"\"),ROW(GT55))-2,0)","v":{"$error":"#NUM!"}},{"$f":"OFFSET($GU$2,SMALL(IF($GU$2:$GU$72<>\"\",ROW($I$2:$K$72),\"\"),ROW(GU55))-2,0)","v":{"$error":"#NUM!"}},{"$f":"OFFSET($GV$2,SMALL(IF($GV$2:$GV$72<>\"\",ROW($GV$2:$GV$72),\"\"),ROW(GV55))-2,0)","v":{"$error":"#NUM!"}},{"$f":"OFFSET($GW$2,SMALL(IF($GW$2:$GW$72<>\"\",ROW($GW$2:$GW$72),\"\"),ROW(GW55))-2,0)","v":{"$error":"#NUM!"}},{"$f":"OFFSET($GX$2,SMALL(IF($GX$2:$GX$72<>\"\",ROW($GX$2:$GX$72),\"\"),ROW(GX55))-2,0)","v":{"$error":"#NUM!"}},{"$f":"IF(AND(教学计划表!N72<>\"\",教学计划表!AY72<>\"\"),教学计划表!I72,\"\")","v":""},{"$f":"IF(教学计划表!AY72<>\"\",教学计划表!N72,\"\")","v":""},{"$f":"IF(HG56<>\"\",IF(SEARCH(\"3\",教学计划表!AB72&\"3\",1)<=LEN(教学计划表!AB72),\"考试\",\"考查\"),\"\")","v":""},{"$f":"IF(教学计划表!EV72<>0,教学计划表!EV72,\"\")","v":""},{"$f":"IF(教学计划表!EV72<>0,教学计划表!FA72,\"\")","v":""},{"$f":"IF(教学计划表!EV72<>0,教学计划表!FB72,\"\")","v":""},{"$f":"IF(教学计划表!EV72<>0,教学计划表!PF72,\"\")","v":""},{"$f":"OFFSET($HF$2,SMALL(IF($HF$2:$HF$72<>\"\",ROW($HF$2:$HF$72),\"\"),ROW(HF55))-2,0)","v":{"$error":"#NUM!"}},{"$f":"OFFSET($HG$2,SMALL(IF($HG$2:$HG$72<>\"\",ROW($HG$2:$HG$72),\"\"),ROW(HG55))-2,0)","v":{"$error":"#NUM!"}},{"$f":"OFFSET($HH$2,SMALL(IF($HH$2:$HH$72<>\"\",ROW($HH$2:$HH$72),\"\"),ROW(HH55))-2,0)","v":{"$error":"#NUM!"}},{"$f":"OFFSET($HI$2,SMALL(IF($HI$2:$HI$72<>\"\",ROW($HI$2:$HI$72),\"\"),ROW(HI55))-2,0)","v":{"$error":"#NUM!"}},{"$f":"OFFSET($HJ$2,SMALL(IF($HJ$2:$HJ$72<>\"\",ROW($HJ$2:$HJ$72),\"\"),ROW(HJ55))-2,0)","v":{"$error":"#NUM!"}},{"$f":"OFFSET($HK$2,SMALL(IF($HK$2:$HK$72<>\"\",ROW($HK$2:$HK$72),\"\"),ROW(HK55))-2,0)","v":{"$error":"#NUM!"}},{"$f":"OFFSET($HL$2,SMALL(IF($HL$2:$HL$72<>\"\",ROW($HL$2:$HL$72),\"\"),ROW(HL55))-2,0)","v":{"$error":"#NUM!"}},{"$f":"IF(AND(教学计划表!N72<>\"\",教学计划表!BB72<>\"\"),教学计划表!I72,\"\")","v":""},{"$f":"IF(教学计划表!BB72<>\"\",教学计划表!N72,\"\")","v":""},{"$f":"IF(HU56<>\"\",IF(SEARCH(\"4\",教学计划表!AB72&\"4\",1)<=LEN(教学计划表!AB72),\"考试\",\"考查\"),\"\")","v":""},{"$f":"IF(教学计划表!FQ72<>0,教学计划表!FQ72,\"\")","v":""},{"$f":"IF(教学计划表!FQ72<>0,教学计划表!FV72,\"\")","v":""},{"$f":"IF(教学计划表!FQ72<>0,教学计划表!FW72,\"\")","v":""},{"$f":"IF(教学计划表!FQ72<>0,教学计划表!PR72,\"\")","v":""},{"$f":"OFFSET($HT$2,SMALL(IF($HT$2:$HT$72<>\"\",ROW($HT$2:$HT$72),\"\"),ROW(HT55))-2,0)","v":{"$error":"#NUM!"}},{"$f":"OFFSET($HU$2,SMALL(IF($HU$2:$HU$72<>\"\",ROW($HU$2:$HU$72),\"\"),ROW(HU55))-2,0)","v":{"$error":"#NUM!"}},{"$f":"OFFSET($HV$2,SMALL(IF($HV$2:$HV$72<>\"\",ROW($HV$2:$HV$72),\"\"),ROW(HV55))-2,0)","v":{"$error":"#NUM!"}},{"$f":"OFFSET($HW$2,SMALL(IF($HW$2:$HW$72<>\"\",ROW($HW$2:$HW$72),\"\"),ROW(HW55))-2,0)","v":{"$error":"#NUM!"}},{"$f":"OFFSET($HX$2,SMALL(IF($HX$2:$HX$72<>\"\",ROW($HX$2:$HX$72),\"\"),ROW(HX55))-2,0)","v":{"$error":"#NUM!"}},{"$f":"OFFSET($HY$2,SMALL(IF($HY$2:$HY$72<>\"\",ROW($HY$2:$HY$72),\"\"),ROW(HY55))-2,0)","v":{"$error":"#NUM!"}},{"$f":"OFFSET($HZ$2,SMALL(IF($HZ$2:$HZ$72<>\"\",ROW($HZ$2:$HZ$72),\"\"),ROW(HZ55))-2,0)","v":{"$error":"#NUM!"}},null,null,{"$f":"IF(AND(教学计划表!N72<>\"\",教学计划表!BE72<>\"\"),教学计划表!I72,\"\")","v":""},{"$f":"IF(教学计划表!BE72<>\"\",教学计划表!N72,\"\")","v":""},{"$f":"IF(IK56<>\"\",IF(SEARCH(\"5\",教学计划表!AB72&\"5\",1)<=LEN(教学计划表!AB72),\"考试\",\"考查\"),\"\")","v":""},{"$f":"IF(教学计划表!GL72<>0,教学计划表!GL72,\"\")","v":""},{"$f":"IF(教学计划表!GL72<>0,教学计划表!GQ72,\"\")","v":""},{"$f":"IF(教学计划表!GL72<>0,教学计划表!GR72,\"\")","v":""},{"$f":"IF(教学计划表!GL72<>0,教学计划表!QC72,\"\")","v":""},{"$f":"OFFSET($IJ$2,SMALL(IF($IJ$2:$IJ$72<>\"\",ROW($IJ$2:$IJ$72),\"\"),ROW(IJ55))-2,0)","v":{"$error":"#NUM!"}},{"$f":"OFFSET($IK$2,SMALL(IF($IK$2:$IK$72<>\"\",ROW($IK$2:$IK$72),\"\"),ROW(IK55))-2,0)","v":{"$error":"#NUM!"}},{"$f":"OFFSET($IL$2,SMALL(IF($IL$2:$IL$72<>\"\",ROW($IL$2:$IL$72),\"\"),ROW(IL55))-2,0)","v":{"$error":"#NUM!"}},{"$f":"OFFSET($IM$2,SMALL(IF($IM$2:$IM$72<>\"\",ROW($IM$2:$IM$72),\"\"),ROW(IM55))-2,0)","v":{"$error":"#NUM!"}},{"$f":"OFFSET($IN$2,SMALL(IF($IN$2:$IN$72<>\"\",ROW($IN$2:$IN$72),\"\"),ROW(IN55))-2,0)","v":{"$error":"#NUM!"}},{"$f":"OFFSET($IO$2,SMALL(IF($IO$2:$IO$72<>\"\",ROW($IO$2:$IO$72),\"\"),ROW(IO55))-2,0)","v":{"$error":"#NUM!"}},{"$f":"OFFSET($IP$2,SMALL(IF($IP$2:$IP$72<>\"\",ROW($IP$2:$IP$72),\"\"),ROW(IP55))-2,0)","v":{"$error":"#NUM!"}},null,{"$f":"IF(AND(教学计划表!N72<>\"\",教学计划表!BH72<>\"\"),教学计划表!I72,\"\")","v":""},{"$f":"IF(教学计划表!BH72<>\"\",教学计划表!N72,\"\")","v":""},{"$f":"IF(教学计划表!BH72<>\"\",IF(SEARCH(\"6\",教学计划表!AB72&\"6\",1)<=LEN(教学计划表!AB72),\"考试\",\"考查\"),\"\")","v":""},{"$f":"IF(教学计划表!BH72<>0,教学计划表!HG72,\"\")","v":""},{"$f":"IF(教学计划表!BH72<>0,教学计划表!HL72,\"\")","v":""},{"$f":"IF(教学计划表!BH72<>0,教学计划表!HM72,\"\")","v":""},{"$f":"IF(教学计划表!BH72<>0,教学计划表!QO72,\"\")","v":""},{"$f":"OFFSET($IY$2,SMALL(IF($IY$2:$IY$72<>\"\",ROW($IY$2:$IY$72),\"\"),ROW(IY55))-2,0)","v":{"$error":"#NUM!"}},{"$f":"OFFSET($IZ$2,SMALL(IF($IZ$2:$IZ$72<>\"\",ROW($IZ$2:$IZ$72),\"\"),ROW(IZ55))-2,0)","v":{"$error":"#NUM!"}},{"$f":"OFFSET($JA$2,SMALL(IF($JA$2:$JA$72<>\"\",ROW($JA$2:$JA$72),\"\"),ROW(JA55))-2,0)","v":{"$error":"#NUM!"}},{"$f":"OFFSET($JB$2,SMALL(IF($JB$2:$JB$72<>\"\",ROW($JB$2:$JB$72),\"\"),ROW(JB55))-2,0)","v":{"$error":"#NUM!"}},{"$f":"OFFSET($JC$2,SMALL(IF($JC$2:$JC$72<>\"\",ROW($JC$2:$JC$72),\"\"),ROW(JC55))-2,0)","v":{"$error":"#NUM!"}},{"$f":"OFFSET($JD$2,SMALL(IF($JD$2:$JD$72<>\"\",ROW($JD$2:$JD$72),\"\"),ROW(JD55))-2,0)","v":{"$error":"#NUM!"}},{"$f":"OFFSET($JE$2,SMALL(IF($JE$2:$JE$72<>\"\",ROW($JE$2:$JE$72),\"\"),ROW(JE55))-2,0)","v":{"$error":"#NUM!"}}]
["","","","","","","",null,"","","",{"$f":"IF(ISERROR(自动生成的开课信息!HB57),\"\",自动生成的开课信息!HB57)","v":""},{"$f":"IF(ISERROR(自动生成的开课信息!HC57),\"\",自动生成的开课信息!HC57)","v":""},{"$f":"IF(ISERROR(自动生成的开课信息!HD57),\"\",自动生成的开课信息!HD57)","v":""},{"$f":"IF(ISERROR(自动生成的开课信息!HE57),\"\",自动生成的开课信息!HE57)","v":""},null,"","","","","","","",null,"","","","","","","",null,"","","","","","","",null,"","","","","","","",null,null,null,null,null,null,null,null,null,null,null,null,null,null,null,null,null,null,null,null,null,null,null,null,null,null,null,null,null,null,null,null,null,null,null,null,null,null,null,null,null,null,null,null,null,null,null,null,null,null,null,null,null,null,null,null,null,null,null,null,null,null,null,null,null,null,null,null,null,null,null,null,null,null,null,null,null,null,null,null,null,null,null,null,null,null,null,null,null,null,null,null,null,null,null,null,null,null,null,null,null,null,null,null,null,null,null,null,null,null,null,null,null,null,null,null,null,null,null,null,null,null,null,null,null,null,null,null,null,null,null,null,null,null,null,null,null,null,{"$f":"IF(AND(教学计划表!N73<>\"\",教学计划表!AS73<>\"\"),教学计划表!I73,\"\")","v":""},{"$f":"IF(教学计划表!AS73<>\"\",教学计划表!N73,\"\")","v":""},{"$f":"IF(GE57<>\"\",IF(SEARCH(\"1\",教学计划表!AB73&\"1\",1)<=LEN(教学计划表!AB73),\"考试\",\"考查\"),\"\")","v":""},{"$f":"IF(教学计划表!DG73<>0,教学计划表!DG73,\"\")","v":""},{"$f":"IF(教学计划表!DG73<>0,教学计划表!DL73,\"\")","v":""},{"$f":"IF(教学计划表!DG73<>0,教学计划表!DM73,\"\")","v":""},{"$f":"IF(教学计划表!DG73<>0,教学计划表!OH73,\"\")","v":""},{"$f":"OFFSET($GD$2,SMALL(IF($GD$2:$GD$72<>\"\",ROW($2:$72),\"\"),ROW(GD56))-2,0)","v":{"$error":"#NUM!"}},{"$f":"OFFSET($GE$2,SMALL(IF($GE$2:$GE$72<>\"\",ROW($2:$72),\"\"),ROW(GE56))-2,0)","v":{"$error":"#NUM!"}},{"$f":"OFFSET($GF$2,SMALL(IF($GF$2:$GF$72<>\"\",ROW($2:$72),\"\"),ROW(GF56))-2,0)","v":{"$error":"#NUM!"}},{"$f":"OFFSET($GG$2,SMALL(IF($GG$2:$GG$72<>\"\",ROW($2:$72),\"\"),ROW(GG56))-2,0)","v":{"$error":"#NUM!"}},{"$f":"OFFSET($GH$2,SMALL(IF($GH$2:$GH$72<>\"\",ROW($2:$72),\"\"),ROW(GH56))-2,0)","v":{"$error":"#NUM!"}},{"$error":"#NUM!"},{"$f":"OFFSET($GJ$2,SMALL(IF($GJ$2:$GJ$72<>\"\",ROW($2:$72),\"\"),ROW(GJ56))-2,0)","v":{"$error":"#NUM!"}},{"$f":"IF(AND(教学计划表!N73<>\"\",教学计划表!AV73<>\"\"),教学计划表!I73,\"\")","v":""},{"$f":"IF(教学计划表!AV73<>\"\",教学计划表!N73,\"\")","v":""},{"$f":"IF(GS57<>\"\",IF(SEARCH(\"2\",教学计划表!AB73&\"2\",1)<=LEN(教学计划表!AB73),\"考试\",\"考查\"),\"\")","v":""},{"$f":"IF(教学计划表!EA73<>0,教学计划表!EA73,\"\")","v":""},{"$f":"IF(教学计划表!EA73<>0,教学计划表!EF73,\"\")","v":""},{"$f":"IF(教学计划表!EA73<>0,教学计划表!EG73,\"\")","v":""},{"$f":"IF(教学计划表!EA73<>0,教学计划表!OT73,\"\")","v":""},{"$f":"OFFSET($GR$2,SMALL(IF($GR$2:$GR$72<>\"\",ROW($I$2:$K$72),\"\"),ROW(GR56))-2,0)","v":{"$error":"#NUM!"}},{"$f":"OFFSET($GS$2,SMALL(IF($GS$2:$GS$72<>\"\",ROW($I$2:$K$72),\"\"),ROW(GS56))-2,0)","v":{"$error":"#NUM!"}},{"$f":"OFFSET($GT$2,SMALL(IF($GT$2:$GT$72<>\"\",ROW($I$2:$K$72),\"\"),ROW(GT56))-2,0)","v":{"$error":"#NUM!"}},{"$f":"OFFSET($GU$2,SMALL(IF($GU$2:$GU$72<>\"\",ROW($I$2:$K$72),\"\"),ROW(GU56))-2,0)","v":{"$error":"#NUM!"}},{"$f":"OFFSET($GV$2,SMALL(IF($GV$2:$GV$72<>\"\",ROW($GV$2:$GV$72),\"\"),ROW(GV56))-2,0)","v":{"$error":"#NUM!"}},{"$f":"OFFSET($GW$2,SMALL(IF($GW$2:$GW$72<>\"\",ROW($GW$2:$GW$72),\"\"),ROW(GW56))-2,0)","v":{"$error":"#NUM!"}},{"$f":"OFFSET($GX$2,SMALL(IF($GX$2:$GX$72<>\"\",ROW($GX$2:$GX$72),\"\"),ROW(GX56))-2,0)","v":{"$error":"#NUM!"}},{"$f":"IF(AND(教学计划表!N73<>\"\",教学计划表!AY73<>\"\"),教学计划表!I73,\"\")","v":""},{"$f":"IF(教学计划表!AY73<>\"\",教学计划表!N73,\"\")","v":""},{"$f":"IF(HG57<>\"\",IF(SEARCH(\"3\",教学计划表!AB73&\"3\",1)<=LEN(教学计划表!AB73),\"考试\",\"考查\"),\"\")","v":""},{"$f":"IF(教学计划表!EV73<>0,教学计划表!EV73,\"\")","v":""},{"$f":"IF(教学计划表!EV73<>0,教学计划表!FA73,\"\")","v":""},{"$f":"IF(教学计划表!EV73<>0,教学计划表!FB73,\"\")","v":""},{"$f":"IF(教学计划表!EV73<>0,教学计划表!PF73,\"\")","v":""},{"$f":"OFFSET($HF$2,SMALL(IF($HF$2:$HF$72<>\"\",ROW($HF$2:$HF$72),\"\"),ROW(HF56))-2,0)","v":{"$error":"#NUM!"}},{"$f":"OFFSET($HG$2,SMALL(IF($HG$2:$HG$72<>\"\",ROW($HG$2:$HG$72),\"\"),ROW(HG56))-2,0)","v":{"$error":"#NUM!"}},{"$f":"OFFSET($HH$2,SMALL(IF($HH$2:$HH$72<>\"\",ROW($HH$2:$HH$72),\"\"),ROW(HH56))-2,0)","v":{"$error":"#NUM!"}},{"$f":"OFFSET($HI$2,SMALL(IF($HI$2:$HI$72<>\"\",ROW($HI$2:$HI$72),\"\"),ROW(HI56))-2,0)","v":{"$error":"#NUM!"}},{"$f":"OFFSET($HJ$2,SMALL(IF($HJ$2:$HJ$72<>\"\",ROW($HJ$2:$HJ$72),\"\"),ROW(HJ56))-2,0)","v":{"$error":"#NUM!"}},{"$f":"OFFSET($HK$2,SMALL(IF($HK$2:$HK$72<>\"\",ROW($HK$2:$HK$72),\"\"),ROW(HK56))-2,0)","v":{"$error":"#NUM!"}},{"$f":"OFFSET($HL$2,SMALL(IF($HL$2:$HL$72<>\"\",ROW($HL$2:$HL$72),\"\"),ROW(HL56))-2,0)","v":{"$error":"#NUM!"}},{"$f":"IF(AND(教学计划表!N73<>\"\",教学计划表!BB73<>\"\"),教学计划表!I73,\"\")","v":""},{"$f":"IF(教学计划表!BB73<>\"\",教学计划表!N73,\"\")","v":""},{"$f":"IF(HU57<>\"\",IF(SEARCH(\"4\",教学计划表!AB73&\"4\",1)<=LEN(教学计划表!AB73),\"考试\",\"考查\"),\"\")","v":""},{"$f":"IF(教学计划表!FQ73<>0,教学计划表!FQ73,\"\")","v":""},{"$f":"IF(教学计划表!FQ73<>0,教学计划表!FV73,\"\")","v":""},{"$f":"IF(教学计划表!FQ73<>0,教学计划表!FW73,\"\")","v":""},{"$f":"IF(教学计划表!FQ73<>0,教学计划表!PR73,\"\")","v":""},{"$f":"OFFSET($HT$2,SMALL(IF($HT$2:$HT$72<>\"\",ROW($HT$2:$HT$72),\"\"),ROW(HT56))-2,0)","v":{"$error":"#NUM!"}},{"$f":"OFFSET($HU$2,SMALL(IF($HU$2:$HU$72<>\"\",ROW($HU$2:$HU$72),\"\"),ROW(HU56))-2,0)","v":{"$error":"#NUM!"}},{"$f":"OFFSET($HV$2,SMALL(IF($HV$2:$HV$72<>\"\",ROW($HV$2:$HV$72),\"\"),ROW(HV56))-2,0)","v":{"$error":"#NUM!"}},{"$f":"OFFSET($HW$2,SMALL(IF($HW$2:$HW$72<>\"\",ROW($HW$2:$HW$72),\"\"),ROW(HW56))-2,0)","v":{"$error":"#NUM!"}},{"$f":"OFFSET($HX$2,SMALL(IF($HX$2:$HX$72<>\"\",ROW($HX$2:$HX$72),\"\"),ROW(HX56))-2,0)","v":{"$error":"#NUM!"}},{"$f":"OFFSET($HY$2,SMALL(IF($HY$2:$HY$72<>\"\",ROW($HY$2:$HY$72),\"\"),ROW(HY56))-2,0)","v":{"$error":"#NUM!"}},{"$f":"OFFSET($HZ$2,SMALL(IF($HZ$2:$HZ$72<>\"\",ROW($HZ$2:$HZ$72),\"\"),ROW(HZ56))-2,0)","v":{"$error":"#NUM!"}},null,null,{"$f":"IF(AND(教学计划表!N73<>\"\",教学计划表!BE73<>\"\"),教学计划表!I73,\"\")","v":""},{"$f":"IF(教学计划表!BE73<>\"\",教学计划表!N73,\"\")","v":""},{"$f":"IF(IK57<>\"\",IF(SEARCH(\"5\",教学计划表!AB73&\"5\",1)<=LEN(教学计划表!AB73),\"考试\",\"考查\"),\"\")","v":""},{"$f":"IF(教学计划表!GL73<>0,教学计划表!GL73,\"\")","v":""},{"$f":"IF(教学计划表!GL73<>0,教学计划表!GQ73,\"\")","v":""},{"$f":"IF(教学计划表!GL73<>0,教学计划表!GR73,\"\")","v":""},{"$f":"IF(教学计划表!GL73<>0,教学计划表!QC73,\"\")","v":""},{"$f":"OFFSET($IJ$2,SMALL(IF($IJ$2:$IJ$72<>\"\",ROW($IJ$2:$IJ$72),\"\"),ROW(IJ56))-2,0)","v":{"$error":"#NUM!"}},{"$f":"OFFSET($IK$2,SMALL(IF($IK$2:$IK$72<>\"\",ROW($IK$2:$IK$72),\"\"),ROW(IK56))-2,0)","v":{"$error":"#NUM!"}},{"$f":"OFFSET($IL$2,SMALL(IF($IL$2:$IL$72<>\"\",ROW($IL$2:$IL$72),\"\"),ROW(IL56))-2,0)","v":{"$error":"#NUM!"}},{"$f":"OFFSET($IM$2,SMALL(IF($IM$2:$IM$72<>\"\",ROW($IM$2:$IM$72),\"\"),ROW(IM56))-2,0)","v":{"$error":"#NUM!"}},{"$f":"OFFSET($IN$2,SMALL(IF($IN$2:$IN$72<>\"\",ROW($IN$2:$IN$72),\"\"),ROW(IN56))-2,0)","v":{"$error":"#NUM!"}},{"$f":"OFFSET($IO$2,SMALL(IF($IO$2:$IO$72<>\"\",ROW($IO$2:$IO$72),\"\"),ROW(IO56))-2,0)","v":{"$error":"#NUM!"}},{"$f":"OFFSET($IP$2,SMALL(IF($IP$2:$IP$72<>\"\",ROW($IP$2:$IP$72),\"\"),ROW(IP56))-2,0)","v":{"$error":"#NUM!"}},null,{"$f":"IF(AND(教学计划表!N73<>\"\",教学计划表!BH73<>\"\"),教学计划表!I73,\"\")","v":""},{"$f":"IF(教学计划表!BH73<>\"\",教学计划表!N73,\"\")","v":""},{"$f":"IF(教学计划表!BH73<>\"\",IF(SEARCH(\"6\",教学计划表!AB73&\"6\",1)<=LEN(教学计划表!AB73),\"考试\",\"考查\"),\"\")","v":""},{"$f":"IF(教学计划表!BH73<>0,教学计划表!HG73,\"\")","v":""},{"$f":"IF(教学计划表!BH73<>0,教学计划表!HL73,\"\")","v":""},{"$f":"IF(教学计划表!BH73<>0,教学计划表!HM73,\"\")","v":""},{"$f":"IF(教学计划表!BH73<>0,教学计划表!QO73,\"\")","v":""},{"$f":"OFFSET($IY$2,SMALL(IF($IY$2:$IY$72<>\"\",ROW($IY$2:$IY$72),\"\"),ROW(IY56))-2,0)","v":{"$error":"#NUM!"}},{"$f":"OFFSET($IZ$2,SMALL(IF($IZ$2:$IZ$72<>\"\",ROW($IZ$2:$IZ$72),\"\"),ROW(IZ56))-2,0)","v":{"$error":"#NUM!"}},{"$f":"OFFSET($JA$2,SMALL(IF($JA$2:$JA$72<>\"\",ROW($JA$2:$JA$72),\"\"),ROW(JA56))-2,0)","v":{"$error":"#NUM!"}},{"$f":"OFFSET($JB$2,SMALL(IF($JB$2:$JB$72<>\"\",ROW($JB$2:$JB$72),\"\"),ROW(JB56))-2,0)","v":{"$error":"#NUM!"}},{"$f":"OFFSET($JC$2,SMALL(IF($JC$2:$JC$72<>\"\",ROW($JC$2:$JC$72),\"\"),ROW(JC56))-2,0)","v":{"$error":"#NUM!"}},{"$f":"OFFSET($JD$2,SMALL(IF($JD$2:$JD$72<>\"\",ROW($JD$2:$JD$72),\"\"),ROW(JD56))-2,0)","v":{"$error":"#NUM!"}},{"$f":"OFFSET($JE$2,SMALL(IF($JE$2:$JE$72<>\"\",ROW($JE$2:$JE$72),\"\"),ROW(JE56))-2,0)","v":{"$error":"#NUM!"}}]
["","","","","","","",null,"","","",{"$f":"IF(ISERROR(自动生成的开课信息!HB58),\"\",自动生成的开课信息!HB58)","v":""},{"$f":"IF(ISERROR(自动生成的开课信息!HC58),\"\",自动生成的开课信息!HC58)","v":""},{"$f":"IF(ISERROR(自动生成的开课信息!HD58),\"\",自动生成的开课信息!HD58)","v":""},{"$f":"IF(ISERROR(自动生成的开课信息!HE58),\"\",自动生成的开课信息!HE58)","v":""},null,"","","","","","","",null,"","","","","","","",null,"","","","","","","",null,"","","","","","","",null,null,null,null,null,null,null,null,null,null,null,null,null,null,null,null,null,null,null,null,null,null,null,null,null,null,null,null,null,null,null,null,null,null,null,null,null,null,null,null,null,null,null,null,null,null,null,null,null,null,null,null,null,null,null,null,null,null,null,null,null,null,null,null,null,null,null,null,null,null,null,null,null,null,null,null,null,null,null,null,null,null,null,null,null,null,null,null,null,null,null,null,null,null,null,null,null,null,null,null,null,null,null,null,null,null,null,null,null,null,null,null,null,null,null,null,null,null,null,null,null,null,null,null,null,null,null,null,null,null,null,null,null,null,null,null,null,null,{"$f":"IF(AND(教学计划表!N74<>\"\",教学计划表!AS74<>\"\"),教学计划表!I74,\"\")","v":""},{"$f":"IF(教学计划表!AS74<>\"\",教学计划表!N74,\"\")","v":""},{"$f":"IF(GE58<>\"\",IF(SEARCH(\"1\",教学计划表!AB74&\"1\",1)<=LEN(教学计划表!AB74),\"考试\",\"考查\"),\"\")","v":""},{"$f":"IF(教学计划表!DG74<>0,教学计划表!DG74,\"\")","v":""},{"$f":"IF(教学计划表!DG74<>0,教学计划表!DL74,\"\")","v":""},{"$f":"IF(教学计划表!DG74<>0,教学计划表!DM74,\"\")","v":""},{"$f":"IF(教学计划表!DG74<>0,教学计划表!OH74,\"\")","v":""},{"$f":"OFFSET($GD$2,SMALL(IF($GD$2:$GD$72<>\"\",ROW($2:$72),\"\"),ROW(GD57))-2,0)","v":{"$error":"#NUM!"}},{"$f":"OFFSET($GE$2,SMALL(IF($GE$2:$GE$72<>\"\",ROW($2:$72),\"\"),ROW(GE57))-2,0)","v":{"$error":"#NUM!"}},{"$f":"OFFSET($GF$2,SMALL(IF($GF$2:$GF$72<>\"\",ROW($2:$72),\"\"),ROW(GF57))-2,0)","v":{"$error":"#NUM!"}},{"$f":"OFFSET($GG$2,SMALL(IF($GG$2:$GG$72<>\"\",ROW($2:$72),\"\"),ROW(GG57))-2,0)","v":{"$error":"#NUM!"}},{"$f":"OFFSET($GH$2,SMALL(IF($GH$2:$GH$72<>\"\",ROW($2:$72),\"\"),ROW(GH57))-2,0)","v":{"$error":"#NUM!"}},{"$error":"#NUM!"},{"$f":"OFFSET($GJ$2,SMALL(IF($GJ$2:$GJ$72<>\"\",ROW($2:$72),\"\"),ROW(GJ57))-2,0)","v":{"$error":"#NUM!"}},{"$f":"IF(AND(教学计划表!N74<>\"\",教学计划表!AV74<>\"\"),教学计划表!I74,\"\")","v":""},{"$f":"IF(教学计划表!AV74<>\"\",教学计划表!N74,\"\")","v":""},{"$f":"IF(GS58<>\"\",IF(SEARCH(\"2\",教学计划表!AB74&\"2\",1)<=LEN(教学计划表!AB74),\"考试\",\"考查\"),\"\")","v":""},{"$f":"IF(教学计划表!EA74<>0,教学计划表!EA74,\"\")","v":""},{"$f":"IF(教学计划表!EA74<>0,教学计划表!EF74,\"\")","v":""},{"$f":"IF(教学计划表!EA74<>0,教学计划表!EG74,\"\")","v":""},{"$f":"IF(教学计划表!EA74<>0,教学计划表!OT74,\"\")","v":""},{"$f":"OFFSET($GR$2,SMALL(IF($GR$2:$GR$72<>\"\",ROW($I$2:$K$72),\"\"),ROW(GR57))-2,0)","v":{"$error":"#NUM!"}},{"$f":"OFFSET($GS$2,SMALL(IF($GS$2:$GS$72<>\"\",ROW($I$2:$K$72),\"\"),ROW(GS57))-2,0)","v":{"$error":"#NUM!"}},{"$f":"OFFSET($GT$2,SMALL(IF($GT$2:$GT$72<>\"\",ROW($I$2:$K$72),\"\"),ROW(GT57))-2,0)","v":{"$error":"#NUM!"}},{"$f":"OFFSET($GU$2,SMALL(IF($GU$2:$GU$72<>\"\",ROW($I$2:$K$72),\"\"),ROW(GU57))-2,0)","v":{"$error":"#NUM!"}},{"$f":"OFFSET($GV$2,SMALL(IF($GV$2:$GV$72<>\"\",ROW($GV$2:$GV$72),\"\"),ROW(GV57))-2,0)","v":{"$error":"#NUM!"}},{"$f":"OFFSET($GW$2,SMALL(IF($GW$2:$GW$72<>\"\",ROW($GW$2:$GW$72),\"\"),ROW(GW57))-2,0)","v":{"$error":"#NUM!"}},{"$f":"OFFSET($GX$2,SMALL(IF($GX$2:$GX$72<>\"\",ROW($GX$2:$GX$72),\"\"),ROW(GX57))-2,0)","v":{"$error":"#NUM!"}},{"$f":"IF(AND(教学计划表!N74<>\"\",教学计划表!AY74<>\"\"),教学计划表!I74,\"\")","v":""},{"$f":"IF(教学计划表!AY74<>\"\",教学计划表!N74,\"\")","v":""},{"$f":"IF(HG58<>\"\",IF(SEARCH(\"3\",教学计划表!AB74&\"3\",1)<=LEN(教学计划表!AB74),\"考试\",\"考查\"),\"\")","v":""},{"$f":"IF(教学计划表!EV74<>0,教学计划表!EV74,\"\")","v":""},{"$f":"IF(教学计划表!EV74<>0,教学计划表!FA74,\"\")","v":""},{"$f":"IF(教学计划表!EV74<>0,教学计划表!FB74,\"\")","v":""},{"$f":"IF(教学计划表!EV74<>0,教学计划表!PF74,\"\")","v":""},{"$f":"OFFSET($HF$2,SMALL(IF($HF$2:$HF$72<>\"\",ROW($HF$2:$HF$72),\"\"),ROW(HF57))-2,0)","v":{"$error":"#NUM!"}},{"$f":"OFFSET($HG$2,SMALL(IF($HG$2:$HG$72<>\"\",ROW($HG$2:$HG$72),\"\"),ROW(HG57))-2,0)","v":{"$error":"#NUM!"}},{"$f":"OFFSET($HH$2,SMALL(IF($HH$2:$HH$72<>\"\",ROW($HH$2:$HH$72),\"\"),ROW(HH57))-2,0)","v":{"$error":"#NUM!"}},{"$f":"OFFSET($HI$2,SMALL(IF($HI$2:$HI$72<>\"\",ROW($HI$2:$HI$72),\"\"),ROW(HI57))-2,0)","v":{"$error":"#NUM!"}},{"$f":"OFFSET($HJ$2,SMALL(IF($HJ$2:$HJ$72<>\"\",ROW($HJ$2:$HJ$72),\"\"),ROW(HJ57))-2,0)","v":{"$error":"#NUM!"}},{"$f":"OFFSET($HK$2,SMALL(IF($HK$2:$HK$72<>\"\",ROW($HK$2:$HK$72),\"\"),ROW(HK57))-2,0)","v":{"$error":"#NUM!"}},{"$f":"OFFSET($HL$2,SMALL(IF($HL$2:$HL$72<>\"\",ROW($HL$2:$HL$72),\"\"),ROW(HL57))-2,0)","v":{"$error":"#NUM!"}},{"$f":"IF(AND(教学计划表!N74<>\"\",教学计划表!BB74<>\"\"),教学计划表!I74,\"\")","v":""},{"$f":"IF(教学计划表!BB74<>\"\",教学计划表!N74,\"\")","v":""},{"$f":"IF(HU58<>\"\",IF(SEARCH(\"4\",教学计划表!AB74&\"4\",1)<=LEN(教学计划表!AB74),\"考试\",\"考查\"),\"\")","v":""},{"$f":"IF(教学计划表!FQ74<>0,教学计划表!FQ74,\"\")","v":""},{"$f":"IF(教学计划表!FQ74<>0,教学计划表!FV74,\"\")","v":""},{"$f":"IF(教学计划表!FQ74<>0,教学计划表!FW74,\"\")","v":""},{"$f":"IF(教学计划表!FQ74<>0,教学计划表!PR74,\"\")","v":""},{"$f":"OFFSET($HT$2,SMALL(IF($HT$2:$HT$72<>\"\",ROW($HT$2:$HT$72),\"\"),ROW(HT57))-2,0)","v":{"$error":"#NUM!"}},{"$f":"OFFSET($HU$2,SMALL(IF($HU$2:$HU$72<>\"\",ROW($HU$2:$HU$72),\"\"),ROW(HU57))-2,0)","v":{"$error":"#NUM!"}},{"$f":"OFFSET($HV$2,SMALL(IF($HV$2:$HV$72<>\"\",ROW($HV$2:$HV$72),\"\"),ROW(HV57))-2,0)","v":{"$error":"#NUM!"}},{"$f":"OFFSET($HW$2,SMALL(IF($HW$2:$HW$72<>\"\",ROW($HW$2:$HW$72),\"\"),ROW(HW57))-2,0)","v":{"$error":"#NUM!"}},{"$f":"OFFSET($HX$2,SMALL(IF($HX$2:$HX$72<>\"\",ROW($HX$2:$HX$72),\"\"),ROW(HX57))-2,0)","v":{"$error":"#NUM!"}},{"$f":"OFFSET($HY$2,SMALL(IF($HY$2:$HY$72<>\"\",ROW($HY$2:$HY$72),\"\"),ROW(HY57))-2,0)","v":{"$error":"#NUM!"}},{"$f":"OFFSET($HZ$2,SMALL(IF($HZ$2:$HZ$72<>\"\",ROW($HZ$2:$HZ$72),\"\"),ROW(HZ57))-2,0)","v":{"$error":"#NUM!"}},null,null,{"$f":"IF(AND(教学计划表!N74<>\"\",教学计划表!BE74<>\"\"),教学计划表!I74,\"\")","v":""},{"$f":"IF(教学计划表!BE74<>\"\",教学计划表!N74,\"\")","v":""},{"$f":"IF(IK58<>\"\",IF(SEARCH(\"5\",教学计划表!AB74&\"5\",1)<=LEN(教学计划表!AB74),\"考试\",\"考查\"),\"\")","v":""},{"$f":"IF(教学计划表!GL74<>0,教学计划表!GL74,\"\")","v":""},{"$f":"IF(教学计划表!GL74<>0,教学计划表!GQ74,\"\")","v":""},{"$f":"IF(教学计划表!GL74<>0,教学计划表!GR74,\"\")","v":""},{"$f":"IF(教学计划表!GL74<>0,教学计划表!QC74,\"\")","v":""},{"$f":"OFFSET($IJ$2,SMALL(IF($IJ$2:$IJ$72<>\"\",ROW($IJ$2:$IJ$72),\"\"),ROW(IJ57))-2,0)","v":{"$error":"#NUM!"}},{"$f":"OFFSET($IK$2,SMALL(IF($IK$2:$IK$72<>\"\",ROW($IK$2:$IK$72),\"\"),ROW(IK57))-2,0)","v":{"$error":"#NUM!"}},{"$f":"OFFSET($IL$2,SMALL(IF($IL$2:$IL$72<>\"\",ROW($IL$2:$IL$72),\"\"),ROW(IL57))-2,0)","v":{"$error":"#NUM!"}},{"$f":"OFFSET($IM$2,SMALL(IF($IM$2:$IM$72<>\"\",ROW($IM$2:$IM$72),\"\"),ROW(IM57))-2,0)","v":{"$error":"#NUM!"}},{"$f":"OFFSET($IN$2,SMALL(IF($IN$2:$IN$72<>\"\",ROW($IN$2:$IN$72),\"\"),ROW(IN57))-2,0)","v":{"$error":"#NUM!"}},{"$f":"OFFSET($IO$2,SMALL(IF($IO$2:$IO$72<>\"\",ROW($IO$2:$IO$72),\"\"),ROW(IO57))-2,0)","v":{"$error":"#NUM!"}},{"$f":"OFFSET($IP$2,SMALL(IF($IP$2:$IP$72<>\"\",ROW($IP$2:$IP$72),\"\"),ROW(IP57))-2,0)","v":{"$error":"#NUM!"}},null,{"$f":"IF(AND(教学计划表!N74<>\"\",教学计划表!BH74<>\"\"),教学计划表!I74,\"\")","v":""},{"$f":"IF(教学计划表!BH74<>\"\",教学计划表!N74,\"\")","v":""},{"$f":"IF(教学计划表!BH74<>\"\",IF(SEARCH(\"6\",教学计划表!AB74&\"6\",1)<=LEN(教学计划表!AB74),\"考试\",\"考查\"),\"\")","v":""},{"$f":"IF(教学计划表!BH74<>0,教学计划表!HG74,\"\")","v":""},{"$f":"IF(教学计划表!BH74<>0,教学计划表!HL74,\"\")","v":""},{"$f":"IF(教学计划表!BH74<>0,教学计划表!HM74,\"\")","v":""},{"$f":"IF(教学计划表!BH74<>0,教学计划表!QO74,\"\")","v":""},{"$f":"OFFSET($IY$2,SMALL(IF($IY$2:$IY$72<>\"\",ROW($IY$2:$IY$72),\"\"),ROW(IY57))-2,0)","v":{"$error":"#NUM!"}},{"$f":"OFFSET($IZ$2,SMALL(IF($IZ$2:$IZ$72<>\"\",ROW($IZ$2:$IZ$72),\"\"),ROW(IZ57))-2,0)","v":{"$error":"#NUM!"}},{"$f":"OFFSET($JA$2,SMALL(IF($JA$2:$JA$72<>\"\",ROW($JA$2:$JA$72),\"\"),ROW(JA57))-2,0)","v":{"$error":"#NUM!"}},{"$f":"OFFSET($JB$2,SMALL(IF($JB$2:$JB$72<>\"\",ROW($JB$2:$JB$72),\"\"),ROW(JB57))-2,0)","v":{"$error":"#NUM!"}},{"$f":"OFFSET($JC$2,SMALL(IF($JC$2:$JC$72<>\"\",ROW($JC$2:$JC$72),\"\"),ROW(JC57))-2,0)","v":{"$error":"#NUM!"}},{"$f":"OFFSET($JD$2,SMALL(IF($JD$2:$JD$72<>\"\",ROW($JD$2:$JD$72),\"\"),ROW(JD57))-2,0)","v":{"$error":"#NUM!"}},{"$f":"OFFSET($JE$2,SMALL(IF($JE$2:$JE$72<>\"\",ROW($JE$2:$JE$72),\"\"),ROW(JE57))-2,0)","v":{"$error":"#NUM!"}}]
["","","","","","","",null,"","","",{"$f":"IF(ISERROR(自动生成的开课信息!HB59),\"\",自动生成的开课信息!HB59)","v":""},{"$f":"IF(ISERROR(自动生成的开课信息!HC59),\"\",自动生成的开课信息!HC59)","v":""},{"$f":"IF(ISERROR(自动生成的开课信息!HD59),\"\",自动生成的开课信息!HD59)","v":""},{"$f":"IF(ISERROR(自动生成的开课信息!HE59),\"\",自动生成的开课信息!HE59)","v":""},null,"","","","","","","",null,"","","","","","","",null,"","","","","","","",null,"","","","","","","",null,null,null,null,null,null,null,null,null,null,null,null,null,null,null,null,null,null,null,null,null,null,null,null,null,null,null,null,null,null,null,null,null,null,null,null,null,null,null,null,null,null,null,null,null,null,null,null,null,null,null,null,null,null,null,null,null,null,null,null,null,null,null,null,null,null,null,null,null,null,null,null,null,null,null,null,null,null,null,null,null,null,null,null,null,null,null,null,null,null,null,null,null,null,null,null,null,null,null,null,null,null,null,null,null,null,null,null,null,null,null,null,null,null,null,null,null,null,null,null,null,null,null,null,null,null,null,null,null,null,null,null,null,null,null,null,null,null,{"$f":"IF(AND(教学计划表!N75<>\"\",教学计划表!AS75<>\"\"),教学计划表!I75,\"\")","v":""},{"$f":"IF(教学计划表!AS75<>\"\",教学计划表!N75,\"\")","v":""},{"$f":"IF(GE59<>\"\",IF(SEARCH(\"1\",教学计划表!AB75&\"1\",1)<=LEN(教学计划表!AB75),\"考试\",\"考查\"),\"\")","v":""},{"$f":"IF(教学计划表!DG75<>0,教学计划表!DG75,\"\")","v":""},{"$f":"IF(教学计划表!DG75<>0,教学计划表!DL75,\"\")","v":""},{"$f":"IF(教学计划表!DG75<>0,教学计划表!DM75,\"\")","v":""},{"$f":"IF(教学计划表!DG75<>0,教学计划表!OH75,\"\")","v":""},{"$f":"OFFSET($GD$2,SMALL(IF($GD$2:$GD$72<>\"\",ROW($2:$72),\"\"),ROW(GD58))-2,0)","v":{"$error":"#NUM!"}},{"$f":"OFFSET($GE$2,SMALL(IF($GE$2:$GE$72<>\"\",ROW($2:$72),\"\"),ROW(GE58))-2,0)","v":{"$error":"#NUM!"}},{"$f":"OFFSET($GF$2,SMALL(IF($GF$2:$GF$72<>\"\",ROW($2:$72),\"\"),ROW(GF58))-2,0)","v":{"$error":"#NUM!"}},{"$f":"OFFSET($GG$2,SMALL(IF($GG$2:$GG$72<>\"\",ROW($2:$72),\"\"),ROW(GG58))-2,0)","v":{"$error":"#NUM!"}},{"$f":"OFFSET($GH$2,SMALL(IF($GH$2:$GH$72<>\"\",ROW($2:$72),\"\"),ROW(GH58))-2,0)","v":{"$error":"#NUM!"}},{"$error":"#NUM!"},{"$f":"OFFSET($GJ$2,SMALL(IF($GJ$2:$GJ$72<>\"\",ROW($2:$72),\"\"),ROW(GJ58))-2,0)","v":{"$error":"#NUM!"}},{"$f":"IF(AND(教学计划表!N75<>\"\",教学计划表!AV75<>\"\"),教学计划表!I75,\"\")","v":""},{"$f":"IF(教学计划表!AV75<>\"\",教学计划表!N75,\"\")","v":""},{"$f":"IF(GS59<>\"\",IF(SEARCH(\"2\",教学计划表!AB75&\"2\",1)<=LEN(教学计划表!AB75),\"考试\",\"考查\"),\"\")","v":""},{"$f":"IF(教学计划表!EA75<>0,教学计划表!EA75,\"\")","v":""},{"$f":"IF(教学计划表!EA75<>0,教学计划表!EF75,\"\")","v":""},{"$f":"IF(教学计划表!EA75<>0,教学计划表!EG75,\"\")","v":""},{"$f":"IF(教学计划表!EA75<>0,教学计划表!OT75,\"\")","v":""},{"$f":"OFFSET($GR$2,SMALL(IF($GR$2:$GR$72<>\"\",ROW($I$2:$K$72),\"\"),ROW(GR58))-2,0)","v":{"$error":"#NUM!"}},{"$f":"OFFSET($GS$2,SMALL(IF($GS$2:$GS$72<>\"\",ROW($I$2:$K$72),\"\"),ROW(GS58))-2,0)","v":{"$error":"#NUM!"}},{"$f":"OFFSET($GT$2,SMALL(IF($GT$2:$GT$72<>\"\",ROW($I$2:$K$72),\"\"),ROW(GT58))-2,0)","v":{"$error":"#NUM!"}},{"$f":"OFFSET($GU$2,SMALL(IF($GU$2:$GU$72<>\"\",ROW($I$2:$K$72),\"\"),ROW(GU58))-2,0)","v":{"$error":"#NUM!"}},{"$f":"OFFSET($GV$2,SMALL(IF($GV$2:$GV$72<>\"\",ROW($GV$2:$GV$72),\"\"),ROW(GV58))-2,0)","v":{"$error":"#NUM!"}},{"$f":"OFFSET($GW$2,SMALL(IF($GW$2:$GW$72<>\"\",ROW($GW$2:$GW$72),\"\"),ROW(GW58))-2,0)","v":{"$error":"#NUM!"}},{"$f":"OFFSET($GX$2,SMALL(IF($GX$2:$GX$72<>\"\",ROW($GX$2:$GX$72),\"\"),ROW(GX58))-2,0)","v":{"$error":"#NUM!"}},{"$f":"IF(AND(教学计划表!N75<>\"\",教学计划表!AY75<>\"\"),教学计划表!I75,\"\")","v":""},{"$f":"IF(教学计划表!AY75<>\"\",教学计划表!N75,\"\")","v":""},{"$f":"IF(HG59<>\"\",IF(SEARCH(\"3\",教学计划表!AB75&\"3\",1)<=LEN(教学计划表!AB75),\"考试\",\"考查\"),\"\")","v":""},{"$f":"IF(教学计划表!EV75<>0,教学计划表!EV75,\"\")","v":""},{"$f":"IF(教学计划表!EV75<>0,教学计划表!FA75,\"\")","v":""},{"$f":"IF(教学计划表!EV75<>0,教学计划表!FB75,\"\")","v":""},{"$f":"IF(教学计划表!EV75<>0,教学计划表!PF75,\"\")","v":""},{"$f":"OFFSET($HF$2,SMALL(IF($HF$2:$HF$72<>\"\",ROW($HF$2:$HF$72),\"\"),ROW(HF58))-2,0)","v":{"$error":"#NUM!"}},{"$f":"OFFSET($HG$2,SMALL(IF($HG$2:$HG$72<>\"\",ROW($HG$2:$HG$72),\"\"),ROW(HG58))-2,0)","v":{"$error":"#NUM!"}},{"$f":"OFFSET($HH$2,SMALL(IF($HH$2:$HH$72<>\"\",ROW($HH$2:$HH$72),\"\"),ROW(HH58))-2,0)","v":{"$error":"#NUM!"}},{"$f":"OFFSET($HI$2,SMALL(IF($HI$2:$HI$72<>\"\",ROW($HI$2:$HI$72),\"\"),ROW(HI58))-2,0)","v":{"$error":"#NUM!"}},{"$f":"OFFSET($HJ$2,SMALL(IF($HJ$2:$HJ$72<>\"\",ROW($HJ$2:$HJ$72),\"\"),ROW(HJ58))-2,0)","v":{"$error":"#NUM!"}},{"$f":"OFFSET($HK$2,SMALL(IF($HK$2:$HK$72<>\"\",ROW($HK$2:$HK$72),\"\"),ROW(HK58))-2,0)","v":{"$error":"#NUM!"}},{"$f":"OFFSET($HL$2,SMALL(IF($HL$2:$HL$72<>\"\",ROW($HL$2:$HL$72),\"\"),ROW(HL58))-2,0)","v":{"$error":"#NUM!"}},{"$f":"IF(AND(教学计划表!N75<>\"\",教学计划表!BB75<>\"\"),教学计划表!I75,\"\")","v":""},{"$f":"IF(教学计划表!BB75<>\"\",教学计划表!N75,\"\")","v":""},{"$f":"IF(HU59<>\"\",IF(SEARCH(\"4\",教学计划表!AB75&\"4\",1)<=LEN(教学计划表!AB75),\"考试\",\"考查\"),\"\")","v":""},{"$f":"IF(教学计划表!FQ75<>0,教学计划表!FQ75,\"\")","v":""},{"$f":"IF(教学计划表!FQ75<>0,教学计划表!FV75,\"\")","v":""},{"$f":"IF(教学计划表!FQ75<>0,教学计划表!FW75,\"\")","v":""},{"$f":"IF(教学计划表!FQ75<>0,教学计划表!PR75,\"\")","v":""},{"$f":"OFFSET($HT$2,SMALL(IF($HT$2:$HT$72<>\"\",ROW($HT$2:$HT$72),\"\"),ROW(HT58))-2,0)","v":{"$error":"#NUM!"}},{"$f":"OFFSET($HU$2,SMALL(IF($HU$2:$HU$72<>\"\",ROW($HU$2:$HU$72),\"\"),ROW(HU58))-2,0)","v":{"$error":"#NUM!"}},{"$f":"OFFSET($HV$2,SMALL(IF($HV$2:$HV$72<>\"\",ROW($HV$2:$HV$72),\"\"),ROW(HV58))-2,0)","v":{"$error":"#NUM!"}},{"$f":"OFFSET($HW$2,SMALL(IF($HW$2:$HW$72<>\"\",ROW($HW$2:$HW$72),\"\"),ROW(HW58))-2,0)","v":{"$error":"#NUM!"}},{"$f":"OFFSET($HX$2,SMALL(IF($HX$2:$HX$72<>\"\",ROW($HX$2:$HX$72),\"\"),ROW(HX58))-2,0)","v":{"$error":"#NUM!"}},{"$f":"OFFSET($HY$2,SMALL(IF($HY$2:$HY$72<>\"\",ROW($HY$2:$HY$72),\"\"),ROW(HY58))-2,0)","v":{"$error":"#NUM!"}},{"$f":"OFFSET($HZ$2,SMALL(IF($HZ$2:$HZ$72<>\"\",ROW($HZ$2:$HZ$72),\"\"),ROW(HZ58))-2,0)","v":{"$error":"#NUM!"}},null,null,{"$f":"IF(AND(教学计划表!N75<>\"\",教学计划表!BE75<>\"\"),教学计划表!I75,\"\")","v":""},{"$f":"IF(教学计划表!BE75<>\"\",教学计划表!N75,\"\")","v":""},{"$f":"IF(IK59<>\"\",IF(SEARCH(\"5\",教学计划表!AB75&\"5\",1)<=LEN(教学计划表!AB75),\"考试\",\"考查\"),\"\")","v":""},{"$f":"IF(教学计划表!GL75<>0,教学计划表!GL75,\"\")","v":""},{"$f":"IF(教学计划表!GL75<>0,教学计划表!GQ75,\"\")","v":""},{"$f":"IF(教学计划表!GL75<>0,教学计划表!GR75,\"\")","v":""},{"$f":"IF(教学计划表!GL75<>0,教学计划表!QC75,\"\")","v":""},{"$f":"OFFSET($IJ$2,SMALL(IF($IJ$2:$IJ$72<>\"\",ROW($IJ$2:$IJ$72),\"\"),ROW(IJ58))-2,0)","v":{"$error":"#NUM!"}},{"$f":"OFFSET($IK$2,SMALL(IF($IK$2:$IK$72<>\"\",ROW($IK$2:$IK$72),\"\"),ROW(IK58))-2,0)","v":{"$error":"#NUM!"}},{"$f":"OFFSET($IL$2,SMALL(IF($IL$2:$IL$72<>\"\",ROW($IL$2:$IL$72),\"\"),ROW(IL58))-2,0)","v":{"$error":"#NUM!"}},{"$f":"OFFSET($IM$2,SMALL(IF($IM$2:$IM$72<>\"\",ROW($IM$2:$IM$72),\"\"),ROW(IM58))-2,0)","v":{"$error":"#NUM!"}},{"$f":"OFFSET($IN$2,SMALL(IF($IN$2:$IN$72<>\"\",ROW($IN$2:$IN$72),\"\"),ROW(IN58))-2,0)","v":{"$error":"#NUM!"}},{"$f":"OFFSET($IO$2,SMALL(IF($IO$2:$IO$72<>\"\",ROW($IO$2:$IO$72),\"\"),ROW(IO58))-2,0)","v":{"$error":"#NUM!"}},{"$f":"OFFSET($IP$2,SMALL(IF($IP$2:$IP$72<>\"\",ROW($IP$2:$IP$72),\"\"),ROW(IP58))-2,0)","v":{"$error":"#NUM!"}},null,{"$f":"IF(AND(教学计划表!N75<>\"\",教学计划表!BH75<>\"\"),教学计划表!I75,\"\")","v":""},{"$f":"IF(教学计划表!BH75<>\"\",教学计划表!N75,\"\")","v":""},{"$f":"IF(教学计划表!BH75<>\"\",IF(SEARCH(\"6\",教学计划表!AB75&\"6\",1)<=LEN(教学计划表!AB75),\"考试\",\"考查\"),\"\")","v":""},{"$f":"IF(教学计划表!BH75<>0,教学计划表!HG75,\"\")","v":""},{"$f":"IF(教学计划表!BH75<>0,教学计划表!HL75,\"\")","v":""},{"$f":"IF(教学计划表!BH75<>0,教学计划表!HM75,\"\")","v":""},{"$f":"IF(教学计划表!BH75<>0,教学计划表!QO75,\"\")","v":""},{"$f":"OFFSET($IY$2,SMALL(IF($IY$2:$IY$72<>\"\",ROW($IY$2:$IY$72),\"\"),ROW(IY58))-2,0)","v":{"$error":"#NUM!"}},{"$f":"OFFSET($IZ$2,SMALL(IF($IZ$2:$IZ$72<>\"\",ROW($IZ$2:$IZ$72),\"\"),ROW(IZ58))-2,0)","v":{"$error":"#NUM!"}},{"$f":"OFFSET($JA$2,SMALL(IF($JA$2:$JA$72<>\"\",ROW($JA$2:$JA$72),\"\"),ROW(JA58))-2,0)","v":{"$error":"#NUM!"}},{"$f":"OFFSET($JB$2,SMALL(IF($JB$2:$JB$72<>\"\",ROW($JB$2:$JB$72),\"\"),ROW(JB58))-2,0)","v":{"$error":"#NUM!"}},{"$f":"OFFSET($JC$2,SMALL(IF($JC$2:$JC$72<>\"\",ROW($JC$2:$JC$72),\"\"),ROW(JC58))-2,0)","v":{"$error":"#NUM!"}},{"$f":"OFFSET($JD$2,SMALL(IF($JD$2:$JD$72<>\"\",ROW($JD$2:$JD$72),\"\"),ROW(JD58))-2,0)","v":{"$error":"#NUM!"}},{"$f":"OFFSET($JE$2,SMALL(IF($JE$2:$JE$72<>\"\",ROW($JE$2:$JE$72),\"\"),ROW(JE58))-2,0)","v":{"$error":"#NUM!"}}]
["","","","","","","",null,"","","",{"$f":"IF(ISERROR(自动生成的开课信息!HB60),\"\",自动生成的开课信息!HB60)","v":""},{"$f":"IF(ISERROR(自动生成的开课信息!HC60),\"\",自动生成的开课信息!HC60)","v":""},{"$f":"IF(ISERROR(自动生成的开课信息!HD60),\"\",自动生成的开课信息!HD60)","v":""},{"$f":"IF(ISERROR(自动生成的开课信息!HE60),\"\",自动生成的开课信息!HE60)","v":""},null,"","","","","","","",null,"","","","","","","",null,"","","","","","","",null,"","","","","","","",null,null,null,null,null,null,null,null,null,null,null,null,null,null,null,null,null,null,null,null,null,null,null,null,null,null,null,null,null,null,null,null,null,null,null,null,null,null,null,null,null,null,null,null,null,null,null,null,null,null,null,null,null,null,null,null,null,null,null,null,null,null,null,null,null,null,null,null,null,null,null,null,null,null,null,null,null,null,null,null,null,null,null,null,null,null,null,null,null,null,null,null,null,null,null,null,null,null,null,null,null,null,null,null,null,null,null,null,null,null,null,null,null,null,null,null,null,null,null,null,null,null,null,null,null,null,null,null,null,null,null,null,null,null,null,null,null,null,{"$f":"IF(AND(教学计划表!N76<>\"\",教学计划表!AS76<>\"\"),教学计划表!I76,\"\")","v":""},{"$f":"IF(教学计划表!AS76<>\"\",教学计划表!N76,\"\")","v":""},{"$f":"IF(GE60<>\"\",IF(SEARCH(\"1\",教学计划表!AB76&\"1\",1)<=LEN(教学计划表!AB76),\"考试\",\"考查\"),\"\")","v":""},{"$f":"IF(教学计划表!DG76<>0,教学计划表!DG76,\"\")","v":""},{"$f":"IF(教学计划表!DG76<>0,教学计划表!DL76,\"\")","v":""},{"$f":"IF(教学计划表!DG76<>0,教学计划表!DM76,\"\")","v":""},{"$f":"IF(教学计划表!DG76<>0,教学计划表!OH76,\"\")","v":""},{"$f":"OFFSET($GD$2,SMALL(IF($GD$2:$GD$72<>\"\",ROW($2:$72),\"\"),ROW(GD59))-2,0)","v":{"$error":"#NUM!"}},{"$f":"OFFSET($GE$2,SMALL(IF($GE$2:$GE$72<>\"\",ROW($2:$72),\"\"),ROW(GE59))-2,0)","v":{"$error":"#NUM!"}},{"$f":"OFFSET($GF$2,SMALL(IF($GF$2:$GF$72<>\"\",ROW($2:$72),\"\"),ROW(GF59))-2,0)","v":{"$error":"#NUM!"}},{"$f":"OFFSET($GG$2,SMALL(IF($GG$2:$GG$72<>\"\",ROW($2:$72),\"\"),ROW(GG59))-2,0)","v":{"$error":"#NUM!"}},{"$f":"OFFSET($GH$2,SMALL(IF($GH$2:$GH$72<>\"\",ROW($2:$72),\"\"),ROW(GH59))-2,0)","v":{"$error":"#NUM!"}},{"$error":"#NUM!"},{"$f":"OFFSET($GJ$2,SMALL(IF($GJ$2:$GJ$72<>\"\",ROW($2:$72),\"\"),ROW(GJ59))-2,0)","v":{"$error":"#NUM!"}},{"$f":"IF(AND(教学计划表!N76<>\"\",教学计划表!AV76<>\"\"),教学计划表!I76,\"\")","v":""},{"$f":"IF(教学计划表!AV76<>\"\",教学计划表!N76,\"\")","v":""},{"$f":"IF(GS60<>\"\",IF(SEARCH(\"2\",教学计划表!AB76&\"2\",1)<=LEN(教学计划表!AB76),\"考试\",\"考查\"),\"\")","v":""},{"$f":"IF(教学计划表!EA76<>0,教学计划表!EA76,\"\")","v":""},{"$f":"IF(教学计划表!EA76<>0,教学计划表!EF76,\"\")","v":""},{"$f":"IF(教学计划表!EA76<>0,教学计划表!EG76,\"\")","v":""},{"$f":"IF(教学计划表!EA76<>0,教学计划表!OT76,\"\")","v":""},{"$f":"OFFSET($GR$2,SMALL(IF($GR$2:$GR$72<>\"\",ROW($I$2:$K$72),\"\"),ROW(GR59))-2,0)","v":{"$error":"#NUM!"}},{"$f":"OFFSET($GS$2,SMALL(IF($GS$2:$GS$72<>\"\",ROW($I$2:$K$72),\"\"),ROW(GS59))-2,0)","v":{"$error":"#NUM!"}},{"$f":"OFFSET($GT$2,SMALL(IF($GT$2:$GT$72<>\"\",ROW($I$2:$K$72),\"\"),ROW(GT59))-2,0)","v":{"$error":"#NUM!"}},{"$f":"OFFSET($GU$2,SMALL(IF($GU$2:$GU$72<>\"\",ROW($I$2:$K$72),\"\"),ROW(GU59))-2,0)","v":{"$error":"#NUM!"}},{"$f":"OFFSET($GV$2,SMALL(IF($GV$2:$GV$72<>\"\",ROW($GV$2:$GV$72),\"\"),ROW(GV59))-2,0)","v":{"$error":"#NUM!"}},{"$f":"OFFSET($GW$2,SMALL(IF($GW$2:$GW$72<>\"\",ROW($GW$2:$GW$72),\"\"),ROW(GW59))-2,0)","v":{"$error":"#NUM!"}},{"$f":"OFFSET($GX$2,SMALL(IF($GX$2:$GX$72<>\"\",ROW($GX$2:$GX$72),\"\"),ROW(GX59))-2,0)","v":{"$error":"#NUM!"}},{"$f":"IF(AND(教学计划表!N76<>\"\",教学计划表!AY76<>\"\"),教学计划表!I76,\"\")","v":""},{"$f":"IF(教学计划表!AY76<>\"\",教学计划表!N76,\"\")","v":""},{"$f":"IF(HG60<>\"\",IF(SEARCH(\"3\",教学计划表!AB76&\"3\",1)<=LEN(教学计划表!AB76),\"考试\",\"考查\"),\"\")","v":""},{"$f":"IF(教学计划表!EV76<>0,教学计划表!EV76,\"\")","v":""},{"$f":"IF(教学计划表!EV76<>0,教学计划表!FA76,\"\")","v":""},{"$f":"IF(教学计划表!EV76<>0,教学计划表!FB76,\"\")","v":""},{"$f":"IF(教学计划表!EV76<>0,教学计划表!PF76,\"\")","v":""},{"$f":"OFFSET($HF$2,SMALL(IF($HF$2:$HF$72<>\"\",ROW($HF$2:$HF$72),\"\"),ROW(HF59))-2,0)","v":{"$error":"#NUM!"}},{"$f":"OFFSET($HG$2,SMALL(IF($HG$2:$HG$72<>\"\",ROW($HG$2:$HG$72),\"\"),ROW(HG59))-2,0)","v":{"$error":"#NUM!"}},{"$f":"OFFSET($HH$2,SMALL(IF($HH$2:$HH$72<>\"\",ROW($HH$2:$HH$72),\"\"),ROW(HH59))-2,0)","v":{"$error":"#NUM!"}},{"$f":"OFFSET($HI$2,SMALL(IF($HI$2:$HI$72<>\"\",ROW($HI$2:$HI$72),\"\"),ROW(HI59))-2,0)","v":{"$error":"#NUM!"}},{"$f":"OFFSET($HJ$2,SMALL(IF($HJ$2:$HJ$72<>\"\",ROW($HJ$2:$HJ$72),\"\"),ROW(HJ59))-2,0)","v":{"$error":"#NUM!"}},{"$f":"OFFSET($HK$2,SMALL(IF($HK$2:$HK$72<>\"\",ROW($HK$2:$HK$72),\"\"),ROW(HK59))-2,0)","v":{"$error":"#NUM!"}},{"$f":"OFFSET($HL$2,SMALL(IF($HL$2:$HL$72<>\"\",ROW($HL$2:$HL$72),\"\"),ROW(HL59))-2,0)","v":{"$error":"#NUM!"}},{"$f":"IF(AND(教学计划表!N76<>\"\",教学计划表!BB76<>\"\"),教学计划表!I76,\"\")","v":""},{"$f":"IF(教学计划表!BB76<>\"\",教学计划表!N76,\"\")","v":""},{"$f":"IF(HU60<>\"\",IF(SEARCH(\"4\",教学计划表!AB76&\"4\",1)<=LEN(教学计划表!AB76),\"考试\",\"考查\"),\"\")","v":""},{"$f":"IF(教学计划表!FQ76<>0,教学计划表!FQ76,\"\")","v":""},{"$f":"IF(教学计划表!FQ76<>0,教学计划表!FV76,\"\")","v":""},{"$f":"IF(教学计划表!FQ76<>0,教学计划表!FW76,\"\")","v":""},{"$f":"IF(教学计划表!FQ76<>0,教学计划表!PR76,\"\")","v":""},{"$f":"OFFSET($HT$2,SMALL(IF($HT$2:$HT$72<>\"\",ROW($HT$2:$HT$72),\"\"),ROW(HT59))-2,0)","v":{"$error":"#NUM!"}},{"$f":"OFFSET($HU$2,SMALL(IF($HU$2:$HU$72<>\"\",ROW($HU$2:$HU$72),\"\"),ROW(HU59))-2,0)","v":{"$error":"#NUM!"}},{"$f":"OFFSET($HV$2,SMALL(IF($HV$2:$HV$72<>\"\",ROW($HV$2:$HV$72),\"\"),ROW(HV59))-2,0)","v":{"$error":"#NUM!"}},{"$f":"OFFSET($HW$2,SMALL(IF($HW$2:$HW$72<>\"\",ROW($HW$2:$HW$72),\"\"),ROW(HW59))-2,0)","v":{"$error":"#NUM!"}},{"$f":"OFFSET($HX$2,SMALL(IF($HX$2:$HX$72<>\"\",ROW($HX$2:$HX$72),\"\"),ROW(HX59))-2,0)","v":{"$error":"#NUM!"}},{"$f":"OFFSET($HY$2,SMALL(IF($HY$2:$HY$72<>\"\",ROW($HY$2:$HY$72),\"\"),ROW(HY59))-2,0)","v":{"$error":"#NUM!"}},{"$f":"OFFSET($HZ$2,SMALL(IF($HZ$2:$HZ$72<>\"\",ROW($HZ$2:$HZ$72),\"\"),ROW(HZ59))-2,0)","v":{"$error":"#NUM!"}},null,null,{"$f":"IF(AND(教学计划表!N76<>\"\",教学计划表!BE76<>\"\"),教学计划表!I76,\"\")","v":""},{"$f":"IF(教学计划表!BE76<>\"\",教学计划表!N76,\"\")","v":""},{"$f":"IF(IK60<>\"\",IF(SEARCH(\"5\",教学计划表!AB76&\"5\",1)<=LEN(教学计划表!AB76),\"考试\",\"考查\"),\"\")","v":""},{"$f":"IF(教学计划表!GL76<>0,教学计划表!GL76,\"\")","v":""},{"$f":"IF(教学计划表!GL76<>0,教学计划表!GQ76,\"\")","v":""},{"$f":"IF(教学计划表!GL76<>0,教学计划表!GR76,\"\")","v":""},{"$f":"IF(教学计划表!GL76<>0,教学计划表!QC76,\"\")","v":""},{"$f":"OFFSET($IJ$2,SMALL(IF($IJ$2:$IJ$72<>\"\",ROW($IJ$2:$IJ$72),\"\"),ROW(IJ59))-2,0)","v":{"$error":"#NUM!"}},{"$f":"OFFSET($IK$2,SMALL(IF($IK$2:$IK$72<>\"\",ROW($IK$2:$IK$72),\"\"),ROW(IK59))-2,0)","v":{"$error":"#NUM!"}},{"$f":"OFFSET($IL$2,SMALL(IF($IL$2:$IL$72<>\"\",ROW($IL$2:$IL$72),\"\"),ROW(IL59))-2,0)","v":{"$error":"#NUM!"}},{"$f":"OFFSET($IM$2,SMALL(IF($IM$2:$IM$72<>\"\",ROW($IM$2:$IM$72),\"\"),ROW(IM59))-2,0)","v":{"$error":"#NUM!"}},{"$f":"OFFSET($IN$2,SMALL(IF($IN$2:$IN$72<>\"\",ROW($IN$2:$IN$72),\"\"),ROW(IN59))-2,0)","v":{"$error":"#NUM!"}},{"$f":"OFFSET($IO$2,SMALL(IF($IO$2:$IO$72<>\"\",ROW($IO$2:$IO$72),\"\"),ROW(IO59))-2,0)","v":{"$error":"#NUM!"}},{"$f":"OFFSET($IP$2,SMALL(IF($IP$2:$IP$72<>\"\",ROW($IP$2:$IP$72),\"\"),ROW(IP59))-2,0)","v":{"$error":"#NUM!"}},null,{"$f":"IF(AND(教学计划表!N76<>\"\",教学计划表!BH76<>\"\"),教学计划表!I76,\"\")","v":""},{"$f":"IF(教学计划表!BH76<>\"\",教学计划表!N76,\"\")","v":""},{"$f":"IF(教学计划表!BH76<>\"\",IF(SEARCH(\"6\",教学计划表!AB76&\"6\",1)<=LEN(教学计划表!AB76),\"考试\",\"考查\"),\"\")","v":""},{"$f":"IF(教学计划表!BH76<>0,教学计划表!HG76,\"\")","v":""},{"$f":"IF(教学计划表!BH76<>0,教学计划表!HL76,\"\")","v":""},{"$f":"IF(教学计划表!BH76<>0,教学计划表!HM76,\"\")","v":""},{"$f":"IF(教学计划表!BH76<>0,教学计划表!QO76,\"\")","v":""},{"$f":"OFFSET($IY$2,SMALL(IF($IY$2:$IY$72<>\"\",ROW($IY$2:$IY$72),\"\"),ROW(IY59))-2,0)","v":{"$error":"#NUM!"}},{"$f":"OFFSET($IZ$2,SMALL(IF($IZ$2:$IZ$72<>\"\",ROW($IZ$2:$IZ$72),\"\"),ROW(IZ59))-2,0)","v":{"$error":"#NUM!"}},{"$f":"OFFSET($JA$2,SMALL(IF($JA$2:$JA$72<>\"\",ROW($JA$2:$JA$72),\"\"),ROW(JA59))-2,0)","v":{"$error":"#NUM!"}},{"$f":"OFFSET($JB$2,SMALL(IF($JB$2:$JB$72<>\"\",ROW($JB$2:$JB$72),\"\"),ROW(JB59))-2,0)","v":{"$error":"#NUM!"}},{"$f":"OFFSET($JC$2,SMALL(IF($JC$2:$JC$72<>\"\",ROW($JC$2:$JC$72),\"\"),ROW(JC59))-2,0)","v":{"$error":"#NUM!"}},{"$f":"OFFSET($JD$2,SMALL(IF($JD$2:$JD$72<>\"\",ROW($JD$2:$JD$72),\"\"),ROW(JD59))-2,0)","v":{"$error":"#NUM!"}},{"$f":"OFFSET($JE$2,SMALL(IF($JE$2:$JE$72<>\"\",ROW($JE$2:$JE$72),\"\"),ROW(JE59))-2,0)","v":{"$error":"#NUM!"}}]
["","","","","","","",null,"","","",{"$f":"IF(ISERROR(自动生成的开课信息!HB61),\"\",自动生成的开课信息!HB61)","v":""},{"$f":"IF(ISERROR(自动生成的开课信息!HC61),\"\",自动生成的开课信息!HC61)","v":""},{"$f":"IF(ISERROR(自动生成的开课信息!HD61),\"\",自动生成的开课信息!HD61)","v":""},{"$f":"IF(ISERROR(自动生成的开课信息!HE61),\"\",自动生成的开课信息!HE61)","v":""},null,"","","","","","","",null,"","","","","","","",null,"","","","","","","",null,"","","","","","","",null,null,null,null,null,null,null,null,null,null,null,null,null,null,null,null,null,null,null,null,null,null,null,null,null,null,null,null,null,null,null,null,null,null,null,null,null,null,null,null,null,null,null,null,null,null,null,null,null,null,null,null,null,null,null,null,null,null,null,null,null,null,null,null,null,null,null,null,null,null,null,null,null,null,null,null,null,null,null,null,null,null,null,null,null,null,null,null,null,null,null,null,null,null,null,null,null,null,null,null,null,null,null,null,null,null,null,null,null,null,null,null,null,null,null,null,null,null,null,null,null,null,null,null,null,null,null,null,null,null,null,null,null,null,null,null,null,null,{"$f":"IF(AND(教学计划表!N77<>\"\",教学计划表!AS77<>\"\"),教学计划表!I77,\"\")","v":""},{"$f":"IF(教学计划表!AS77<>\"\",教学计划表!N77,\"\")","v":""},{"$f":"IF(GE61<>\"\",IF(SEARCH(\"1\",教学计划表!AB77&\"1\",1)<=LEN(教学计划表!AB77),\"考试\",\"考查\"),\"\")","v":""},{"$f":"IF(教学计划表!DG77<>0,教学计划表!DG77,\"\")","v":""},{"$f":"IF(教学计划表!DG77<>0,教学计划表!DL77,\"\")","v":""},{"$f":"IF(教学计划表!DG77<>0,教学计划表!DM77,\"\")","v":""},{"$f":"IF(教学计划表!DG77<>0,教学计划表!OH77,\"\")","v":""},{"$f":"OFFSET($GD$2,SMALL(IF($GD$2:$GD$72<>\"\",ROW($2:$72),\"\"),ROW(GD60))-2,0)","v":{"$error":"#NUM!"}},{"$f":"OFFSET($GE$2,SMALL(IF($GE$2:$GE$72<>\"\",ROW($2:$72),\"\"),ROW(GE60))-2,0)","v":{"$error":"#NUM!"}},{"$f":"OFFSET($GF$2,SMALL(IF($GF$2:$GF$72<>\"\",ROW($2:$72),\"\"),ROW(GF60))-2,0)","v":{"$error":"#NUM!"}},{"$f":"OFFSET($GG$2,SMALL(IF($GG$2:$GG$72<>\"\",ROW($2:$72),\"\"),ROW(GG60))-2,0)","v":{"$error":"#NUM!"}},{"$f":"OFFSET($GH$2,SMALL(IF($GH$2:$GH$72<>\"\",ROW($2:$72),\"\"),ROW(GH60))-2,0)","v":{"$error":"#NUM!"}},{"$error":"#NUM!"},{"$f":"OFFSET($GJ$2,SMALL(IF($GJ$2:$GJ$72<>\"\",ROW($2:$72),\"\"),ROW(GJ60))-2,0)","v":{"$error":"#NUM!"}},{"$f":"IF(AND(教学计划表!N77<>\"\",教学计划表!AV77<>\"\"),教学计划表!I77,\"\")","v":""},{"$f":"IF(教学计划表!AV77<>\"\",教学计划表!N77,\"\")","v":""},{"$f":"IF(GS61<>\"\",IF(SEARCH(\"2\",教学计划表!AB77&\"2\",1)<=LEN(教学计划表!AB77),\"考试\",\"考查\"),\"\")","v":""},{"$f":"IF(教学计划表!EA77<>0,教学计划表!EA77,\"\")","v":""},{"$f":"IF(教学计划表!EA77<>0,教学计划表!EF77,\"\")","v":""},{"$f":"IF(教学计划表!EA77<>0,教学计划表!EG77,\"\")","v":""},{"$f":"IF(教学计划表!EA77<>0,教学计划表!OT77,\"\")","v":""},{"$f":"OFFSET($GR$2,SMALL(IF($GR$2:$GR$72<>\"\",ROW($I$2:$K$72),\"\"),ROW(GR60))-2,0)","v":{"$error":"#NUM!"}},{"$f":"OFFSET($GS$2,SMALL(IF($GS$2:$GS$72<>\"\",ROW($I$2:$K$72),\"\"),ROW(GS60))-2,0)","v":{"$error":"#NUM!"}},{"$f":"OFFSET($GT$2,SMALL(IF($GT$2:$GT$72<>\"\",ROW($I$2:$K$72),\"\"),ROW(GT60))-2,0)","v":{"$error":"#NUM!"}},{"$f":"OFFSET($GU$2,SMALL(IF($GU$2:$GU$72<>\"\",ROW($I$2:$K$72),\"\"),ROW(GU60))-2,0)","v":{"$error":"#NUM!"}},{"$f":"OFFSET($GV$2,SMALL(IF($GV$2:$GV$72<>\"\",ROW($GV$2:$GV$72),\"\"),ROW(GV60))-2,0)","v":{"$error":"#NUM!"}},{"$f":"OFFSET($GW$2,SMALL(IF($GW$2:$GW$72<>\"\",ROW($GW$2:$GW$72),\"\"),ROW(GW60))-2,0)","v":{"$error":"#NUM!"}},{"$f":"OFFSET($GX$2,SMALL(IF($GX$2:$GX$72<>\"\",ROW($GX$2:$GX$72),\"\"),ROW(GX60))-2,0)","v":{"$error":"#NUM!"}},{"$f":"IF(AND(教学计划表!N77<>\"\",教学计划表!AY77<>\"\"),教学计划表!I77,\"\")","v":""},{"$f":"IF(教学计划表!AY77<>\"\",教学计划表!N77,\"\")","v":""},{"$f":"IF(HG61<>\"\",IF(SEARCH(\"3\",教学计划表!AB77&\"3\",1)<=LEN(教学计划表!AB77),\"考试\",\"考查\"),\"\")","v":""},{"$f":"IF(教学计划表!EV77<>0,教学计划表!EV77,\"\")","v":""},{"$f":"IF(教学计划表!EV77<>0,教学计划表!FA77,\"\")","v":""},{"$f":"IF(教学计划表!EV77<>0,教学计划表!FB77,\"\")","v":""},{"$f":"IF(教学计划表!EV77<>0,教学计划表!PF77,\"\")","v":""},{"$f":"OFFSET($HF$2,SMALL(IF($HF$2:$HF$72<>\"\",ROW($HF$2:$HF$72),\"\"),ROW(HF60))-2,0)","v":{"$error":"#NUM!"}},{"$f":"OFFSET($HG$2,SMALL(IF($HG$2:$HG$72<>\"\",ROW($HG$2:$HG$72),\"\"),ROW(HG60))-2,0)","v":{"$error":"#NUM!"}},{"$f":"OFFSET($HH$2,SMALL(IF($HH$2:$HH$72<>\"\",ROW($HH$2:$HH$72),\"\"),ROW(HH60))-2,0)","v":{"$error":"#NUM!"}},{"$f":"OFFSET($HI$2,SMALL(IF($HI$2:$HI$72<>\"\",ROW($HI$2:$HI$72),\"\"),ROW(HI60))-2,0)","v":{"$error":"#NUM!"}},{"$f":"OFFSET($HJ$2,SMALL(IF($HJ$2:$HJ$72<>\"\",ROW($HJ$2:$HJ$72),\"\"),ROW(HJ60))-2,0)","v":{"$error":"#NUM!"}},{"$f":"OFFSET($HK$2,SMALL(IF($HK$2:$HK$72<>\"\",ROW($HK$2:$HK$72),\"\"),ROW(HK60))-2,0)","v":{"$error":"#NUM!"}},{"$f":"OFFSET($HL$2,SMALL(IF($HL$2:$HL$72<>\"\",ROW($HL$2:$HL$72),\"\"),ROW(HL60))-2,0)","v":{"$error":"#NUM!"}},{"$f":"IF(AND(教学计划表!N77<>\"\",教学计划表!BB77<>\"\"),教学计划表!I77,\"\")","v":""},{"$f":"IF(教学计划表!BB77<>\"\",教学计划表!N77,\"\")","v":""},{"$f":"IF(HU61<>\"\",IF(SEARCH(\"4\",教学计划表!AB77&\"4\",1)<=LEN(教学计划表!AB77),\"考试\",\"考查\"),\"\")","v":""},{"$f":"IF(教学计划表!FQ77<>0,教学计划表!FQ77,\"\")","v":""},{"$f":"IF(教学计划表!FQ77<>0,教学计划表!FV77,\"\")","v":""},{"$f":"IF(教学计划表!FQ77<>0,教学计划表!FW77,\"\")","v":""},{"$f":"IF(教学计划表!FQ77<>0,教学计划表!PR77,\"\")","v":""},{"$f":"OFFSET($HT$2,SMALL(IF($HT$2:$HT$72<>\"\",ROW($HT$2:$HT$72),\"\"),ROW(HT60))-2,0)","v":{"$error":"#NUM!"}},{"$f":"OFFSET($HU$2,SMALL(IF($HU$2:$HU$72<>\"\",ROW($HU$2:$HU$72),\"\"),ROW(HU60))-2,0)","v":{"$error":"#NUM!"}},{"$f":"OFFSET($HV$2,SMALL(IF($HV$2:$HV$72<>\"\",ROW($HV$2:$HV$72),\"\"),ROW(HV60))-2,0)","v":{"$error":"#NUM!"}},{"$f":"OFFSET($HW$2,SMALL(IF($HW$2:$HW$72<>\"\",ROW($HW$2:$HW$72),\"\"),ROW(HW60))-2,0)","v":{"$error":"#NUM!"}},{"$f":"OFFSET($HX$2,SMALL(IF($HX$2:$HX$72<>\"\",ROW($HX$2:$HX$72),\"\"),ROW(HX60))-2,0)","v":{"$error":"#NUM!"}},{"$f":"OFFSET($HY$2,SMALL(IF($HY$2:$HY$72<>\"\",ROW($HY$2:$HY$72),\"\"),ROW(HY60))-2,0)","v":{"$error":"#NUM!"}},{"$f":"OFFSET($HZ$2,SMALL(IF($HZ$2:$HZ$72<>\"\",ROW($HZ$2:$HZ$72),\"\"),ROW(HZ60))-2,0)","v":{"$error":"#NUM!"}},null,null,{"$f":"IF(AND(教学计划表!N77<>\"\",教学计划表!BE77<>\"\"),教学计划表!I77,\"\")","v":""},{"$f":"IF(教学计划表!BE77<>\"\",教学计划表!N77,\"\")","v":""},{"$f":"IF(IK61<>\"\",IF(SEARCH(\"5\",教学计划表!AB77&\"5\",1)<=LEN(教学计划表!AB77),\"考试\",\"考查\"),\"\")","v":""},{"$f":"IF(教学计划表!GL77<>0,教学计划表!GL77,\"\")","v":""},{"$f":"IF(教学计划表!GL77<>0,教学计划表!GQ77,\"\")","v":""},{"$f":"IF(教学计划表!GL77<>0,教学计划表!GR77,\"\")","v":""},{"$f":"IF(教学计划表!GL77<>0,教学计划表!QC77,\"\")","v":""},{"$f":"OFFSET($IJ$2,SMALL(IF($IJ$2:$IJ$72<>\"\",ROW($IJ$2:$IJ$72),\"\"),ROW(IJ60))-2,0)","v":{"$error":"#NUM!"}},{"$f":"OFFSET($IK$2,SMALL(IF($IK$2:$IK$72<>\"\",ROW($IK$2:$IK$72),\"\"),ROW(IK60))-2,0)","v":{"$error":"#NUM!"}},{"$f":"OFFSET($IL$2,SMALL(IF($IL$2:$IL$72<>\"\",ROW($IL$2:$IL$72),\"\"),ROW(IL60))-2,0)","v":{"$error":"#NUM!"}},{"$f":"OFFSET($IM$2,SMALL(IF($IM$2:$IM$72<>\"\",ROW($IM$2:$IM$72),\"\"),ROW(IM60))-2,0)","v":{"$error":"#NUM!"}},{"$f":"OFFSET($IN$2,SMALL(IF($IN$2:$IN$72<>\"\",ROW($IN$2:$IN$72),\"\"),ROW(IN60))-2,0)","v":{"$error":"#NUM!"}},{"$f":"OFFSET($IO$2,SMALL(IF($IO$2:$IO$72<>\"\",ROW($IO$2:$IO$72),\"\"),ROW(IO60))-2,0)","v":{"$error":"#NUM!"}},{"$f":"OFFSET($IP$2,SMALL(IF($IP$2:$IP$72<>\"\",ROW($IP$2:$IP$72),\"\"),ROW(IP60))-2,0)","v":{"$error":"#NUM!"}},null,{"$f":"IF(AND(教学计划表!N77<>\"\",教学计划表!BH77<>\"\"),教学计划表!I77,\"\")","v":""},{"$f":"IF(教学计划表!BH77<>\"\",教学计划表!N77,\"\")","v":""},{"$f":"IF(教学计划表!BH77<>\"\",IF(SEARCH(\"6\",教学计划表!AB77&\"6\",1)<=LEN(教学计划表!AB77),\"考试\",\"考查\"),\"\")","v":""},{"$f":"IF(教学计划表!BH77<>0,教学计划表!HG77,\"\")","v":""},{"$f":"IF(教学计划表!BH77<>0,教学计划表!HL77,\"\")","v":""},{"$f":"IF(教学计划表!BH77<>0,教学计划表!HM77,\"\")","v":""},{"$f":"IF(教学计划表!BH77<>0,教学计划表!QO77,\"\")","v":""},{"$f":"OFFSET($IY$2,SMALL(IF($IY$2:$IY$72<>\"\",ROW($IY$2:$IY$72),\"\"),ROW(IY60))-2,0)","v":{"$error":"#NUM!"}},{"$f":"OFFSET($IZ$2,SMALL(IF($IZ$2:$IZ$72<>\"\",ROW($IZ$2:$IZ$72),\"\"),ROW(IZ60))-2,0)","v":{"$error":"#NUM!"}},{"$f":"OFFSET($JA$2,SMALL(IF($JA$2:$JA$72<>\"\",ROW($JA$2:$JA$72),\"\"),ROW(JA60))-2,0)","v":{"$error":"#NUM!"}},{"$f":"OFFSET($JB$2,SMALL(IF($JB$2:$JB$72<>\"\",ROW($JB$2:$JB$72),\"\"),ROW(JB60))-2,0)","v":{"$error":"#NUM!"}},{"$f":"OFFSET($JC$2,SMALL(IF($JC$2:$JC$72<>\"\",ROW($JC$2:$JC$72),\"\"),ROW(JC60))-2,0)","v":{"$error":"#NUM!"}},{"$f":"OFFSET($JD$2,SMALL(IF($JD$2:$JD$72<>\"\",ROW($JD$2:$JD$72),\"\"),ROW(JD60))-2,0)","v":{"$error":"#NUM!"}},{"$f":"OFFSET($JE$2,SMALL(IF($JE$2:$JE$72<>\"\",ROW($JE$2:$JE$72),\"\"),ROW(JE60))-2,0)","v":{"$error":"#NUM!"}}]
["","","","","","","",null,"","","",{"$f":"IF(ISERROR(自动生成的开课信息!HB62),\"\",自动生成的开课信息!HB62)","v":""},{"$f":"IF(ISERROR(自动生成的开课信息!HC62),\"\",自动生成的开课信息!HC62)","v":""},{"$f":"IF(ISERROR(自动生成的开课信息!HD62),\"\",自动生成的开课信息!HD62)","v":""},{"$f":"IF(ISERROR(自动生成的开课信息!HE62),\"\",自动生成的开课信息!HE62)","v":""},null,"","","","","","","",null,"","","","","","","",null,"","","","","","","",null,"","","","","","","",null,null,null,null,null,null,null,null,null,null,null,null,null,null,null,null,null,null,null,null,null,null,null,null,null,null,null,null,null,null,null,null,null,null,null,null,null,null,null,null,null,null,null,null,null,null,null,null,null,null,null,null,null,null,null,null,null,null,null,null,null,null,null,null,null,null,null,null,null,null,null,null,null,null,null,null,null,null,null,null,null,null,null,null,null,null,null,null,null,null,null,null,null,null,null,null,null,null,null,null,null,null,null,null,null,null,null,null,null,null,null,null,null,null,null,null,null,null,null,null,null,null,null,null,null,null,null,null,null,null,null,null,null,null,null,null,null,null,{"$f":"IF(AND(教学计划表!N78<>\"\",教学计划表!AS78<>\"\"),教学计划表!I78,\"\")","v":""},{"$f":"IF(教学计划表!AS78<>\"\",教学计划表!N78,\"\")","v":""},{"$f":"IF(GE62<>\"\",IF(SEARCH(\"1\",教学计划表!AB78&\"1\",1)<=LEN(教学计划表!AB78),\"考试\",\"考查\"),\"\")","v":""},{"$f":"IF(教学计划表!DG78<>0,教学计划表!DG78,\"\")","v":""},{"$f":"IF(教学计划表!DG78<>0,教学计划表!DL78,\"\")","v":""},{"$f":"IF(教学计划表!DG78<>0,教学计划表!DM78,\"\")","v":""},{"$f":"IF(教学计划表!DG78<>0,教学计划表!OH78,\"\")","v":""},{"$f":"OFFSET($GD$2,SMALL(IF($GD$2:$GD$72<>\"\",ROW($2:$72),\"\"),ROW(GD61))-2,0)","v":{"$error":"#NUM!"}},{"$f":"OFFSET($GE$2,SMALL(IF($GE$2:$GE$72<>\"\",ROW($2:$72),\"\"),ROW(GE61))-2,0)","v":{"$error":"#NUM!"}},{"$f":"OFFSET($GF$2,SMALL(IF($GF$2:$GF$72<>\"\",ROW($2:$72),\"\"),ROW(GF61))-2,0)","v":{"$error":"#NUM!"}},{"$f":"OFFSET($GG$2,SMALL(IF($GG$2:$GG$72<>\"\",ROW($2:$72),\"\"),ROW(GG61))-2,0)","v":{"$error":"#NUM!"}},{"$f":"OFFSET($GH$2,SMALL(IF($GH$2:$GH$72<>\"\",ROW($2:$72),\"\"),ROW(GH61))-2,0)","v":{"$error":"#NUM!"}},{"$error":"#NUM!"},{"$f":"OFFSET($GJ$2,SMALL(IF($GJ$2:$GJ$72<>\"\",ROW($2:$72),\"\"),ROW(GJ61))-2,0)","v":{"$error":"#NUM!"}},{"$f":"IF(AND(教学计划表!N78<>\"\",教学计划表!AV78<>\"\"),教学计划表!I78,\"\")","v":""},{"$f":"IF(教学计划表!AV78<>\"\",教学计划表!N78,\"\")","v":""},{"$f":"IF(GS62<>\"\",IF(SEARCH(\"2\",教学计划表!AB78&\"2\",1)<=LEN(教学计划表!AB78),\"考试\",\"考查\"),\"\")","v":""},{"$f":"IF(教学计划表!EA78<>0,教学计划表!EA78,\"\")","v":""},{"$f":"IF(教学计划表!EA78<>0,教学计划表!EF78,\"\")","v":""},{"$f":"IF(教学计划表!EA78<>0,教学计划表!EG78,\"\")","v":""},{"$f":"IF(教学计划表!EA78<>0,教学计划表!OT78,\"\")","v":""},{"$f":"OFFSET($GR$2,SMALL(IF($GR$2:$GR$72<>\"\",ROW($I$2:$K$72),\"\"),ROW(GR61))-2,0)","v":{"$error":"#NUM!"}},{"$f":"OFFSET($GS$2,SMALL(IF($GS$2:$GS$72<>\"\",ROW($I$2:$K$72),\"\"),ROW(GS61))-2,0)","v":{"$error":"#NUM!"}},{"$f":"OFFSET($GT$2,SMALL(IF($GT$2:$GT$72<>\"\",ROW($I$2:$K$72),\"\"),ROW(GT61))-2,0)","v":{"$error":"#NUM!"}},{"$f":"OFFSET($GU$2,SMALL(IF($GU$2:$GU$72<>\"\",ROW($I$2:$K$72),\"\"),ROW(GU61))-2,0)","v":{"$error":"#NUM!"}},{"$f":"OFFSET($GV$2,SMALL(IF($GV$2:$GV$72<>\"\",ROW($GV$2:$GV$72),\"\"),ROW(GV61))-2,0)","v":{"$error":"#NUM!"}},{"$f":"OFFSET($GW$2,SMALL(IF($GW$2:$GW$72<>\"\",ROW($GW$2:$GW$72),\"\"),ROW(GW61))-2,0)","v":{"$error":"#NUM!"}},{"$f":"OFFSET($GX$2,SMALL(IF($GX$2:$GX$72<>\"\",ROW($GX$2:$GX$72),\"\"),ROW(GX61))-2,0)","v":{"$error":"#NUM!"}},{"$f":"IF(AND(教学计划表!N78<>\"\",教学计划表!AY78<>\"\"),教学计划表!I78,\"\")","v":""},{"$f":"IF(教学计划表!AY78<>\"\",教学计划表!N78,\"\")","v":""},{"$f":"IF(HG62<>\"\",IF(SEARCH(\"3\",教学计划表!AB78&\"3\",1)<=LEN(教学计划表!AB78),\"考试\",\"考查\"),\"\")","v":""},{"$f":"IF(教学计划表!EV78<>0,教学计划表!EV78,\"\")","v":""},{"$f":"IF(教学计划表!EV78<>0,教学计划表!FA78,\"\")","v":""},{"$f":"IF(教学计划表!EV78<>0,教学计划表!FB78,\"\")","v":""},{"$f":"IF(教学计划表!EV78<>0,教学计划表!PF78,\"\")","v":""},{"$f":"OFFSET($HF$2,SMALL(IF($HF$2:$HF$72<>\"\",ROW($HF$2:$HF$72),\"\"),ROW(HF61))-2,0)","v":{"$error":"#NUM!"}},{"$f":"OFFSET($HG$2,SMALL(IF($HG$2:$HG$72<>\"\",ROW($HG$2:$HG$72),\"\"),ROW(HG61))-2,0)","v":{"$error":"#NUM!"}},{"$f":"OFFSET($HH$2,SMALL(IF($HH$2:$HH$72<>\"\",ROW($HH$2:$HH$72),\"\"),ROW(HH61))-2,0)","v":{"$error":"#NUM!"}},{"$f":"OFFSET($HI$2,SMALL(IF($HI$2:$HI$72<>\"\",ROW($HI$2:$HI$72),\"\"),ROW(HI61))-2,0)","v":{"$error":"#NUM!"}},{"$f":"OFFSET($HJ$2,SMALL(IF($HJ$2:$HJ$72<>\"\",ROW($HJ$2:$HJ$72),\"\"),ROW(HJ61))-2,0)","v":{"$error":"#NUM!"}},{"$f":"OFFSET($HK$2,SMALL(IF($HK$2:$HK$72<>\"\",ROW($HK$2:$HK$72),\"\"),ROW(HK61))-2,0)","v":{"$error":"#NUM!"}},{"$f":"OFFSET($HL$2,SMALL(IF($HL$2:$HL$72<>\"\",ROW($HL$2:$HL$72),\"\"),ROW(HL61))-2,0)","v":{"$error":"#NUM!"}},{"$f":"IF(AND(教学计划表!N78<>\"\",教学计划表!BB78<>\"\"),教学计划表!I78,\"\")","v":""},{"$f":"IF(教学计划表!BB78<>\"\",教学计划表!N78,\"\")","v":""},{"$f":"IF(HU62<>\"\",IF(SEARCH(\"4\",教学计划表!AB78&\"4\",1)<=LEN(教学计划表!AB78),\"考试\",\"考查\"),\"\")","v":""},{"$f":"IF(教学计划表!FQ78<>0,教学计划表!FQ78,\"\")","v":""},{"$f":"IF(教学计划表!FQ78<>0,教学计划表!FV78,\"\")","v":""},{"$f":"IF(教学计划表!FQ78<>0,教学计划表!FW78,\"\")","v":""},{"$f":"IF(教学计划表!FQ78<>0,教学计划表!PR78,\"\")","v":""},{"$f":"OFFSET($HT$2,SMALL(IF($HT$2:$HT$72<>\"\",ROW($HT$2:$HT$72),\"\"),ROW(HT61))-2,0)","v":{"$error":"#NUM!"}},{"$f":"OFFSET($HU$2,SMALL(IF($HU$2:$HU$72<>\"\",ROW($HU$2:$HU$72),\"\"),ROW(HU61))-2,0)","v":{"$error":"#NUM!"}},{"$f":"OFFSET($HV$2,SMALL(IF($HV$2:$HV$72<>\"\",ROW($HV$2:$HV$72),\"\"),ROW(HV61))-2,0)","v":{"$error":"#NUM!"}},{"$f":"OFFSET($HW$2,SMALL(IF($HW$2:$HW$72<>\"\",ROW($HW$2:$HW$72),\"\"),ROW(HW61))-2,0)","v":{"$error":"#NUM!"}},{"$f":"OFFSET($HX$2,SMALL(IF($HX$2:$HX$72<>\"\",ROW($HX$2:$HX$72),\"\"),ROW(HX61))-2,0)","v":{"$error":"#NUM!"}},{"$f":"OFFSET($HY$2,SMALL(IF($HY$2:$HY$72<>\"\",ROW($HY$2:$HY$72),\"\"),ROW(HY61))-2,0)","v":{"$error":"#NUM!"}},{"$f":"OFFSET($HZ$2,SMALL(IF($HZ$2:$HZ$72<>\"\",ROW($HZ$2:$HZ$72),\"\"),ROW(HZ61))-2,0)","v":{"$error":"#NUM!"}},null,null,{"$f":"IF(AND(教学计划表!N78<>\"\",教学计划表!BE78<>\"\"),教学计划表!I78,\"\")","v":""},{"$f":"IF(教学计划表!BE78<>\"\",教学计划表!N78,\"\")","v":""},{"$f":"IF(IK62<>\"\",IF(SEARCH(\"5\",教学计划表!AB78&\"5\",1)<=LEN(教学计划表!AB78),\"考试\",\"考查\"),\"\")","v":""},{"$f":"IF(教学计划表!GL78<>0,教学计划表!GL78,\"\")","v":""},{"$f":"IF(教学计划表!GL78<>0,教学计划表!GQ78,\"\")","v":""},{"$f":"IF(教学计划表!GL78<>0,教学计划表!GR78,\"\")","v":""},{"$f":"IF(教学计划表!GL78<>0,教学计划表!QC78,\"\")","v":""},{"$f":"OFFSET($IJ$2,SMALL(IF($IJ$2:$IJ$72<>\"\",ROW($IJ$2:$IJ$72),\"\"),ROW(IJ61))-2,0)","v":{"$error":"#NUM!"}},{"$f":"OFFSET($IK$2,SMALL(IF($IK$2:$IK$72<>\"\",ROW($IK$2:$IK$72),\"\"),ROW(IK61))-2,0)","v":{"$error":"#NUM!"}},{"$f":"OFFSET($IL$2,SMALL(IF($IL$2:$IL$72<>\"\",ROW($IL$2:$IL$72),\"\"),ROW(IL61))-2,0)","v":{"$error":"#NUM!"}},{"$f":"OFFSET($IM$2,SMALL(IF($IM$2:$IM$72<>\"\",ROW($IM$2:$IM$72),\"\"),ROW(IM61))-2,0)","v":{"$error":"#NUM!"}},{"$f":"OFFSET($IN$2,SMALL(IF($IN$2:$IN$72<>\"\",ROW($IN$2:$IN$72),\"\"),ROW(IN61))-2,0)","v":{"$error":"#NUM!"}},{"$f":"OFFSET($IO$2,SMALL(IF($IO$2:$IO$72<>\"\",ROW($IO$2:$IO$72),\"\"),ROW(IO61))-2,0)","v":{"$error":"#NUM!"}},{"$f":"OFFSET($IP$2,SMALL(IF($IP$2:$IP$72<>\"\",ROW($IP$2:$IP$72),\"\"),ROW(IP61))-2,0)","v":{"$error":"#NUM!"}},null,{"$f":"IF(AND(教学计划表!N78<>\"\",教学计划表!BH78<>\"\"),教学计划表!I78,\"\")","v":""},{"$f":"IF(教学计划表!BH78<>\"\",教学计划表!N78,\"\")","v":""},{"$f":"IF(教学计划表!BH78<>\"\",IF(SEARCH(\"6\",教学计划表!AB78&\"6\",1)<=LEN(教学计划表!AB78),\"考试\",\"考查\"),\"\")","v":""},{"$f":"IF(教学计划表!BH78<>0,教学计划表!HG78,\"\")","v":""},{"$f":"IF(教学计划表!BH78<>0,教学计划表!HL78,\"\")","v":""},{"$f":"IF(教学计划表!BH78<>0,教学计划表!HM78,\"\")","v":""},{"$f":"IF(教学计划表!BH78<>0,教学计划表!QO78,\"\")","v":""},{"$f":"OFFSET($IY$2,SMALL(IF($IY$2:$IY$72<>\"\",ROW($IY$2:$IY$72),\"\"),ROW(IY61))-2,0)","v":{"$error":"#NUM!"}},{"$f":"OFFSET($IZ$2,SMALL(IF($IZ$2:$IZ$72<>\"\",ROW($IZ$2:$IZ$72),\"\"),ROW(IZ61))-2,0)","v":{"$error":"#NUM!"}},{"$f":"OFFSET($JA$2,SMALL(IF($JA$2:$JA$72<>\"\",ROW($JA$2:$JA$72),\"\"),ROW(JA61))-2,0)","v":{"$error":"#NUM!"}},{"$f":"OFFSET($JB$2,SMALL(IF($JB$2:$JB$72<>\"\",ROW($JB$2:$JB$72),\"\"),ROW(JB61))-2,0)","v":{"$error":"#NUM!"}},{"$f":"OFFSET($JC$2,SMALL(IF($JC$2:$JC$72<>\"\",ROW($JC$2:$JC$72),\"\"),ROW(JC61))-2,0)","v":{"$error":"#NUM!"}},{"$f":"OFFSET($JD$2,SMALL(IF($JD$2:$JD$72<>\"\",ROW($JD$2:$JD$72),\"\"),ROW(JD61))-2,0)","v":{"$error":"#NUM!"}},{"$f":"OFFSET($JE$2,SMALL(IF($JE$2:$JE$72<>\"\",ROW($JE$2:$JE$72),\"\"),ROW(JE61))-2,0)","v":{"$error":"#NUM!"}}]
["","","","","","","",null,"","","",{"$f":"IF(ISERROR(自动生成的开课信息!HB63),\"\",自动生成的开课信息!HB63)","v":""},{"$f":"IF(ISERROR(自动生成的开课信息!HC63),\"\",自动生成的开课信息!HC63)","v":""},{"$f":"IF(ISERROR(自动生成的开课信息!HD63),\"\",自动生成的开课信息!HD63)","v":""},{"$f":"IF(ISERROR(自动生成的开课信息!HE63),\"\",自动生成的开课信息!HE63)","v":""},null,"","","","","","","",null,"","","","","","","",null,"","","","","","","",null,"","","","","","","",null,null,null,null,null,null,null,null,null,null,null,null,null,null,null,null,null,null,null,null,null,null,null,null,null,null,null,null,null,null,null,null,null,null,null,null,null,null,null,null,null,null,null,null,null,null,null,null,null,null,null,null,null,null,null,null,null,null,null,null,null,null,null,null,null,null,null,null,null,null,null,null,null,null,null,null,null,null,null,null,null,null,null,null,null,null,null,null,null,null,null,null,null,null,null,null,null,null,null,null,null,null,null,null,null,null,null,null,null,null,null,null,null,null,null,null,null,null,null,null,null,null,null,null,null,null,null,null,null,null,null,null,null,null,null,null,null,null,{"$f":"IF(AND(教学计划表!N79<>\"\",教学计划表!AS79<>\"\"),教学计划表!I79,\"\")","v":""},{"$f":"IF(教学计划表!AS79<>\"\",教学计划表!N79,\"\")","v":""},{"$f":"IF(GE63<>\"\",IF(SEARCH(\"1\",教学计划表!AB79&\"1\",1)<=LEN(教学计划表!AB79),\"考试\",\"考查\"),\"\")","v":""},{"$f":"IF(教学计划表!DG79<>0,教学计划表!DG79,\"\")","v":""},{"$f":"IF(教学计划表!DG79<>0,教学计划表!DL79,\"\")","v":""},{"$f":"IF(教学计划表!DG79<>0,教学计划表!DM79,\"\")","v":""},{"$f":"IF(教学计划表!DG79<>0,教学计划表!OH79,\"\")","v":""},{"$f":"OFFSET($GD$2,SMALL(IF($GD$2:$GD$72<>\"\",ROW($2:$72),\"\"),ROW(GD62))-2,0)","v":{"$error":"#NUM!"}},{"$f":"OFFSET($GE$2,SMALL(IF($GE$2:$GE$72<>\"\",ROW($2:$72),\"\"),ROW(GE62))-2,0)","v":{"$error":"#NUM!"}},{"$f":"OFFSET($GF$2,SMALL(IF($GF$2:$GF$72<>\"\",ROW($2:$72),\"\"),ROW(GF62))-2,0)","v":{"$error":"#NUM!"}},{"$f":"OFFSET($GG$2,SMALL(IF($GG$2:$GG$72<>\"\",ROW($2:$72),\"\"),ROW(GG62))-2,0)","v":{"$error":"#NUM!"}},{"$f":"OFFSET($GH$2,SMALL(IF($GH$2:$GH$72<>\"\",ROW($2:$72),\"\"),ROW(GH62))-2,0)","v":{"$error":"#NUM!"}},{"$error":"#NUM!"},{"$f":"OFFSET($GJ$2,SMALL(IF($GJ$2:$GJ$72<>\"\",ROW($2:$72),\"\"),ROW(GJ62))-2,0)","v":{"$error":"#NUM!"}},{"$f":"IF(AND(教学计划表!N79<>\"\",教学计划表!AV79<>\"\"),教学计划表!I79,\"\")","v":""},{"$f":"IF(教学计划表!AV79<>\"\",教学计划表!N79,\"\")","v":""},{"$f":"IF(GS63<>\"\",IF(SEARCH(\"2\",教学计划表!AB79&\"2\",1)<=LEN(教学计划表!AB79),\"考试\",\"考查\"),\"\")","v":""},{"$f":"IF(教学计划表!EA79<>0,教学计划表!EA79,\"\")","v":""},{"$f":"IF(教学计划表!EA79<>0,教学计划表!EF79,\"\")","v":""},{"$f":"IF(教学计划表!EA79<>0,教学计划表!EG79,\"\")","v":""},{"$f":"IF(教学计划表!EA79<>0,教学计划表!OT79,\"\")","v":""},{"$f":"OFFSET($GR$2,SMALL(IF($GR$2:$GR$72<>\"\",ROW($I$2:$K$72),\"\"),ROW(GR62))-2,0)","v":{"$error":"#NUM!"}},{"$f":"OFFSET($GS$2,SMALL(IF($GS$2:$GS$72<>\"\",ROW($I$2:$K$72),\"\"),ROW(GS62))-2,0)","v":{"$error":"#NUM!"}},{"$f":"OFFSET($GT$2,SMALL(IF($GT$2:$GT$72<>\"\",ROW($I$2:$K$72),\"\"),ROW(GT62))-2,0)","v":{"$error":"#NUM!"}},{"$f":"OFFSET($GU$2,SMALL(IF($GU$2:$GU$72<>\"\",ROW($I$2:$K$72),\"\"),ROW(GU62))-2,0)","v":{"$error":"#NUM!"}},{"$f":"OFFSET($GV$2,SMALL(IF($GV$2:$GV$72<>\"\",ROW($GV$2:$GV$72),\"\"),ROW(GV62))-2,0)","v":{"$error":"#NUM!"}},{"$f":"OFFSET($GW$2,SMALL(IF($GW$2:$GW$72<>\"\",ROW($GW$2:$GW$72),\"\"),ROW(GW62))-2,0)","v":{"$error":"#NUM!"}},{"$f":"OFFSET($GX$2,SMALL(IF($GX$2:$GX$72<>\"\",ROW($GX$2:$GX$72),\"\"),ROW(GX62))-2,0)","v":{"$error":"#NUM!"}},{"$f":"IF(AND(教学计划表!N79<>\"\",教学计划表!AY79<>\"\"),教学计划表!I79,\"\")","v":""},{"$f":"IF(教学计划表!AY79<>\"\",教学计划表!N79,\"\")","v":""},{"$f":"IF(HG63<>\"\",IF(SEARCH(\"3\",教学计划表!AB79&\"3\",1)<=LEN(教学计划表!AB79),\"考试\",\"考查\"),\"\")","v":""},{"$f":"IF(教学计划表!EV79<>0,教学计划表!EV79,\"\")","v":""},{"$f":"IF(教学计划表!EV79<>0,教学计划表!FA79,\"\")","v":""},{"$f":"IF(教学计划表!EV79<>0,教学计划表!FB79,\"\")","v":""},{"$f":"IF(教学计划表!EV79<>0,教学计划表!PF79,\"\")","v":""},{"$f":"OFFSET($HF$2,SMALL(IF($HF$2:$HF$72<>\"\",ROW($HF$2:$HF$72),\"\"),ROW(HF62))-2,0)","v":{"$error":"#NUM!"}},{"$f":"OFFSET($HG$2,SMALL(IF($HG$2:$HG$72<>\"\",ROW($HG$2:$HG$72),\"\"),ROW(HG62))-2,0)","v":{"$error":"#NUM!"}},{"$f":"OFFSET($HH$2,SMALL(IF($HH$2:$HH$72<>\"\",ROW($HH$2:$HH$72),\"\"),ROW(HH62))-2,0)","v":{"$error":"#NUM!"}},{"$f":"OFFSET($HI$2,SMALL(IF($HI$2:$HI$72<>\"\",ROW($HI$2:$HI$72),\"\"),ROW(HI62))-2,0)","v":{"$error":"#NUM!"}},{"$f":"OFFSET($HJ$2,SMALL(IF($HJ$2:$HJ$72<>\"\",ROW($HJ$2:$HJ$72),\"\"),ROW(HJ62))-2,0)","v":{"$error":"#NUM!"}},{"$f":"OFFSET($HK$2,SMALL(IF($HK$2:$HK$72<>\"\",ROW($HK$2:$HK$72),\"\"),ROW(HK62))-2,0)","v":{"$error":"#NUM!"}},{"$f":"OFFSET($HL$2,SMALL(IF($HL$2:$HL$72<>\"\",ROW($HL$2:$HL$72),\"\"),ROW(HL62))-2,0)","v":{"$error":"#NUM!"}},{"$f":"IF(AND(教学计划表!N79<>\"\",教学计划表!BB79<>\"\"),教学计划表!I79,\"\")","v":""},{"$f":"IF(教学计划表!BB79<>\"\",教学计划表!N79,\"\")","v":""},{"$f":"IF(HU63<>\"\",IF(SEARCH(\"4\",教学计划表!AB79&\"4\",1)<=LEN(教学计划表!AB79),\"考试\",\"考查\"),\"\")","v":""},{"$f":"IF(教学计划表!FQ79<>0,教学计划表!FQ79,\"\")","v":""},{"$f":"IF(教学计划表!FQ79<>0,教学计划表!FV79,\"\")","v":""},{"$f":"IF(教学计划表!FQ79<>0,教学计划表!FW79,\"\")","v":""},{"$f":"IF(教学计划表!FQ79<>0,教学计划表!PR79,\"\")","v":""},{"$f":"OFFSET($HT$2,SMALL(IF($HT$2:$HT$72<>\"\",ROW($HT$2:$HT$72),\"\"),ROW(HT62))-2,0)","v":{"$error":"#NUM!"}},{"$f":"OFFSET($HU$2,SMALL(IF($HU$2:$HU$72<>\"\",ROW($HU$2:$HU$72),\"\"),ROW(HU62))-2,0)","v":{"$error":"#NUM!"}},{"$f":"OFFSET($HV$2,SMALL(IF($HV$2:$HV$72<>\"\",ROW($HV$2:$HV$72),\"\"),ROW(HV62))-2,0)","v":{"$error":"#NUM!"}},{"$f":"OFFSET($HW$2,SMALL(IF($HW$2:$HW$72<>\"\",ROW($HW$2:$HW$72),\"\"),ROW(HW62))-2,0)","v":{"$error":"#NUM!"}},{"$f":"OFFSET($HX$2,SMALL(IF($HX$2:$HX$72<>\"\",ROW($HX$2:$HX$72),\"\"),ROW(HX62))-2,0)","v":{"$error":"#NUM!"}},{"$f":"OFFSET($HY$2,SMALL(IF($HY$2:$HY$72<>\"\",ROW($HY$2:$HY$72),\"\"),ROW(HY62))-2,0)","v":{"$error":"#NUM!"}},{"$f":"OFFSET($HZ$2,SMALL(IF($HZ$2:$HZ$72<>\"\",ROW($HZ$2:$HZ$72),\"\"),ROW(HZ62))-2,0)","v":{"$error":"#NUM!"}},null,null,{"$f":"IF(AND(教学计划表!N79<>\"\",教学计划表!BE79<>\"\"),教学计划表!I79,\"\")","v":""},{"$f":"IF(教学计划表!BE79<>\"\",教学计划表!N79,\"\")","v":""},{"$f":"IF(IK63<>\"\",IF(SEARCH(\"5\",教学计划表!AB79&\"5\",1)<=LEN(教学计划表!AB79),\"考试\",\"考查\"),\"\")","v":""},{"$f":"IF(教学计划表!GL79<>0,教学计划表!GL79,\"\")","v":""},{"$f":"IF(教学计划表!GL79<>0,教学计划表!GQ79,\"\")","v":""},{"$f":"IF(教学计划表!GL79<>0,教学计划表!GR79,\"\")","v":""},{"$f":"IF(教学计划表!GL79<>0,教学计划表!QC79,\"\")","v":""},{"$f":"OFFSET($IJ$2,SMALL(IF($IJ$2:$IJ$72<>\"\",ROW($IJ$2:$IJ$72),\"\"),ROW(IJ62))-2,0)","v":{"$error":"#NUM!"}},{"$f":"OFFSET($IK$2,SMALL(IF($IK$2:$IK$72<>\"\",ROW($IK$2:$IK$72),\"\"),ROW(IK62))-2,0)","v":{"$error":"#NUM!"}},{"$f":"OFFSET($IL$2,SMALL(IF($IL$2:$IL$72<>\"\",ROW($IL$2:$IL$72),\"\"),ROW(IL62))-2,0)","v":{"$error":"#NUM!"}},{"$f":"OFFSET($IM$2,SMALL(IF($IM$2:$IM$72<>\"\",ROW($IM$2:$IM$72),\"\"),ROW(IM62))-2,0)","v":{"$error":"#NUM!"}},{"$f":"OFFSET($IN$2,SMALL(IF($IN$2:$IN$72<>\"\",ROW($IN$2:$IN$72),\"\"),ROW(IN62))-2,0)","v":{"$error":"#NUM!"}},{"$f":"OFFSET($IO$2,SMALL(IF($IO$2:$IO$72<>\"\",ROW($IO$2:$IO$72),\"\"),ROW(IO62))-2,0)","v":{"$error":"#NUM!"}},{"$f":"OFFSET($IP$2,SMALL(IF($IP$2:$IP$72<>\"\",ROW($IP$2:$IP$72),\"\"),ROW(IP62))-2,0)","v":{"$error":"#NUM!"}},null,{"$f":"IF(AND(教学计划表!N79<>\"\",教学计划表!BH79<>\"\"),教学计划表!I79,\"\")","v":""},{"$f":"IF(教学计划表!BH79<>\"\",教学计划表!N79,\"\")","v":""},{"$f":"IF(教学计划表!BH79<>\"\",IF(SEARCH(\"6\",教学计划表!AB79&\"6\",1)<=LEN(教学计划表!AB79),\"考试\",\"考查\"),\"\")","v":""},{"$f":"IF(教学计划表!BH79<>0,教学计划表!HG79,\"\")","v":""},{"$f":"IF(教学计划表!BH79<>0,教学计划表!HL79,\"\")","v":""},{"$f":"IF(教学计划表!BH79<>0,教学计划表!HM79,\"\")","v":""},{"$f":"IF(教学计划表!BH79<>0,教学计划表!QO79,\"\")","v":""},{"$f":"OFFSET($IY$2,SMALL(IF($IY$2:$IY$72<>\"\",ROW($IY$2:$IY$72),\"\"),ROW(IY62))-2,0)","v":{"$error":"#NUM!"}},{"$f":"OFFSET($IZ$2,SMALL(IF($IZ$2:$IZ$72<>\"\",ROW($IZ$2:$IZ$72),\"\"),ROW(IZ62))-2,0)","v":{"$error":"#NUM!"}},{"$f":"OFFSET($JA$2,SMALL(IF($JA$2:$JA$72<>\"\",ROW($JA$2:$JA$72),\"\"),ROW(JA62))-2,0)","v":{"$error":"#NUM!"}},{"$f":"OFFSET($JB$2,SMALL(IF($JB$2:$JB$72<>\"\",ROW($JB$2:$JB$72),\"\"),ROW(JB62))-2,0)","v":{"$error":"#NUM!"}},{"$f":"OFFSET($JC$2,SMALL(IF($JC$2:$JC$72<>\"\",ROW($JC$2:$JC$72),\"\"),ROW(JC62))-2,0)","v":{"$error":"#NUM!"}},{"$f":"OFFSET($JD$2,SMALL(IF($JD$2:$JD$72<>\"\",ROW($JD$2:$JD$72),\"\"),ROW(JD62))-2,0)","v":{"$error":"#NUM!"}},{"$f":"OFFSET($JE$2,SMALL(IF($JE$2:$JE$72<>\"\",ROW($JE$2:$JE$72),\"\"),ROW(JE62))-2,0)","v":{"$error":"#NUM!"}}]
["","","","","","","",null,"","","",{"$f":"IF(ISERROR(自动生成的开课信息!HB64),\"\",自动生成的开课信息!HB64)","v":""},{"$f":"IF(ISERROR(自动生成的开课信息!HC64),\"\",自动生成的开课信息!HC64)","v":""},{"$f":"IF(ISERROR(自动生成的开课信息!HD64),\"\",自动生成的开课信息!HD64)","v":""},{"$f":"IF(ISERROR(自动生成的开课信息!HE64),\"\",自动生成的开课信息!HE64)","v":""},null,"","","","","","","",null,"","","","","","","",null,"","","","","","","",null,"","","","","","","",null,null,null,null,null,null,null,null,null,null,null,null,null,null,null,null,null,null,null,null,null,null,null,null,null,null,null,null,null,null,null,null,null,null,null,null,null,null,null,null,null,null,null,null,null,null,null,null,null,null,null,null,null,null,null,null,null,null,null,null,null,null,null,null,null,null,null,null,null,null,null,null,null,null,null,null,null,null,null,null,null,null,null,null,null,null,null,null,null,null,null,null,null,null,null,null,null,null,null,null,null,null,null,null,null,null,null,null,null,null,null,null,null,null,null,null,null,null,null,null,null,null,null,null,null,null,null,null,null,null,null,null,null,null,null,null,null,null,{"$f":"IF(AND(教学计划表!N80<>\"\",教学计划表!AS80<>\"\"),教学计划表!I80,\"\")","v":""},{"$f":"IF(教学计划表!AS80<>\"\",教学计划表!N80,\"\")","v":""},{"$f":"IF(GE64<>\"\",IF(SEARCH(\"1\",教学计划表!AB80&\"1\",1)<=LEN(教学计划表!AB80),\"考试\",\"考查\"),\"\")","v":""},{"$f":"IF(教学计划表!DG80<>0,教学计划表!DG80,\"\")","v":""},{"$f":"IF(教学计划表!DG80<>0,教学计划表!DL80,\"\")","v":""},{"$f":"IF(教学计划表!DG80<>0,教学计划表!DM80,\"\")","v":""},{"$f":"IF(教学计划表!DG80<>0,教学计划表!OH80,\"\")","v":""},{"$f":"OFFSET($GD$2,SMALL(IF($GD$2:$GD$72<>\"\",ROW($2:$72),\"\"),ROW(GD63))-2,0)","v":{"$error":"#NUM!"}},{"$f":"OFFSET($GE$2,SMALL(IF($GE$2:$GE$72<>\"\",ROW($2:$72),\"\"),ROW(GE63))-2,0)","v":{"$error":"#NUM!"}},{"$f":"OFFSET($GF$2,SMALL(IF($GF$2:$GF$72<>\"\",ROW($2:$72),\"\"),ROW(GF63))-2,0)","v":{"$error":"#NUM!"}},{"$f":"OFFSET($GG$2,SMALL(IF($GG$2:$GG$72<>\"\",ROW($2:$72),\"\"),ROW(GG63))-2,0)","v":{"$error":"#NUM!"}},{"$f":"OFFSET($GH$2,SMALL(IF($GH$2:$GH$72<>\"\",ROW($2:$72),\"\"),ROW(GH63))-2,0)","v":{"$error":"#NUM!"}},{"$error":"#NUM!"},{"$f":"OFFSET($GJ$2,SMALL(IF($GJ$2:$GJ$72<>\"\",ROW($2:$72),\"\"),ROW(GJ63))-2,0)","v":{"$error":"#NUM!"}},{"$f":"IF(AND(教学计划表!N80<>\"\",教学计划表!AV80<>\"\"),教学计划表!I80,\"\")","v":""},{"$f":"IF(教学计划表!AV80<>\"\",教学计划表!N80,\"\")","v":""},{"$f":"IF(GS64<>\"\",IF(SEARCH(\"2\",教学计划表!AB80&\"2\",1)<=LEN(教学计划表!AB80),\"考试\",\"考查\"),\"\")","v":""},{"$f":"IF(教学计划表!EA80<>0,教学计划表!EA80,\"\")","v":""},{"$f":"IF(教学计划表!EA80<>0,教学计划表!EF80,\"\")","v":""},{"$f":"IF(教学计划表!EA80<>0,教学计划表!EG80,\"\")","v":""},{"$f":"IF(教学计划表!EA80<>0,教学计划表!OT80,\"\")","v":""},{"$f":"OFFSET($GR$2,SMALL(IF($GR$2:$GR$72<>\"\",ROW($I$2:$K$72),\"\"),ROW(GR63))-2,0)","v":{"$error":"#NUM!"}},{"$f":"OFFSET($GS$2,SMALL(IF($GS$2:$GS$72<>\"\",ROW($I$2:$K$72),\"\"),ROW(GS63))-2,0)","v":{"$error":"#NUM!"}},{"$f":"OFFSET($GT$2,SMALL(IF($GT$2:$GT$72<>\"\",ROW($I$2:$K$72),\"\"),ROW(GT63))-2,0)","v":{"$error":"#NUM!"}},{"$f":"OFFSET($GU$2,SMALL(IF($GU$2:$GU$72<>\"\",ROW($I$2:$K$72),\"\"),ROW(GU63))-2,0)","v":{"$error":"#NUM!"}},{"$f":"OFFSET($GV$2,SMALL(IF($GV$2:$GV$72<>\"\",ROW($GV$2:$GV$72),\"\"),ROW(GV63))-2,0)","v":{"$error":"#NUM!"}},{"$f":"OFFSET($GW$2,SMALL(IF($GW$2:$GW$72<>\"\",ROW($GW$2:$GW$72),\"\"),ROW(GW63))-2,0)","v":{"$error":"#NUM!"}},{"$f":"OFFSET($GX$2,SMALL(IF($GX$2:$GX$72<>\"\",ROW($GX$2:$GX$72),\"\"),ROW(GX63))-2,0)","v":{"$error":"#NUM!"}},{"$f":"IF(AND(教学计划表!N80<>\"\",教学计划表!AY80<>\"\"),教学计划表!I80,\"\")","v":""},{"$f":"IF(教学计划表!AY80<>\"\",教学计划表!N80,\"\")","v":""},{"$f":"IF(HG64<>\"\",IF(SEARCH(\"3\",教学计划表!AB80&\"3\",1)<=LEN(教学计划表!AB80),\"考试\",\"考查\"),\"\")","v":""},{"$f":"IF(教学计划表!EV80<>0,教学计划表!EV80,\"\")","v":""},{"$f":"IF(教学计划表!EV80<>0,教学计划表!FA80,\"\")","v":""},{"$f":"IF(教学计划表!EV80<>0,教学计划表!FB80,\"\")","v":""},{"$f":"IF(教学计划表!EV80<>0,教学计划表!PF80,\"\")","v":""},{"$f":"OFFSET($HF$2,SMALL(IF($HF$2:$HF$72<>\"\",ROW($HF$2:$HF$72),\"\"),ROW(HF63))-2,0)","v":{"$error":"#NUM!"}},{"$f":"OFFSET($HG$2,SMALL(IF($HG$2:$HG$72<>\"\",ROW($HG$2:$HG$72),\"\"),ROW(HG63))-2,0)","v":{"$error":"#NUM!"}},{"$f":"OFFSET($HH$2,SMALL(IF($HH$2:$HH$72<>\"\",ROW($HH$2:$HH$72),\"\"),ROW(HH63))-2,0)","v":{"$error":"#NUM!"}},{"$f":"OFFSET($HI$2,SMALL(IF($HI$2:$HI$72<>\"\",ROW($HI$2:$HI$72),\"\"),ROW(HI63))-2,0)","v":{"$error":"#NUM!"}},{"$f":"OFFSET($HJ$2,SMALL(IF($HJ$2:$HJ$72<>\"\",ROW($HJ$2:$HJ$72),\"\"),ROW(HJ63))-2,0)","v":{"$error":"#NUM!"}},{"$f":"OFFSET($HK$2,SMALL(IF($HK$2:$HK$72<>\"\",ROW($HK$2:$HK$72),\"\"),ROW(HK63))-2,0)","v":{"$error":"#NUM!"}},{"$f":"OFFSET($HL$2,SMALL(IF($HL$2:$HL$72<>\"\",ROW($HL$2:$HL$72),\"\"),ROW(HL63))-2,0)","v":{"$error":"#NUM!"}},{"$f":"IF(AND(教学计划表!N80<>\"\",教学计划表!BB80<>\"\"),教学计划表!I80,\"\")","v":""},{"$f":"IF(教学计划表!BB80<>\"\",教学计划表!N80,\"\")","v":""},{"$f":"IF(HU64<>\"\",IF(SEARCH(\"4\",教学计划表!AB80&\"4\",1)<=LEN(教学计划表!AB80),\"考试\",\"考查\"),\"\")","v":""},{"$f":"IF(教学计划表!FQ80<>0,教学计划表!FQ80,\"\")","v":""},{"$f":"IF(教学计划表!FQ80<>0,教学计划表!FV80,\"\")","v":""},{"$f":"IF(教学计划表!FQ80<>0,教学计划表!FW80,\"\")","v":""},{"$f":"IF(教学计划表!FQ80<>0,教学计划表!PR80,\"\")","v":""},{"$f":"OFFSET($HT$2,SMALL(IF($HT$2:$HT$72<>\"\",ROW($HT$2:$HT$72),\"\"),ROW(HT63))-2,0)","v":{"$error":"#NUM!"}},{"$f":"OFFSET($HU$2,SMALL(IF($HU$2:$HU$72<>\"\",ROW($HU$2:$HU$72),\"\"),ROW(HU63))-2,0)","v":{"$error":"#NUM!"}},{"$f":"OFFSET($HV$2,SMALL(IF($HV$2:$HV$72<>\"\",ROW($HV$2:$HV$72),\"\"),ROW(HV63))-2,0)","v":{"$error":"#NUM!"}},{"$f":"OFFSET($HW$2,SMALL(IF($HW$2:$HW$72<>\"\",ROW($HW$2:$HW$72),\"\"),ROW(HW63))-2,0)","v":{"$error":"#NUM!"}},{"$f":"OFFSET($HX$2,SMALL(IF($HX$2:$HX$72<>\"\",ROW($HX$2:$HX$72),\"\"),ROW(HX63))-2,0)","v":{"$error":"#NUM!"}},{"$f":"OFFSET($HY$2,SMALL(IF($HY$2:$HY$72<>\"\",ROW($HY$2:$HY$72),\"\"),ROW(HY63))-2,0)","v":{"$error":"#NUM!"}},{"$f":"OFFSET($HZ$2,SMALL(IF($HZ$2:$HZ$72<>\"\",ROW($HZ$2:$HZ$72),\"\"),ROW(HZ63))-2,0)","v":{"$error":"#NUM!"}},null,null,{"$f":"IF(AND(教学计划表!N80<>\"\",教学计划表!BE80<>\"\"),教学计划表!I80,\"\")","v":""},{"$f":"IF(教学计划表!BE80<>\"\",教学计划表!N80,\"\")","v":""},{"$f":"IF(IK64<>\"\",IF(SEARCH(\"5\",教学计划表!AB80&\"5\",1)<=LEN(教学计划表!AB80),\"考试\",\"考查\"),\"\")","v":""},{"$f":"IF(教学计划表!GL80<>0,教学计划表!GL80,\"\")","v":""},{"$f":"IF(教学计划表!GL80<>0,教学计划表!GQ80,\"\")","v":""},{"$f":"IF(教学计划表!GL80<>0,教学计划表!GR80,\"\")","v":""},{"$f":"IF(教学计划表!GL80<>0,教学计划表!QC80,\"\")","v":""},{"$f":"OFFSET($IJ$2,SMALL(IF($IJ$2:$IJ$72<>\"\",ROW($IJ$2:$IJ$72),\"\"),ROW(IJ63))-2,0)","v":{"$error":"#NUM!"}},{"$f":"OFFSET($IK$2,SMALL(IF($IK$2:$IK$72<>\"\",ROW($IK$2:$IK$72),\"\"),ROW(IK63))-2,0)","v":{"$error":"#NUM!"}},{"$f":"OFFSET($IL$2,SMALL(IF($IL$2:$IL$72<>\"\",ROW($IL$2:$IL$72),\"\"),ROW(IL63))-2,0)","v":{"$error":"#NUM!"}},{"$f":"OFFSET($IM$2,SMALL(IF($IM$2:$IM$72<>\"\",ROW($IM$2:$IM$72),\"\"),ROW(IM63))-2,0)","v":{"$error":"#NUM!"}},{"$f":"OFFSET($IN$2,SMALL(IF($IN$2:$IN$72<>\"\",ROW($IN$2:$IN$72),\"\"),ROW(IN63))-2,0)","v":{"$error":"#NUM!"}},{"$f":"OFFSET($IO$2,SMALL(IF($IO$2:$IO$72<>\"\",ROW($IO$2:$IO$72),\"\"),ROW(IO63))-2,0)","v":{"$error":"#NUM!"}},{"$f":"OFFSET($IP$2,SMALL(IF($IP$2:$IP$72<>\"\",ROW($IP$2:$IP$72),\"\"),ROW(IP63))-2,0)","v":{"$error":"#NUM!"}},null,{"$f":"IF(AND(教学计划表!N80<>\"\",教学计划表!BH80<>\"\"),教学计划表!I80,\"\")","v":""},{"$f":"IF(教学计划表!BH80<>\"\",教学计划表!N80,\"\")","v":""},{"$f":"IF(教学计划表!BH80<>\"\",IF(SEARCH(\"6\",教学计划表!AB80&\"6\",1)<=LEN(教学计划表!AB80),\"考试\",\"考查\"),\"\")","v":""},{"$f":"IF(教学计划表!BH80<>0,教学计划表!HG80,\"\")","v":""},{"$f":"IF(教学计划表!BH80<>0,教学计划表!HL80,\"\")","v":""},{"$f":"IF(教学计划表!BH80<>0,教学计划表!HM80,\"\")","v":""},{"$f":"IF(教学计划表!BH80<>0,教学计划表!QO80,\"\")","v":""},{"$f":"OFFSET($IY$2,SMALL(IF($IY$2:$IY$72<>\"\",ROW($IY$2:$IY$72),\"\"),ROW(IY63))-2,0)","v":{"$error":"#NUM!"}},{"$f":"OFFSET($IZ$2,SMALL(IF($IZ$2:$IZ$72<>\"\",ROW($IZ$2:$IZ$72),\"\"),ROW(IZ63))-2,0)","v":{"$error":"#NUM!"}},{"$f":"OFFSET($JA$2,SMALL(IF($JA$2:$JA$72<>\"\",ROW($JA$2:$JA$72),\"\"),ROW(JA63))-2,0)","v":{"$error":"#NUM!"}},{"$f":"OFFSET($JB$2,SMALL(IF($JB$2:$JB$72<>\"\",ROW($JB$2:$JB$72),\"\"),ROW(JB63))-2,0)","v":{"$error":"#NUM!"}},{"$f":"OFFSET($JC$2,SMALL(IF($JC$2:$JC$72<>\"\",ROW($JC$2:$JC$72),\"\"),ROW(JC63))-2,0)","v":{"$error":"#NUM!"}},{"$f":"OFFSET($JD$2,SMALL(IF($JD$2:$JD$72<>\"\",ROW($JD$2:$JD$72),\"\"),ROW(JD63))-2,0)","v":{"$error":"#NUM!"}},{"$f":"OFFSET($JE$2,SMALL(IF($JE$2:$JE$72<>\"\",ROW($JE$2:$JE$72),\"\"),ROW(JE63))-2,0)","v":{"$error":"#NUM!"}}]
["","","","","","","",null,"","","",{"$f":"IF(ISERROR(自动生成的开课信息!HB65),\"\",自动生成的开课信息!HB65)","v":""},{"$f":"IF(ISERROR(自动生成的开课信息!HC65),\"\",自动生成的开课信息!HC65)","v":""},{"$f":"IF(ISERROR(自动生成的开课信息!HD65),\"\",自动生成的开课信息!HD65)","v":""},{"$f":"IF(ISERROR(自动生成的开课信息!HE65),\"\",自动生成的开课信息!HE65)","v":""},null,"","","","","","","",null,"","","","","","","",null,"","","","","","","",null,"","","","","","","",null,null,null,null,null,null,null,null,null,null,null,null,null,null,null,null,null,null,null,null,null,null,null,null,null,null,null,null,null,null,null,null,null,null,null,null,null,null,null,null,null,null,null,null,null,null,null,null,null,null,null,null,null,null,null,null,null,null,null,null,null,null,null,null,null,null,null,null,null,null,null,null,null,null,null,null,null,null,null,null,null,null,null,null,null,null,null,null,null,null,null,null,null,null,null,null,null,null,null,null,null,null,null,null,null,null,null,null,null,null,null,null,null,null,null,null,null,null,null,null,null,null,null,null,null,null,null,null,null,null,null,null,null,null,null,null,null,null,{"$f":"IF(AND(教学计划表!N81<>\"\",教学计划表!AS81<>\"\"),教学计划表!I81,\"\")","v":""},{"$f":"IF(教学计划表!AS81<>\"\",教学计划表!N81,\"\")","v":""},{"$f":"IF(GE65<>\"\",IF(SEARCH(\"1\",教学计划表!AB81&\"1\",1)<=LEN(教学计划表!AB81),\"考试\",\"考查\"),\"\")","v":""},{"$f":"IF(教学计划表!DG81<>0,教学计划表!DG81,\"\")","v":""},{"$f":"IF(教学计划表!DG81<>0,教学计划表!DL81,\"\")","v":""},{"$f":"IF(教学计划表!DG81<>0,教学计划表!DM81,\"\")","v":""},{"$f":"IF(教学计划表!DG81<>0,教学计划表!OH81,\"\")","v":""},{"$f":"OFFSET($GD$2,SMALL(IF($GD$2:$GD$72<>\"\",ROW($2:$72),\"\"),ROW(GD64))-2,0)","v":{"$error":"#NUM!"}},{"$f":"OFFSET($GE$2,SMALL(IF($GE$2:$GE$72<>\"\",ROW($2:$72),\"\"),ROW(GE64))-2,0)","v":{"$error":"#NUM!"}},{"$f":"OFFSET($GF$2,SMALL(IF($GF$2:$GF$72<>\"\",ROW($2:$72),\"\"),ROW(GF64))-2,0)","v":{"$error":"#NUM!"}},{"$f":"OFFSET($GG$2,SMALL(IF($GG$2:$GG$72<>\"\",ROW($2:$72),\"\"),ROW(GG64))-2,0)","v":{"$error":"#NUM!"}},{"$f":"OFFSET($GH$2,SMALL(IF($GH$2:$GH$72<>\"\",ROW($2:$72),\"\"),ROW(GH64))-2,0)","v":{"$error":"#NUM!"}},{"$error":"#NUM!"},{"$f":"OFFSET($GJ$2,SMALL(IF($GJ$2:$GJ$72<>\"\",ROW($2:$72),\"\"),ROW(GJ64))-2,0)","v":{"$error":"#NUM!"}},{"$f":"IF(AND(教学计划表!N81<>\"\",教学计划表!AV81<>\"\"),教学计划表!I81,\"\")","v":""},{"$f":"IF(教学计划表!AV81<>\"\",教学计划表!N81,\"\")","v":""},{"$f":"IF(GS65<>\"\",IF(SEARCH(\"2\",教学计划表!AB81&\"2\",1)<=LEN(教学计划表!AB81),\"考试\",\"考查\"),\"\")","v":""},{"$f":"IF(教学计划表!EA81<>0,教学计划表!EA81,\"\")","v":""},{"$f":"IF(教学计划表!EA81<>0,教学计划表!EF81,\"\")","v":""},{"$f":"IF(教学计划表!EA81<>0,教学计划表!EG81,\"\")","v":""},{"$f":"IF(教学计划表!EA81<>0,教学计划表!OT81,\"\")","v":""},{"$f":"OFFSET($GR$2,SMALL(IF($GR$2:$GR$72<>\"\",ROW($I$2:$K$72),\"\"),ROW(GR64))-2,0)","v":{"$error":"#NUM!"}},{"$f":"OFFSET($GS$2,SMALL(IF($GS$2:$GS$72<>\"\",ROW($I$2:$K$72),\"\"),ROW(GS64))-2,0)","v":{"$error":"#NUM!"}},{"$f":"OFFSET($GT$2,SMALL(IF($GT$2:$GT$72<>\"\",ROW($I$2:$K$72),\"\"),ROW(GT64))-2,0)","v":{"$error":"#NUM!"}},{"$f":"OFFSET($GU$2,SMALL(IF($GU$2:$GU$72<>\"\",ROW($I$2:$K$72),\"\"),ROW(GU64))-2,0)","v":{"$error":"#NUM!"}},{"$f":"OFFSET($GV$2,SMALL(IF($GV$2:$GV$72<>\"\",ROW($GV$2:$GV$72),\"\"),ROW(GV64))-2,0)","v":{"$error":"#NUM!"}},{"$f":"OFFSET($GW$2,SMALL(IF($GW$2:$GW$72<>\"\",ROW($GW$2:$GW$72),\"\"),ROW(GW64))-2,0)","v":{"$error":"#NUM!"}},{"$f":"OFFSET($GX$2,SMALL(IF($GX$2:$GX$72<>\"\",ROW($GX$2:$GX$72),\"\"),ROW(GX64))-2,0)","v":{"$error":"#NUM!"}},{"$f":"IF(AND(教学计划表!N81<>\"\",教学计划表!AY81<>\"\"),教学计划表!I81,\"\")","v":""},{"$f":"IF(教学计划表!AY81<>\"\",教学计划表!N81,\"\")","v":""},{"$f":"IF(HG65<>\"\",IF(SEARCH(\"3\",教学计划表!AB81&\"3\",1)<=LEN(教学计划表!AB81),\"考试\",\"考查\"),\"\")","v":""},{"$f":"IF(教学计划表!EV81<>0,教学计划表!EV81,\"\")","v":""},{"$f":"IF(教学计划表!EV81<>0,教学计划表!FA81,\"\")","v":""},{"$f":"IF(教学计划表!EV81<>0,教学计划表!FB81,\"\")","v":""},{"$f":"IF(教学计划表!EV81<>0,教学计划表!PF81,\"\")","v":""},{"$f":"OFFSET($HF$2,SMALL(IF($HF$2:$HF$72<>\"\",ROW($HF$2:$HF$72),\"\"),ROW(HF64))-2,0)","v":{"$error":"#NUM!"}},{"$f":"OFFSET($HG$2,SMALL(IF($HG$2:$HG$72<>\"\",ROW($HG$2:$HG$72),\"\"),ROW(HG64))-2,0)","v":{"$error":"#NUM!"}},{"$f":"OFFSET($HH$2,SMALL(IF($HH$2:$HH$72<>\"\",ROW($HH$2:$HH$72),\"\"),ROW(HH64))-2,0)","v":{"$error":"#NUM!"}},{"$f":"OFFSET($HI$2,SMALL(IF($HI$2:$HI$72<>\"\",ROW($HI$2:$HI$72),\"\"),ROW(HI64))-2,0)","v":{"$error":"#NUM!"}},{"$f":"OFFSET($HJ$2,SMALL(IF($HJ$2:$HJ$72<>\"\",ROW($HJ$2:$HJ$72),\"\"),ROW(HJ64))-2,0)","v":{"$error":"#NUM!"}},{"$f":"OFFSET($HK$2,SMALL(IF($HK$2:$HK$72<>\"\",ROW($HK$2:$HK$72),\"\"),ROW(HK64))-2,0)","v":{"$error":"#NUM!"}},{"$f":"OFFSET($HL$2,SMALL(IF($HL$2:$HL$72<>\"\",ROW($HL$2:$HL$72),\"\"),ROW(HL64))-2,0)","v":{"$error":"#NUM!"}},{"$f":"IF(AND(教学计划表!N81<>\"\",教学计划表!BB81<>\"\"),教学计划表!I81,\"\")","v":""},{"$f":"IF(教学计划表!BB81<>\"\",教学计划表!N81,\"\")","v":""},{"$f":"IF(HU65<>\"\",IF(SEARCH(\"4\",教学计划表!AB81&\"4\",1)<=LEN(教学计划表!AB81),\"考试\",\"考查\"),\"\")","v":""},{"$f":"IF(教学计划表!FQ81<>0,教学计划表!FQ81,\"\")","v":""},{"$f":"IF(教学计划表!FQ81<>0,教学计划表!FV81,\"\")","v":""},{"$f":"IF(教学计划表!FQ81<>0,教学计划表!FW81,\"\")","v":""},{"$f":"IF(教学计划表!FQ81<>0,教学计划表!PR81,\"\")","v":""},{"$f":"OFFSET($HT$2,SMALL(IF($HT$2:$HT$72<>\"\",ROW($HT$2:$HT$72),\"\"),ROW(HT64))-2,0)","v":{"$error":"#NUM!"}},{"$f":"OFFSET($HU$2,SMALL(IF($HU$2:$HU$72<>\"\",ROW($HU$2:$HU$72),\"\"),ROW(HU64))-2,0)","v":{"$error":"#NUM!"}},{"$f":"OFFSET($HV$2,SMALL(IF($HV$2:$HV$72<>\"\",ROW($HV$2:$HV$72),\"\"),ROW(HV64))-2,0)","v":{"$error":"#NUM!"}},{"$f":"OFFSET($HW$2,SMALL(IF($HW$2:$HW$72<>\"\",ROW($HW$2:$HW$72),\"\"),ROW(HW64))-2,0)","v":{"$error":"#NUM!"}},{"$f":"OFFSET($HX$2,SMALL(IF($HX$2:$HX$72<>\"\",ROW($HX$2:$HX$72),\"\"),ROW(HX64))-2,0)","v":{"$error":"#NUM!"}},{"$f":"OFFSET($HY$2,SMALL(IF($HY$2:$HY$72<>\"\",ROW($HY$2:$HY$72),\"\"),ROW(HY64))-2,0)","v":{"$error":"#NUM!"}},{"$f":"OFFSET($HZ$2,SMALL(IF($HZ$2:$HZ$72<>\"\",ROW($HZ$2:$HZ$72),\"\"),ROW(HZ64))-2,0)","v":{"$error":"#NUM!"}},null,null,{"$f":"IF(AND(教学计划表!N81<>\"\",教学计划表!BE81<>\"\"),教学计划表!I81,\"\")","v":""},{"$f":"IF(教学计划表!BE81<>\"\",教学计划表!N81,\"\")","v":""},{"$f":"IF(IK65<>\"\",IF(SEARCH(\"5\",教学计划表!AB81&\"5\",1)<=LEN(教学计划表!AB81),\"考试\",\"考查\"),\"\")","v":""},{"$f":"IF(教学计划表!GL81<>0,教学计划表!GL81,\"\")","v":""},{"$f":"IF(教学计划表!GL81<>0,教学计划表!GQ81,\"\")","v":""},{"$f":"IF(教学计划表!GL81<>0,教学计划表!GR81,\"\")","v":""},{"$f":"IF(教学计划表!GL81<>0,教学计划表!QC81,\"\")","v":""},{"$f":"OFFSET($IJ$2,SMALL(IF($IJ$2:$IJ$72<>\"\",ROW($IJ$2:$IJ$72),\"\"),ROW(IJ64))-2,0)","v":{"$error":"#NUM!"}},{"$f":"OFFSET($IK$2,SMALL(IF($IK$2:$IK$72<>\"\",ROW($IK$2:$IK$72),\"\"),ROW(IK64))-2,0)","v":{"$error":"#NUM!"}},{"$f":"OFFSET($IL$2,SMALL(IF($IL$2:$IL$72<>\"\",ROW($IL$2:$IL$72),\"\"),ROW(IL64))-2,0)","v":{"$error":"#NUM!"}},{"$f":"OFFSET($IM$2,SMALL(IF($IM$2:$IM$72<>\"\",ROW($IM$2:$IM$72),\"\"),ROW(IM64))-2,0)","v":{"$error":"#NUM!"}},{"$f":"OFFSET($IN$2,SMALL(IF($IN$2:$IN$72<>\"\",ROW($IN$2:$IN$72),\"\"),ROW(IN64))-2,0)","v":{"$error":"#NUM!"}},{"$f":"OFFSET($IO$2,SMALL(IF($IO$2:$IO$72<>\"\",ROW($IO$2:$IO$72),\"\"),ROW(IO64))-2,0)","v":{"$error":"#NUM!"}},{"$f":"OFFSET($IP$2,SMALL(IF($IP$2:$IP$72<>\"\",ROW($IP$2:$IP$72),\"\"),ROW(IP64))-2,0)","v":{"$error":"#NUM!"}},null,{"$f":"IF(AND(教学计划表!N81<>\"\",教学计划表!BH81<>\"\"),教学计划表!I81,\"\")","v":""},{"$f":"IF(教学计划表!BH81<>\"\",教学计划表!N81,\"\")","v":""},{"$f":"IF(教学计划表!BH81<>\"\",IF(SEARCH(\"6\",教学计划表!AB81&\"6\",1)<=LEN(教学计划表!AB81),\"考试\",\"考查\"),\"\")","v":""},{"$f":"IF(教学计划表!BH81<>0,教学计划表!HG81,\"\")","v":""},{"$f":"IF(教学计划表!BH81<>0,教学计划表!HL81,\"\")","v":""},{"$f":"IF(教学计划表!BH81<>0,教学计划表!HM81,\"\")","v":""},{"$f":"IF(教学计划表!BH81<>0,教学计划表!QO81,\"\")","v":""},{"$f":"OFFSET($IY$2,SMALL(IF($IY$2:$IY$72<>\"\",ROW($IY$2:$IY$72),\"\"),ROW(IY64))-2,0)","v":{"$error":"#NUM!"}},{"$f":"OFFSET($IZ$2,SMALL(IF($IZ$2:$IZ$72<>\"\",ROW($IZ$2:$IZ$72),\"\"),ROW(IZ64))-2,0)","v":{"$error":"#NUM!"}},{"$f":"OFFSET($JA$2,SMALL(IF($JA$2:$JA$72<>\"\",ROW($JA$2:$JA$72),\"\"),ROW(JA64))-2,0)","v":{"$error":"#NUM!"}},{"$f":"OFFSET($JB$2,SMALL(IF($JB$2:$JB$72<>\"\",ROW($JB$2:$JB$72),\"\"),ROW(JB64))-2,0)","v":{"$error":"#NUM!"}},{"$f":"OFFSET($JC$2,SMALL(IF($JC$2:$JC$72<>\"\",ROW($JC$2:$JC$72),\"\"),ROW(JC64))-2,0)","v":{"$error":"#NUM!"}},{"$f":"OFFSET($JD$2,SMALL(IF($JD$2:$JD$72<>\"\",ROW($JD$2:$JD$72),\"\"),ROW(JD64))-2,0)","v":{"$error":"#NUM!"}},{"$f":"OFFSET($JE$2,SMALL(IF($JE$2:$JE$72<>\"\",ROW($JE$2:$JE$72),\"\"),ROW(JE64))-2,0)","v":{"$error":"#NUM!"}}]
["","","","","","","",null,"","","",{"$f":"IF(ISERROR(自动生成的开课信息!HB66),\"\",自动生成的开课信息!HB66)","v":""},{"$f":"IF(ISERROR(自动生成的开课信息!HC66),\"\",自动生成的开课信息!HC66)","v":""},{"$f":"IF(ISERROR(自动生成的开课信息!HD66),\"\",自动生成的开课信息!HD66)","v":""},{"$f":"IF(ISERROR(自动生成的开课信息!HE66),\"\",自动生成的开课信息!HE66)","v":""},null,"","","","","","","",null,"","","","","","","",null,"","","","","","","",null,"","","","","","","",null,null,null,null,null,null,null,null,null,null,null,null,null,null,null,null,null,null,null,null,null,null,null,null,null,null,null,null,null,null,null,null,null,null,null,null,null,null,null,null,null,null,null,null,null,null,null,null,null,null,null,null,null,null,null,null,null,null,null,null,null,null,null,null,null,null,null,null,null,null,null,null,null,null,null,null,null,null,null,null,null,null,null,null,null,null,null,null,null,null,null,null,null,null,null,null,null,null,null,null,null,null,null,null,null,null,null,null,null,null,null,null,null,null,null,null,null,null,null,null,null,null,null,null,null,null,null,null,null,null,null,null,null,null,null,null,null,null,{"$f":"IF(AND(教学计划表!N82<>\"\",教学计划表!AS82<>\"\"),教学计划表!I82,\"\")","v":""},{"$f":"IF(教学计划表!AS82<>\"\",教学计划表!N82,\"\")","v":""},{"$f":"IF(GE66<>\"\",IF(SEARCH(\"1\",教学计划表!AB82&\"1\",1)<=LEN(教学计划表!AB82),\"考试\",\"考查\"),\"\")","v":""},{"$f":"IF(教学计划表!DG82<>0,教学计划表!DG82,\"\")","v":""},{"$f":"IF(教学计划表!DG82<>0,教学计划表!DL82,\"\")","v":""},{"$f":"IF(教学计划表!DG82<>0,教学计划表!DM82,\"\")","v":""},{"$f":"IF(教学计划表!DG82<>0,教学计划表!OH82,\"\")","v":""},{"$f":"OFFSET($GD$2,SMALL(IF($GD$2:$GD$72<>\"\",ROW($2:$72),\"\"),ROW(GD65))-2,0)","v":{"$error":"#NUM!"}},{"$f":"OFFSET($GE$2,SMALL(IF($GE$2:$GE$72<>\"\",ROW($2:$72),\"\"),ROW(GE65))-2,0)","v":{"$error":"#NUM!"}},{"$f":"OFFSET($GF$2,SMALL(IF($GF$2:$GF$72<>\"\",ROW($2:$72),\"\"),ROW(GF65))-2,0)","v":{"$error":"#NUM!"}},{"$f":"OFFSET($GG$2,SMALL(IF($GG$2:$GG$72<>\"\",ROW($2:$72),\"\"),ROW(GG65))-2,0)","v":{"$error":"#NUM!"}},{"$f":"OFFSET($GH$2,SMALL(IF($GH$2:$GH$72<>\"\",ROW($2:$72),\"\"),ROW(GH65))-2,0)","v":{"$error":"#NUM!"}},{"$error":"#NUM!"},{"$f":"OFFSET($GJ$2,SMALL(IF($GJ$2:$GJ$72<>\"\",ROW($2:$72),\"\"),ROW(GJ65))-2,0)","v":{"$error":"#NUM!"}},{"$f":"IF(AND(教学计划表!N82<>\"\",教学计划表!AV82<>\"\"),教学计划表!I82,\"\")","v":""},{"$f":"IF(教学计划表!AV82<>\"\",教学计划表!N82,\"\")","v":""},{"$f":"IF(GS66<>\"\",IF(SEARCH(\"2\",教学计划表!AB82&\"2\",1)<=LEN(教学计划表!AB82),\"考试\",\"考查\"),\"\")","v":""},{"$f":"IF(教学计划表!EA82<>0,教学计划表!EA82,\"\")","v":""},{"$f":"IF(教学计划表!EA82<>0,教学计划表!EF82,\"\")","v":""},{"$f":"IF(教学计划表!EA82<>0,教学计划表!EG82,\"\")","v":""},{"$f":"IF(教学计划表!EA82<>0,教学计划表!OT82,\"\")","v":""},{"$f":"OFFSET($GR$2,SMALL(IF($GR$2:$GR$72<>\"\",ROW($I$2:$K$72),\"\"),ROW(GR65))-2,0)","v":{"$error":"#NUM!"}},{"$f":"OFFSET($GS$2,SMALL(IF($GS$2:$GS$72<>\"\",ROW($I$2:$K$72),\"\"),ROW(GS65))-2,0)","v":{"$error":"#NUM!"}},{"$f":"OFFSET($GT$2,SMALL(IF($GT$2:$GT$72<>\"\",ROW($I$2:$K$72),\"\"),ROW(GT65))-2,0)","v":{"$error":"#NUM!"}},{"$f":"OFFSET($GU$2,SMALL(IF($GU$2:$GU$72<>\"\",ROW($I$2:$K$72),\"\"),ROW(GU65))-2,0)","v":{"$error":"#NUM!"}},{"$f":"OFFSET($GV$2,SMALL(IF($GV$2:$GV$72<>\"\",ROW($GV$2:$GV$72),\"\"),ROW(GV65))-2,0)","v":{"$error":"#NUM!"}},{"$f":"OFFSET($GW$2,SMALL(IF($GW$2:$GW$72<>\"\",ROW($GW$2:$GW$72),\"\"),ROW(GW65))-2,0)","v":{"$error":"#NUM!"}},{"$f":"OFFSET($GX$2,SMALL(IF($GX$2:$GX$72<>\"\",ROW($GX$2:$GX$72),\"\"),ROW(GX65))-2,0)","v":{"$error":"#NUM!"}},{"$f":"IF(AND(教学计划表!N82<>\"\",教学计划表!AY82<>\"\"),教学计划表!I82,\"\")","v":""},{"$f":"IF(教学计划表!AY82<>\"\",教学计划表!N82,\"\")","v":""},{"$f":"IF(HG66<>\"\",IF(SEARCH(\"3\",教学计划表!AB82&\"3\",1)<=LEN(教学计划表!AB82),\"考试\",\"考查\"),\"\")","v":""},{"$f":"IF(教学计划表!EV82<>0,教学计划表!EV82,\"\")","v":""},{"$f":"IF(教学计划表!EV82<>0,教学计划表!FA82,\"\")","v":""},{"$f":"IF(教学计划表!EV82<>0,教学计划表!FB82,\"\")","v":""},{"$f":"IF(教学计划表!EV82<>0,教学计划表!PF82,\"\")","v":""},{"$f":"OFFSET($HF$2,SMALL(IF($HF$2:$HF$72<>\"\",ROW($HF$2:$HF$72),\"\"),ROW(HF65))-2,0)","v":{"$error":"#NUM!"}},{"$f":"OFFSET($HG$2,SMALL(IF($HG$2:$HG$72<>\"\",ROW($HG$2:$HG$72),\"\"),ROW(HG65))-2,0)","v":{"$error":"#NUM!"}},{"$f":"OFFSET($HH$2,SMALL(IF($HH$2:$HH$72<>\"\",ROW($HH$2:$HH$72),\"\"),ROW(HH65))-2,0)","v":{"$error":"#NUM!"}},{"$f":"OFFSET($HI$2,SMALL(IF($HI$2:$HI$72<>\"\",ROW($HI$2:$HI$72),\"\"),ROW(HI65))-2,0)","v":{"$error":"#NUM!"}},{"$f":"OFFSET($HJ$2,SMALL(IF($HJ$2:$HJ$72<>\"\",ROW($HJ$2:$HJ$72),\"\"),ROW(HJ65))-2,0)","v":{"$error":"#NUM!"}},{"$f":"OFFSET($HK$2,SMALL(IF($HK$2:$HK$72<>\"\",ROW($HK$2:$HK$72),\"\"),ROW(HK65))-2,0)","v":{"$error":"#NUM!"}},{"$f":"OFFSET($HL$2,SMALL(IF($HL$2:$HL$72<>\"\",ROW($HL$2:$HL$72),\"\"),ROW(HL65))-2,0)","v":{"$error":"#NUM!"}},{"$f":"IF(AND(教学计划表!N82<>\"\",教学计划表!BB82<>\"\"),教学计划表!I82,\"\")","v":""},{"$f":"IF(教学计划表!BB82<>\"\",教学计划表!N82,\"\")","v":""},{"$f":"IF(HU66<>\"\",IF(SEARCH(\"4\",教学计划表!AB82&\"4\",1)<=LEN(教学计划表!AB82),\"考试\",\"考查\"),\"\")","v":""},{"$f":"IF(教学计划表!FQ82<>0,教学计划表!FQ82,\"\")","v":""},{"$f":"IF(教学计划表!FQ82<>0,教学计划表!FV82,\"\")","v":""},{"$f":"IF(教学计划表!FQ82<>0,教学计划表!FW82,\"\")","v":""},{"$f":"IF(教学计划表!FQ82<>0,教学计划表!PR82,\"\")","v":""},{"$f":"OFFSET($HT$2,SMALL(IF($HT$2:$HT$72<>\"\",ROW($HT$2:$HT$72),\"\"),ROW(HT65))-2,0)","v":{"$error":"#NUM!"}},{"$f":"OFFSET($HU$2,SMALL(IF($HU$2:$HU$72<>\"\",ROW($HU$2:$HU$72),\"\"),ROW(HU65))-2,0)","v":{"$error":"#NUM!"}},{"$f":"OFFSET($HV$2,SMALL(IF($HV$2:$HV$72<>\"\",ROW($HV$2:$HV$72),\"\"),ROW(HV65))-2,0)","v":{"$error":"#NUM!"}},{"$f":"OFFSET($HW$2,SMALL(IF($HW$2:$HW$72<>\"\",ROW($HW$2:$HW$72),\"\"),ROW(HW65))-2,0)","v":{"$error":"#NUM!"}},{"$f":"OFFSET($HX$2,SMALL(IF($HX$2:$HX$72<>\"\",ROW($HX$2:$HX$72),\"\"),ROW(HX65))-2,0)","v":{"$error":"#NUM!"}},{"$f":"OFFSET($HY$2,SMALL(IF($HY$2:$HY$72<>\"\",ROW($HY$2:$HY$72),\"\"),ROW(HY65))-2,0)","v":{"$error":"#NUM!"}},{"$f":"OFFSET($HZ$2,SMALL(IF($HZ$2:$HZ$72<>\"\",ROW($HZ$2:$HZ$72),\"\"),ROW(HZ65))-2,0)","v":{"$error":"#NUM!"}},null,null,{"$f":"IF(AND(教学计划表!N82<>\"\",教学计划表!BE82<>\"\"),教学计划表!I82,\"\")","v":""},{"$f":"IF(教学计划表!BE82<>\"\",教学计划表!N82,\"\")","v":""},{"$f":"IF(IK66<>\"\",IF(SEARCH(\"5\",教学计划表!AB82&\"5\",1)<=LEN(教学计划表!AB82),\"考试\",\"考查\"),\"\")","v":""},{"$f":"IF(教学计划表!GL82<>0,教学计划表!GL82,\"\")","v":""},{"$f":"IF(教学计划表!GL82<>0,教学计划表!GQ82,\"\")","v":""},{"$f":"IF(教学计划表!GL82<>0,教学计划表!GR82,\"\")","v":""},{"$f":"IF(教学计划表!GL82<>0,教学计划表!QC82,\"\")","v":""},{"$f":"OFFSET($IJ$2,SMALL(IF($IJ$2:$IJ$72<>\"\",ROW($IJ$2:$IJ$72),\"\"),ROW(IJ65))-2,0)","v":{"$error":"#NUM!"}},{"$f":"OFFSET($IK$2,SMALL(IF($IK$2:$IK$72<>\"\",ROW($IK$2:$IK$72),\"\"),ROW(IK65))-2,0)","v":{"$error":"#NUM!"}},{"$f":"OFFSET($IL$2,SMALL(IF($IL$2:$IL$72<>\"\",ROW($IL$2:$IL$72),\"\"),ROW(IL65))-2,0)","v":{"$error":"#NUM!"}},{"$f":"OFFSET($IM$2,SMALL(IF($IM$2:$IM$72<>\"\",ROW($IM$2:$IM$72),\"\"),ROW(IM65))-2,0)","v":{"$error":"#NUM!"}},{"$f":"OFFSET($IN$2,SMALL(IF($IN$2:$IN$72<>\"\",ROW($IN$2:$IN$72),\"\"),ROW(IN65))-2,0)","v":{"$error":"#NUM!"}},{"$f":"OFFSET($IO$2,SMALL(IF($IO$2:$IO$72<>\"\",ROW($IO$2:$IO$72),\"\"),ROW(IO65))-2,0)","v":{"$error":"#NUM!"}},{"$f":"OFFSET($IP$2,SMALL(IF($IP$2:$IP$72<>\"\",ROW($IP$2:$IP$72),\"\"),ROW(IP65))-2,0)","v":{"$error":"#NUM!"}},null,{"$f":"IF(AND(教学计划表!N82<>\"\",教学计划表!BH82<>\"\"),教学计划表!I82,\"\")","v":""},{"$f":"IF(教学计划表!BH82<>\"\",教学计划表!N82,\"\")","v":""},{"$f":"IF(教学计划表!BH82<>\"\",IF(SEARCH(\"6\",教学计划表!AB82&\"6\",1)<=LEN(教学计划表!AB82),\"考试\",\"考查\"),\"\")","v":""},{"$f":"IF(教学计划表!BH82<>0,教学计划表!HG82,\"\")","v":""},{"$f":"IF(教学计划表!BH82<>0,教学计划表!HL82,\"\")","v":""},{"$f":"IF(教学计划表!BH82<>0,教学计划表!HM82,\"\")","v":""},{"$f":"IF(教学计划表!BH82<>0,教学计划表!QO82,\"\")","v":""},{"$f":"OFFSET($IY$2,SMALL(IF($IY$2:$IY$72<>\"\",ROW($IY$2:$IY$72),\"\"),ROW(IY65))-2,0)","v":{"$error":"#NUM!"}},{"$f":"OFFSET($IZ$2,SMALL(IF($IZ$2:$IZ$72<>\"\",ROW($IZ$2:$IZ$72),\"\"),ROW(IZ65))-2,0)","v":{"$error":"#NUM!"}},{"$f":"OFFSET($JA$2,SMALL(IF($JA$2:$JA$72<>\"\",ROW($JA$2:$JA$72),\"\"),ROW(JA65))-2,0)","v":{"$error":"#NUM!"}},{"$f":"OFFSET($JB$2,SMALL(IF($JB$2:$JB$72<>\"\",ROW($JB$2:$JB$72),\"\"),ROW(JB65))-2,0)","v":{"$error":"#NUM!"}},{"$f":"OFFSET($JC$2,SMALL(IF($JC$2:$JC$72<>\"\",ROW($JC$2:$JC$72),\"\"),ROW(JC65))-2,0)","v":{"$error":"#NUM!"}},{"$f":"OFFSET($JD$2,SMALL(IF($JD$2:$JD$72<>\"\",ROW($JD$2:$JD$72),\"\"),ROW(JD65))-2,0)","v":{"$error":"#NUM!"}},{"$f":"OFFSET($JE$2,SMALL(IF($JE$2:$JE$72<>\"\",ROW($JE$2:$JE$72),\"\"),ROW(JE65))-2,0)","v":{"$error":"#NUM!"}}]
["","","","","","","",null,"","","",{"$f":"IF(ISERROR(自动生成的开课信息!HB67),\"\",自动生成的开课信息!HB67)","v":""},{"$f":"IF(ISERROR(自动生成的开课信息!HC67),\"\",自动生成的开课信息!HC67)","v":""},{"$f":"IF(ISERROR(自动生成的开课信息!HD67),\"\",自动生成的开课信息!HD67)","v":""},{"$f":"IF(ISERROR(自动生成的开课信息!HE67),\"\",自动生成的开课信息!HE67)","v":""},null,"","","","","","","",null,"","","","","","","",null,"","","","","","","",null,"","","","","","","",null,null,null,null,null,null,null,null,null,null,null,null,null,null,null,null,null,null,null,null,null,null,null,null,null,null,null,null,null,null,null,null,null,null,null,null,null,null,null,null,null,null,null,null,null,null,null,null,null,null,null,null,null,null,null,null,null,null,null,null,null,null,null,null,null,null,null,null,null,null,null,null,null,null,null,null,null,null,null,null,null,null,null,null,null,null,null,null,null,null,null,null,null,null,null,null,null,null,null,null,null,null,null,null,null,null,null,null,null,null,null,null,null,null,null,null,null,null,null,null,null,null,null,null,null,null,null,null,null,null,null,null,null,null,null,null,null,null,{"$f":"IF(AND(教学计划表!N83<>\"\",教学计划表!AS83<>\"\"),教学计划表!I83,\"\")","v":""},{"$f":"IF(教学计划表!AS83<>\"\",教学计划表!N83,\"\")","v":""},{"$f":"IF(GE67<>\"\",IF(SEARCH(\"1\",教学计划表!AB83&\"1\",1)<=LEN(教学计划表!AB83),\"考试\",\"考查\"),\"\")","v":""},{"$f":"IF(教学计划表!DG83<>0,教学计划表!DG83,\"\")","v":""},{"$f":"IF(教学计划表!DG83<>0,教学计划表!DL83,\"\")","v":""},{"$f":"IF(教学计划表!DG83<>0,教学计划表!DM83,\"\")","v":""},{"$f":"IF(教学计划表!DG83<>0,教学计划表!OH83,\"\")","v":""},{"$f":"OFFSET($GD$2,SMALL(IF($GD$2:$GD$72<>\"\",ROW($2:$72),\"\"),ROW(GD66))-2,0)","v":{"$error":"#NUM!"}},{"$f":"OFFSET($GE$2,SMALL(IF($GE$2:$GE$72<>\"\",ROW($2:$72),\"\"),ROW(GE66))-2,0)","v":{"$error":"#NUM!"}},{"$f":"OFFSET($GF$2,SMALL(IF($GF$2:$GF$72<>\"\",ROW($2:$72),\"\"),ROW(GF66))-2,0)","v":{"$error":"#NUM!"}},{"$f":"OFFSET($GG$2,SMALL(IF($GG$2:$GG$72<>\"\",ROW($2:$72),\"\"),ROW(GG66))-2,0)","v":{"$error":"#NUM!"}},{"$f":"OFFSET($GH$2,SMALL(IF($GH$2:$GH$72<>\"\",ROW($2:$72),\"\"),ROW(GH66))-2,0)","v":{"$error":"#NUM!"}},{"$error":"#NUM!"},{"$f":"OFFSET($GJ$2,SMALL(IF($GJ$2:$GJ$72<>\"\",ROW($2:$72),\"\"),ROW(GJ66))-2,0)","v":{"$error":"#NUM!"}},{"$f":"IF(AND(教学计划表!N83<>\"\",教学计划表!AV83<>\"\"),教学计划表!I83,\"\")","v":""},{"$f":"IF(教学计划表!AV83<>\"\",教学计划表!N83,\"\")","v":""},{"$f":"IF(GS67<>\"\",IF(SEARCH(\"2\",教学计划表!AB83&\"2\",1)<=LEN(教学计划表!AB83),\"考试\",\"考查\"),\"\")","v":""},{"$f":"IF(教学计划表!EA83<>0,教学计划表!EA83,\"\")","v":""},{"$f":"IF(教学计划表!EA83<>0,教学计划表!EF83,\"\")","v":""},{"$f":"IF(教学计划表!EA83<>0,教学计划表!EG83,\"\")","v":""},{"$f":"IF(教学计划表!EA83<>0,教学计划表!OT83,\"\")","v":""},{"$f":"OFFSET($GR$2,SMALL(IF($GR$2:$GR$72<>\"\",ROW($I$2:$K$72),\"\"),ROW(GR66))-2,0)","v":{"$error":"#NUM!"}},{"$f":"OFFSET($GS$2,SMALL(IF($GS$2:$GS$72<>\"\",ROW($I$2:$K$72),\"\"),ROW(GS66))-2,0)","v":{"$error":"#NUM!"}},{"$f":"OFFSET($GT$2,SMALL(IF($GT$2:$GT$72<>\"\",ROW($I$2:$K$72),\"\"),ROW(GT66))-2,0)","v":{"$error":"#NUM!"}},{"$f":"OFFSET($GU$2,SMALL(IF($GU$2:$GU$72<>\"\",ROW($I$2:$K$72),\"\"),ROW(GU66))-2,0)","v":{"$error":"#NUM!"}},{"$f":"OFFSET($GV$2,SMALL(IF($GV$2:$GV$72<>\"\",ROW($GV$2:$GV$72),\"\"),ROW(GV66))-2,0)","v":{"$error":"#NUM!"}},{"$f":"OFFSET($GW$2,SMALL(IF($GW$2:$GW$72<>\"\",ROW($GW$2:$GW$72),\"\"),ROW(GW66))-2,0)","v":{"$error":"#NUM!"}},{"$f":"OFFSET($GX$2,SMALL(IF($GX$2:$GX$72<>\"\",ROW($GX$2:$GX$72),\"\"),ROW(GX66))-2,0)","v":{"$error":"#NUM!"}},{"$f":"IF(AND(教学计划表!N83<>\"\",教学计划表!AY83<>\"\"),教学计划表!I83,\"\")","v":""},{"$f":"IF(教学计划表!AY83<>\"\",教学计划表!N83,\"\")","v":""},{"$f":"IF(HG67<>\"\",IF(SEARCH(\"3\",教学计划表!AB83&\"3\",1)<=LEN(教学计划表!AB83),\"考试\",\"考查\"),\"\")","v":""},{"$f":"IF(教学计划表!EV83<>0,教学计划表!EV83,\"\")","v":""},{"$f":"IF(教学计划表!EV83<>0,教学计划表!FA83,\"\")","v":""},{"$f":"IF(教学计划表!EV83<>0,教学计划表!FB83,\"\")","v":""},{"$f":"IF(教学计划表!EV83<>0,教学计划表!PF83,\"\")","v":""},{"$f":"OFFSET($HF$2,SMALL(IF($HF$2:$HF$72<>\"\",ROW($HF$2:$HF$72),\"\"),ROW(HF66))-2,0)","v":{"$error":"#NUM!"}},{"$f":"OFFSET($HG$2,SMALL(IF($HG$2:$HG$72<>\"\",ROW($HG$2:$HG$72),\"\"),ROW(HG66))-2,0)","v":{"$error":"#NUM!"}},{"$f":"OFFSET($HH$2,SMALL(IF($HH$2:$HH$72<>\"\",ROW($HH$2:$HH$72),\"\"),ROW(HH66))-2,0)","v":{"$error":"#NUM!"}},{"$f":"OFFSET($HI$2,SMALL(IF($HI$2:$HI$72<>\"\",ROW($HI$2:$HI$72),\"\"),ROW(HI66))-2,0)","v":{"$error":"#NUM!"}},{"$f":"OFFSET($HJ$2,SMALL(IF($HJ$2:$HJ$72<>\"\",ROW($HJ$2:$HJ$72),\"\"),ROW(HJ66))-2,0)","v":{"$error":"#NUM!"}},{"$f":"OFFSET($HK$2,SMALL(IF($HK$2:$HK$72<>\"\",ROW($HK$2:$HK$72),\"\"),ROW(HK66))-2,0)","v":{"$error":"#NUM!"}},{"$f":"OFFSET($HL$2,SMALL(IF($HL$2:$HL$72<>\"\",ROW($HL$2:$HL$72),\"\"),ROW(HL66))-2,0)","v":{"$error":"#NUM!"}},{"$f":"IF(AND(教学计划表!N83<>\"\",教学计划表!BB83<>\"\"),教学计划表!I83,\"\")","v":""},{"$f":"IF(教学计划表!BB83<>\"\",教学计划表!N83,\"\")","v":""},{"$f":"IF(HU67<>\"\",IF(SEARCH(\"4\",教学计划表!AB83&\"4\",1)<=LEN(教学计划表!AB83),\"考试\",\"考查\"),\"\")","v":""},{"$f":"IF(教学计划表!FQ83<>0,教学计划表!FQ83,\"\")","v":""},{"$f":"IF(教学计划表!FQ83<>0,教学计划表!FV83,\"\")","v":""},{"$f":"IF(教学计划表!FQ83<>0,教学计划表!FW83,\"\")","v":""},{"$f":"IF(教学计划表!FQ83<>0,教学计划表!PR83,\"\")","v":""},{"$f":"OFFSET($HT$2,SMALL(IF($HT$2:$HT$72<>\"\",ROW($HT$2:$HT$72),\"\"),ROW(HT66))-2,0)","v":{"$error":"#NUM!"}},{"$f":"OFFSET($HU$2,SMALL(IF($HU$2:$HU$72<>\"\",ROW($HU$2:$HU$72),\"\"),ROW(HU66))-2,0)","v":{"$error":"#NUM!"}},{"$f":"OFFSET($HV$2,SMALL(IF($HV$2:$HV$72<>\"\",ROW($HV$2:$HV$72),\"\"),ROW(HV66))-2,0)","v":{"$error":"#NUM!"}},{"$f":"OFFSET($HW$2,SMALL(IF($HW$2:$HW$72<>\"\",ROW($HW$2:$HW$72),\"\"),ROW(HW66))-2,0)","v":{"$error":"#NUM!"}},{"$f":"OFFSET($HX$2,SMALL(IF($HX$2:$HX$72<>\"\",ROW($HX$2:$HX$72),\"\"),ROW(HX66))-2,0)","v":{"$error":"#NUM!"}},{"$f":"OFFSET($HY$2,SMALL(IF($HY$2:$HY$72<>\"\",ROW($HY$2:$HY$72),\"\"),ROW(HY66))-2,0)","v":{"$error":"#NUM!"}},{"$f":"OFFSET($HZ$2,SMALL(IF($HZ$2:$HZ$72<>\"\",ROW($HZ$2:$HZ$72),\"\"),ROW(HZ66))-2,0)","v":{"$error":"#NUM!"}},null,null,{"$f":"IF(AND(教学计划表!N83<>\"\",教学计划表!BE83<>\"\"),教学计划表!I83,\"\")","v":""},{"$f":"IF(教学计划表!BE83<>\"\",教学计划表!N83,\"\")","v":""},{"$f":"IF(IK67<>\"\",IF(SEARCH(\"5\",教学计划表!AB83&\"5\",1)<=LEN(教学计划表!AB83),\"考试\",\"考查\"),\"\")","v":""},{"$f":"IF(教学计划表!GL83<>0,教学计划表!GL83,\"\")","v":""},{"$f":"IF(教学计划表!GL83<>0,教学计划表!GQ83,\"\")","v":""},{"$f":"IF(教学计划表!GL83<>0,教学计划表!GR83,\"\")","v":""},{"$f":"IF(教学计划表!GL83<>0,教学计划表!QC83,\"\")","v":""},{"$f":"OFFSET($IJ$2,SMALL(IF($IJ$2:$IJ$72<>\"\",ROW($IJ$2:$IJ$72),\"\"),ROW(IJ66))-2,0)","v":{"$error":"#NUM!"}},{"$f":"OFFSET($IK$2,SMALL(IF($IK$2:$IK$72<>\"\",ROW($IK$2:$IK$72),\"\"),ROW(IK66))-2,0)","v":{"$error":"#NUM!"}},{"$f":"OFFSET($IL$2,SMALL(IF($IL$2:$IL$72<>\"\",ROW($IL$2:$IL$72),\"\"),ROW(IL66))-2,0)","v":{"$error":"#NUM!"}},{"$f":"OFFSET($IM$2,SMALL(IF($IM$2:$IM$72<>\"\",ROW($IM$2:$IM$72),\"\"),ROW(IM66))-2,0)","v":{"$error":"#NUM!"}},{"$f":"OFFSET($IN$2,SMALL(IF($IN$2:$IN$72<>\"\",ROW($IN$2:$IN$72),\"\"),ROW(IN66))-2,0)","v":{"$error":"#NUM!"}},{"$f":"OFFSET($IO$2,SMALL(IF($IO$2:$IO$72<>\"\",ROW($IO$2:$IO$72),\"\"),ROW(IO66))-2,0)","v":{"$error":"#NUM!"}},{"$f":"OFFSET($IP$2,SMALL(IF($IP$2:$IP$72<>\"\",ROW($IP$2:$IP$72),\"\"),ROW(IP66))-2,0)","v":{"$error":"#NUM!"}},null,{"$f":"IF(AND(教学计划表!N83<>\"\",教学计划表!BH83<>\"\"),教学计划表!I83,\"\")","v":""},{"$f":"IF(教学计划表!BH83<>\"\",教学计划表!N83,\"\")","v":""},{"$f":"IF(教学计划表!BH83<>\"\",IF(SEARCH(\"6\",教学计划表!AB83&\"6\",1)<=LEN(教学计划表!AB83),\"考试\",\"考查\"),\"\")","v":""},{"$f":"IF(教学计划表!BH83<>0,教学计划表!HG83,\"\")","v":""},{"$f":"IF(教学计划表!BH83<>0,教学计划表!HL83,\"\")","v":""},{"$f":"IF(教学计划表!BH83<>0,教学计划表!HM83,\"\")","v":""},{"$f":"IF(教学计划表!BH83<>0,教学计划表!QO83,\"\")","v":""},{"$f":"OFFSET($IY$2,SMALL(IF($IY$2:$IY$72<>\"\",ROW($IY$2:$IY$72),\"\"),ROW(IY66))-2,0)","v":{"$error":"#NUM!"}},{"$f":"OFFSET($IZ$2,SMALL(IF($IZ$2:$IZ$72<>\"\",ROW($IZ$2:$IZ$72),\"\"),ROW(IZ66))-2,0)","v":{"$error":"#NUM!"}},{"$f":"OFFSET($JA$2,SMALL(IF($JA$2:$JA$72<>\"\",ROW($JA$2:$JA$72),\"\"),ROW(JA66))-2,0)","v":{"$error":"#NUM!"}},{"$f":"OFFSET($JB$2,SMALL(IF($JB$2:$JB$72<>\"\",ROW($JB$2:$JB$72),\"\"),ROW(JB66))-2,0)","v":{"$error":"#NUM!"}},{"$f":"OFFSET($JC$2,SMALL(IF($JC$2:$JC$72<>\"\",ROW($JC$2:$JC$72),\"\"),ROW(JC66))-2,0)","v":{"$error":"#NUM!"}},{"$f":"OFFSET($JD$2,SMALL(IF($JD$2:$JD$72<>\"\",ROW($JD$2:$JD$72),\"\"),ROW(JD66))-2,0)","v":{"$error":"#NUM!"}},{"$f":"OFFSET($JE$2,SMALL(IF($JE$2:$JE$72<>\"\",ROW($JE$2:$JE$72),\"\"),ROW(JE66))-2,0)","v":{"$error":"#NUM!"}}]
[{"$f":"IF(ISERROR(GK68),\"\",GK68)","v":""},{"$f":"IF(ISERROR(GL68),\"\",GL68)","v":""},{"$f":"IF(ISERROR(GM68),\"\",GM68)","v":""},{"$f":"IF(ISERROR(GN68),\"\",GN68)","v":""},{"$f":"IF(ISERROR(GO68),\"\",GO68)","v":""},{"$f":"IF(ISERROR(GP68),\"\",GP68)","v":""},{"$f":"IF(ISERROR(GQ68),\"\",GQ68)","v":""},null,{"$f":"IF(ISERROR(GY68),\"\",GY68)","v":""},{"$f":"IF(ISERROR(GZ68),\"\",GZ68)","v":""},{"$f":"IF(ISERROR(HA68),\"\",HA68)","v":""},{"$f":"IF(ISERROR(自动生成的开课信息!HB68),\"\",自动生成的开课信息!HB68)","v":""},{"$f":"IF(ISERROR(自动生成的开课信息!HC68),\"\",自动生成的开课信息!HC68)","v":""},{"$f":"IF(ISERROR(自动生成的开课信息!HD68),\"\",自动生成的开课信息!HD68)","v":""},{"$f":"IF(ISERROR(自动生成的开课信息!HE68),\"\",自动生成的开课信息!HE68)","v":""},null,{"$f":"IF(ISERROR(HM68),\"\",HM68)","v":""},{"$f":"IF(ISERROR(HN68),\"\",HN68)","v":""},{"$f":"IF(ISERROR(HO68),\"\",HO68)","v":""},{"$f":"IF(ISERROR(HP68),\"\",HP68)","v":""},{"$f":"IF(ISERROR(HQ68),\"\",HQ68)","v":""},{"$f":"IF(ISERROR(HR68),\"\",HR68)","v":""},{"$f":"IF(ISERROR(HS68),\"\",HS68)","v":""},null,{"$f":"IF(ISERROR(IA68),\"\",IA68)","v":""},{"$f":"IF(ISERROR(IB68),\"\",IB68)","v":""},{"$f":"IF(ISERROR(IC68),\"\",IC68)","v":""},{"$f":"IF(ISERROR(ID68),\"\",ID68)","v":""},{"$f":"IF(ISERROR(IE68),\"\",IE68)","v":""},{"$f":"IF(ISERROR(IF68),\"\",IF68)","v":""},{"$f":"IF(ISERROR(IG68),\"\",IG68)","v":""},null,{"$f":"IF(ISERROR(IQ68),\"\",IQ68)","v":""},{"$f":"IF(ISERROR(IR68),\"\",IR68)","v":""},{"$f":"IF(ISERROR(IS68),\"\",IS68)","v":""},{"$f":"IF(ISERROR(IT68),\"\",IT68)","v":""},{"$f":"IF(ISERROR(IU68),\"\",IU68)","v":""},{"$f":"IF(ISERROR(IV68),\"\",IV68)","v":""},{"$f":"IF(ISERROR(IW68),\"\",IW68)","v":""},null,{"$f":"IF(ISERROR(JF68),\"\",JF68)","v":""},{"$f":"IF(ISERROR(JG68),\"\",JG68)","v":""},{"$f":"IF(ISERROR(JH68),\"\",JH68)","v":""},{"$f":"IF(ISERROR(JI68),\"\",JI68)","v":""},{"$f":"IF(ISERROR(JJ68),\"\",JJ68)","v":""},{"$f":"IF(ISERROR(JK68),\"\",JK68)","v":""},{"$f":"IF(ISERROR(JL68),\"\",JL68)","v":""},null,null,null,null,null,null,null,null,null,null,null,null,null,null,null,null,null,null,null,null,null,null,null,null,null,null,null,null,null,null,null,null,null,null,null,null,null,null,null,null,null,null,null,null,null,null,null,null,null,null,null,null,null,null,null,null,null,null,null,null,null,null,null,null,null,null,null,null,null,null,null,null,null,null,null,null,null,null,null,null,null,null,null,null,null,null,null,null,null,null,null,null,null,null,null,null,null,null,null,null,null,null,null,null,null,null,null,null,null,null,null,null,null,null,null,null,null,null,null,null,null,null,null,null,null,null,null,null,null,null,null,null,null,null,null,null,null,null,{"$f":"IF(AND(教学计划表!N84<>\"\",教学计划表!AS84<>\"\"),教学计划表!I84,\"\")","v":""},{"$f":"IF(教学计划表!AS84<>\"\",教学计划表!N84,\"\")","v":""},{"$f":"IF(GE68<>\"\",IF(SEARCH(\"1\",教学计划表!AB84&\"1\",1)<=LEN(教学计划表!AB84),\"考试\",\"考查\"),\"\")","v":""},{"$f":"IF(教学计划表!DG84<>0,教学计划表!DG84,\"\")","v":""},{"$f":"IF(教学计划表!DG84<>0,教学计划表!DL84,\"\")","v":""},{"$f":"IF(教学计划表!DG84<>0,教学计划表!DM84,\"\")","v":""},{"$f":"IF(教学计划表!DG84<>0,教学计划表!OH84,\"\")","v":""},{"$f":"OFFSET($GD$2,SMALL(IF($GD$2:$GD$72<>\"\",ROW($2:$72),\"\"),ROW(GD67))-2,0)","v":{"$error":"#NUM!"}},{"$f":"OFFSET($GE$2,SMALL(IF($GE$2:$GE$72<>\"\",ROW($2:$72),\"\"),ROW(GE67))-2,0)","v":{"$error":"#NUM!"}},{"$f":"OFFSET($GF$2,SMALL(IF($GF$2:$GF$72<>\"\",ROW($2:$72),\"\"),ROW(GF67))-2,0)","v":{"$error":"#NUM!"}},{"$f":"OFFSET($GG$2,SMALL(IF($GG$2:$GG$72<>\"\",ROW($2:$72),\"\"),ROW(GG67))-2,0)","v":{"$error":"#NUM!"}},{"$f":"OFFSET($GH$2,SMALL(IF($GH$2:$GH$72<>\"\",ROW($2:$72),\"\"),ROW(GH67))-2,0)","v":{"$error":"#NUM!"}},{"$f":"GN68*GO68","v":{"$error":"#NUM!"}},{"$f":"OFFSET($GJ$2,SMALL(IF($GJ$2:$GJ$72<>\"\",ROW($2:$72),\"\"),ROW(GJ67))-2,0)","v":{"$error":"#NUM!"}},{"$f":"IF(AND(教学计划表!N84<>\"\",教学计划表!AV84<>\"\"),教学计划表!I84,\"\")","v":""},{"$f":"IF(教学计划表!AV84<>\"\",教学计划表!N84,\"\")","v":""},{"$f":"IF(GS68<>\"\",IF(SEARCH(\"2\",教学计划表!AB84&\"2\",1)<=LEN(教学计划表!AB84),\"考试\",\"考查\"),\"\")","v":""},{"$f":"IF(教学计划表!EA84<>0,教学计划表!EA84,\"\")","v":""},{"$f":"IF(教学计划表!EA84<>0,教学计划表!EF84,\"\")","v":""},{"$f":"IF(教学计划表!EA84<>0,教学计划表!EG84,\"\")","v":""},{"$f":"IF(教学计划表!EA84<>0,教学计划表!OT84,\"\")","v":""},{"$f":"OFFSET($GR$2,SMALL(IF($GR$2:$GR$72<>\"\",ROW($I$2:$K$72),\"\"),ROW(GR67))-2,0)","v":{"$error":"#NUM!"}},{"$f":"OFFSET($GS$2,SMALL(IF($GS$2:$GS$72<>\"\",ROW($I$2:$K$72),\"\"),ROW(GS67))-2,0)","v":{"$error":"#NUM!"}},{"$f":"OFFSET($GT$2,SMALL(IF($GT$2:$GT$72<>\"\",ROW($I$2:$K$72),\"\"),ROW(GT67))-2,0)","v":{"$error":"#NUM!"}},{"$f":"OFFSET($GU$2,SMALL(IF($GU$2:$GU$72<>\"\",ROW($I$2:$K$72),\"\"),ROW(GU67))-2,0)","v":{"$error":"#NUM!"}},{"$f":"OFFSET($GV$2,SMALL(IF($GV$2:$GV$72<>\"\",ROW($GV$2:$GV$72),\"\"),ROW(GV67))-2,0)","v":{"$error":"#NUM!"}},{"$f":"OFFSET($GW$2,SMALL(IF($GW$2:$GW$72<>\"\",ROW($GW$2:$GW$72),\"\"),ROW(GW67))-2,0)","v":{"$error":"#NUM!"}},{"$f":"OFFSET($GX$2,SMALL(IF($GX$2:$GX$72<>\"\",ROW($GX$2:$GX$72),\"\"),ROW(GX67))-2,0)","v":{"$error":"#NUM!"}},{"$f":"IF(AND(教学计划表!N84<>\"\",教学计划表!AY84<>\"\"),教学计划表!I84,\"\")","v":""},{"$f":"IF(教学计划表!AY84<>\"\",教学计划表!N84,\"\")","v":""},{"$f":"IF(HG68<>\"\",IF(SEARCH(\"3\",教学计划表!AB84&\"3\",1)<=LEN(教学计划表!AB84),\"考试\",\"考查\"),\"\")","v":""},{"$f":"IF(教学计划表!EV84<>0,教学计划表!EV84,\"\")","v":""},{"$f":"IF(教学计划表!EV84<>0,教学计划表!FA84,\"\")","v":""},{"$f":"IF(教学计划表!EV84<>0,教学计划表!FB84,\"\")","v":""},{"$f":"IF(教学计划表!EV84<>0,教学计划表!PF84,\"\")","v":""},{"$f":"OFFSET($HF$2,SMALL(IF($HF$2:$HF$72<>\"\",ROW($HF$2:$HF$72),\"\"),ROW(HF67))-2,0)","v":{"$error":"#NUM!"}},{"$f":"OFFSET($HG$2,SMALL(IF($HG$2:$HG$72<>\"\",ROW($HG$2:$HG$72),\"\"),ROW(HG67))-2,0)","v":{"$error":"#NUM!"}},{"$f":"OFFSET($HH$2,SMALL(IF($HH$2:$HH$72<>\"\",ROW($HH$2:$HH$72),\"\"),ROW(HH67))-2,0)","v":{"$error":"#NUM!"}},{"$f":"OFFSET($HI$2,SMALL(IF($HI$2:$HI$72<>\"\",ROW($HI$2:$HI$72),\"\"),ROW(HI67))-2,0)","v":{"$error":"#NUM!"}},{"$f":"OFFSET($HJ$2,SMALL(IF($HJ$2:$HJ$72<>\"\",ROW($HJ$2:$HJ$72),\"\"),ROW(HJ67))-2,0)","v":{"$error":"#NUM!"}},{"$f":"OFFSET($HK$2,SMALL(IF($HK$2:$HK$72<>\"\",ROW($HK$2:$HK$72),\"\"),ROW(HK67))-2,0)","v":{"$error":"#NUM!"}},{"$f":"OFFSET($HL$2,SMALL(IF($HL$2:$HL$72<>\"\",ROW($HL$2:$HL$72),\"\"),ROW(HL67))-2,0)","v":{"$error":"#NUM!"}},{"$f":"IF(AND(教学计划表!N84<>\"\",教学计划表!BB84<>\"\"),教学计划表!I84,\"\")","v":""},{"$f":"IF(教学计划表!BB84<>\"\",教学计划表!N84,\"\")","v":""},{"$f":"IF(HU68<>\"\",IF(SEARCH(\"4\",教学计划表!AB84&\"4\",1)<=LEN(教学计划表!AB84),\"考试\",\"考查\"),\"\")","v":""},{"$f":"IF(教学计划表!FQ84<>0,教学计划表!FQ84,\"\")","v":""},{"$f":"IF(教学计划表!FQ84<>0,教学计划表!FV84,\"\")","v":""},{"$f":"IF(教学计划表!FQ84<>0,教学计划表!FW84,\"\")","v":""},{"$f":"IF(教学计划表!FQ84<>0,教学计划表!PR84,\"\")","v":""},{"$f":"OFFSET($HT$2,SMALL(IF($HT$2:$HT$72<>\"\",ROW($HT$2:$HT$72),\"\"),ROW(HT67))-2,0)","v":{"$error":"#NUM!"}},{"$f":"OFFSET($HU$2,SMALL(IF($HU$2:$HU$72<>\"\",ROW($HU$2:$HU$72),\"\"),ROW(HU67))-2,0)","v":{"$error":"#NUM!"}},{"$f":"OFFSET($HV$2,SMALL(IF($HV$2:$HV$72<>\"\",ROW($HV$2:$HV$72),\"\"),ROW(HV67))-2,0)","v":{"$error":"#NUM!"}},{"$f":"OFFSET($HW$2,SMALL(IF($HW$2:$HW$72<>\"\",ROW($HW$2:$HW$72),\"\"),ROW(HW67))-2,0)","v":{"$error":"#NUM!"}},{"$f":"OFFSET($HX$2,SMALL(IF($HX$2:$HX$72<>\"\",ROW($HX$2:$HX$72),\"\"),ROW(HX67))-2,0)","v":{"$error":"#NUM!"}},{"$f":"OFFSET($HY$2,SMALL(IF($HY$2:$HY$72<>\"\",ROW($HY$2:$HY$72),\"\"),ROW(HY67))-2,0)","v":{"$error":"#NUM!"}},{"$f":"OFFSET($HZ$2,SMALL(IF($HZ$2:$HZ$72<>\"\",ROW($HZ$2:$HZ$72),\"\"),ROW(HZ67))-2,0)","v":{"$error":"#NUM!"}},null,null,{"$f":"IF(AND(教学计划表!N84<>\"\",教学计划表!BE84<>\"\"),教学计划表!I84,\"\")","v":""},{"$f":"IF(教学计划表!BE84<>\"\",教学计划表!N84,\"\")","v":""},{"$f":"IF(IK68<>\"\",IF(SEARCH(\"5\",教学计划表!AB84&\"5\",1)<=LEN(教学计划表!AB84),\"考试\",\"考查\"),\"\")","v":""},{"$f":"IF(教学计划表!GL84<>0,教学计划表!GL84,\"\")","v":""},{"$f":"IF(教学计划表!GL84<>0,教学计划表!GQ84,\"\")","v":""},{"$f":"IF(教学计划表!GL84<>0,教学计划表!GR84,\"\")","v":""},{"$f":"IF(教学计划表!GL84<>0,教学计划表!QC84,\"\")","v":""},{"$f":"OFFSET($IJ$2,SMALL(IF($IJ$2:$IJ$72<>\"\",ROW($IJ$2:$IJ$72),\"\"),ROW(IJ67))-2,0)","v":{"$error":"#NUM!"}},{"$f":"OFFSET($IK$2,SMALL(IF($IK$2:$IK$72<>\"\",ROW($IK$2:$IK$72),\"\"),ROW(IK67))-2,0)","v":{"$error":"#NUM!"}},{"$f":"OFFSET($IL$2,SMALL(IF($IL$2:$IL$72<>\"\",ROW($IL$2:$IL$72),\"\"),ROW(IL67))-2,0)","v":{"$error":"#NUM!"}},{"$f":"OFFSET($IM$2,SMALL(IF($IM$2:$IM$72<>\"\",ROW($IM$2:$IM$72),\"\"),ROW(IM67))-2,0)","v":{"$error":"#NUM!"}},{"$f":"OFFSET($IN$2,SMALL(IF($IN$2:$IN$72<>\"\",ROW($IN$2:$IN$72),\"\"),ROW(IN67))-2,0)","v":{"$error":"#NUM!"}},{"$f":"OFFSET($IO$2,SMALL(IF($IO$2:$IO$72<>\"\",ROW($IO$2:$IO$72),\"\"),ROW(IO67))-2,0)","v":{"$error":"#NUM!"}},{"$f":"OFFSET($IP$2,SMALL(IF($IP$2:$IP$72<>\"\",ROW($IP$2:$IP$72),\"\"),ROW(IP67))-2,0)","v":{"$error":"#NUM!"}},null,{"$f":"IF(AND(教学计划表!N84<>\"\",教学计划表!BH84<>\"\"),教学计划表!I84,\"\")","v":""},{"$f":"IF(教学计划表!BH84<>\"\",教学计划表!N84,\"\")","v":""},{"$f":"IF(教学计划表!BH84<>\"\",IF(SEARCH(\"6\",教学计划表!AB84&\"6\",1)<=LEN(教学计划表!AB84),\"考试\",\"考查\"),\"\")","v":""},{"$f":"IF(教学计划表!BH84<>0,教学计划表!HG84,\"\")","v":""},{"$f":"IF(教学计划表!BH84<>0,教学计划表!HL84,\"\")","v":""},{"$f":"IF(教学计划表!BH84<>0,教学计划表!HM84,\"\")","v":""},{"$f":"IF(教学计划表!BH84<>0,教学计划表!QO84,\"\")","v":""},{"$f":"OFFSET($IY$2,SMALL(IF($IY$2:$IY$72<>\"\",ROW($IY$2:$IY$72),\"\"),ROW(IY67))-2,0)","v":{"$error":"#NUM!"}},{"$f":"OFFSET($IZ$2,SMALL(IF($IZ$2:$IZ$72<>\"\",ROW($IZ$2:$IZ$72),\"\"),ROW(IZ67))-2,0)","v":{"$error":"#NUM!"}},{"$f":"OFFSET($JA$2,SMALL(IF($JA$2:$JA$72<>\"\",ROW($JA$2:$JA$72),\"\"),ROW(JA67))-2,0)","v":{"$error":"#NUM!"}},{"$f":"OFFSET($JB$2,SMALL(IF($JB$2:$JB$72<>\"\",ROW($JB$2:$JB$72),\"\"),ROW(JB67))-2,0)","v":{"$error":"#NUM!"}},{"$f":"OFFSET($JC$2,SMALL(IF($JC$2:$JC$72<>\"\",ROW($JC$2:$JC$72),\"\"),ROW(JC67))-2,0)","v":{"$error":"#NUM!"}},{"$f":"OFFSET($JD$2,SMALL(IF($JD$2:$JD$72<>\"\",ROW($JD$2:$JD$72),\"\"),ROW(JD67))-2,0)","v":{"$error":"#NUM!"}},{"$f":"OFFSET($JE$2,SMALL(IF($JE$2:$JE$72<>\"\",ROW($JE$2:$JE$72),\"\"),ROW(JE67))-2,0)","v":{"$error":"#NUM!"}}]
["","","","","","","",null,"","","",{"$f":"IF(ISERROR(自动生成的开课信息!HB69),\"\",自动生成的开课信息!HB69)","v":""},{"$f":"IF(ISERROR(自动生成的开课信息!HC69),\"\",自动生成的开课信息!HC69)","v":""},{"$f":"IF(ISERROR(自动生成的开课信息!HD69),\"\",自动生成的开课信息!HD69)","v":""},{"$f":"IF(ISERROR(自动生成的开课信息!HE69),\"\",自动生成的开课信息!HE69)","v":""},null,"","","","","","","",null,"","","","","","","",null,"","","","","","","",null,"","","","","","","",null,null,null,null,null,null,null,null,null,null,null,null,null,null,null,null,null,null,null,null,null,null,null,null,null,null,null,null,null,null,null,null,null,null,null,null,null,null,null,null,null,null,null,null,null,null,null,null,null,null,null,null,null,null,null,null,null,null,null,null,null,null,null,null,null,null,null,null,null,null,null,null,null,null,null,null,null,null,null,null,null,null,null,null,null,null,null,null,null,null,null,null,null,null,null,null,null,null,null,null,null,null,null,null,null,null,null,null,null,null,null,null,null,null,null,null,null,null,null,null,null,null,null,null,null,null,null,null,null,null,null,null,null,null,null,null,null,null,{"$f":"IF(AND(教学计划表!N85<>\"\",教学计划表!AS85<>\"\"),教学计划表!I85,\"\")","v":""},{"$f":"IF(教学计划表!AS85<>\"\",教学计划表!N85,\"\")","v":""},{"$f":"IF(GE69<>\"\",IF(SEARCH(\"1\",教学计划表!AB85&\"1\",1)<=LEN(教学计划表!AB85),\"考试\",\"考查\"),\"\")","v":""},{"$f":"IF(教学计划表!DG85<>0,教学计划表!DG85,\"\")","v":""},{"$f":"IF(教学计划表!DG85<>0,教学计划表!DL85,\"\")","v":""},{"$f":"IF(教学计划表!DG85<>0,教学计划表!DM85,\"\")","v":""},{"$f":"IF(教学计划表!DG85<>0,教学计划表!OH85,\"\")","v":""},{"$f":"OFFSET($GD$2,SMALL(IF($GD$2:$GD$72<>\"\",ROW($2:$72),\"\"),ROW(GD68))-2,0)","v":{"$error":"#NUM!"}},{"$f":"OFFSET($GE$2,SMALL(IF($GE$2:$GE$72<>\"\",ROW($2:$72),\"\"),ROW(GE68))-2,0)","v":{"$error":"#NUM!"}},{"$f":"OFFSET($GF$2,SMALL(IF($GF$2:$GF$72<>\"\",ROW($2:$72),\"\"),ROW(GF68))-2,0)","v":{"$error":"#NUM!"}},{"$f":"OFFSET($GG$2,SMALL(IF($GG$2:$GG$72<>\"\",ROW($2:$72),\"\"),ROW(GG68))-2,0)","v":{"$error":"#NUM!"}},{"$f":"OFFSET($GH$2,SMALL(IF($GH$2:$GH$72<>\"\",ROW($2:$72),\"\"),ROW(GH68))-2,0)","v":{"$error":"#NUM!"}},{"$error":"#NUM!"},{"$f":"OFFSET($GJ$2,SMALL(IF($GJ$2:$GJ$72<>\"\",ROW($2:$72),\"\"),ROW(GJ68))-2,0)","v":{"$error":"#NUM!"}},{"$f":"IF(AND(教学计划表!N85<>\"\",教学计划表!AV85<>\"\"),教学计划表!I85,\"\")","v":""},{"$f":"IF(教学计划表!AV85<>\"\",教学计划表!N85,\"\")","v":""},{"$f":"IF(GS69<>\"\",IF(SEARCH(\"2\",教学计划表!AB85&\"2\",1)<=LEN(教学计划表!AB85),\"考试\",\"考查\"),\"\")","v":""},{"$f":"IF(教学计划表!EA85<>0,教学计划表!EA85,\"\")","v":""},{"$f":"IF(教学计划表!EA85<>0,教学计划表!EF85,\"\")","v":""},{"$f":"IF(教学计划表!EA85<>0,教学计划表!EG85,\"\")","v":""},{"$f":"IF(教学计划表!EA85<>0,教学计划表!OT85,\"\")","v":""},{"$f":"OFFSET($GR$2,SMALL(IF($GR$2:$GR$72<>\"\",ROW($I$2:$K$72),\"\"),ROW(GR68))-2,0)","v":{"$error":"#NUM!"}},{"$f":"OFFSET($GS$2,SMALL(IF($GS$2:$GS$72<>\"\",ROW($I$2:$K$72),\"\"),ROW(GS68))-2,0)","v":{"$error":"#NUM!"}},{"$f":"OFFSET($GT$2,SMALL(IF($GT$2:$GT$72<>\"\",ROW($I$2:$K$72),\"\"),ROW(GT68))-2,0)","v":{"$error":"#NUM!"}},{"$f":"OFFSET($GU$2,SMALL(IF($GU$2:$GU$72<>\"\",ROW($I$2:$K$72),\"\"),ROW(GU68))-2,0)","v":{"$error":"#NUM!"}},{"$f":"OFFSET($GV$2,SMALL(IF($GV$2:$GV$72<>\"\",ROW($GV$2:$GV$72),\"\"),ROW(GV68))-2,0)","v":{"$error":"#NUM!"}},{"$f":"OFFSET($GW$2,SMALL(IF($GW$2:$GW$72<>\"\",ROW($GW$2:$GW$72),\"\"),ROW(GW68))-2,0)","v":{"$error":"#NUM!"}},{"$f":"OFFSET($GX$2,SMALL(IF($GX$2:$GX$72<>\"\",ROW($GX$2:$GX$72),\"\"),ROW(GX68))-2,0)","v":{"$error":"#NUM!"}},{"$f":"IF(AND(教学计划表!N85<>\"\",教学计划表!AY85<>\"\"),教学计划表!I85,\"\")","v":""},{"$f":"IF(教学计划表!AY85<>\"\",教学计划表!N85,\"\")","v":""},{"$f":"IF(HG69<>\"\",IF(SEARCH(\"3\",教学计划表!AB85&\"3\",1)<=LEN(教学计划表!AB85),\"考试\",\"考查\"),\"\")","v":""},{"$f":"IF(教学计划表!EV85<>0,教学计划表!EV85,\"\")","v":""},{"$f":"IF(教学计划表!EV85<>0,教学计划表!FA85,\"\")","v":""},{"$f":"IF(教学计划表!EV85<>0,教学计划表!FB85,\"\")","v":""},{"$f":"IF(教学计划表!EV85<>0,教学计划表!PF85,\"\")","v":""},{"$f":"OFFSET($HF$2,SMALL(IF($HF$2:$HF$72<>\"\",ROW($HF$2:$HF$72),\"\"),ROW(HF68))-2,0)","v":{"$error":"#NUM!"}},{"$f":"OFFSET($HG$2,SMALL(IF($HG$2:$HG$72<>\"\",ROW($HG$2:$HG$72),\"\"),ROW(HG68))-2,0)","v":{"$error":"#NUM!"}},{"$f":"OFFSET($HH$2,SMALL(IF($HH$2:$HH$72<>\"\",ROW($HH$2:$HH$72),\"\"),ROW(HH68))-2,0)","v":{"$error":"#NUM!"}},{"$f":"OFFSET($HI$2,SMALL(IF($HI$2:$HI$72<>\"\",ROW($HI$2:$HI$72),\"\"),ROW(HI68))-2,0)","v":{"$error":"#NUM!"}},{"$f":"OFFSET($HJ$2,SMALL(IF($HJ$2:$HJ$72<>\"\",ROW($HJ$2:$HJ$72),\"\"),ROW(HJ68))-2,0)","v":{"$error":"#NUM!"}},{"$f":"OFFSET($HK$2,SMALL(IF($HK$2:$HK$72<>\"\",ROW($HK$2:$HK$72),\"\"),ROW(HK68))-2,0)","v":{"$error":"#NUM!"}},{"$f":"OFFSET($HL$2,SMALL(IF($HL$2:$HL$72<>\"\",ROW($HL$2:$HL$72),\"\"),ROW(HL68))-2,0)","v":{"$error":"#NUM!"}},{"$f":"IF(AND(教学计划表!N85<>\"\",教学计划表!BB85<>\"\"),教学计划表!I85,\"\")","v":""},{"$f":"IF(教学计划表!BB85<>\"\",教学计划表!N85,\"\")","v":""},{"$f":"IF(HU69<>\"\",IF(SEARCH(\"4\",教学计划表!AB85&\"4\",1)<=LEN(教学计划表!AB85),\"考试\",\"考查\"),\"\")","v":""},{"$f":"IF(教学计划表!FQ85<>0,教学计划表!FQ85,\"\")","v":""},{"$f":"IF(教学计划表!FQ85<>0,教学计划表!FV85,\"\")","v":""},{"$f":"IF(教学计划表!FQ85<>0,教学计划表!FW85,\"\")","v":""},{"$f":"IF(教学计划表!FQ85<>0,教学计划表!PR85,\"\")","v":""},{"$f":"OFFSET($HT$2,SMALL(IF($HT$2:$HT$72<>\"\",ROW($HT$2:$HT$72),\"\"),ROW(HT68))-2,0)","v":{"$error":"#NUM!"}},{"$f":"OFFSET($HU$2,SMALL(IF($HU$2:$HU$72<>\"\",ROW($HU$2:$HU$72),\"\"),ROW(HU68))-2,0)","v":{"$error":"#NUM!"}},{"$f":"OFFSET($HV$2,SMALL(IF($HV$2:$HV$72<>\"\",ROW($HV$2:$HV$72),\"\"),ROW(HV68))-2,0)","v":{"$error":"#NUM!"}},{"$f":"OFFSET($HW$2,SMALL(IF($HW$2:$HW$72<>\"\",ROW($HW$2:$HW$72),\"\"),ROW(HW68))-2,0)","v":{"$error":"#NUM!"}},{"$f":"OFFSET($HX$2,SMALL(IF($HX$2:$HX$72<>\"\",ROW($HX$2:$HX$72),\"\"),ROW(HX68))-2,0)","v":{"$error":"#NUM!"}},{"$f":"OFFSET($HY$2,SMALL(IF($HY$2:$HY$72<>\"\",ROW($HY$2:$HY$72),\"\"),ROW(HY68))-2,0)","v":{"$error":"#NUM!"}},{"$f":"OFFSET($HZ$2,SMALL(IF($HZ$2:$HZ$72<>\"\",ROW($HZ$2:$HZ$72),\"\"),ROW(HZ68))-2,0)","v":{"$error":"#NUM!"}},null,null,{"$f":"IF(AND(教学计划表!N85<>\"\",教学计划表!BE85<>\"\"),教学计划表!I85,\"\")","v":""},{"$f":"IF(教学计划表!BE85<>\"\",教学计划表!N85,\"\")","v":""},{"$f":"IF(IK69<>\"\",IF(SEARCH(\"5\",教学计划表!AB85&\"5\",1)<=LEN(教学计划表!AB85),\"考试\",\"考查\"),\"\")","v":""},{"$f":"IF(教学计划表!GL85<>0,教学计划表!GL85,\"\")","v":""},{"$f":"IF(教学计划表!GL85<>0,教学计划表!GQ85,\"\")","v":""},{"$f":"IF(教学计划表!GL85<>0,教学计划表!GR85,\"\")","v":""},{"$f":"IF(教学计划表!GL85<>0,教学计划表!QC85,\"\")","v":""},{"$f":"OFFSET($IJ$2,SMALL(IF($IJ$2:$IJ$72<>\"\",ROW($IJ$2:$IJ$72),\"\"),ROW(IJ68))-2,0)","v":{"$error":"#NUM!"}},{"$f":"OFFSET($IK$2,SMALL(IF($IK$2:$IK$72<>\"\",ROW($IK$2:$IK$72),\"\"),ROW(IK68))-2,0)","v":{"$error":"#NUM!"}},{"$f":"OFFSET($IL$2,SMALL(IF($IL$2:$IL$72<>\"\",ROW($IL$2:$IL$72),\"\"),ROW(IL68))-2,0)","v":{"$error":"#NUM!"}},{"$f":"OFFSET($IM$2,SMALL(IF($IM$2:$IM$72<>\"\",ROW($IM$2:$IM$72),\"\"),ROW(IM68))-2,0)","v":{"$error":"#NUM!"}},{"$f":"OFFSET($IN$2,SMALL(IF($IN$2:$IN$72<>\"\",ROW($IN$2:$IN$72),\"\"),ROW(IN68))-2,0)","v":{"$error":"#NUM!"}},{"$f":"OFFSET($IO$2,SMALL(IF($IO$2:$IO$72<>\"\",ROW($IO$2:$IO$72),\"\"),ROW(IO68))-2,0)","v":{"$error":"#NUM!"}},{"$f":"OFFSET($IP$2,SMALL(IF($IP$2:$IP$72<>\"\",ROW($IP$2:$IP$72),\"\"),ROW(IP68))-2,0)","v":{"$error":"#NUM!"}},null,{"$f":"IF(AND(教学计划表!N85<>\"\",教学计划表!BH85<>\"\"),教学计划表!I85,\"\")","v":""},{"$f":"IF(教学计划表!BH85<>\"\",教学计划表!N85,\"\")","v":""},{"$f":"IF(教学计划表!BH85<>\"\",IF(SEARCH(\"6\",教学计划表!AB85&\"6\",1)<=LEN(教学计划表!AB85),\"考试\",\"考查\"),\"\")","v":""},{"$f":"IF(教学计划表!BH85<>0,教学计划表!HG85,\"\")","v":""},{"$f":"IF(教学计划表!BH85<>0,教学计划表!HL85,\"\")","v":""},{"$f":"IF(教学计划表!BH85<>0,教学计划表!HM85,\"\")","v":""},{"$f":"IF(教学计划表!BH85<>0,教学计划表!QO85,\"\")","v":""},{"$f":"OFFSET($IY$2,SMALL(IF($IY$2:$IY$72<>\"\",ROW($IY$2:$IY$72),\"\"),ROW(IY68))-2,0)","v":{"$error":"#NUM!"}},{"$f":"OFFSET($IZ$2,SMALL(IF($IZ$2:$IZ$72<>\"\",ROW($IZ$2:$IZ$72),\"\"),ROW(IZ68))-2,0)","v":{"$error":"#NUM!"}},{"$f":"OFFSET($JA$2,SMALL(IF($JA$2:$JA$72<>\"\",ROW($JA$2:$JA$72),\"\"),ROW(JA68))-2,0)","v":{"$error":"#NUM!"}},{"$f":"OFFSET($JB$2,SMALL(IF($JB$2:$JB$72<>\"\",ROW($JB$2:$JB$72),\"\"),ROW(JB68))-2,0)","v":{"$error":"#NUM!"}},{"$f":"OFFSET($JC$2,SMALL(IF($JC$2:$JC$72<>\"\",ROW($JC$2:$JC$72),\"\"),ROW(JC68))-2,0)","v":{"$error":"#NUM!"}},{"$f":"OFFSET($JD$2,SMALL(IF($JD$2:$JD$72<>\"\",ROW($JD$2:$JD$72),\"\"),ROW(JD68))-2,0)","v":{"$error":"#NUM!"}},{"$f":"OFFSET($JE$2,SMALL(IF($JE$2:$JE$72<>\"\",ROW($JE$2:$JE$72),\"\"),ROW(JE68))-2,0)","v":{"$error":"#NUM!"}}]
["","","","","","","",null,"","","",{"$f":"IF(ISERROR(自动生成的开课信息!HB70),\"\",自动生成的开课信息!HB70)","v":""},{"$f":"IF(ISERROR(自动生成的开课信息!HC70),\"\",自动生成的开课信息!HC70)","v":""},{"$f":"IF(ISERROR(自动生成的开课信息!HD70),\"\",自动生成的开课信息!HD70)","v":""},{"$f":"IF(ISERROR(自动生成的开课信息!HE70),\"\",自动生成的开课信息!HE70)","v":""},null,"","","","","","","",null,"","","","","","","",null,"","","","","","","",null,"","","","","","","",null,null,null,null,null,null,null,null,null,null,null,null,null,null,null,null,null,null,null,null,null,null,null,null,null,null,null,null,null,null,null,null,null,null,null,null,null,null,null,null,null,null,null,null,null,null,null,null,null,null,null,null,null,null,null,null,null,null,null,null,null,null,null,null,null,null,null,null,null,null,null,null,null,null,null,null,null,null,null,null,null,null,null,null,null,null,null,null,null,null,null,null,null,null,null,null,null,null,null,null,null,null,null,null,null,null,null,null,null,null,null,null,null,null,null,null,null,null,null,null,null,null,null,null,null,null,null,null,null,null,null,null,null,null,null,null,null,null,{"$f":"IF(AND(教学计划表!N86<>\"\",教学计划表!AS86<>\"\"),教学计划表!I86,\"\")","v":""},{"$f":"IF(教学计划表!AS86<>\"\",教学计划表!N86,\"\")","v":""},{"$f":"IF(GE70<>\"\",IF(SEARCH(\"1\",教学计划表!AB86&\"1\",1)<=LEN(教学计划表!AB86),\"考试\",\"考查\"),\"\")","v":""},{"$f":"IF(教学计划表!DG86<>0,教学计划表!DG86,\"\")","v":""},{"$f":"IF(教学计划表!DG86<>0,教学计划表!DL86,\"\")","v":""},{"$f":"IF(教学计划表!DG86<>0,教学计划表!DM86,\"\")","v":""},{"$f":"IF(教学计划表!DG86<>0,教学计划表!OH86,\"\")","v":""},{"$f":"OFFSET($GD$2,SMALL(IF($GD$2:$GD$72<>\"\",ROW($2:$72),\"\"),ROW(GD69))-2,0)","v":{"$error":"#NUM!"}},{"$f":"OFFSET($GE$2,SMALL(IF($GE$2:$GE$72<>\"\",ROW($2:$72),\"\"),ROW(GE69))-2,0)","v":{"$error":"#NUM!"}},{"$f":"OFFSET($GF$2,SMALL(IF($GF$2:$GF$72<>\"\",ROW($2:$72),\"\"),ROW(GF69))-2,0)","v":{"$error":"#NUM!"}},{"$f":"OFFSET($GG$2,SMALL(IF($GG$2:$GG$72<>\"\",ROW($2:$72),\"\"),ROW(GG69))-2,0)","v":{"$error":"#NUM!"}},{"$f":"OFFSET($GH$2,SMALL(IF($GH$2:$GH$72<>\"\",ROW($2:$72),\"\"),ROW(GH69))-2,0)","v":{"$error":"#NUM!"}},{"$error":"#NUM!"},{"$f":"OFFSET($GJ$2,SMALL(IF($GJ$2:$GJ$72<>\"\",ROW($2:$72),\"\"),ROW(GJ69))-2,0)","v":{"$error":"#NUM!"}},{"$f":"IF(AND(教学计划表!N86<>\"\",教学计划表!AV86<>\"\"),教学计划表!I86,\"\")","v":""},{"$f":"IF(教学计划表!AV86<>\"\",教学计划表!N86,\"\")","v":""},{"$f":"IF(GS70<>\"\",IF(SEARCH(\"2\",教学计划表!AB86&\"2\",1)<=LEN(教学计划表!AB86),\"考试\",\"考查\"),\"\")","v":""},{"$f":"IF(教学计划表!EA86<>0,教学计划表!EA86,\"\")","v":""},{"$f":"IF(教学计划表!EA86<>0,教学计划表!EF86,\"\")","v":""},{"$f":"IF(教学计划表!EA86<>0,教学计划表!EG86,\"\")","v":""},{"$f":"IF(教学计划表!EA86<>0,教学计划表!OT86,\"\")","v":""},{"$f":"OFFSET($GR$2,SMALL(IF($GR$2:$GR$72<>\"\",ROW($I$2:$K$72),\"\"),ROW(GR69))-2,0)","v":{"$error":"#NUM!"}},{"$f":"OFFSET($GS$2,SMALL(IF($GS$2:$GS$72<>\"\",ROW($I$2:$K$72),\"\"),ROW(GS69))-2,0)","v":{"$error":"#NUM!"}},{"$f":"OFFSET($GT$2,SMALL(IF($GT$2:$GT$72<>\"\",ROW($I$2:$K$72),\"\"),ROW(GT69))-2,0)","v":{"$error":"#NUM!"}},{"$f":"OFFSET($GU$2,SMALL(IF($GU$2:$GU$72<>\"\",ROW($I$2:$K$72),\"\"),ROW(GU69))-2,0)","v":{"$error":"#NUM!"}},{"$f":"OFFSET($GV$2,SMALL(IF($GV$2:$GV$72<>\"\",ROW($GV$2:$GV$72),\"\"),ROW(GV69))-2,0)","v":{"$error":"#NUM!"}},{"$f":"OFFSET($GW$2,SMALL(IF($GW$2:$GW$72<>\"\",ROW($GW$2:$GW$72),\"\"),ROW(GW69))-2,0)","v":{"$error":"#NUM!"}},{"$f":"OFFSET($GX$2,SMALL(IF($GX$2:$GX$72<>\"\",ROW($GX$2:$GX$72),\"\"),ROW(GX69))-2,0)","v":{"$error":"#NUM!"}},{"$f":"IF(AND(教学计划表!N86<>\"\",教学计划表!AY86<>\"\"),教学计划表!I86,\"\")","v":""},{"$f":"IF(教学计划表!AY86<>\"\",教学计划表!N86,\"\")","v":""},{"$f":"IF(HG70<>\"\",IF(SEARCH(\"3\",教学计划表!AB86&\"3\",1)<=LEN(教学计划表!AB86),\"考试\",\"考查\"),\"\")","v":""},{"$f":"IF(教学计划表!EV86<>0,教学计划表!EV86,\"\")","v":""},{"$f":"IF(教学计划表!EV86<>0,教学计划表!FA86,\"\")","v":""},{"$f":"IF(教学计划表!EV86<>0,教学计划表!FB86,\"\")","v":""},{"$f":"IF(教学计划表!EV86<>0,教学计划表!PF86,\"\")","v":""},{"$f":"OFFSET($HF$2,SMALL(IF($HF$2:$HF$72<>\"\",ROW($HF$2:$HF$72),\"\"),ROW(HF69))-2,0)","v":{"$error":"#NUM!"}},{"$f":"OFFSET($HG$2,SMALL(IF($HG$2:$HG$72<>\"\",ROW($HG$2:$HG$72),\"\"),ROW(HG69))-2,0)","v":{"$error":"#NUM!"}},{"$f":"OFFSET($HH$2,SMALL(IF($HH$2:$HH$72<>\"\",ROW($HH$2:$HH$72),\"\"),ROW(HH69))-2,0)","v":{"$error":"#NUM!"}},{"$f":"OFFSET($HI$2,SMALL(IF($HI$2:$HI$72<>\"\",ROW($HI$2:$HI$72),\"\"),ROW(HI69))-2,0)","v":{"$error":"#NUM!"}},{"$f":"OFFSET($HJ$2,SMALL(IF($HJ$2:$HJ$72<>\"\",ROW($HJ$2:$HJ$72),\"\"),ROW(HJ69))-2,0)","v":{"$error":"#NUM!"}},{"$f":"OFFSET($HK$2,SMALL(IF($HK$2:$HK$72<>\"\",ROW($HK$2:$HK$72),\"\"),ROW(HK69))-2,0)","v":{"$error":"#NUM!"}},{"$f":"OFFSET($HL$2,SMALL(IF($HL$2:$HL$72<>\"\",ROW($HL$2:$HL$72),\"\"),ROW(HL69))-2,0)","v":{"$error":"#NUM!"}},{"$f":"IF(AND(教学计划表!N86<>\"\",教学计划表!BB86<>\"\"),教学计划表!I86,\"\")","v":""},{"$f":"IF(教学计划表!BB86<>\"\",教学计划表!N86,\"\")","v":""},{"$f":"IF(HU70<>\"\",IF(SEARCH(\"4\",教学计划表!AB86&\"4\",1)<=LEN(教学计划表!AB86),\"考试\",\"考查\"),\"\")","v":""},{"$f":"IF(教学计划表!FQ86<>0,教学计划表!FQ86,\"\")","v":""},{"$f":"IF(教学计划表!FQ86<>0,教学计划表!FV86,\"\")","v":""},{"$f":"IF(教学计划表!FQ86<>0,教学计划表!FW86,\"\")","v":""},{"$f":"IF(教学计划表!FQ86<>0,教学计划表!PR86,\"\")","v":""},{"$f":"OFFSET($HT$2,SMALL(IF($HT$2:$HT$72<>\"\",ROW($HT$2:$HT$72),\"\"),ROW(HT69))-2,0)","v":{"$error":"#NUM!"}},{"$f":"OFFSET($HU$2,SMALL(IF($HU$2:$HU$72<>\"\",ROW($HU$2:$HU$72),\"\"),ROW(HU69))-2,0)","v":{"$error":"#NUM!"}},{"$f":"OFFSET($HV$2,SMALL(IF($HV$2:$HV$72<>\"\",ROW($HV$2:$HV$72),\"\"),ROW(HV69))-2,0)","v":{"$error":"#NUM!"}},{"$f":"OFFSET($HW$2,SMALL(IF($HW$2:$HW$72<>\"\",ROW($HW$2:$HW$72),\"\"),ROW(HW69))-2,0)","v":{"$error":"#NUM!"}},{"$f":"OFFSET($HX$2,SMALL(IF($HX$2:$HX$72<>\"\",ROW($HX$2:$HX$72),\"\"),ROW(HX69))-2,0)","v":{"$error":"#NUM!"}},{"$f":"OFFSET($HY$2,SMALL(IF($HY$2:$HY$72<>\"\",ROW($HY$2:$HY$72),\"\"),ROW(HY69))-2,0)","v":{"$error":"#NUM!"}},{"$f":"OFFSET($HZ$2,SMALL(IF($HZ$2:$HZ$72<>\"\",ROW($HZ$2:$HZ$72),\"\"),ROW(HZ69))-2,0)","v":{"$error":"#NUM!"}},null,null,{"$f":"IF(AND(教学计划表!N86<>\"\",教学计划表!BE86<>\"\"),教学计划表!I86,\"\")","v":""},{"$f":"IF(教学计划表!BE86<>\"\",教学计划表!N86,\"\")","v":""},{"$f":"IF(IK70<>\"\",IF(SEARCH(\"5\",教学计划表!AB86&\"5\",1)<=LEN(教学计划表!AB86),\"考试\",\"考查\"),\"\")","v":""},{"$f":"IF(教学计划表!GL86<>0,教学计划表!GL86,\"\")","v":""},{"$f":"IF(教学计划表!GL86<>0,教学计划表!GQ86,\"\")","v":""},{"$f":"IF(教学计划表!GL86<>0,教学计划表!GR86,\"\")","v":""},{"$f":"IF(教学计划表!GL86<>0,教学计划表!QC86,\"\")","v":""},{"$f":"OFFSET($IJ$2,SMALL(IF($IJ$2:$IJ$72<>\"\",ROW($IJ$2:$IJ$72),\"\"),ROW(IJ69))-2,0)","v":{"$error":"#NUM!"}},{"$f":"OFFSET($IK$2,SMALL(IF($IK$2:$IK$72<>\"\",ROW($IK$2:$IK$72),\"\"),ROW(IK69))-2,0)","v":{"$error":"#NUM!"}},{"$f":"OFFSET($IL$2,SMALL(IF($IL$2:$IL$72<>\"\",ROW($IL$2:$IL$72),\"\"),ROW(IL69))-2,0)","v":{"$error":"#NUM!"}},{"$f":"OFFSET($IM$2,SMALL(IF($IM$2:$IM$72<>\"\",ROW($IM$2:$IM$72),\"\"),ROW(IM69))-2,0)","v":{"$error":"#NUM!"}},{"$f":"OFFSET($IN$2,SMALL(IF($IN$2:$IN$72<>\"\",ROW($IN$2:$IN$72),\"\"),ROW(IN69))-2,0)","v":{"$error":"#NUM!"}},{"$f":"OFFSET($IO$2,SMALL(IF($IO$2:$IO$72<>\"\",ROW($IO$2:$IO$72),\"\"),ROW(IO69))-2,0)","v":{"$error":"#NUM!"}},{"$f":"OFFSET($IP$2,SMALL(IF($IP$2:$IP$72<>\"\",ROW($IP$2:$IP$72),\"\"),ROW(IP69))-2,0)","v":{"$error":"#NUM!"}},null,{"$f":"IF(AND(教学计划表!N86<>\"\",教学计划表!BH86<>\"\"),教学计划表!I86,\"\")","v":""},{"$f":"IF(教学计划表!BH86<>\"\",教学计划表!N86,\"\")","v":""},{"$f":"IF(教学计划表!BH86<>\"\",IF(SEARCH(\"6\",教学计划表!AB86&\"6\",1)<=LEN(教学计划表!AB86),\"考试\",\"考查\"),\"\")","v":""},{"$f":"IF(教学计划表!BH86<>0,教学计划表!HG86,\"\")","v":""},{"$f":"IF(教学计划表!BH86<>0,教学计划表!HL86,\"\")","v":""},{"$f":"IF(教学计划表!BH86<>0,教学计划表!HM86,\"\")","v":""},{"$f":"IF(教学计划表!BH86<>0,教学计划表!QO86,\"\")","v":""},{"$f":"OFFSET($IY$2,SMALL(IF($IY$2:$IY$72<>\"\",ROW($IY$2:$IY$72),\"\"),ROW(IY69))-2,0)","v":{"$error":"#NUM!"}},{"$f":"OFFSET($IZ$2,SMALL(IF($IZ$2:$IZ$72<>\"\",ROW($IZ$2:$IZ$72),\"\"),ROW(IZ69))-2,0)","v":{"$error":"#NUM!"}},{"$f":"OFFSET($JA$2,SMALL(IF($JA$2:$JA$72<>\"\",ROW($JA$2:$JA$72),\"\"),ROW(JA69))-2,0)","v":{"$error":"#NUM!"}},{"$f":"OFFSET($JB$2,SMALL(IF($JB$2:$JB$72<>\"\",ROW($JB$2:$JB$72),\"\"),ROW(JB69))-2,0)","v":{"$error":"#NUM!"}},{"$f":"OFFSET($JC$2,SMALL(IF($JC$2:$JC$72<>\"\",ROW($JC$2:$JC$72),\"\"),ROW(JC69))-2,0)","v":{"$error":"#NUM!"}},{"$f":"OFFSET($JD$2,SMALL(IF($JD$2:$JD$72<>\"\",ROW($JD$2:$JD$72),\"\"),ROW(JD69))-2,0)","v":{"$error":"#NUM!"}},{"$f":"OFFSET($JE$2,SMALL(IF($JE$2:$JE$72<>\"\",ROW($JE$2:$JE$72),\"\"),ROW(JE69))-2,0)","v":{"$error":"#NUM!"}}]
["","","","","","","",null,"","","",{"$f":"IF(ISERROR(自动生成的开课信息!HB71),\"\",自动生成的开课信息!HB71)","v":""},{"$f":"IF(ISERROR(自动生成的开课信息!HC71),\"\",自动生成的开课信息!HC71)","v":""},{"$f":"IF(ISERROR(自动生成的开课信息!HD71),\"\",自动生成的开课信息!HD71)","v":""},{"$f":"IF(ISERROR(自动生成的开课信息!HE71),\"\",自动生成的开课信息!HE71)","v":""},null,"","","","","","","",null,"","","","","","","",null,"","","","","","","",null,"","","","","","","",null,null,null,null,null,null,null,null,null,null,null,null,null,null,null,null,null,null,null,null,null,null,null,null,null,null,null,null,null,null,null,null,null,null,null,null,null,null,null,null,null,null,null,null,null,null,null,null,null,null,null,null,null,null,null,null,null,null,null,null,null,null,null,null,null,null,null,null,null,null,null,null,null,null,null,null,null,null,null,null,null,null,null,null,null,null,null,null,null,null,null,null,null,null,null,null,null,null,null,null,null,null,null,null,null,null,null,null,null,null,null,null,null,null,null,null,null,null,null,null,null,null,null,null,null,null,null,null,null,null,null,null,null,null,null,null,null,null,{"$f":"IF(AND(教学计划表!N87<>\"\",教学计划表!AS87<>\"\"),教学计划表!I87,\"\")","v":""},{"$f":"IF(教学计划表!AS87<>\"\",教学计划表!N87,\"\")","v":""},{"$f":"IF(GE71<>\"\",IF(SEARCH(\"1\",教学计划表!AB87&\"1\",1)<=LEN(教学计划表!AB87),\"考试\",\"考查\"),\"\")","v":""},{"$f":"IF(教学计划表!DG87<>0,教学计划表!DG87,\"\")","v":""},{"$f":"IF(教学计划表!DG87<>0,教学计划表!DL87,\"\")","v":""},{"$f":"IF(教学计划表!DG87<>0,教学计划表!DM87,\"\")","v":""},{"$f":"IF(教学计划表!DG87<>0,教学计划表!OH87,\"\")","v":""},{"$f":"OFFSET($GD$2,SMALL(IF($GD$2:$GD$72<>\"\",ROW($2:$72),\"\"),ROW(GD70))-2,0)","v":{"$error":"#NUM!"}},{"$f":"OFFSET($GE$2,SMALL(IF($GE$2:$GE$72<>\"\",ROW($2:$72),\"\"),ROW(GE70))-2,0)","v":{"$error":"#NUM!"}},{"$f":"OFFSET($GF$2,SMALL(IF($GF$2:$GF$72<>\"\",ROW($2:$72),\"\"),ROW(GF70))-2,0)","v":{"$error":"#NUM!"}},{"$f":"OFFSET($GG$2,SMALL(IF($GG$2:$GG$72<>\"\",ROW($2:$72),\"\"),ROW(GG70))-2,0)","v":{"$error":"#NUM!"}},{"$f":"OFFSET($GH$2,SMALL(IF($GH$2:$GH$72<>\"\",ROW($2:$72),\"\"),ROW(GH70))-2,0)","v":{"$error":"#NUM!"}},{"$error":"#NUM!"},{"$f":"OFFSET($GJ$2,SMALL(IF($GJ$2:$GJ$72<>\"\",ROW($2:$72),\"\"),ROW(GJ70))-2,0)","v":{"$error":"#NUM!"}},{"$f":"IF(AND(教学计划表!N87<>\"\",教学计划表!AV87<>\"\"),教学计划表!I87,\"\")","v":""},{"$f":"IF(教学计划表!AV87<>\"\",教学计划表!N87,\"\")","v":""},{"$f":"IF(GS71<>\"\",IF(SEARCH(\"2\",教学计划表!AB87&\"2\",1)<=LEN(教学计划表!AB87),\"考试\",\"考查\"),\"\")","v":""},{"$f":"IF(教学计划表!EA87<>0,教学计划表!EA87,\"\")","v":""},{"$f":"IF(教学计划表!EA87<>0,教学计划表!EF87,\"\")","v":""},{"$f":"IF(教学计划表!EA87<>0,教学计划表!EG87,\"\")","v":""},{"$f":"IF(教学计划表!EA87<>0,教学计划表!OT87,\"\")","v":""},{"$f":"OFFSET($GR$2,SMALL(IF($GR$2:$GR$72<>\"\",ROW($I$2:$K$72),\"\"),ROW(GR70))-2,0)","v":{"$error":"#NUM!"}},{"$f":"OFFSET($GS$2,SMALL(IF($GS$2:$GS$72<>\"\",ROW($I$2:$K$72),\"\"),ROW(GS70))-2,0)","v":{"$error":"#NUM!"}},{"$f":"OFFSET($GT$2,SMALL(IF($GT$2:$GT$72<>\"\",ROW($I$2:$K$72),\"\"),ROW(GT70))-2,0)","v":{"$error":"#NUM!"}},{"$f":"OFFSET($GU$2,SMALL(IF($GU$2:$GU$72<>\"\",ROW($I$2:$K$72),\"\"),ROW(GU70))-2,0)","v":{"$error":"#NUM!"}},{"$f":"OFFSET($GV$2,SMALL(IF($GV$2:$GV$72<>\"\",ROW($GV$2:$GV$72),\"\"),ROW(GV70))-2,0)","v":{"$error":"#NUM!"}},{"$f":"OFFSET($GW$2,SMALL(IF($GW$2:$GW$72<>\"\",ROW($GW$2:$GW$72),\"\"),ROW(GW70))-2,0)","v":{"$error":"#NUM!"}},{"$f":"OFFSET($GX$2,SMALL(IF($GX$2:$GX$72<>\"\",ROW($GX$2:$GX$72),\"\"),ROW(GX70))-2,0)","v":{"$error":"#NUM!"}},{"$f":"IF(AND(教学计划表!N87<>\"\",教学计划表!AY87<>\"\"),教学计划表!I87,\"\")","v":""},{"$f":"IF(教学计划表!AY87<>\"\",教学计划表!N87,\"\")","v":""},{"$f":"IF(HG71<>\"\",IF(SEARCH(\"3\",教学计划表!AB87&\"3\",1)<=LEN(教学计划表!AB87),\"考试\",\"考查\"),\"\")","v":""},{"$f":"IF(教学计划表!EV87<>0,教学计划表!EV87,\"\")","v":""},{"$f":"IF(教学计划表!EV87<>0,教学计划表!FA87,\"\")","v":""},{"$f":"IF(教学计划表!EV87<>0,教学计划表!FB87,\"\")","v":""},{"$f":"IF(教学计划表!EV87<>0,教学计划表!PF87,\"\")","v":""},{"$f":"OFFSET($HF$2,SMALL(IF($HF$2:$HF$72<>\"\",ROW($HF$2:$HF$72),\"\"),ROW(HF70))-2,0)","v":{"$error":"#NUM!"}},{"$f":"OFFSET($HG$2,SMALL(IF($HG$2:$HG$72<>\"\",ROW($HG$2:$HG$72),\"\"),ROW(HG70))-2,0)","v":{"$error":"#NUM!"}},{"$f":"OFFSET($HH$2,SMALL(IF($HH$2:$HH$72<>\"\",ROW($HH$2:$HH$72),\"\"),ROW(HH70))-2,0)","v":{"$error":"#NUM!"}},{"$f":"OFFSET($HI$2,SMALL(IF($HI$2:$HI$72<>\"\",ROW($HI$2:$HI$72),\"\"),ROW(HI70))-2,0)","v":{"$error":"#NUM!"}},{"$f":"OFFSET($HJ$2,SMALL(IF($HJ$2:$HJ$72<>\"\",ROW($HJ$2:$HJ$72),\"\"),ROW(HJ70))-2,0)","v":{"$error":"#NUM!"}},{"$f":"OFFSET($HK$2,SMALL(IF($HK$2:$HK$72<>\"\",ROW($HK$2:$HK$72),\"\"),ROW(HK70))-2,0)","v":{"$error":"#NUM!"}},{"$f":"OFFSET($HL$2,SMALL(IF($HL$2:$HL$72<>\"\",ROW($HL$2:$HL$72),\"\"),ROW(HL70))-2,0)","v":{"$error":"#NUM!"}},{"$f":"IF(AND(教学计划表!N87<>\"\",教学计划表!BB87<>\"\"),教学计划表!I87,\"\")","v":""},{"$f":"IF(教学计划表!BB87<>\"\",教学计划表!N87,\"\")","v":""},{"$f":"IF(HU71<>\"\",IF(SEARCH(\"4\",教学计划表!AB87&\"4\",1)<=LEN(教学计划表!AB87),\"考试\",\"考查\"),\"\")","v":""},{"$f":"IF(教学计划表!FQ87<>0,教学计划表!FQ87,\"\")","v":""},{"$f":"IF(教学计划表!FQ87<>0,教学计划表!FV87,\"\")","v":""},{"$f":"IF(教学计划表!FQ87<>0,教学计划表!FW87,\"\")","v":""},{"$f":"IF(教学计划表!FQ87<>0,教学计划表!PR87,\"\")","v":""},{"$f":"OFFSET($HT$2,SMALL(IF($HT$2:$HT$72<>\"\",ROW($HT$2:$HT$72),\"\"),ROW(HT70))-2,0)","v":{"$error":"#NUM!"}},{"$f":"OFFSET($HU$2,SMALL(IF($HU$2:$HU$72<>\"\",ROW($HU$2:$HU$72),\"\"),ROW(HU70))-2,0)","v":{"$error":"#NUM!"}},{"$f":"OFFSET($HV$2,SMALL(IF($HV$2:$HV$72<>\"\",ROW($HV$2:$HV$72),\"\"),ROW(HV70))-2,0)","v":{"$error":"#NUM!"}},{"$f":"OFFSET($HW$2,SMALL(IF($HW$2:$HW$72<>\"\",ROW($HW$2:$HW$72),\"\"),ROW(HW70))-2,0)","v":{"$error":"#NUM!"}},{"$f":"OFFSET($HX$2,SMALL(IF($HX$2:$HX$72<>\"\",ROW($HX$2:$HX$72),\"\"),ROW(HX70))-2,0)","v":{"$error":"#NUM!"}},{"$f":"OFFSET($HY$2,SMALL(IF($HY$2:$HY$72<>\"\",ROW($HY$2:$HY$72),\"\"),ROW(HY70))-2,0)","v":{"$error":"#NUM!"}},{"$f":"OFFSET($HZ$2,SMALL(IF($HZ$2:$HZ$72<>\"\",ROW($HZ$2:$HZ$72),\"\"),ROW(HZ70))-2,0)","v":{"$error":"#NUM!"}},null,null,{"$f":"IF(AND(教学计划表!N87<>\"\",教学计划表!BE87<>\"\"),教学计划表!I87,\"\")","v":""},{"$f":"IF(教学计划表!BE87<>\"\",教学计划表!N87,\"\")","v":""},{"$f":"IF(IK71<>\"\",IF(SEARCH(\"5\",教学计划表!AB87&\"5\",1)<=LEN(教学计划表!AB87),\"考试\",\"考查\"),\"\")","v":""},{"$f":"IF(教学计划表!GL87<>0,教学计划表!GL87,\"\")","v":""},{"$f":"IF(教学计划表!GL87<>0,教学计划表!GQ87,\"\")","v":""},{"$f":"IF(教学计划表!GL87<>0,教学计划表!GR87,\"\")","v":""},{"$f":"IF(教学计划表!GL87<>0,教学计划表!QC87,\"\")","v":""},{"$f":"OFFSET($IJ$2,SMALL(IF($IJ$2:$IJ$72<>\"\",ROW($IJ$2:$IJ$72),\"\"),ROW(IJ70))-2,0)","v":{"$error":"#NUM!"}},{"$f":"OFFSET($IK$2,SMALL(IF($IK$2:$IK$72<>\"\",ROW($IK$2:$IK$72),\"\"),ROW(IK70))-2,0)","v":{"$error":"#NUM!"}},{"$f":"OFFSET($IL$2,SMALL(IF($IL$2:$IL$72<>\"\",ROW($IL$2:$IL$72),\"\"),ROW(IL70))-2,0)","v":{"$error":"#NUM!"}},{"$f":"OFFSET($IM$2,SMALL(IF($IM$2:$IM$72<>\"\",ROW($IM$2:$IM$72),\"\"),ROW(IM70))-2,0)","v":{"$error":"#NUM!"}},{"$f":"OFFSET($IN$2,SMALL(IF($IN$2:$IN$72<>\"\",ROW($IN$2:$IN$72),\"\"),ROW(IN70))-2,0)","v":{"$error":"#NUM!"}},{"$f":"OFFSET($IO$2,SMALL(IF($IO$2:$IO$72<>\"\",ROW($IO$2:$IO$72),\"\"),ROW(IO70))-2,0)","v":{"$error":"#NUM!"}},{"$f":"OFFSET($IP$2,SMALL(IF($IP$2:$IP$72<>\"\",ROW($IP$2:$IP$72),\"\"),ROW(IP70))-2,0)","v":{"$error":"#NUM!"}},null,{"$f":"IF(AND(教学计划表!N87<>\"\",教学计划表!BH87<>\"\"),教学计划表!I87,\"\")","v":""},{"$f":"IF(教学计划表!BH87<>\"\",教学计划表!N87,\"\")","v":""},{"$f":"IF(教学计划表!BH87<>\"\",IF(SEARCH(\"6\",教学计划表!AB87&\"6\",1)<=LEN(教学计划表!AB87),\"考试\",\"考查\"),\"\")","v":""},{"$f":"IF(教学计划表!BH87<>0,教学计划表!HG87,\"\")","v":""},{"$f":"IF(教学计划表!BH87<>0,教学计划表!HL87,\"\")","v":""},{"$f":"IF(教学计划表!BH87<>0,教学计划表!HM87,\"\")","v":""},{"$f":"IF(教学计划表!BH87<>0,教学计划表!QO87,\"\")","v":""},{"$f":"OFFSET($IY$2,SMALL(IF($IY$2:$IY$72<>\"\",ROW($IY$2:$IY$72),\"\"),ROW(IY70))-2,0)","v":{"$error":"#NUM!"}},{"$f":"OFFSET($IZ$2,SMALL(IF($IZ$2:$IZ$72<>\"\",ROW($IZ$2:$IZ$72),\"\"),ROW(IZ70))-2,0)","v":{"$error":"#NUM!"}},{"$f":"OFFSET($JA$2,SMALL(IF($JA$2:$JA$72<>\"\",ROW($JA$2:$JA$72),\"\"),ROW(JA70))-2,0)","v":{"$error":"#NUM!"}},{"$f":"OFFSET($JB$2,SMALL(IF($JB$2:$JB$72<>\"\",ROW($JB$2:$JB$72),\"\"),ROW(JB70))-2,0)","v":{"$error":"#NUM!"}},{"$f":"OFFSET($JC$2,SMALL(IF($JC$2:$JC$72<>\"\",ROW($JC$2:$JC$72),\"\"),ROW(JC70))-2,0)","v":{"$error":"#NUM!"}},{"$f":"OFFSET($JD$2,SMALL(IF($JD$2:$JD$72<>\"\",ROW($JD$2:$JD$72),\"\"),ROW(JD70))-2,0)","v":{"$error":"#NUM!"}},{"$f":"OFFSET($JE$2,SMALL(IF($JE$2:$JE$72<>\"\",ROW($JE$2:$JE$72),\"\"),ROW(JE70))-2,0)","v":{"$error":"#NUM!"}}]
[null,null,null,null,null,null,null,null,{"$f":"IF(ISERROR(GY72),\"\",GY72)","v":0},null,null,null,null,null,null,null,{"$f":"IF(ISERROR(HM72),\"\",HM72)","v":0},null,null,null,null,null,null,null,{"$f":"IF(ISERROR(IA72),\"\",IA72)","v":0},null,null,null,null,null,null,null,{"$f":"IF(ISERROR(IQ72),\"\",IQ72)","v":0},null,null,null,null,null,null,null,{"$f":"IF(ISERROR(JF72),\"\",JF72)","v":0}]

{"sheet":"说明","index":3,"n_rows":0,"n_cols":0,"rows_kept":0,"cut":false,"hidden":true,"merged":[]}

{"sheet":"Sheet1","index":4,"n_rows":67,"n_cols":8,"rows_kept":67,"cut":false,"hidden":true,"merged":[]}
[]
["C程序设计","gg051002","gg",5,1002,null,null,60]
["C程序设计综合实训","gg052001","gg",5,2001,null,null,74]
["HSE","gg081019","gg",8,1019,null,null,16]
["Photoshop","gg051005","gg",5,1005,null,null,68]
["PLC及应用技术","zd051002","zd",5,1002,null,null,208]
["PLC实训","zd052004","zd",5,2004,null,null,30]
["VFP程序设计","gg051003","gg",5,1003,null,null,76]
["VFP程序设计综合实训","gg052002","gg",5,2002,null,null,60]
["安全用电与操作","zd051018","zd",5,1018,null,null,60]
["安装技术","zd051015","zd",5,1015,null,null,60]
["变频器技术","gg041004","gg",4,1004,null,null,76]
["创新创业","gg081008","gg",8,1008,null,null,114]
["单片机技术","gg041005","gg",4,1005,null,null,72]
["电工基本技能实训","zd052001","zd",5,2001,null,null,""]
["电工基础","zd051001","zd",5,1001,null,null,""]
["电工技术","gg041001","gg",4,1001,null,null,""]
["电工培训及取证","zd052003","zd",5,2003,null,null,""]
["电工仪表使用与维护","zd051004","zd",5,1004,null,null,""]
["电机故障修理实训","zd052005","zd",5,2005,null,null,76]
["电机与控制","zd051006","zd",5,1006,null,null,184]
["电力电子技术","zd051008","zd",5,1008,null,null,72]
["电力系统及继电保护","zd051013","zd",5,1013,null,null,76]
["电子CAD","gg041003","gg",4,1003,null,null,""]
["电子技术","zd051003","zd",5,1003,null,null,""]
["电子线路安装","zd052002","zd",5,2002,null,null,""]
["顶岗实习","zd052008","zd",5,2008,null,null,76]
["发电厂及变电站二次回路","zd051012","zd",5,1012,null,null,72]
["高等数学","gg051006","gg",5,1006,null,null,76]
["高电压技术与电气绝缘试验","zd051011","zd",5,1011,null,null,16]
["工厂电气控制技术","zd051007","zd",5,1007,null,null,16]
["公共卫生与健康","gg081020","gg",8,1020,null,null,72]
["供电系统认识实训","zd052007","zd",5,2007,null,null,""]
["供配电工程安装与调试","zd051017","zd",5,1017,null,null,""]
["化工安全技术","gg011002","gg",1,1002,null,null,""]
["化工企业管理实务","gg061002","gg",6,1002,null,null,16]
["机床控制实训","zd052006","zd",5,2006,null,null,16]
["计算机应用基础","gg051001","gg",5,1001,null,null,16]
["计算机应用基础综合实训","gg052003","gg",5,2003,null,null,16]
["建筑电气","zd051009","zd",5,1009,null,null,16]
["军事理论","gg081005","gg",8,1005,null,null,""]
["可编程控制器应用技术","gg041006","gg",4,1006,null,null,""]
["马克思主义哲学","gg081018","gg",8,1018,null,null,16]
["毛思、特色理论概论","gg081002","gg",8,1002,null,null,""]
["美术鉴赏","gg081015","gg",8,1015,null,null,""]
["企业供电与运行","zd051005","zd",5,1005,null,null,""]
["企业文化","gg081010","gg",8,1010,null,null,""]
["汽车电气维修技术","zd051014","zd",5,1014,null,null,""]
["人文素质教育","gg081009","gg",8,1009,null,null,78]
["入学教育、军训","gg072001","gg",7,2001,null,null,26]
["商务礼仪","gg081012","gg",8,1012,null,null,26]
["石化产品加工概论","gg011001","gg",1,1001,null,null,26]
["书法鉴赏","gg081016","gg",8,1016,null,null,78]
["思想道德修养与法律基础","gg081001","gg",8,1001,null,null,52]
["体育","gg071001","gg",7,1001,null,null,26]
["外语","gg061001","gg",6,1001,null,null,26]
["网络技术","gg051004","gg",5,1004,null,null,26]
["维修电工","zd051010","zd",5,1010,null,null,26]
["现代礼仪","gg081011","gg",8,1011,null,null,702]
["心理健康教育","gg081004","gg",8,1004,null,null,{"$f":"SUM(H2:H59)","v":2898}]
["形势与政策","gg081003","gg",8,1003]
["音乐鉴赏","gg081014","gg",8,1014]
["用电营业管理","zd051016","zd",5,1016]
["择业与就业指导","gg081007","gg",8,1007]
["职业生涯规划","gg081006","gg",8,1006]
["中国传统文化","gg081013","gg",8,1013]
["中国文学作品赏析","gg081017","gg",8,1017]

{"sheet":"序号","index":5,"n_rows":70,"n_cols":13,"rows_kept":70,"cut":false,"hidden":true,"merged":[]}
[]
[{"$f":"IF(教学计划表!N19<>\"\",教学计划表!N19,\"\")","v":""},{"$f":"IF(序号!A2<>\"\",1,0)","v":0},{"$f":"IF(B2<>0,C1+B2,C1)","v":0},{"$f":"IF(A2<>\"\",C2,\"\")","v":""},null,null,null,null,null,null,null,null,1]
[{"$f":"IF(教学计划表!N20<>\"\",教学计划表!N20,\"\")","v":""},{"$f":"IF(序号!A3<>\"\",1,0)","v":0},{"$f":"IF(B3<>0,C2+B3,C2)","v":0},{"$f":"IF(A3<>\"\",C3,\"\")","v":""}]
[{"$f":"IF(教学计划表!N21<>\"\",教学计划表!N21,\"\")","v":""},{"$f":"IF(序号!A4<>\"\",1,0)","v":0},{"$f":"IF(B4<>0,C3+B4,C3)","v":0},""]
[{"$f":"IF(教学计划表!N22<>\"\",教学计划表!N22,\"\")","v":""},{"$f":"IF(序号!A5<>\"\",1,0)","v":0},0,""]
[{"$f":"IF(教学计划表!N23<>\"\",教学计划表!N23,\"\")","v":""},{"$f":"IF(序号!A6<>\"\",1,0)","v":0},0,""]
[{"$f":"IF(教学计划表!N24<>\"\",教学计划表!N24,\"\")","v":""},{"$f":"IF(序号!A7<>\"\",1,0)","v":0},0,""]
[{"$f":"IF(教学计划表!N25<>\"\",教学计划表!N25,\"\")","v":""},{"$f":"IF(序号!A8<>\"\",1,0)","v":0},0,""]
[{"$f":"IF(教学计划表!N26<>\"\",教学计划表!N26,\"\")","v":""},{"$f":"IF(序号!A9<>\"\",1,0)","v":0},0,""]
[{"$f":"IF(教学计划表!N27<>\"\",教学计划表!N27,\"\")","v":""},{"$f":"IF(序号!A10<>\"\",1,0)","v":0},0,""]
[{"$f":"IF(教学计划表!N28<>\"\",教学计划表!N28,\"\")","v":""},{"$f":"IF(序号!A11<>\"\",1,0)","v":0},0,""]
[{"$f":"IF(教学计划表!N29<>\"\",教学计划表!N29,\"\")","v":""},{"$f":"IF(序号!A12<>\"\",1,0)","v":0},0,""]
[{"$f":"IF(教学计划表!N30<>\"\",教学计划表!N30,\"\")","v":""},{"$f":"IF(序号!A13<>\"\",1,0)","v":0},0,""]
[{"$f":"IF(教学计划表!N31<>\"\",教学计划表!N31,\"\")","v":""},{"$f":"IF(序号!A14<>\"\",1,0)","v":0},0,""]
[{"$f":"IF(教学计划表!N32<>\"\",教学计划表!N32,\"\")","v":""},{"$f":"IF(序号!A15<>\"\",1,0)","v":0},0,""]
[{"$f":"IF(教学计划表!N33<>\"\",教学计划表!N33,\"\")","v":""},{"$f":"IF(序号!A16<>\"\",1,0)","v":0},0,""]
[{"$f":"IF(教学计划表!N34<>\"\",教学计划表!N34,\"\")","v":""},{"$f":"IF(序号!A17<>\"\",1,0)","v":0},0,""]
[{"$f":"IF(教学计划表!N35<>\"\",教学计划表!N35,\"\")","v":""},{"$f":"IF(序号!A18<>\"\",1,0)","v":0},0,""]
[{"$f":"IF(教学计划表!N36<>\"\",教学计划表!N36,\"\")","v":""},{"$f":"IF(序号!A19<>\"\",1,0)","v":0},0,""]
[{"$f":"IF(教学计划表!N37<>\"\",教学计划表!N37,\"\")","v":""},{"$f":"IF(序号!A20<>\"\",1,0)","v":0},0,""]
[{"$f":"IF(教学计划表!N38<>\"\",教学计划表!N38,\"\")","v":""},{"$f":"IF(序号!A21<>\"\",1,0)","v":0},0,""]
[{"$f":"IF(教学计划表!N39<>\"\",教学计划表!N39,\"\")","v":""},{"$f":"IF(序号!A22<>\"\",1,0)","v":0},0,""]
[{"$f":"IF(教学计划表!N40<>\"\",教学计划表!N40,\"\")","v":""},{"$f":"IF(序号!A23<>\"\",1,0)","v":0},0,""]
[{"$f":"IF(教学计划表!N41<>\"\",教学计划表!N41,\"\")","v":""},{"$f":"IF(序号!A24<>\"\",1,0)","v":0},0,""]
[{"$f":"IF(教学计划表!N42<>\"\",教学计划表!N42,\"\")","v":""},{"$f":"IF(序号!A25<>\"\",1,0)","v":0},0,""]
[{"$f":"IF(教学计划表!N43<>\"\",教学计划表!N43,\"\")","v":""},{"$f":"IF(序号!A26<>\"\",1,0)","v":0},0,""]
[{"$f":"IF(教学计划表!N44<>\"\",教学计划表!N44,\"\")","v":""},{"$f":"IF(序号!A27<>\"\",1,0)","v":0},0,""]
[{"$f":"IF(教学计划表!N45<>\"\",教学计划表!N45,\"\")","v":""},{"$f":"IF(序号!A28<>\"\",1,0)","v":0},0,""]
[{"$f":"IF(教学计划表!N46<>\"\",教学计划表!N46,\"\")","v":""},{"$f":"IF(序号!A29<>\"\",1,0)","v":0},0,""]
[{"$f":"IF(教学计划表!N47<>\"\",教学计划表!N47,\"\")","v":""},{"$f":"IF(序号!A30<>\"\",1,0)","v":0},0,""]
[{"$f":"IF(教学计划表!N48<>\"\",教学计划表!N48,\"\")","v":""},{"$f":"IF(序号!A31<>\"\",1,0)","v":0},0,""]
[{"$f":"IF(教学计划表!N49<>\"\",教学计划表!N49,\"\")","v":""},{"$f":"IF(序号!A32<>\"\",1,0)","v":0},0,""]
[{"$f":"IF(教学计划表!N50<>\"\",教学计划表!N50,\"\")","v":""},{"$f":"IF(序号!A33<>\"\",1,0)","v":0},0,""]
[{"$f":"IF(教学计划表!N51<>\"\",教学计划表!N51,\"\")","v":""},{"$f":"IF(序号!A34<>\"\",1,0)","v":0},0,""]
[{"$f":"IF(教学计划表!N52<>\"\",教学计划表!N52,\"\")","v":""},{"$f":"IF(序号!A35<>\"\",1,0)","v":0},0,""]
[{"$f":"IF(教学计划表!N53<>\"\",教学计划表!N53,\"\")","v":""},{"$f":"IF(序号!A36<>\"\",1,0)","v":0},0,""]
[{"$f":"IF(教学计划表!N54<>\"\",教学计划表!N54,\"\")","v":""},{"$f":"IF(序号!A37<>\"\",1,0)","v":0},0,""]
[{"$f":"IF(教学计划表!N55<>\"\",教学计划表!N55,\"\")","v":""},{"$f":"IF(序号!A38<>\"\",1,0)","v":0},0,""]
[{"$f":"IF(教学计划表!N56<>\"\",教学计划表!N56,\"\")","v":""},{"$f":"IF(序号!A39<>\"\",1,0)","v":0},0,""]
[{"$f":"IF(教学计划表!N57<>\"\",教学计划表!N57,\"\")","v":""},{"$f":"IF(序号!A40<>\"\",1,0)","v":0},0,""]
[{"$f":"IF(教学计划表!N58<>\"\",教学计划表!N58,\"\")","v":""},{"$f":"IF(序号!A41<>\"\",1,0)","v":0},0,""]
[{"$f":"IF(教学计划表!N59<>\"\",教学计划表!N59,\"\")","v":""},{"$f":"IF(序号!A42<>\"\",1,0)","v":0},0,""]
[{"$f":"IF(教学计划表!N60<>\"\",教学计划表!N60,\"\")","v":""},{"$f":"IF(序号!A43<>\"\",1,0)","v":0},0,""]
[{"$f":"IF(教学计划表!N61<>\"\",教学计划表!N61,\"\")","v":""},{"$f":"IF(序号!A44<>\"\",1,0)","v":0},0,""]
[{"$f":"IF(教学计划表!N62<>\"\",教学计划表!N62,\"\")","v":""},{"$f":"IF(序号!A45<>\"\",1,0)","v":0},0,""]
[{"$f":"IF(教学计划表!N63<>\"\",教学计划表!N63,\"\")","v":""},{"$f":"IF(序号!A46<>\"\",1,0)","v":0},0,""]
[{"$f":"IF(教学计划表!N64<>\"\",教学计划表!N64,\"\")","v":""},{"$f":"IF(序号!A47<>\"\",1,0)","v":0},0,""]
[{"$f":"IF(教学计划表!N65<>\"\",教学计划表!N65,\"\")","v":""},{"$f":"IF(序号!A48<>\"\",1,0)","v":0},0,""]
[{"$f":"IF(教学计划表!N66<>\"\",教学计划表!N66,\"\")","v":""},{"$f":"IF(序号!A49<>\"\",1,0)","v":0},0,""]
[{"$f":"IF(教学计划表!N67<>\"\",教学计划表!N67,\"\")","v":""},{"$f":"IF(序号!A50<>\"\",1,0)","v":0},0,""]
[{"$f":"IF(教学计划表!N68<>\"\",教学计划表!N68,\"\")","v":""},{"$f":"IF(序号!A51<>\"\",1,0)","v":0},0,""]
[{"$f":"IF(教学计划表!N69<>\"\",教学计划表!N69,\"\")","v":""},{"$f":"IF(序号!A52<>\"\",1,0)","v":0},0,""]
[{"$f":"IF(教学计划表!N70<>\"\",教学计划表!N70,\"\")","v":""},{"$f":"IF(序号!A53<>\"\",1,0)","v":0},0,""]
[{"$f":"IF(教学计划表!N71<>\"\",教学计划表!N71,\"\")","v":""},{"$f":"IF(序号!A54<>\"\",1,0)","v":0},0,""]
[{"$f":"IF(教学计划表!N72<>\"\",教学计划表!N72,\"\")","v":""},{"$f":"IF(序号!A55<>\"\",1,0)","v":0},0,""]
[{"$f":"IF(教学计划表!N73<>\"\",教学计划表!N73,\"\")","v":""},{"$f":"IF(序号!A56<>\"\",1,0)","v":0},0,""]
[{"$f":"IF(教学计划表!N74<>\"\",教学计划表!N74,\"\")","v":""},{"$f":"IF(序号!A57<>\"\",1,0)","v":0},0,""]
[{"$f":"IF(教学计划表!N75<>\"\",教学计划表!N75,\"\")","v":""},{"$f":"IF(序号!A58<>\"\",1,0)","v":0},0,""]
[{"$f":"IF(教学计划表!N76<>\"\",教学计划表!N76,\"\")","v":""},{"$f":"IF(序号!A59<>\"\",1,0)","v":0},0,""]
[{"$f":"IF(教学计划表!N77<>\"\",教学计划表!N77,\"\")","v":""},{"$f":"IF(序号!A60<>\"\",1,0)","v":0},0,""]
[{"$f":"IF(教学计划表!N78<>\"\",教学计划表!N78,\"\")","v":""},{"$f":"IF(序号!A61<>\"\",1,0)","v":0},0,""]
[{"$f":"IF(教学计划表!N79<>\"\",教学计划表!N79,\"\")","v":""},{"$f":"IF(序号!A62<>\"\",1,0)","v":0},0,""]
[{"$f":"IF(教学计划表!N80<>\"\",教学计划表!N80,\"\")","v":""},{"$f":"IF(序号!A63<>\"\",1,0)","v":0},0,""]
[{"$f":"IF(教学计划表!N81<>\"\",教学计划表!N81,\"\")","v":""},{"$f":"IF(序号!A64<>\"\",1,0)","v":0},0,""]
[{"$f":"IF(教学计划表!N82<>\"\",教学计划表!N82,\"\")","v":""},{"$f":"IF(序号!A65<>\"\",1,0)","v":0},0,""]
[{"$f":"IF(教学计划表!N83<>\"\",教学计划表!N83,\"\")","v":""},{"$f":"IF(序号!A66<>\"\",1,0)","v":0},0,""]
[{"$f":"IF(教学计划表!N84<>\"\",教学计划表!N84,\"\")","v":""},{"$f":"IF(序号!A67<>\"\",1,0)","v":0},0,{"$f":"IF(A67<>\"\",C67,\"\")","v":""}]
[{"$f":"IF(教学计划表!N85<>\"\",教学计划表!N85,\"\")","v":""},{"$f":"IF(序号!A68<>\"\",1,0)","v":0},{"$f":"IF(B68<>0,C67+B68,C67)","v":0},""]
[{"$f":"IF(教学计划表!N86<>\"\",教学计划表!N86,\"\")","v":""},{"$f":"IF(序号!A69<>\"\",1,0)","v":0},0,""]
[{"$f":"IF(教学计划表!N87<>\"\",教学计划表!N87,\"\")","v":""},{"$f":"IF(序号!A70<>\"\",1,0)","v":0},0,""]

{"sheet":"Sheet2","index":6,"n_rows":0,"n_cols":0,"rows_kept":0,"cut":false,"hidden":true,"merged":[]}