{"text_format":"1","workbook":"xlsx","n_sheets":4,"sheets":["课程名称及编码","教学计划表","自动生成的开课信息","序号"],"not_rendered":{"charts":0,"images":0,"macros":1,"external_links":0,"defined_names":16,"comments":0,"pivot_tables":0},"unopened":[],"bounds":{"document_bytes":16777216,"sheet_cells":100000,"rows_first":2000,"rows_last":500,"rows_between":2000,"halvings":0,"cell_chars":16384,"cell_head_chars":4096},"cells_cut":0,"cells_raw":0,"read":"whole","date_system":"1900"}

{"sheet":"课程名称及编码","index":0,"n_rows":100,"n_cols":16,"rows_kept":100,"cut":false,"hidden":true,"merged":[]}
["石化专业课程名称","石化专业课程编码","化工专业课程名称","化工专业课程编码","分析专业课程名称","分析专业课程编码","电气专业课程名称","电气专业课程编码",null,{"$f":"教学计划表!V17","v":0},"行","列",null,null,"表课程名称","表课程编码"]
["C程序设计","gg051002","C程序设计","gg051002","石化产品加工概论","gg011001","CAD实训","zd022001",null,null,1,{"$f":"2*$J$1-2","v":-2},{"$f":"OFFSET($A$1,K2,L2)","v":{"$error":"#REF!"}},{"$f":"OFFSET($A$1,K2,L2+1)","v":{"$error":"#REF!"}},{"$f":"IF(教学计划表!N18<>\"\",教学计划表!N18,\"\")","v":""},{"$f":"IF(O2<>\"\",VLOOKUP(O2,$M$2:$N$100,2,FALSE),\"\")","v":""}]
["C程序设计综合实训","gg052001","C程序设计综合实训","gg052001","化工安全技术","gg011002","C程序设计","gg051002",null,null,2,{"$f":"2*$J$1-2","v":-2},{"$f":"OFFSET($A$1,K3,L3)","v":{"$error":"#REF!"}},{"$f":"OFFSET($A$1,K3,L3+1)","v":{"$error":"#REF!"}},{"$f":"IF(教学计划表!N19<>\"\",教学计划表!N19,\"\")","v":""},{"$f":"IF(O3<>\"\",VLOOKUP(O3,$M$2:$N$100,2,FALSE),\"\")","v":""}]
["HSE","gg081019","HSE","gg081019","电工技术","gg041001","C程序设计综合实训","gg052001",null,null,3,{"$f":"2*$J$1-2","v":-2},{"$error":"#REF!"},{"$error":"#REF!"},{"$f":"IF(教学计划表!N20<>\"\",教学计划表!N20,\"\")","v":""},{"$f":"IF(O4<>\"\",VLOOKUP(O4,$M$2:$N$100,2,FALSE),\"\")","v":""}]
["HSE综合实训","sh012013","Photoshop","gg051005","电子技术","gg041002","HSE","gg081019",null,null,4,-2,{"$error":"#REF!"},{"$error":"#REF!"},{"$f":"IF(教学计划表!N21<>\"\",教学计划表!N21,\"\")","v":""},""]
["Photoshop","gg051005","VFP程序设计","gg051003","电子CAD","gg041003","Photoshop","gg051005",null,null,5,-2,{"$error":"#REF!"},{"$error":"#REF!"},{"$f":"IF(教学计划表!N22<>\"\",教学计划表!N22,\"\")","v":""},""]
["VFP程序设计","gg051003","VFP程序设计综合实训","gg052002","变频器技术","gg041004","VFP程序设计","gg051003",null,null,6,-2,{"$error":"#REF!"},{"$error":"#REF!"},{"$f":"IF(教学计划表!N23<>\"\",教学计划表!N23,\"\")","v":""},""]
["VFP程序设计综合实训","gg052002","苯乙烯仿真工厂实训","sh042008","单片机技术","gg041005","VFP程序设计综合实训","gg052002",null,null,7,-2,{"$error":"#REF!"},{"$error":"#REF!"},{"$f":"IF(教学计划表!N24<>\"\",教学计划表!N24,\"\")","v":""},""]
["苯乙烯仿真工厂实训","sh012004","毕业教育","sh042011","可编程控制器应用技术","gg041006","毕业教育","zd022014",null,null,8,-2,{"$error":"#REF!"},{"$error":"#REF!"},{"$f":"IF(教学计划表!N25<>\"\",教学计划表!N25,\"\")","v":""},""]
["毕业教育","sh012008","变频器技术","gg041004","计算机应用基础","gg051001","变频器技术","zd021013",null,null,9,-2,{"$error":"#REF!"},{"$error":"#REF!"},{"$f":"IF(教学计划表!N26<>\"\",教学计划表!N26,\"\")","v":""},""]
["变频器技术","gg041004","创新创业教育与创业实务","gg081008","C程序设计","gg051002","变频器实训","zd022007",null,null,10,-2,{"$error":"#REF!"},{"$error":"#REF!"},{"$f":"IF(教学计划表!N27<>\"\",教学计划表!N27,\"\")","v":""},""]
["柴油加氢装置实训","sh012009","单片机技术","gg041005","VFP程序设计","gg051003","传感器技术","zd021014",null,null,11,-2,{"$error":"#REF!"},{"$error":"#REF!"},{"$f":"IF(教学计划表!N28<>\"\",教学计划表!N28,\"\")","v":""},""]
["常减压工艺","sh011022","电工技术","gg041001","网络技术","gg051004","创新创业教育与创新实务","gg081008",null,null,12,-2,{"$error":"#REF!"},{"$error":"#REF!"},{"$f":"IF(教学计划表!N29<>\"\",教学计划表!N29,\"\")","v":""},""]
["常减压实训","sh012014","电子CAD","gg041003","Photoshop","gg051005","单片机技术","gg041005",null,null,13,-2,{"$error":"#REF!"},{"$error":"#REF!"},{"$f":"IF(教学计划表!N30<>\"\",教学计划表!N30,\"\")","v":""},""]
["创新创业","gg081008","电子技术","gg041002","高等数学","gg051006","单片机实训","zd022009",null,null,14,-2,{"$error":"#REF!"},{"$error":"#REF!"},{"$f":"IF(教学计划表!N31<>\"\",教学计划表!N31,\"\")","v":""},""]
["催化裂化工艺","sh011023","顶岗实训与设计","sh042006","C程序设计综合实训","gg052001","单片机应用技术","zd021006",null,null,15,-2,{"$error":"#REF!"},{"$error":"#REF!"},{"$f":"IF(教学计划表!N32<>\"\",教学计划表!N32,\"\")","v":""},""]
["单片机技术","gg041005","反应过程与技术","sh041007","VFP程序设计综合实训","gg052002","电工工艺实训","zd022003",null,null,16,-2,{"$error":"#REF!"},{"$error":"#REF!"},{"$f":"IF(教学计划表!N33<>\"\",教学计划表!N33,\"\")","v":""},""]
["电工技术","gg041001","高等数学","gg051006","计算机应用基础综合实训","gg052003","电工技术","gg041001",null,null,17,-2,{"$error":"#REF!"},{"$error":"#REF!"},{"$f":"IF(教学计划表!N34<>\"\",教学计划表!N34,\"\")","v":""},""]
["电子CAD","gg041003","公共卫生与健康","gg081020","外语","gg061001","电工技术","zd021002",null,null,18,-2,{"$error":"#REF!"},{"$error":"#REF!"},{"$f":"IF(教学计划表!N35<>\"\",教学计划表!N35,\"\")","v":""},""]
["电子技术","gg041002","化工安全技术","gg011002","化工企业管理实务","gg061002","电机控制及维修","zd021004",null,null,19,-2,{"$error":"#REF!"},{"$error":"#REF!"},{"$f":"IF(教学计划表!N36<>\"\",教学计划表!N36,\"\")","v":""},""]
["顶岗实习","sh012011","化工安全技术","sh041012","体育","gg071001","电机控制及维修","zd021005",null,null,20,-2,{"$error":"#REF!"},{"$error":"#REF!"},{"$f":"IF(教学计划表!N37<>\"\",教学计划表!N37,\"\")","v":""},""]
["顶岗实习与设计","sh012006","化工单元操作技术","sh041006","军事技能","gg072001","电力电子技术","zd021007",null,null,21,-2,{"$error":"#REF!"},{"$error":"#REF!"},{"$f":"IF(教学计划表!N38<>\"\",教学计划表!N38,\"\")","v":""},""]
["顶岗实习与设计","sh012006","化工企业管理实务","gg061002","思想道德修养与法律基础","gg081001","电气CAD实训","zd022011",null,null,22,-2,{"$error":"#REF!"},{"$error":"#REF!"},{"$f":"IF(教学计划表!N39<>\"\",教学计划表!N39,\"\")","v":""},""]
["反应过程与技术","sh011007","化工设备与维护","sh041005","毛思、特色理论概论","gg081002","电气控制实训","zd022004",null,null,23,-2,{"$error":"#REF!"},{"$error":"#REF!"},{"$f":"IF(教学计划表!N40<>\"\",教学计划表!N40,\"\")","v":""},""]
["高等数学","gg051006","化工生产过程控制","sh041004","形势与政策","gg081003","电子CAD","gg041003",null,null,24,-2,{"$error":"#REF!"},{"$error":"#REF!"},{"$f":"IF(教学计划表!N41<>\"\",教学计划表!N41,\"\")","v":""},""]
["高聚物生产技术","sh011013","化工识图与CAD","sh041003","心理健康教育","gg081004","电子CAD实训","zd022010",null,null,25,-2,{"$error":"#REF!"},{"$error":"#REF!"},{"$f":"IF(教学计划表!N42<>\"\",教学计划表!N42,\"\")","v":""},""]
["公共卫生与健康","gg081020","化工总控工培训","sh042003","军事理论","gg081005","电子技术","zd021003",null,null,26,-2,{"$error":"#REF!"},{"$error":"#REF!"},{"$f":"IF(教学计划表!N43<>\"\",教学计划表!N43,\"\")","v":""},""]
["浩业企业管理","sh011019","化学综合实训","sh042001","职业生涯规划","gg081006","电子技术实训","zd022002",null,null,27,-2,{"$error":"#REF!"},{"$error":"#REF!"},{"$f":"IF(教学计划表!N44<>\"\",教学计划表!N44,\"\")","v":""},""]
["化工安全技术","sh011012","环保概论","sh041013","择业与就业指导","gg081007","顶岗实习","zd022012",null,null,28,-2,{"$error":"#REF!"},{"$error":"#REF!"},{"$f":"IF(教学计划表!N45<>\"\",教学计划表!N45,\"\")","v":""},""]
["化工安全与环保技术","sh011027","基础化学实用技术","sh041001","创新创业教育与创业实务","gg081008","高等数学","gg051006",null,null,29,-2,{"$error":"#REF!"},{"$error":"#REF!"},{"$f":"IF(教学计划表!N46<>\"\",教学计划表!N46,\"\")","v":""},""]
["化工单元操作技术","sh011006","计算机应用基础","gg051001","人文素质教育","gg081009","工厂供配电技术","zd021009",null,null,30,-2,{"$error":"#REF!"},{"$error":"#REF!"},{"$f":"IF(教学计划表!N47<>\"\",教学计划表!N47,\"\")","v":""},""]
["化工机械与钳工技术","sh011021","计算机应用基础综合实训","gg052003","企业文化","gg081010","工程制图与CAD","zd021001",null,null,31,-2,{"$error":"#REF!"},{"$error":"#REF!"},{"$f":"IF(教学计划表!N48<>\"\",教学计划表!N48,\"\")","v":""},""]
["化工控制及电工技术","sh011020","就业与创业","sh042012","现代礼仪","gg081011","工业组态控制技术","zd021015",null,null,32,-2,{"$error":"#REF!"},{"$error":"#REF!"},{"$f":"IF(教学计划表!N49<>\"\",教学计划表!N49,\"\")","v":""},""]
["化工企业管理实务","gg061002","军事理论","gg081005","商务礼仪","gg081012","公共卫生与健康","gg081020",null,null,33,-2,{"$error":"#REF!"},{"$error":"#REF!"},{"$f":"IF(教学计划表!N50<>\"\",教学计划表!N50,\"\")","v":""},""]
["化工设备与维护","sh011008","可编程控制器应用技术","gg041006","中国传统文化选讲选讲","gg081013","化工安全技术","gg011002",null,null,34,-2,{"$error":"#REF!"},{"$error":"#REF!"},{"$f":"IF(教学计划表!N51<>\"\",教学计划表!N51,\"\")","v":""},""]
["化工生产过程控制","sh011009","马克思主义哲学","gg081018","音乐鉴赏","gg081014","化工企业管理实务","gg061002",null,null,35,-2,{"$error":"#REF!"},{"$error":"#REF!"},{"$f":"IF(教学计划表!N52<>\"\",教学计划表!N52,\"\")","v":""},""]
["化工识图与CAD","sh011004","毛思、特色理论概论","gg081002","美术鉴赏","gg081015","计算机应用基础","gg051001",null,null,36,-2,{"$error":"#REF!"},{"$error":"#REF!"},{"$f":"IF(教学计划表!N53<>\"\",教学计划表!N53,\"\")","v":""},""]
["化工原理","sh011018","煤化工装置仿真操作实训","sh042004","书法鉴赏","gg081016","计算机应用基础综合实训","gg052003",null,null,37,-2,{"$error":"#REF!"},{"$error":"#REF!"},{"$f":"IF(教学计划表!N54<>\"\",教学计划表!N54,\"\")","v":""},""]
["环境保护","sh011017","煤化工综合实训","sh042010","中国文学作品赏析","gg081017","检测与自动化仪表","zd021011",null,null,38,-2,{"$error":"#REF!"},{"$error":"#REF!"},{"$f":"IF(教学计划表!N55<>\"\",教学计划表!N55,\"\")","v":""},""]
["机泵拆装实训","sh012001","煤化学","sh041002","马克思主义哲学","gg081018","就业与创业","zd022013",null,null,39,-2,{"$error":"#REF!"},{"$error":"#REF!"},{"$f":"IF(教学计划表!N56<>\"\",教学计划表!N56,\"\")","v":""},""]
["机泵拆装实训","sh012016","煤化学综合实训","sh042005","HSE","gg081019","军事理论","gg081005",null,null,40,-2,{"$error":"#REF!"},{"$error":"#REF!"},{"$f":"IF(教学计划表!N57<>\"\",教学计划表!N57,\"\")","v":""},""]
["基础化学实用技术（1）","sh011001","煤气化工艺技术","sh041008","公共卫生与健康","gg081020","可编程控制器应用技术","zd021008",null,null,41,-2,{"$error":"#REF!"},{"$error":"#REF!"},{"$f":"IF(教学计划表!N58<>\"\",教学计划表!N58,\"\")","v":""},""]
["基础化学实用技术（2）","sh011002","煤液化工艺技术","sh041009","无机化学","yh011001","马克思主义哲学","gg081018",null,null,42,-2,{"$error":"#REF!"},{"$error":"#REF!"},{"$f":"IF(教学计划表!N59<>\"\",教学计划表!N59,\"\")","v":""},""]
["基础化学实用技术（3）","sh011003","美术鉴赏","gg081015","有机化学","yh011002","毛思、特色理论概论","gg081002",null,null,43,-2,{"$error":"#REF!"},{"$error":"#REF!"},{"$f":"IF(教学计划表!N60<>\"\",教学计划表!N60,\"\")","v":""},""]
["计算机应用基础","gg051001","企业文化","gg081010","化学分析技术","yh011003","美术鉴赏","gg081015",null,null,44,-2,{"$error":"#REF!"},{"$error":"#REF!"},{"$f":"IF(教学计划表!N61<>\"\",教学计划表!N61,\"\")","v":""},""]
["计算机应用基础综合实训","gg052003","燃料油生产技术","sh041010","仪器分析技术","yh011004","企业文化","gg081010",null,null,45,-2,{"$error":"#REF!"},{"$error":"#REF!"},{"$f":"IF(教学计划表!N62<>\"\",教学计划表!N62,\"\")","v":""},""]
["技能考证综合训练","sh012002","人文素质教育","gg081009","文献检索","yh011005","钳工实训","zd022006",null,null,46,-2,{"$error":"#REF!"},{"$error":"#REF!"},{"$f":"IF(教学计划表!N63<>\"\",教学计划表!N63,\"\")","v":""},""]
["甲苯岐化生产实训","sh012033","军事技能","gg072001","工业分析专业英语","yh011006","人文素质教育","gg081009",null,null,47,-2,{"$error":"#REF!"},{"$error":"#REF!"},{"$f":"IF(教学计划表!N64<>\"\",教学计划表!N64,\"\")","v":""},""]
["焦化工艺","sh011026","商务礼仪","gg081012","化验室组织与管理","yh011007","军事技能","gg072001",null,null,48,-2,{"$error":"#REF!"},{"$error":"#REF!"},{"$f":"IF(教学计划表!N65<>\"\",教学计划表!N65,\"\")","v":""},""]
["就业与创业","sh012007","生产实习","sh042002","化工识图与CAD","yh011008","商务礼仪","gg081012",null,null,49,-2,{"$error":"#REF!"},{"$error":"#REF!"},{"$f":"IF(教学计划表!N66<>\"\",教学计划表!N66,\"\")","v":""},""]
["军事理论","gg081005","石化产品加工概论","gg011001","化工基础","yh011009","石化产品加工概论","gg011001",null,null,50,-2,{"$error":"#REF!"},{"$error":"#REF!"},{"$f":"IF(教学计划表!N67<>\"\",教学计划表!N67,\"\")","v":""},""]
["可编程控制器应用技术","gg041006","石化装置仿真操作实训","sh042009","无机分析技术","yh011010","书法鉴赏","gg081016",null,null,51,-2,{"$error":"#REF!"},{"$error":"#REF!"},{"$f":"IF(教学计划表!N68<>\"\",教学计划表!N68,\"\")","v":""},""]
["连续重整工艺","sh011024","书法鉴赏","gg081016","有机分析技术","yh011011","思想道德修养与法律基础","gg081001",null,null,52,-2,{"$error":"#REF!"},{"$error":"#REF!"},{"$f":"IF(教学计划表!N69<>\"\",教学计划表!N69,\"\")","v":""},""]
["马克思主义哲学","gg081018","思想道德修养与法律基础","gg081001","油品分析技术","yh011012","体育","gg071001",null,null,53,-2,{"$error":"#REF!"},{"$error":"#REF!"},{"$f":"IF(教学计划表!N70<>\"\",教学计划表!N70,\"\")","v":""},""]
["毛思、特色理论概论","gg081002","体育","gg071001","食品分析技术","yh011013","外语","gg061001",null,null,54,-2,{"$error":"#REF!"},{"$error":"#REF!"},{"$f":"IF(教学计划表!N71<>\"\",教学计划表!N71,\"\")","v":""},""]
["美术鉴赏","gg081015","外语","gg061001","药物分析技术","yh011014","网络技术","gg051004",null,null,55,-2,{"$error":"#REF!"},{"$error":"#REF!"},{"$f":"IF(教学计划表!N72<>\"\",教学计划表!N72,\"\")","v":""},""]
["企业文化","gg081010","网络技术","gg051004","环境分析技术","yh011015","维修电工考证实训","zd022005",null,null,56,-2,{"$error":"#REF!"},{"$error":"#REF!"},{"$f":"IF(教学计划表!N73<>\"\",教学计划表!N73,\"\")","v":""},""]
["燃料油生产技术","sh011010","现代礼仪","gg081011","化工产品分析技术","yh011016","现代礼仪","gg081011",null,null,57,-2,{"$error":"#REF!"},{"$error":"#REF!"},{"$f":"IF(教学计划表!N74<>\"\",教学计划表!N74,\"\")","v":""},""]
["人文素质教育","gg081009","心理健康教育","gg081004","动画制作","yh011017","心理健康教育","gg081004",null,null,58,-2,{"$error":"#REF!"},{"$error":"#REF!"},{"$f":"IF(教学计划表!N75<>\"\",教学计划表!N75,\"\")","v":""},""]
["军事技能","gg072001","形势与政策","gg081003","环境保护","yh011018","形势与政策","gg081003",null,null,59,-2,{"$error":"#REF!"},{"$error":"#REF!"},{"$f":"IF(教学计划表!N76<>\"\",教学计划表!N76,\"\")","v":""},""]
["润滑油生产技术","sh011014","乙酸乙酯生产实训","sh042007","样品采集与处理技术","yh011019","音乐鉴赏","gg081014",null,null,60,-2,{"$error":"#REF!"},{"$error":"#REF!"},{"$f":"IF(教学计划表!N77<>\"\",教学计划表!N77,\"\")","v":""},""]
["商务礼仪","gg081012","音乐鉴赏","gg081014","日用化学品检验技术","yh011020","择业与就业指导","gg081007",null,null,61,-2,{"$error":"#REF!"},{"$error":"#REF!"},{"$f":"IF(教学计划表!N78<>\"\",教学计划表!N78,\"\")","v":""},""]
["深度加氢工艺","sh011025","有机化工生产技术","sh041011","油品分析实习","yh012001","职业生涯规划","gg081006",null,null,62,-2,{"$error":"#REF!"},{"$error":"#REF!"},{"$f":"IF(教学计划表!N79<>\"\",教学计划表!N79,\"\")","v":""},""]
["生产实习","sh012010","择业与就业指导","gg081007","职业技能考证实训","yh012002","中国传统文化选讲","gg081013",null,null,63,-2,{"$error":"#REF!"},{"$error":"#REF!"},{"$f":"IF(教学计划表!N80<>\"\",教学计划表!N80,\"\")","v":""},""]
["石化产品加工概论","gg011001","职业生涯规划","gg081006","毕业课题","yh012003","中国文学作品赏析","gg081017",null,null,64,-2,{"$error":"#REF!"},{"$error":"#REF!"},{"$f":"IF(教学计划表!N81<>\"\",教学计划表!N81,\"\")","v":""},""]
["石油及产品分析","sh011005","中国传统文化选讲","gg081013","社会调查","yh012004","专业英语","zd021010",null,null,65,-2,{"$error":"#REF!"},{"$error":"#REF!"},{"$f":"IF(教学计划表!N82<>\"\",教学计划表!N82,\"\")","v":""},""]
["书法鉴赏","gg081016","中国文学作品赏析","gg081017","毕业教育","yh012005","自动控制技术","zd021012",null,null,66,-2,{"$f":"OFFSET($A$1,K67,L67)","v":{"$error":"#REF!"}},{"$f":"OFFSET($A$1,K67,L67+1)","v":{"$error":"#REF!"}},{"$f":"IF(教学计划表!N83<>\"\",教学计划表!N83,\"\")","v":""},""]
["思想道德修养与法律基础","gg081001","甲苯岐化生产实训","sh042013","顶岗实习","yh012006","自动生产线实训","zd022008",null,null,67,{"$f":"2*$J$1-2","v":-2},{"$error":"#REF!"},{"$error":"#REF!"},{"$f":"IF(教学计划表!N84<>\"\",教学计划表!N84,\"\")","v":""},{"$f":"IF(O68<>\"\",VLOOKUP(O68,$M$2:$N$100,2,FALSE),\"\")","v":""}]
["体育","gg071001","柴油加氢实训","sh042014","就业与创业","yh012007","工厂供配电技术实训","zd022015",null,null,68,-2,{"$error":"#REF!"},{"$error":"#REF!"},{"$f":"IF(教学计划表!N85<>\"\",教学计划表!N85,\"\")","v":""},""]
["外语","gg061001","HSE实训","sh042015","有机化学","ggnq1008","工厂变配电所设计","zd022016",null,null,69,-2,{"$error":"#REF!"},{"$error":"#REF!"},{"$f":"IF(教学计划表!N86<>\"\",教学计划表!N86,\"\")","v":""},""]
["网络技术","gg051004","专业英语","sh041014","分析仪器使用与维护","yh011021","电气综合实训","zd022017",null,null,70,-2,{"$error":"#REF!"},{"$error":"#REF!"},{"$f":"IF(教学计划表!N87<>\"\",教学计划表!N87,\"\")","v":""},""]
["无机化学","ggnq1007","认识实习","sh042016","珠宝鉴定","yh011501","电工电子技术","zd021016",null,null,71,-2,{"$error":"#REF!"},{"$error":"#REF!"},{"$f":"IF(教学计划表!N88<>\"\",教学计划表!N88,\"\")","v":""},""]
["现代礼仪","gg081011","石油及产品分析","sh041015","医学检验","yh011502","毕业课题","zd022018",null,null,72,-2,{"$error":"#REF!"},{"$error":"#REF!"},{"$f":"IF(教学计划表!N89<>\"\",教学计划表!N89,\"\")","v":""},""]
["心理健康教育","gg081004","电气安全技术","gg041006","电气安全技术","gg041006","可编程控制器实训","zd022019",null,null,73,-2,{"$error":"#REF!"},{"$error":"#REF!"},{"$f":"IF(教学计划表!N90<>\"\",教学计划表!N90,\"\")","v":""},""]
["形势与政策","gg081003","创新方法","gg011002","创新方法","gg011002","电气安全技术","gg041006",null,null,74,-2,{"$error":"#REF!"},{"$error":"#REF!"},{"$f":"IF(教学计划表!N91<>\"\",教学计划表!N91,\"\")","v":""},""]
["乙酸乙酯生产实训","sh012003","#","#","#","#","创新方法","gg011002",null,null,75,-2,{"$error":"#REF!"},{"$error":"#REF!"},{"$f":"IF(教学计划表!N92<>\"\",教学计划表!N92,\"\")","v":""},""]
["音乐鉴赏","gg081014","#","#","#","#","#","#",null,null,76,-2,{"$error":"#REF!"},{"$error":"#REF!"},{"$f":"IF(教学计划表!N93<>\"\",教学计划表!N93,\"\")","v":""},""]
["油品分析综合实训","sh012015","#","#","#","#","#","#",null,null,77,-2,{"$error":"#REF!"},{"$error":"#REF!"},{"$f":"IF(教学计划表!N94<>\"\",教学计划表!N94,\"\")","v":""},""]
["油气储运技术","sh011015","#","#","#","#","#","#",null,null,78,-2,{"$error":"#REF!"},{"$error":"#REF!"},{"$f":"IF(教学计划表!N95<>\"\",教学计划表!N95,\"\")","v":""},""]
["有机化工生产技术","sh011011","#","#","#","#","#","#",null,null,79,-2,{"$error":"#REF!"},{"$error":"#REF!"},{"$f":"IF(教学计划表!N96<>\"\",教学计划表!N96,\"\")","v":""},""]
["有机化学","ggnq1008","#","#","#","#","#","#",null,null,80,-2,{"$error":"#REF!"},{"$error":"#REF!"},{"$f":"IF(教学计划表!N97<>\"\",教学计划表!N97,\"\")","v":""},""]
["有机化学","ggnq1008","#","#","#","#","#","#",null,null,81,-2,{"$error":"#REF!"},{"$error":"#REF!"},{"$f":"IF(教学计划表!N98<>\"\",教学计划表!N98,\"\")","v":""},""]
["择业与就业指导","gg081007","#","#","#","#","#","#",null,null,82,-2,{"$error":"#REF!"},{"$error":"#REF!"},{"$f":"IF(教学计划表!N99<>\"\",教学计划表!N99,\"\")","v":""},""]
["职业生涯规划","gg081006","#","#","#","#","#","#",null,null,83,-2,{"$error":"#REF!"},{"$error":"#REF!"},{"$f":"IF(教学计划表!N100<>\"\",教学计划表!N100,\"\")","v":""},""]
["中国传统文化选讲","gg081013","#","#","#","#","#","#",null,null,84,-2,{"$f":"OFFSET($A$1,K85,L85)","v":{"$error":"#REF!"}},{"$f":"OFFSET($A$1,K85,L85+1)","v":{"$error":"#REF!"}},{"$f":"IF(教学计划表!N101<>\"\",教学计划表!N101,\"\")","v":""},""]
["中国文学作品赏析","gg081017","#","#","#","#","#","#",null,null,85,-2,{"$error":"#REF!"},{"$error":"#REF!"},{"$f":"IF(教学计划表!N102<>\"\",教学计划表!N102,\"\")","v":""},""]
["专业英语","sh011016","#","#","#","#","#","#",null,null,86,-2,{"$error":"#REF!"},{"$error":"#REF!"},{"$f":"IF(教学计划表!N103<>\"\",教学计划表!N103,\"\")","v":""},""]
["装置仿真","sh012005","#","#","#","#","#","#",null,null,87,-2,{"$f":"OFFSET($A$1,K88,L88)","v":{"$error":"#REF!"}},{"$f":"OFFSET($A$1,K88,L88+1)","v":{"$error":"#REF!"}},{"$f":"IF(教学计划表!N104<>\"\",教学计划表!N104,\"\")","v":""},""]
["连续重整装置实训","sh012017","#","#","#","#","#","#",null,null,88,-2,{"$error":"#REF!"},{"$error":"#REF!"},{"$f":"IF(教学计划表!N105<>\"\",教学计划表!N105,\"\")","v":""},""]
["基础化学实用技术（物化）","sh011028","#","#","#","#","#","#",null,null,89,-2,{"$error":"#REF!"},{"$error":"#REF!"},{"$f":"IF(教学计划表!N106<>\"\",教学计划表!N106,\"\")","v":""},""]
["磺酸盐实训","sh012034","#","#","#","#","#","#",null,null,90,-2,{"$error":"#REF!"},{"$error":"#REF!"},{"$f":"IF(教学计划表!N107<>\"\",教学计划表!N107,\"\")","v":""},""]
["电气安全技术","gg041006","#","#","#","#","#","#",null,null,91,-2,{"$error":"#REF!"},{"$error":"#REF!"},{"$f":"IF(教学计划表!N108<>\"\",教学计划表!N108,\"\")","v":""},""]
["创新方法","gg011002","#","#","#","#","#","#",null,null,92,-2,{"$error":"#REF!"},{"$error":"#REF!"},{"$f":"IF(教学计划表!N109<>\"\",教学计划表!N109,\"\")","v":""},""]
["#","#","#","#","#","#","#","#",null,null,93,-2,{"$error":"#REF!"},{"$error":"#REF!"},{"$f":"IF(教学计划表!N110<>\"\",教学计划表!N110,\"\")","v":""},""]
["#","#","#","#","#","#","#","#",null,null,94,-2,{"$error":"#REF!"},{"$error":"#REF!"},{"$f":"IF(教学计划表!N111<>\"\",教学计划表!N111,\"\")","v":""},""]
["#","#","#","#","#","#","#","#",null,null,95,-2,{"$error":"#REF!"},{"$error":"#REF!"},{"$f":"IF(教学计划表!N112<>\"\",教学计划表!N112,\"\")","v":""},""]
["#","#","#","#","#","#","#","#",null,null,96,-2,{"$error":"#REF!"},{"$error":"#REF!"},{"$f":"IF(教学计划表!N113<>\"\",教学计划表!N113,\"\")","v":""},""]
["#","#","#","#","#","#","#","#",null,null,97,-2,{"$error":"#REF!"},{"$error":"#REF!"},{"$f":"IF(教学计划表!N114<>\"\",教学计划表!N114,\"\")","v":""},""]
["#","#","#","#","#","#","#","#",null,null,98,-2,{"$error":"#REF!"},{"$error":"#REF!"},{"$f":"IF(教学计划表!N115<>\"\",教学计划表!N115,\"\")","v":""},""]
["#","#","#","#","#","#","#","#",null,null,99,-2,{"$f":"OFFSET($A$1,K100,L100)","v":{"$error":"#REF!"}},{"$f":"OFFSET($A$1,K100,L100+1)","v":{"$error":"#REF!"}},{"$f":"IF(教学计划表!N116<>\"\",教学计划表!N116,\"\")","v":""},""]

{"sheet":"教学计划表","index":1,"n_rows":87,"n_cols":465,"rows_kept":87,"cut":false,"hidden":false,"merged":[[0,4,0,58],[2,1,2,65],[3,1,3,65],[4,1,4,56],[5,1,5,56],[6,1,6,56],[7,5,7,8],[7,9,7,13],[7,14,7,17],[7,18,7,21],[7,22,7,26],[7,27,7,30],[7,31,7,34],[7,35,7,39],[7,40,7,43],[7,44,7,47],[7,48,7,52],[7,53,7,56],[8,5,8,31],[8,32,8,56],[10,1,10,4],[11,1,11,4],[12,55,12,56],[13,1,13,65],[14,27,14,32],[14,36,14,41],[14,44,14,59],[14,97,14,116],[14,117,14,136],[14,138,14,157],[14,159,14,178],[14,180,14,199],[14,201,14,220],[15,44,15,47],[15,48,15,51],[15,52,15,55],[15,56,15,59],[15,97,15,100],[15,101,15,104],[15,105,15,110],[15,111,15,115],[15,117,15,120],[15,121,15,124],[15,125,15,130],[15,131,15,135],[15,138,15,141],[15,142,15,145],[15,146,15,151],[15,152,15,156],[15,159,15,162],[15,163,15,166],[15,167,15,172],[15,173,15,177],[15,180,15,183],[15,184,15,187],[15,188,15,193],[15,194,15,198],[15,201,15,204],[15,205,15,208],[15,209,15,214],[15,215,15,219],[15,222,15,225],[15,226,15,228],[15,229,15,231],[15,384,15,394],[15,396,15,406],[15,431,15,441],[14,245,16,245],[14,246,15,246],[11,247,16,247],[14,249,15,249],[14,250,16,250],[14,251,16,251],[14,252,16,252],[14,253,16,253],[14,254,16,254],[14,255,15,255],[14,256,16,256],[14,258,15,258],[14,259,16,259],[14,260,16,260],[14,261,16,261],[15,443,15,453],[16,13,16,20],[16,21,16,26],[16,44,16,47],[16,48,16,51],[16,52,16,55],[16,56,16,59],[16,320,16,323],[16,324,16,328],[16,329,16,334],[16,345,16,348],[16,349,16,353],[16,354,16,359],[16,384,16,394],[16,396,16,406],[16,408,16,418],[16,420,16,430],[16,434,16,437],[16,446,16,449],[15,116,16,116],[15,136,16,136],[15,157,16,157],[15,178,16,178],[15,199,16,199],[15,220,16,220],[11,238,16,238],[11,239,16,239],[10,240,15,240],[14,241,16,241],[14,242,16,242],[14,243,16,243],[14,244,16,244],[17,5,17,7],[17,8,17,12],[17,13,17,26],[17,27,17,29],[17,30,17,32],[17,33,17,35],[17,36,17,38],[17,39,17,41],[17,42,17,43],[17,44,17,47],[17,48,17,51],[17,52,17,55],[17,56,17,59],[17,60,17,61],[17,62,17,65],[18,5,18,7],[18,8,18,12],[18,13,18,26],[18,27,18,29],[18,30,18,32],[18,33,18,35],[18,36,18,38],[18,39,18,41],[18,42,18,43],[18,44,18,47],[18,48,18,51],[18,52,18,55],[18,56,18,59],[18,60,18,61],[18,62,18,65],[19,5,19,7],[19,8,19,12],[19,13,19,26],[19,27,19,29],[19,30,19,32],[19,33,19,35],[19,36,19,38],[19,39,19,41],[19,42,19,43],[19,44,19,47],[19,48,19,51],[19,52,19,55],[19,56,19,59],[19,60,19,61],[19,62,19,65],[20,5,20,7],[20,8,20,12],[20,13,20,26],[20,27,20,29],[20,30,20,32],[20,33,20,35],[20,36,20,38],[20,39,20,41],[20,42,20,43],[20,44,20,47],[20,48,20,51],[20,52,20,55],[20,56,20,59],[20,60,20,61],[20,62,20,65],[21,5,21,7],[21,8,21,12],[21,13,21,26],[21,27,21,29],[21,30,21,32],[21,33,21,35],[21,36,21,38],[21,39,21,41],[21,42,21,43],[21,44,21,47],[21,48,21,51],[21,52,21,55],[21,56,21,59],[21,60,21,61],[21,62,21,65],[22,5,22,7],[22,8,22,12],[22,13,22,26],[22,27,22,29],[22,30,22,32],[22,33,22,35],[22,36,22,38],[22,39,22,41],[22,42,22,43],[22,44,22,47],[22,48,22,51],[22,52,22,55],[22,56,22,59],[22,60,22,61],[22,62,22,65],[23,5,23,7],[23,8,23,12],[23,13,23,26],[23,27,23,29],[23,30,23,32],[23,33,23,35],[23,36,23,38],[23,39,23,41],[23,42,23,43],[23,44,23,47],[23,48,23,51],[23,52,23,55],[23,56,23,59],[23,60,23,61],[23,62,23,65],[24,5,24,7],[24,8,24,12],[24,13,24,26],[24,27,24,29],[24,30,24,32],[24,33,24,35],[24,36,24,38],[24,39,24,41],[24,42,24,43],[24,44,24,47],[24,48,24,51],[24,52,24,55],[24,56,24,59],[24,60,24,61],[24,62,24,65],[25,5,25,7],[25,8,25,12],[25,13,25,26],[25,27,25,29],[25,30,25,32],[25,33,25,35],[25,36,25,38],[25,39,25,41],[25,42,25,43],[25,44,25,47],[25,48,25,51],[25,52,25,55],[25,56,25,59],[25,60,25,61],[25,62,25,65],[26,5,26,7],[26,8,26,12],[26,13,26,26],[26,27,26,29],[26,30,26,32],[26,33,26,35],[26,36,26,38],[26,39,26,41],[26,42,26,43],[26,44,26,47],[26,48,26,51],[26,52,26,55],[26,56,26,59],[26,60,26,61],[26,62,26,65],[27,5,27,7],[27,8,27,12],[27,13,27,26],[27,27,27,29],[27,30,27,32],[27,33,27,35],[27,36,27,38],[27,39,27,41],[27,42,27,43],[27,44,27,47],[27,48,27,51],[27,52,27,55],[27,56,27,59],[27,60,27,61],[27,62,27,65],[28,5,28,7],[28,8,28,12],[28,13,28,26],[28,27,28,29],[28,30,28,32],[28,33,28,35],[28,36,28,38],[28,39,28,41],[28,42,28,43],[28,44,28,47],[28,48,28,51],[28,52,28,55],[28,56,28,59],[28,60,28,61],[28,62,28,65],[29,5,29,7],[29,8,29,12],[29,13,29,26],[29,27,29,29],[29,30,29,32],[29,33,29,35],[29,36,29,38],[29,39,29,41],[29,42,29,43],[29,44,29,47],[29,48,29,51],[29,52,29,55],[29,56,29,59],[29,60,29,61],[29,62,29,65],[30,5,30,7],[30,8,30,12],[30,13,30,26],[30,27,30,29],[30,30,30,32],[30,33,30,35],[30,36,30,38],[30,39,30,41],[30,42,30,43],[30,44,30,47],[30,48,30,51],[30,52,30,55],[30,56,30,59],[30,60,30,61],[30,62,30,65],[31,5,31,7],[31,8,31,12],[31,13,31,26],[31,27,31,29],[31,30,31,32],[31,33,31,35],[31,36,31,38],[31,39,31,41],[31,42,31,43],[31,44,31,47],[31,48,31,51],[31,52,31,55],[31,56,31,59],[31,60,31,61],[31,62,31,65],[32,5,32,7],[32,8,32,12],[32,13,32,26],[32,27,32,29],[32,30,32,32],[32,33,32,35],[32,36,32,38],[32,39,32,41],[32,42,32,43],[32,44,32,47],[32,48,32,51],[32,52,32,55],[32,56,32,59],[32,60,32,61],[32,62,32,65],[33,5,33,7],[33,8,33,12],[33,13,33,26],[33,27,33,29],[33,30,33,32],[33,33,33,35],[33,36,33,38],[33,39,33,41],[33,42,33,43],[33,44,33,47],[33,48,33,51],[33,52,33,55],[33,56,33,59],[33,60,33,61],[33,62,33,65],[34,5,34,7],[34,8,34,12],[34,13,34,26],[34,27,34,29],[34,30,34,32],[34,33,34,35],[34,36,34,38],[34,39,34,41],[34,42,34,43],[34,44,34,47],[34,48,34,51],[34,52,34,55],[34,56,34,59],[34,60,34,61],[34,62,34,65],[35,5,35,7],[35,8,35,12],[35,13,35,26],[35,27,35,29],[35,30,35,32],[35,33,35,35],[35,36,35,38],[35,39,35,41],[35,42,35,43],[35,44,35,47],[35,48,35,51],[35,52,35,55],[35,56,35,59],[35,60,35,61],[35,62,35,65],[36,5,36,7],[36,8,36,12],[36,13,36,26],[36,27,36,29],[36,30,36,32],[36,33,36,35],[36,36,36,38],[36,39,36,41],[36,42,36,43],[36,44,36,47],[36,48,36,51],[36,52,36,55],[36,56,36,59],[36,60,36,61],[36,62,36,65],[37,5,37,7],[37,8,37,12],[37,13,37,26],[37,27,37,29],[37,30,37,32],[37,33,37,35],[37,36,37,38],[37,39,37,41],[37,42,37,43],[37,44,37,47],[37,48,37,51],[37,52,37,55],[37,56,37,59],[37,60,37,61],[37,62,37,65],[38,5,38,7],[38,8,38,12],[38,13,38,26],[38,27,38,29],[38,30,38,32],[38,33,38,35],[38,36,38,38],[38,39,38,41],[38,42,38,43],[38,44,38,47],[38,48,38,51],[38,52,38,55],[38,56,38,59],[38,60,38,61],[38,62,38,65],[39,5,39,7],[39,8,39,12],[39,13,39,26],[39,27,39,29],[39,30,39,32],[39,33,39,35],[39,36,39,38],[39,39,39,41],[39,42,39,43],[39,44,39,47],[39,48,39,51],[39,52,39,55],[39,56,39,59],[39,60,39,61],[39,62,39,65],[40,5,40,7],[40,8,40,12],[40,13,40,26],[40,27,40,29],[40,30,40,32],[40,33,40,35],[40,36,40,38],[40,39,40,41],[40,42,40,43],[40,44,40,47],[40,48,40,51],[40,52,40,55],[40,56,40,59],[40,60,40,61],[40,62,40,65],[41,5,41,7],[41,8,41,12],[41,13,41,26],[41,27,41,29],[41,30,41,32],[41,33,41,35],[41,36,41,38],[41,39,41,41],[41,42,41,43],[41,44,41,47],[41,48,41,51],[41,52,41,55],[41,56,41,59],[41,60,41,61],[41,62,41,65],[42,5,42,7],[42,8,42,12],[42,13,42,26],[42,27,42,29],[42,30,42,32],[42,33,42,35],[42,36,42,38],[42,39,42,41],[42,42,42,43],[42,44,42,47],[42,48,42,51],[42,52,42,55],[42,56,42,59],[42,60,42,61],[42,62,42,65],[43,5,43,7],[43,8,43,12],[43,13,43,26],[43,27,43,29],[43,30,43,32],[43,33,43,35],[43,36,43,38],[43,39,43,41],[43,42,43,43],[43,44,43,47],[43,48,43,51],[43,52,43,55],[43,56,43,59],[43,60,43,61],[43,62,43,65],[44,5,44,7],[44,8,44,12],[44,13,44,26],[44,27,44,29],[44,30,44,32],[44,33,44,35],[44,36,44,38],[44,39,44,41],[44,42,44,43],[44,44,44,47],[44,48,44,51],[44,52,44,55],[44,56,44,59],[44,60,44,61],[44,62,44,65],[45,5,45,7],[45,8,45,12],[45,13,45,26],[45,27,45,29],[45,30,45,32],[45,33,45,35],[45,36,45,38],[45,39,45,41],[45,42,45,43],[45,44,45,47],[45,48,45,51],[45,52,45,55],[45,56,45,59],[45,60,45,61],[45,62,45,65],[46,5,46,7],[46,8,46,12],[46,13,46,26],[46,27,46,29],[46,30,46,32],[46,33,46,35],[46,36,46,38],[46,39,46,41],[46,42,46,43],[46,44,46,47],[46,48,46,51],[46,52,46,55],[46,56,46,59],[46,60,46,61],[46,62,46,65],[47,5,47,7],[47,8,47,12],[47,13,47,26],[47,27,47,29],[47,30,47,32],[47,33,47,35],[47,36,47,38],[47,39,47,41],[47,42,47,43],[47,44,47,47],[47,48,47,51],[47,52,47,55],[47,56,47,59],[47,60,47,61],[47,62,47,65],[48,5,48,7],[48,8,48,12],[48,13,48,26],[48,27,48,29],[48,30,48,32],[48,33,48,35],[48,36,48,38],[48,39,48,41],[48,42,48,43],[48,44,48,47],[48,48,48,51],[48,52,48,55],[48,56,48,59],[48,60,48,61],[48,62,48,65],[49,5,49,7],[49,8,49,12],[49,13,49,26],[49,27,49,29],[49,30,49,32],[49,33,49,35],[49,36,49,38],[49,39,49,41],[49,42,49,43],[49,44,49,47],[49,48,49,51],[49,52,49,55],[49,56,49,59],[49,60,49,61],[49,62,49,65],[50,5,50,7],[50,8,50,12],[50,13,50,26],[50,27,50,29],[50,30,50,32],[50,33,50,35],[50,36,50,38],[50,39,50,41],[50,42,50,43],[50,44,50,47],[50,48,50,51],[50,52,50,55],[50,56,50,59],[50,60,50,61],[50,62,50,65],[51,5,51,7],[51,8,51,12],[51,13,51,26],[51,27,51,29],[51,30,51,32],[51,33,51,35],[51,36,51,38],[51,39,51,41],[51,42,51,43],[51,44,51,47],[51,48,51,51],[51,52,51,55],[51,56,51,59],[51,60,51,61],[51,62,51,65],[52,5,52,7],[52,8,52,12],[52,13,52,26],[52,27,52,29],[52,30,52,32],[52,33,52,35],[52,36,52,38],[52,39,52,41],[52,42,52,43],[52,44,52,47],[52,48,52,51],[52,52,52,55],[52,56,52,59],[52,60,52,61],[52,62,52,65],[53,5,53,7],[53,8,53,12],[53,13,53,26],[53,27,53,29],[53,30,53,32],[53,33,53,35],[53,36,53,38],[53,39,53,41],[53,42,53,43],[53,44,53,47],[53,48,53,51],[53,52,53,55],[53,56,53,59],[53,60,53,61],[53,62,53,65],[54,5,54,7],[54,8,54,12],[54,13,54,26],[54,27,54,29],[54,30,54,32],[54,33,54,35],[54,36,54,38],[54,39,54,41],[54,42,54,43],[54,44,54,47],[54,48,54,51],[54,52,54,55],[54,56,54,59],[54,60,54,61],[54,62,54,65],[55,5,55,7],[55,8,55,12],[55,13,55,26],[55,27,55,29],[55,30,55,32],[55,33,55,35],[55,36,55,38],[55,39,55,41],[55,42,55,43],[55,44,55,47],[55,48,55,51],[55,52,55,55],[55,56,55,59],[55,60,55,61],[55,62,55,65],[56,5,56,7],[56,8,56,12],[56,13,56,26],[56,27,56,29],[56,30,56,32],[56,33,56,35],[56,36,56,38],[56,39,56,41],[56,42,56,43],[56,44,56,47],[56,48,56,51],[56,52,56,55],[56,56,56,59],[56,60,56,61],[56,62,56,65],[57,5,57,7],[57,8,57,12],[57,13,57,26],[57,27,57,29],[57,30,57,32],[57,33,57,35],[57,36,57,38],[57,39,57,41],[57,42,57,43],[57,44,57,47],[57,48,57,51],[57,52,57,55],[57,56,57,59],[57,60,57,61],[57,62,57,65],[58,5,58,7],[58,8,58,12],[58,13,58,26],[58,27,58,29],[58,30,58,32],[58,33,58,35],[58,36,58,38],[58,39,58,41],[58,42,58,43],[58,44,58,47],[58,48,58,51],[58,52,58,55],[58,56,58,59],[58,60,58,61],[58,62,58,65],[59,5,59,7],[59,8,59,12],[59,13,59,26],[59,27,59,29],[59,30,59,32],[59,33,59,35],[59,36,59,38],[59,39,59,41],[59,42,59,43],[59,44,59,47],[59,48,59,51],[59,52,59,55],[59,56,59,59],[59,60,59,61],[59,62,59,65],[60,5,60,7],[60,8,60,12],[60,13,60,26],[60,27,60,29],[60,30,60,32],[60,33,60,35],[60,36,60,38],[60,39,60,41],[60,42,60,43],[60,44,60,47],[60,48,60,51],[60,52,60,55],[60,56,60,59],[60,60,60,61],[60,62,60,65],[61,5,61,7],[61,8,61,12],[61,13,61,26],[61,27,61,29],[61,30,61,32],[61,33,61,35],[61,36,61,38],[61,39,61,41],[61,42,61,43],[61,44,61,47],[61,48,61,51],[61,52,61,55],[61,56,61,59],[61,60,61,61],[61,62,61,65],[62,5,62,7],[62,8,62,12],[62,13,62,26],[62,27,62,29],[62,30,62,32],[62,33,62,35],[62,36,62,38],[62,39,62,41],[62,42,62,43],[62,44,62,47],[62,48,62,51],[62,52,62,55],[62,56,62,59],[62,60,62,61],[62,62,62,65],[63,5,63,7],[63,8,63,12],[63,13,63,26],[63,27,63,29],[63,30,63,32],[63,33,63,35],[63,36,63,38],[63,39,63,41],[63,42,63,43],[63,44,63,47],[63,48,63,51],[63,52,63,55],[63,56,63,59],[63,60,63,61],[63,62,63,65],[64,5,64,7],[64,8,64,12],[64,13,64,26],[64,27,64,29],[64,30,64,32],[64,33,64,35],[64,36,64,38],[64,39,64,41],[64,42,64,43],[64,44,64,47],[64,48,64,51],[64,52,64,55],[64,56,64,59],[64,60,64,61],[64,62,64,65],[65,5,65,7],[65,8,65,12],[65,13,65,26],[65,27,65,29],[65,30,65,32],[65,33,65,35],[65,36,65,38],[65,39,65,41],[65,42,65,43],[65,44,65,47],[65,48,65,51],[65,52,65,55],[65,56,65,59],[65,60,65,61],[65,62,65,65],[66,5,66,7],[66,8,66,12],[66,13,66,26],[66,27,66,29],[66,30,66,32],[66,33,66,35],[66,36,66,38],[66,39,66,41],[66,42,66,43],[66,44,66,47],[66,48,66,51],[66,52,66,55],[66,56,66,59],[66,60,66,61],[66,62,66,65],[67,42,67,43],[67,44,67,47],[67,48,67,51],[67,52,67,55],[67,56,67,59],[67,60,67,61],[67,62,67,65],[68,5,68,7],[68,8,68,12],[68,13,68,26],[68,27,68,29],[68,30,68,32],[68,33,68,35],[68,36,68,38],[68,39,68,41],[68,42,68,43],[68,44,68,47],[68,48,68,51],[68,52,68,55],[68,56,68,59],[68,60,68,61],[68,62,68,65],[72,62,72,65],[69,5,69,7],[69,8,69,12],[69,13,69,26],[69,27,69,29],[69,30,69,32],[69,33,69,35],[69,36,69,38],[69,39,69,41],[69,42,69,43],[69,44,69,47],[69,48,69,51],[69,52,69,55],[69,56,69,59],[69,60,69,61],[69,62,69,65],[70,5,70,7],[70,8,70,12],[70,13,70,26],[70,27,70,29],[70,30,70,32],[70,33,70,35],[70,36,70,38],[70,39,70,41],[70,42,70,43],[70,44,70,47],[70,48,70,51],[70,52,70,55],[70,56,70,59],[70,60,70,61],[70,62,70,65],[74,56,74,59],[74,60,74,61],[74,62,74,65],[71,5,71,7],[71,8,71,12],[71,13,71,26],[71,27,71,29],[71,30,71,32],[71,33,71,35],[71,36,71,38],[71,39,71,41],[71,42,71,43],[71,44,71,47],[71,48,71,51],[71,52,71,55],[71,56,71,59],[71,60,71,61],[71,62,71,65],[72,5,72,7],[72,8,72,12],[72,13,72,26],[72,27,72,29],[72,30,72,32],[72,33,72,35],[72,36,72,38],[72,39,72,41],[72,42,72,43],[72,44,72,47],[72,48,72,51],[72,52,72,55],[72,56,72,59],[72,60,72,61],[76,48,76,51],[76,52,76,55],[76,56,76,59],[76,60,76,61],[76,62,76,65],[73,5,73,7],[73,8,73,12],[73,13,73,26],[73,27,73,29],[73,30,73,32],[73,33,73,35],[73,36,73,38],[73,39,73,41],[73,42,73,43],[73,44,73,47],[73,48,73,51],[73,52,73,55],[73,56,73,59],[73,60,73,61],[73,62,73,65],[74,5,74,7],[74,8,74,12],[74,13,74,26],[74,27,74,29],[74,30,74,32],[74,33,74,35],[74,36,74,38],[74,39,74,41],[74,42,74,43],[74,44,74,47],[74,48,74,51],[74,52,74,55],[78,42,78,43],[78,44,78,47],[78,48,78,51],[78,52,78,55],[78,56,78,59],[78,60,78,61],[78,62,78,65],[75,5,75,7],[75,8,75,12],[75,13,75,26],[75,27,75,29],[75,30,75,32],[75,33,75,35],[75,36,75,38],[75,39,75,41],[75,42,75,43],[75,44,75,47],[75,48,75,51],[75,52,75,55]],"merged_total":1192,"flags":["merged_cut"]}
[]
[]
[null,"辽 宁 石 化 职 业 技 术 学 院"]
[null,"教 学 计 划（2020级）"]
[null,"专    业:  ",null,null,null,null,null,null,null,null,null,null,null,null,null,null,null,null,null,null,null,null,null,null,null,null,null,null,null,null,null,null,null,null,null,null,null,null,null,null,null,null,null,null,null,null,null,null,null,null,null,null,null,null,null,null,null,null,null,null,null,null,null,null,null,null,null,null,null,null,null,null,null,null,null,null,null,null,null,null,null,null,null,null,null,null,null,null,null,null,null,null,null,null,null,null,null,null,null,null,null,null,null,null,null,null,null,null,null,null,null,null,null,null,null,null,null,null,null,null,null,null,null,null,null,null,null,null,null,null,null,null,null,null,null,null,null,null,null,null,null,null,null,null,null,null,null,null,null,null,null,null,null,null,null,null,null,null,null,null,{"$f":"COUNTBLANK(CT10:DQ10)+COUNT(CT10:DQ10)","v":15},{"$f":"COUNTBLANK(DS10:EP10)+COUNT(DS10:EP10)","v":18},{"$f":"FE5&\"周\"","v":"15周"},{"$f":"FF5&\"周\"","v":"18周"}]
[null,"学    制：二年（“三加二”）",null,null,null,null,null,null,null,null,null,null,null,null,null,null,null,null,null,null,null,null,null,null,null,null,null,null,null,null,null,null,null,null,null,null,null,null,null,null,null,null,null,null,null,null,null,null,null,null,null,null,null,null,null,null,null,"入\n学\n教\n育","理\n论\n教\n学","实\n践\n教\n学","劳\n\n\n动","考\n\n\n试","毕\n业\n教\n育","机\n\n\n动","假\n\n\n期","合\n\n\n计",null,null,null,null,null,null,null,null,null,null,null,null,null,null,null,null,null,null,null,null,null,null,null,null,null,null,null,null,null,null,null,null,null,null,null,null,null,null,null,null,null,null,null,null,null,null,null,null,null,null,null,null,null,null,null,null,null,null,null,null,null,null,null,null,null,null,null,null,null,null,null,null,null,null,null,null,null,null,null,null,null,null,null,null,null,null,null,null,null,null,null,null,null,null,18,{"$f":"COUNTIF(DR11:EP11,\"*○*\")+COUNTIF(DR11:EP11,\"*※*\")","v":17},{"$f":"FE6&\"周\"","v":"18周"},{"$f":"FF6&\"周\"","v":"17周"}]
[null,"制定日期：2020年 6月                         Ⅰ 校历和周数分配表",null,null,null,null,null,null,null,null,null,null,null,null,null,null,null,null,null,null,null,null,null,null,null,null,null,null,null,null,null,null,null,null,null,null,null,null,null,null,null,null,null,null,null,null,null,null,null,null,null,null,null,null,null,null,null,null,null,null,null,null,null,null,null,null,null,null,null,null,null,null,null,null,null,null,null,null,null,null,null,null,null,null,null,null,null,null,null,null,null,null,null,null,null,null,null,null,null,null,null,null,null,null,null,null,null,null,null,null,null,null,null,null,null,null,null,null,null,null,null,null,null,null,null,null,null,null,null,null,null,null,null,null,null,null,null,null,null,null,null,null,null,null,null,null,null,null,null,null,null,null,null,null,null,null,null,null,null,null,24,{"$f":"COUNTIF(DR12:EP12,\"*○*\")+COUNTIF(DR12:EP12,\"*※*\")","v":0},"24周","0周"]
[null,"月份 学期\n学年 周次",null,null,null,"九月",null,null,null,"十月",null,null,null,null,"十一月",null,null,null,"十二月",null,null,null,"一月",null,null,null,null,"二月",null,null,null,"三月",null,null,null,"四月",null,null,null,null,"五月",null,null,null,"六月",null,null,null,"七月",null,null,null,null,"八月"]
[null,null,null,null,null,"第1学期",null,null,null,null,null,null,null,null,null,null,null,null,null,null,null,null,null,null,null,null,null,null,null,null,null,null,"第2学期",null,null,null,null,null,null,null,null,null,null,null,null,null,null,null,null,null,null,null,null,null,null,null,null,null,null,null,null,null,null,null,null,null,null,null,null,null,null,null,null,null,null,null,null,null,null,null,null,null,null,null,null,null,null,null,null,null,null,null,null,null,null,null,null,{"$f":"F10","v":1},{"$f":"G10","v":2},3,4,5,6,7,8,9,10,11,12,13,14,15,16,17,18,19,20,21,22,23,24,25,26,1,2,3,4,5,6,7,8,9,10,11,12,13,14,15,16,17,18,19,20,21,22,23,{"$f":"BC10","v":24},{"$f":"BD10","v":25},{"$f":"BE10","v":26}]
[null,null,null,null,null,1,2,3,4,5,6,7,8,9,10,11,12,13,14,15,16,17,18,19,20,21,22,23,24,25,26,1,2,3,4,5,6,7,8,9,10,11,12,13,14,15,16,17,18,19,20,21,22,23,24,25,26,"×",null,"○","劳",":","※","□","△",null,null,null,null,null,null,null,null,null,null,null,null,null,null,null,null,null,null,null,null,null,null,null,null,null,null,null,null,null,null,null,null,{"$f":"IF(ISNUMBER(F11),F11,TRIM(F11))","v":"×"},{"$f":"IF(ISNUMBER(G11),G11,TRIM(G11))","v":"×"},"×","","□","","","","","","","","","",{"$f":"IF(ISNUMBER(T11),T11,TRIM(T11))","v":""},{"$f":"IF(ISNUMBER(U11),U11,TRIM(U11))","v":""},{"$f":"IF(ISNUMBER(V11),V11,TRIM(V11))","v":""},{"$f":"IF(ISNUMBER(W11),W11,TRIM(W11))","v":""},{"$f":"IF(ISNUMBER(X11),X11,TRIM(X11))","v":""},{"$f":"IF(ISNUMBER(Y11),Y11,TRIM(Y11))","v":":"},{"$f":"IF(ISNUMBER(Z11),Z11,TRIM(Z11))","v":"△"},{"$f":"IF(ISNUMBER(AA11),AA11,TRIM(AA11))","v":"△"},{"$f":"IF(ISNUMBER(AB11),AB11,TRIM(AB11))","v":"△"},{"$f":"IF(ISNUMBER(AC11),AC11,TRIM(AC11))","v":"△"},{"$f":"IF(ISNUMBER(AD11),AD11,TRIM(AD11))","v":"△"},{"$f":"IF(ISNUMBER(AE11),AE11,TRIM(AE11))","v":"△"},"",{"$f":"IF(ISNUMBER(AG11),AG11,TRIM(AG11))","v":""},{"$f":"IF(ISNUMBER(AH11),AH11,TRIM(AH11))","v":""},{"$f":"IF(ISNUMBER(AI11),AI11,TRIM(AI11))","v":""},{"$f":"IF(ISNUMBER(AJ11),AJ11,TRIM(AJ11))","v":""},{"$f":"IF(ISNUMBER(AK11),AK11,TRIM(AK11))","v":""},{"$f":"IF(ISNUMBER(AL11),AL11,TRIM(AL11))","v":""},{"$f":"IF(ISNUMBER(AM11),AM11,TRIM(AM11))","v":""},{"$f":"IF(ISNUMBER(AN11),AN11,TRIM(AN11))","v":""},{"$f":"IF(ISNUMBER(AO11),AO11,TRIM(AO11))","v":""},{"$f":"IF(ISNUMBER(AP11),AP11,TRIM(AP11))","v":"劳"},{"$f":"IF(ISNUMBER(AQ11),AQ11,TRIM(AQ11))","v":""},{"$f":"IF(ISNUMBER(AR11),AR11,TRIM(AR11))","v":""},"",{"$f":"IF(ISNUMBER(AT11),AT11,TRIM(AT11))","v":""},{"$f":"IF(ISNUMBER(AU11),AU11,TRIM(AU11))","v":""},{"$f":"IF(ISNUMBER(AV11),AV11,TRIM(AV11))","v":""},{"$f":"IF(ISNUMBER(AW11),AW11,TRIM(AW11))","v":""},"",":",{"$f":"IF(ISNUMBER(AZ11),AZ11,TRIM(AZ11))","v":"△"},{"$f":"IF(ISNUMBER(BA11),BA11,TRIM(BA11))","v":"△"},{"$f":"IF(ISNUMBER(BB11),BB11,TRIM(BB11))","v":"△"},{"$f":"IF(ISNUMBER(BC11),BC11,TRIM(BC11))","v":"△"},{"$f":"IF(ISNUMBER(BD11),BD11,TRIM(BD11))","v":"△"},{"$f":"IF(ISNUMBER(BE11),BE11,TRIM(BE11))","v":"△"},{"$f":"COUNTA(CT10,CU10,CV10)","v":3},{"$f":"COUNTBLANK(CT10:ES10)+COUNT(CT10:ES10)","v":33},{"$f":"COUNTIF(CT10:ES10,\"=○\")","v":0},{"$f":"COUNTIF(CT10:ES10,\"=劳\")","v":1},{"$f":"COUNTIF(CT10:ES10,\"=:\")","v":2},{"$f":"COUNTIF(BN10:ES10,\"=※\")","v":0},{"$f":"COUNTIF(BN10:ES10,\"=□\")","v":1},{"$f":"COUNTIF(BN10:ES10,\"=△\")","v":12},{"$f":"SUM(ET10:FA10)","v":52},null,{"$f":"TRIM(#REF!)","v":{"$error":"#REF!"}}]
[null,"Ⅰ",null,null,null,"×","×","×",null,"□",null,null,null,null,null,null,null,null,null,null,null,null,null,null,":","△","△","△","△","△","△",null,null,null,null,null,null,null,null,null,null,"劳",null,null,null,null,null,null,null,null,":","△","△","△","△","△","△",{"$f":"ET10","v":3},{"$f":"EU10","v":33},{"$f":"EV10","v":0},1,2,0,1,12,52,null,null,null,null,null,null,null,null,null,null,null,null,null,null,null,null,null,null,null,null,null,null,null,null,null,null,null,null,null,null,null,{"$f":"IF(ISNUMBER(F12),F12,TRIM(F12))","v":""},{"$f":"IF(ISNUMBER(G12),G12,TRIM(G12))","v":""},"","","□","","","","","","","","","","","","","","",":","△","△","△","△","△","△","○","○","○","○","○","○","○","○","○","○","○","○","○","○","○","○","※","／","／","／",{"$f":"IF(ISNUMBER(AZ12),AZ12,TRIM(AZ12))","v":"／"},"／","／","／","／","／",null,{"$f":"COUNTBLANK(CT11:ES11)+COUNT(CT11:ES11)","v":18},{"$f":"COUNTIF(CT11:ES11,\"=○\")","v":16},{"$f":"COUNTIF(CT11:ES11,\"=劳\")","v":0},{"$f":"COUNTIF(CT11:ES11,\"=:\")","v":1},{"$f":"COUNTIF(BN11:ES11,\"=※\")","v":1},{"$f":"COUNTIF(BN11:ES11,\"=□\")","v":1},{"$f":"COUNTIF(BN11:ES11,\"=△\")","v":6},{"$f":"SUM(EU11:FA11)","v":43},null,null,null,null,null,null,null,null,null,null,null,null,null,null,null,null,null,null,null,null,null,null,null,null,null,null,null,null,null,null,null,null,null,null,null,null,null,null,null,null,null,null,null,null,null,null,null,null,null,null,null,null,null,null,null,null,null,null,null,null,null,null,null,null,null,null,null,null,null,null,null,null,null,null,null,null,null,null,null,null,null,null,"第1学期理论周学时汇总",null,null,null,null,null,null,null,null,null,null,null,null,null,null,null,null,null,null,null,null,null,null,null,null,null,null,null,null,null,null,null,null,null,null,null,null,null,null,null,null,null,null,null,"不带括号、非实践的的理论周学时登记","第1学期理论周学时统计"]
[null,"Ⅱ",null,null,null,null,null,null,null,"□",null,null,null,null,null,null,null,null,null,null,null,null,null,null,":","△","△","△","△","△","△","○","○","○","○","○","○","○","○","○","○","○","○","○","○","○","○","※","／","／","／","／","／","／","／","／","／",{"$f":"ET11","v":0},{"$f":"EU11","v":18},{"$f":"EV11","v":16},0,1,1,1,6,43,null,null,null,null,null,null,null,null,null,null,null,null,null,null,null,null,null,null,null,null,null,null,null,null,null,null,null,null,null,null,null,null,null,null,null,null,null,null,null,null,null,null,null,null,null,null,null,null,null,null,null,null,null,null,null,null,null,null,null,null,null,null,null,null,null,null,null,null,null,null,null,null,null,null,null,null,null,null,null,null,null,null,null,null,null,null,null,null,null,null,null,null,null,null,null,null,null,null,null,null,null,null,null,null,null,null,null,null,null,null,null,null,null,null,null,null,null,null,null,null,null,null,null,null,null,null,null,null,null,null,null,null,null,null,null,null,null,null,null,null,null,null,null,null,null,null,null,null,null,null,null,null,null,null,null,null,null,null,null,null,null,null,null,null,null,null,null,null,null,null,null,null,"剔除实践环节后第1学期理论周学时","剔除带括号后第1学期理论周学时",null,null,null,null,null,null,null,"剔除实践环节后第2学期理论周学时"]
[null,null,null,null,null,null,null,null,null,null,null,null,null,null,null,null,null,null,null,null,null,null,null,null,null,null,null,null,null,null,null,null,null,null,null,null,null,null,null,null,null,null,null,null,null,null,null,null,null,null,null,null,null,null,null,"总计",null,{"$f":"SUM(BF11:BF12)","v":3},{"$f":"EU13","v":51},16,1,3,1,2,18,95,null,null,null,null,null,null,null,null,null,null,null,null,null,null,null,null,null,null,null,null,null,null,null,null,null,null,null,null,null,null,null,null,null,null,null,null,null,null,null,null,null,null,null,null,null,null,null,null,null,null,null,null,null,null,null,null,null,null,null,null,null,null,null,null,null,null,null,null,null,null,null,null,null,null,null,null,null,null,null,null,null,null,null,"计",{"$f":"SUM(EU10:EU12)","v":51},16,1,3,1,2,18,{"$f":"SUM(ET10:FA12)","v":95}]
[null,"Ⅱ 教学进程表"]
[null,"课程\n类别",null,null,null,"序号",null,null,"课程编码",null,null,null,null,"课程名称",null,null,null,null,null,null,null,null,null,null,null,null,null,"学期分配",null,null,null,null,null,"总学时",null,null,"学时分配",null,null,null,null,null,"学分",null,"学期学时分布 ",null,null,null,null,null,null,null,null,null,null,null,null,null,null,null,"先后上",null,"对应考证\n",null,null,null,null,null,null,null,null,null,null,null,null,null,null,null,null,null,null,null,null,null,null,null,null,null,null,null,null,null,null,null,null,null,null,"第1学期总学时",null,null,null,null,null,null,null,null,null,null,null,null,null,null,null,null,null,null,null,"第2学期总学时",null,null,null,null,null,null,null,null,null,null,null,null,null,null,null,null,null,null,null,null,"第3学期总学时",null,null,null,null,null,null,null,null,null,null,null,null,null,null,null,null,null,null,null,null,"第4学期总学时",null,null,null,null,null,null,null,null,null,null,null,null,null,null,null,null,null,null,null,null,null,null,null,null,null,null,null,null,null,null,null,null,null,null,null,null,null,null,null,null,null,null,null,null,null,null,null,null,null,null,null,null,null,null,null,null,null,null,null,null,null,null,null,null,null,null,null,null,null,null,null,null,null,null,null,null,null,null,null,null,null,"/周学时","/周8学时","/周6学时","/周4学时","/周2学时","接头课门数",null,null,"第2学期理论周学时","/周学时","/周8学时","/周6学时","/周4学时","/周2学时","/周学时一半","第3学期理论周学时",null,"第3学期理论周学时","/周学时","/周8学时","/周6学时","/周4学时","/周2学时","/周学时一半","第4学期理论周学时",null,"第4学期理论周学时","/周学时","/周8学时","/周6学时","/周4学时","/周2学时","/周学时一半","第5学期理论周学时",null,"第5学期理论周学时","/周学时","/周8学时","/周6学时","/周4学时","/周2学时","/周学时一半"]
[null,null,null,null,null,null,null,null,null,null,null,null,null,null,null,null,null,null,null,null,null,null,null,null,null,null,null,"考试",null,null,"考查",null,null,null,null,null,"理论学时",null,null,"课内实践",null,null,null,null,"第1学期",null,null,null,"第2学期",null,null,null,"第3学期",null,null,null,"第4学期",null,null,null,null,null,null,null,null,null,null,null,null,null,null,null,null,null,null,null,null,null,null,null,null,null,null,null,null,null,null,null,null,null,null,null,null,null,null,null,null,"确认第学期周特殊学时",null,null,null,"含/的去掉/",null,null,null,"所有情况周学时",null,null,null,null,null,"所有情况的周数",null,null,null,null,"总学时","确认第学期周特殊学时",null,null,null,"含/的去掉/",null,null,null,"所有情况周学时",null,null,null,null,null,"所有情况的周数",null,null,null,null,"总学时",null,"确认第学期周特殊学时",null,null,null,"含/的去掉/",null,null,null,"所有情况周学时",null,null,null,null,null,"所有情况的周数",null,null,null,null,"总学时",null,"确认第学期周特殊学时",null,null,null,"含/的去掉/",null,null,null,"所有情况周学时",null,null,null,null,null,"所有情况的周数",null,null,null,null,"总学时",null,null,null,null,null,null,null,null,null,null,null,null,null,null,null,null,null,null,null,null,null,null,null,null,null,null,null,null,null,null,null,null,null,null,null,null,null,null,null,null,null,null,null,null,null,null,null,null,null,null,null,null,null,null,null,null,null,null,null,null,null,null,null,null,null,null,null,null,null,null,null,null,null,null,null,null,null,null,null,null,null,null,null,null,null,null,null,null,null,null,null,null,null,null,null,null,null,null,null,null,null,null,null,null,null,null,null,null,null,null,null,null,null,null,null,null,null,null,null,null,"第1学期颜色数据","第2学期颜色数据","第3学期颜色数据","第4学期颜色数据",null,null,"第1 学期周学时单元格有数据置1","第2 学期周学时单元格有数据置1","第3 学期周学时单元格有数据置1","第4 学期周学时单元格有数据置2"]
[null,null,null,null,null,null,null,null,null,null,null,null,null,"专业序号",null,null,null,null,null,null,null,null,null,null,null,null,null,null,null,null,null,null,null,null,null,null,null,null,null,null,null,null,null,null,{"$f":"FG5","v":"15周"},null,null,null,{"$f":"FH5","v":"18周"},null,null,null,{"$f":"FG6","v":"18周"},null,null,null,{"$f":"FH6","v":"17周"},null,null,null,null,null,null,null,null,null,null,null,null,null,null,null,null,null,null,null,null,null,null,null,null,null,null,null,null,null,null,null,null,null,null,null,null,null,null,null,null,"含/","含（","含周","只含*","左侧/","去左/","去右/","去左右/","含/周学时","含(周学时","实践的周学时","只含*周学时","所有特殊周学时","含一般的周学时","含/周数","只含*周数","实践环节周数","所有特殊周数","包含一般的周数",null,"含/","含（","含周","只含*","确认为左侧/","左侧含/去左/","右侧含/去右/","含/的去左右/后","含/周学时","含(周学时","实践的周学时","只含*周学时","所有特殊周学时","含一般的周学时","含/周数","只含*周数","实践环节周数","所有特殊周数","包含一般的周数",null,null,"含/","含（","含周","只含*","确认为左侧/","左侧含/去左/","右侧含/去右/","含/的去左右/后","含/周学时","含(周学时","实践的周学时","只含*周学时","所有特殊周学时","含一般的周学时","含/周数","只含*周数","实践环节周数","所有特殊周数","包含一般的周数",null,null,"含/","含（","含周","只含*","确认为左侧/","左侧含/去左/","右侧含/去右/","含/的去左右/后","含/周学时","含(周学时","实践的周学时","只含*周学时","所有特殊周学时","含一般的周学时","含/周数","只含*周数","实践环节周数","所有特殊周数","包含一般的周数",null,null,null,null,null,null,null,null,null,null,null,null,null,null,null,null,null,null,null,null,null,null,null,null,null,null,null,null,null,null,null,null,null,null,null,null,null,null,null,null,null,null,null,null,"确认含（","课程总学时","选修课总学时","异常显示变为空格","课内实践","课内实践取左括号","课内实践去右括号","课程总学时-课内实践","带括号的理论学时处理","异常显示变为空格",null,null,null,null,null,null,null,null,{"$f":"SUMPRODUCT(--IF18:IF85)","v":0},null,null,null,null,null,{"$f":"0.5*SUM(IH18:IL82)","v":0},null,null,{"$f":"SUMPRODUCT(--IO18:IO85)","v":0},null,null,null,null,null,{"$f":"0.5*SUM(IR18:IU82)","v":0},null,null,{"$f":"SUMPRODUCT(--IX18:IX85)","v":0},null,null,null,null,null,{"$f":"0.5*SUM(JA18:JD82)","v":0},null,null,{"$f":"SUMPRODUCT(--JG18:JG85)","v":0},null,null,null,null,null,{"$f":"0.5*SUM(JJ18:JM82)","v":0},null,null,{"$f":"SUMPRODUCT(--JP18:JP85)","v":0},null,null,null,null,null,{"$f":"0.5*SUM(JS18:JV82)","v":0},{"$f":"COUNTIF(BE19:BG83,\"*/\")","v":0},null,{"$f":"SUMPRODUCT(--JY18:JY85)","v":0},null,0,null,0,null,{"$f":"SUMPRODUCT(--KE18:KE85)","v":0},null,{"$f":"SUMPRODUCT(--KG18:KG85)","v":0},null,null,null,null,null,null,null,null,null,null,null,null,null,null,null,null,null,null,null,null,null,null,null,null,null,null,null,null,null,null,null,null,null,null,null,null,null,null,null,null,null,null,null,null,null,null,null,null,null,null,null,null,null,null,null,null,null,null,null,null,null,null,null,null,null,null,null,null,null,null,null,null,null,null,null,null,null,"<0.35","0.35-0.65",">0.65","小数汇总","理论学分","总学分",null,"QUZHENG",null,"加括号",null,null,null,"第1学期学分",null,null,null,null,null,null,null,null,null,null,null,"第2学期学分",null,null,null,null,null,null,null,null,null,null,null,"第3学期学分",null,null,null,null,null,null,null,null,null,null,null,"第4学期学分"]
[null,"公共\n基础\n课程",null,"公\n共\n基\n础\n必\n修\n课",null,{"$f":"IF(教学计划表!N18<>\"\",序号!C2,\"\")","v":""},null,null,{"$f":"IF(课程名称及编码!P2<>\"\",课程名称及编码!P2,\"\")","v":""},null,null,null,null,null,null,null,null,null,null,null,null,null,null,null,null,null,null,{"$f":"IF(LX18<>\"\",LX18,\"\")","v":""},null,null,{"$f":"IF(MW18<>\"\",MW18,\"\")","v":""},null,null,{"$f":"IF(HR18<>0,HR18,\"\")","v":""},null,null,{"$f":"IF(HX18<>0,HX18,IF(AH18=\"\",\"\",0))","v":""},null,null,null,null,null,{"$f":"IF(NR18<>0,NR18,\"\")","v":""},null,null,null,null,null,null,null,null,null,null,null,null,null,null,null,null,null,null,null,null,null,null,null,null,null,{"$f":"VALUE(AN18)","v":0},{"$f":"IF(BQ18<0,0,BQ18)","v":0},null,null,null,null,null,null,null,null,null,null,null,null,null,null,null,null,null,null,null,null,null,null,null,null,null,null,null,{"$f":"IF(SEARCH(\"/\",AS18&\"/\",1)<=LEN(AS18),1,\"\")","v":""},{"$f":"IF(SEARCH(\"(\",AS18&\"(\",1)<=LEN(AS18),1,\"\")","v":""},{"$f":"IF(SEARCH(\"周\",AS18&\"周\",1)<=LEN(AS18),1,\"\")","v":""},{"$f":"IF(AND(CT18<>1,CU18<>1,CV18<>1,LEN(AS18)>2),1,\"\")","v":""},{"$f":"IF(AND(CT18=1,LEFT(AS18,1)=\"/\"),1,\"\")","v":""},{"$f":"IF(CX18=1,RIGHT(AS18,LEN(AS18)-1),\"\")","v":""},{"$f":"IF(AND(CT18=1,CX18=\"\"),LEFT(AS18,LEN(AS18)-1),\"\")","v":""},{"$f":"CY18&CZ18","v":""},{"$f":"IF(DA18<>\"\",LEFT(DA18,1),\"\")","v":""},{"$f":"IF(CU18=1,MID(AS18,2,1),\"\")","v":""},{"$f":"IF(CV18=1,26,\"\")","v":""},{"$f":"IF(CW18=1,LEFT(AS18,1),\"\")","v":""},{"$f":"DB18&DC18&DD18&DE18","v":""},{"$f":"IF(DF18=\"\",AS18,DF18)","v":0},{"$f":"IF(DA18=\"\",DA18,RIGHT(DA18,LEN(DA18)-2))","v":""},{"$f":"IF(CW18=1,RIGHT(AS18,LEN(AS18)-2),\"\")","v":""},{"$f":"IF(CV18=1,LEFT(AS18,LEN(AS18)-1),\"\")","v":""},{"$f":"DH18&DI18&DJ18","v":""},{"$f":"IF(DK18=\"\",LEFT(AS$17,LEN(AS$17)-1),DK18)","v":"15"},{"$f":"DG18*DL18","v":0},{"$f":"IF(SEARCH(\"/\",AW18&\"/\",1)<=LEN(AW18),1,\"\")","v":""},{"$f":"IF(SEARCH(\"(\",AW18&\"(\",1)<=LEN(AW18),1,\"\")","v":""},{"$f":"IF(SEARCH(\"周\",AW18&\"周\",1)<=LEN(AW18),1,\"\")","v":""},{"$f":"IF(AND(DN18<>1,DO18<>1,DP18<>1,LEN(AW18)>2),1,\"\")","v":""},{"$f":"IF(AND(DN18=1,LEFT(AW18,1)=\"/\"),1,\"\")","v":""},{"$f":"IF(DR18=1,RIGHT(AW18,LEN(AW18)-1),\"\")","v":""},{"$f":"IF(AND(DN18=1,DR18=\"\"),LEFT(AW18,LEN(AW18)-1),\"\")","v":""},{"$f":"DS18&DT18","v":""},{"$f":"IF(DU18<>\"\",LEFT(DU18,1),\"\")","v":""},{"$f":"IF(DO18=1,MID(AW18,2,1),\"\")","v":""},{"$f":"IF(DP18=1,26,\"\")","v":""},{"$f":"IF(DQ18=1,LEFT(AW18,1),\"\")","v":""},{"$f":"DV18&DW18&DX18&DY18","v":""},{"$f":"IF(DZ18=\"\",AW18,DZ18)","v":0},{"$f":"IF(DU18=\"\",DU18,RIGHT(DU18,LEN(DU18)-2))","v":""},{"$f":"IF(DQ18=1,RIGHT(AW18,LEN(AW18)-2),\"\")","v":""},{"$f":"IF(DP18=1,LEFT(AW18,LEN(AW18)-1),\"\")","v":""},{"$f":"EB18&EC18&ED18","v":""},{"$f":"IF(EE18=\"\",LEFT(AW$17,LEN(AW$17)-1),EE18)","v":"18"},{"$f":"EA18*EF18","v":0},null,{"$f":"IF(SEARCH(\"/\",BA18&\"/\",1)<=LEN(BA18),1,\"\")","v":""},{"$f":"IF(SEARCH(\"(\",BA18&\"(\",1)<=LEN(BA18),1,\"\")","v":""},{"$f":"IF(SEARCH(\"周\",BA18&\"周\",1)<=LEN(BA18),1,\"\")","v":""},{"$f":"IF(AND(EI18<>1,EJ18<>1,EK18<>1,LEN(BA18)>2),1,\"\")","v":""},{"$f":"IF(AND(EI18=1,LEFT(BA18)=\"/\"),1,\"\")","v":""},{"$f":"IF(EM18=1,RIGHT(BA18,LEN(BA18)-1),\"\")","v":""},{"$f":"IF(AND(EI18=1,EM18=\"\"),LEFT(BA18,LEN(BA18)-1),\"\")","v":""},{"$f":"EN18&EO18","v":""},{"$f":"IF(EP18<>\"\",LEFT(EP18,1),\"\")","v":""},{"$f":"IF(EJ18=1,MID(BA18,2,1),\"\")","v":""},{"$f":"IF(EK18=1,26,\"\")","v":""},{"$f":"IF(EL18=1,LEFT(BA18,1),\"\")","v":""},{"$f":"EQ18&ER18&ES18&ET18","v":""},{"$f":"IF(EU18=\"\",BA18,EU18)","v":0},{"$f":"IF(EP18=\"\",EP18,RIGHT(EP18,LEN(EP18)-2))","v":""},{"$f":"IF(EL18=1,RIGHT(BA18,LEN(BA18)-2),\"\")","v":""},{"$f":"IF(EK18=1,LEFT(BA18,LEN(BA18)-1),\"\")","v":""},{"$f":"EW18&EX18&EY18","v":""},{"$f":"IF(EZ18=\"\",LEFT(BA$17,LEN(BA$17)-1),EZ18)","v":"18"},{"$f":"EV18*FA18","v":0},null,{"$f":"IF(SEARCH(\"/\",BE18&\"/\",1)<=LEN(BE18),1,\"\")","v":""},{"$f":"IF(SEARCH(\"(\",BE18&\"(\",1)<=LEN(BE18),1,\"\")","v":""},{"$f":"IF(SEARCH(\"周\",BE18&\"周\",1)<=LEN(BE18),1,\"\")","v":""},{"$f":"IF(AND(FD18<>1,FE18<>1,FF18<>1,LEN(BE18)>2),1,\"\")","v":""},{"$f":"IF(AND(FD18=1,LEFT(BE18,1)=\"/\"),1,\"\")","v":""},{"$f":"IF(FH18=1,RIGHT(BE18,LEN(BE18)-1),\"\")","v":""},{"$f":"IF(AND(FD18=1,FH18=\"\"),LEFT(BE18,LEN(BE18)-1),\"\")","v":""},{"$f":"FI18&FJ18","v":""},{"$f":"IF(FK18<>\"\",LEFT(FK18,1),\"\")","v":""},{"$f":"IF(FE18=1,MID(BE18,2,1),\"\")","v":""},{"$f":"IF(FF18=1,26,\"\")","v":""},{"$f":"IF(FG18=1,LEFT(BE18,1),\"\")","v":""},{"$f":"FL18&FM18&FN18&FO18","v":""},{"$f":"IF(FP18=\"\",BE18,FP18)","v":0},{"$f":"IF(FK18=\"\",FK18,RIGHT(FK18,LEN(FK18)-2))","v":""},{"$f":"IF(FG18=1,RIGHT(BE18,LEN(BE18)-2),\"\")","v":""},{"$f":"IF(FF18=1,LEFT(BE18,LEN(BE18)-1),\"\")","v":""},{"$f":"FR18&FS18&FT18","v":""},{"$f":"IF(FU18=\"\",LEFT(BE$17,LEN(BE$17)-1),FU18)","v":"17"},{"$f":"FQ18*FV18","v":0},null,null,null,null,null,null,null,null,null,null,null,null,null,null,null,null,null,null,null,null,null,null,null,null,null,null,null,null,null,null,null,null,null,null,null,null,null,null,null,null,null,null,null,{"$f":"IF(OR(CU18=1,DO18=1,EJ18=1,FE18=1,FZ18=1,GU18=1),1,\"\")","v":""},{"$f":"SUM(DM18,EG18,FB18,FW18,GR18,HM18)","v":0},{"$f":"IF(HO18=\"\",HP18,\"(\"&HP18&\")\")","v":0},{"$f":"IFERROR(HQ18,\"\")","v":0},{"$f":"AN18","v":0},{"$f":"IF(AND(HO18=1,AN18<>\"\"),RIGHT(HS18,LEN(HS18)-1),HS18)","v":0},{"$f":"IF(AND(HO18=1,AN18<>\"\"),LEFT(HT18,LEN(HT18)-1),HT18)","v":0},{"$f":"HP18-HU18","v":0},{"$f":"IF(HO18=1,\"(\"&HV18&\")\",HV18)","v":0},{"$f":"IFERROR(HW18,\"\")","v":0},null,null,null,null,null,null,{"$f":"IF(DG18=\"26\",0,DG18)","v":0},{"$f":"IF(CU18=1,0,IE18)","v":0},null,{"$f":"IF(CT18=1,DG18,0)","v":0},{"$f":"IF(IH18=\"8\",8,0)","v":0},{"$f":"IF(IH18=\"6\",6,0)","v":0},{"$f":"IF(IH18=\"4\",4,0)","v":0},{"$f":"IF(IH18=\"2\",2,0)","v":0},null,{"$f":"IF(EA18=\"26\",0,EA18)","v":0},{"$f":"IF(DO18=1,0,IN18)","v":0},null,{"$f":"IF(DN18=1,EA18,0)","v":0},{"$f":"IF(IQ18=\"8\",8,0)","v":0},{"$f":"IF(IQ18=\"6\",6,0)","v":0},{"$f":"IF(IQ18=\"4\",4,0)","v":0},{"$f":"IF(IQ18=\"2\",2,0)","v":0},null,{"$f":"IF(EV18=\"26\",0,EV18)","v":0},{"$f":"IF(EJ18=1,0,IW18)","v":0},null,{"$f":"IF(EI18=1,EV18,0)","v":0},{"$f":"IF(IZ18=\"8\",8,0)","v":0},{"$f":"IF(IZ18=\"6\",6,0)","v":0},{"$f":"IF(IZ18=\"4\",4,0)","v":0},{"$f":"IF(IZ18=\"2\",2,0)","v":0},null,{"$f":"IF(FQ18=\"26\",0,FQ18)","v":0},{"$f":"IF(FE18=1,0,JF18)","v":0},null,{"$f":"IF(FD18=1,FQ18,0)","v":0},{"$f":"IF(JI18=\"8\",8,0)","v":0},{"$f":"IF(JI18=\"6\",6,0)","v":0},{"$f":"IF(JI18=\"4\",4,0)","v":0},{"$f":"IF(JI18=\"2\",2,0)","v":0},null,{"$f":"IF(GL18=\"26\",0,GL18)","v":0},{"$f":"IF(FZ18=1,0,JO18)","v":0},null,{"$f":"IF(FY18=1,GL18,0)","v":0},{"$f":"IF(JR18=\"8\",8,0)","v":0},{"$f":"IF(JR18=\"6\",6,0)","v":0},{"$f":"IF(JR18=\"4\",4,0)","v":0},{"$f":"IF(JR18=\"2\",2,0)","v":0},null,null,{"$f":"IF(IF18<>0,1,0)","v":0},null,{"$f":"IF(IO18<>0,1,0)","v":0},null,{"$f":"IF(IX18<>0,1,0)","v":0},null,{"$f":"IF(JG18<>0,1,0)","v":0},null,{"$f":"IF(JP18<>0,1,0)","v":0},null,{"$f":"aaa","v":0},{"$f":"bbb","v":0},{"$f":"ccc","v":0},{"$f":"dddd","v":0},null,{"$f":"aaa","v":0},{"$f":"bbb","v":0},{"$f":"ccc","v":0},{"$f":"dddd","v":0},{"$f":"eee","v":0},{"$f":"fff","v":0},{"$f":"IF(AS18<>\"\",1,\"\")","v":""},{"$f":"IF(AW18<>\"\",1,\"\")","v":""},{"$f":"IF(BA18<>\"\",1,\"\")","v":""},{"$f":"IF(BE18<>\"\",1,\"\")","v":""},null,null,{"$f":"IF(AND(KN18<>0,KT18=1),1,\"\")","v":""},{"$f":"IF(AND(KO18<>0,KU18=1),2,\"\")","v":""},{"$f":"IF(AND(KP18<>0,KV18=1),3,\"\")","v":""},{"$f":"IF(AND(KQ18<>0,KW18=1),4,\"\")","v":""},{"$f":"IF(AND(KR18<>0,KX18=1),5,\"\")","v":""},{"$f":"IF(AND(KS18<>0,KY18=1),6,\"\")","v":""},{"$f":"CONCATENATE(KZ18,LA18,LB18,LC18,LD18,LE18)","v":""},{"$f":"LEN(LF18)","v":0},{"$f":"IF(LG18=1,CONCATENATE(KZ18,LA18,LB18,LC18,LD18,LE18),\"\")","v":""},{"$f":"IF(LG18=2,LF18,\"\")","v":""},{"$f":"IF(LI18<>\"\",LEFT(LI18,1),\"\")","v":""},{"$f":"IF(LI18<>\"\",RIGHT(LI18,1),\"\")","v":""},{"$f":"IF(LI18<>\"\",LJ18&\",\"&LK18,\"\")","v":""},{"$f":"IF(LG18=3,LF18,\"\")","v":""},{"$f":"IF(LM18<>\"\",LEFT(LM18,1),\"\")","v":""},{"$f":"IF(LM18<>\"\",MID(LM18,2,1),\"\")","v":""},{"$f":"IF(LM18<>\"\",RIGHT(LM18,1),\"\")","v":""},{"$f":"IF(LM18<>\"\",LN18&\",\"&LO18&\",\"&LP18,\"\")","v":""},{"$f":"IF(LG18=4,LF18,\"\")","v":""},{"$f":"IF(LR18<>\"\",LEFT(LR18,1),\"\")","v":""},{"$f":"IF(LR18<>\"\",MID(LR18,2,1),\"\")","v":""},{"$f":"IF(LR18<>\"\",MID(LR18,3,1),\"\")","v":""},{"$f":"IF(LR18<>\"\",RIGHT(LR18,1),\"\")","v":""},{"$f":"IF(LR18<>\"\",LS18&\",\"&LT18&\",\"&LU18&\",\"&LV18,\"\")","v":""},{"$f":"LH18&LL18&LQ18&LW18","v":""},{"$f":"IF(AND(KT18=1,KZ18=\"\"),1,\"\")","v":""},{"$f":"IF(AND(KU18=1,LA18=\"\"),2,\"\")","v":""},{"$f":"IF(AND(KV18=1,LB18=\"\"),3,\"\")","v":""},{"$f":"IF(AND(KW18=1,LC18=\"\"),4,\"\")","v":""},{"$f":"IF(AND(KX18=1,LD18=\"\"),5,\"\")","v":""},{"$f":"IF(AND(KY18=1,LE18=\"\"),6,\"\")","v":""},{"$f":"CONCATENATE(LY18,LZ18,MA18,MB18,MC18,MD18)","v":""},{"$f":"LEN(ME18)","v":0},{"$f":"IF(MF18=1,ME18,\"\")","v":""},{"$f":"IF(MF18=2,ME18,\"\")","v":""},{"$f":"IF(MH18<>\"\",LEFT(ME18,1),\"\")","v":""},{"$f":"IF(MH18<>\"\",RIGHT(ME18,1),\"\")","v":""},{"$f":"IF(MH18<>\"\",MI18&\",\"&MJ18,\"\")","v":""},{"$f":"IF(MF18=3,ME18,\"\")","v":""},{"$f":"IF(ML18<>\"\",LEFT(ML18,1),\"\")","v":""},{"$f":"IF(ML18<>\"\",MID(ML18,2,1),\"\")","v":""},{"$f":"IF(ML18<>\"\",RIGHT(ML18,1),\"\")","v":""},{"$f":"IF(ML18<>\"\",MM18&\",\"&MN18&\",\"&MO18,\"\")","v":""},{"$f":"IF(MF18=4,ME18,\"\")","v":""},{"$f":"IF(MQ18<>\"\",LEFT(MQ18,1),\"\")","v":""},{"$f":"IF(MQ18<>\"\",MID(MQ18,2,1),\"\")","v":""},{"$f":"IF(MQ18<>\"\",MID(MQ18,3,1),\"\")","v":""},{"$f":"IF(MQ18<>\"\",RIGHT(MQ18,1),\"\")","v":""},{"$f":"IF(MQ18<>\"\",MR18&\",\"&MS18&\",\"&MT18&\",\"&MU18,\"\")","v":""},{"$f":"CONCATENATE(MG18,MK18,MP18,MV18)","v":""},{"$f":"IF(CV18=1,DJ18,0)","v":0},{"$f":"IF(DP18=1,ED18,0)","v":0},{"$f":"IF(EK18=1,EY18,0)","v":0},{"$f":"IF(FF18=1,FT18,0)","v":0},{"$f":"IF(GA18=1,GO18,0)","v":0},{"$f":"IF(GV18=1,HJ18,0)","v":0},{"$f":"MX18+MY18+MZ18+NA18+NB18+NC18","v":0},{"$f":"IF(ND18=0,HP18/18,0)","v":0},{"$f":"INT(NE18)","v":0},{"$f":"NE18-NF18","v":0},{"$f":"IF(NG18<0.35,0,\"\")","v":0},{"$f":"IF(AND(NG18>0.35,NG18<0.65),0.5,\"\")","v":""},{"$f":"IF(NG18>0.65,1,\"\")","v":""},{"$f":"NH18&NI18&NJ18","v":"0"},{"$f":"IF(ND18=0,NF18+NK18,0)","v":0},{"$f":"NL18+ND18","v":0},{"$f":"ROUND(NM18,0)","v":0},null,null,{"$f":"IF(LEFT(HQ18,1)=\"(\",\"(\"&NM18&\")\",NN18)","v":0},{"$f":"IFERROR(NQ18,\"\")","v":0},null,null,{"$f":"IF(ND18=0,DM18/18,0)","v":0},{"$f":"INT(NU18)","v":0},{"$f":"NU18-NV18","v":0},{"$f":"IF(NW18<0.35,0,\"\")","v":0},{"$f":"IF(AND(NW18>0.35,NW18<0.65),0.5,\"\")","v":""},{"$f":"IF(NW18>0.65,1,\"\")","v":""},{"$f":"NX18&NY18&NZ18","v":"0"},{"$f":"IF(ND18=0,NV18+OA18,0)","v":0},{"$f":"OB18+MX18","v":0},{"$f":"IF(LEFT(HQ18,1)=\"(\",\"(\"&OC18&\")\",OC18)","v":0},{"$f":"IFERROR(OD18,\"\")","v":0},null,{"$f":"IF(ND18=0,EG18/18,0)","v":0},{"$f":"INT(OG18)","v":0},{"$f":"OG18-OH18","v":0},{"$f":"IF(OI18<0.35,0,\"\")","v":0},{"$f":"IF(AND(OI18>0.35,OI18<0.65),0.5,\"\")","v":""},{"$f":"IF(OI18>0.65,1,\"\")","v":""},{"$f":"OJ18&OK18&OL18","v":"0"},{"$f":"IF(ND18=0,OH18+OM18,0)","v":0},{"$f":"ON18+MY18","v":0},{"$f":"IF(LEFT(HQ18,1)=\"(\",\"(\"&OO18&\")\",OO18)","v":0},{"$f":"IFERROR(OP18,\"\")","v":0},null,{"$f":"IF(ND18=0,FB18/18,0)","v":0},{"$f":"INT(OS18)","v":0},{"$f":"OS18-OT18","v":0},{"$f":"IF(OU18<0.35,0,\"\")","v":0},{"$f":"IF(AND(OU18>0.35,OU18<0.65),0.5,\"\")","v":""},{"$f":"IF(OU18>0.65,1,\"\")","v":""},{"$f":"OV18&OW18&OX18","v":"0"},{"$f":"IF(ND18=0,OT18+OY18,0)","v":0},{"$f":"OZ18+MZ18","v":0},{"$f":"IF(LEFT(HQ18,1)=\"(\",\"(\"&PA18&\")\",PA18)","v":0},{"$f":"IFERROR(PB18,\"\")","v":0},null,{"$f":"IF(ND18=0,FW18/18,0)","v":0},{"$f":"INT(PE18)","v":0},{"$f":"PE18-PF18","v":0},{"$f":"IF(PG18<0.35,0,\"\")","v":0},{"$f":"IF(AND(PG18>0.35,PG18<0.65),0.5,\"\")","v":""},{"$f":"IF(PG18>0.65,1,\"\")","v":""},{"$f":"PH18&PI18&PJ18","v":"0"},{"$f":"IF(ND18=0,PF18+PK18,0)","v":0},{"$f":"PL18+NA18","v":0},{"$f":"IF(LEFT(HQ18,1)=\"(\",\"(\"&PM18&\")\",PM18)","v":0},{"$f":"IFERROR(PN18,\"\")","v":0},{"$f":"IF(ND18=0,GR18/18,0)","v":0},{"$f":"INT(PP18)","v":0},{"$f":"PP18-PQ18","v":0},{"$f":"IF(PR18<0.35,0,\"\")","v":0},{"$f":"IF(AND(PR18>0.35,PR18<0.65),0.5,\"\")","v":""},{"$f":"IF(PR18>0.65,1,\"\")","v":""},{"$f":"PS18&PT18&PU18","v":"0"},{"$f":"IF(ND18=0,PQ18+PV18,0)","v":0},{"$f":"NB18+PW18","v":0},{"$f":"IF(LEFT(HQ18,1)=\"(\",\"(\"&PX18&\")\",PX18)","v":0},{"$f":"IFERROR(PY18,\"\")","v":0},null,{"$f":"IF(ND18=0,HM18/18,0)","v":0},{"$f":"INT(QB18)","v":0},{"$f":"QB18-QC18","v":0},{"$f":"IF(QD18<0.35,0,\"\")","v":0},{"$f":"IF(AND(QD18>0.35,QD18<0.65),0.5,\"\")","v":""},{"$f":"IF(QD18>0.65,1,\"\")","v":""},{"$f":"QE18&QF18&QG18","v":"0"},{"$f":"IF(NT18=0,QC18+QH18,0)","v":0},{"$f":"NC18+QI18","v":0},{"$f":"IF(LEFT(HQ18,1)=\"(\",\"(\"&QJ18&\")\",QJ18)","v":0},{"$f":"IFERROR(QK18,\"\")","v":0},null,null,null,null,null,null,{"$f":"IF(SEARCH(\"(\",AN18&\"(\",1)<=LEN(AN18),0,VALUE(AN18))","v":0},null,null,null,"外语A级"]
[null,null,null,null,null,{"$f":"IF(教学计划表!N19<>\"\",序号!C3,\"\")","v":""},null,null,{"$f":"IF(课程名称及编码!P3<>\"\",课程名称及编码!P3,\"\")","v":""},null,null,null,null,null,null,null,null,null,null,null,null,null,null,null,null,null,null,"",null,null,"",null,null,"",null,null,"",null,null,null,null,null,{"$f":"IF(NR19<>0,NR19,\"\")","v":""},null,null,null,null,null,null,null,null,null,null,null,null,null,null,null,null,null,null,null,null,null,null,null,null,null,{"$f":"VALUE(AN19)","v":0},{"$f":"IF(BQ19<0,0,BQ19)","v":0},null,null,null,null,null,null,null,null,null,null,null,null,null,null,null,null,null,null,null,null,null,null,null,null,null,null,null,{"$f":"IF(SEARCH(\"/\",AS19&\"/\",1)<=LEN(AS19),1,\"\")","v":""},{"$f":"IF(SEARCH(\"(\",AS19&\"(\",1)<=LEN(AS19),1,\"\")","v":""},{"$f":"IF(SEARCH(\"周\",AS19&\"周\",1)<=LEN(AS19),1,\"\")","v":""},{"$f":"IF(AND(CT19<>1,CU19<>1,CV19<>1,LEN(AS19)>2),1,\"\")","v":""},{"$f":"IF(AND(CT19=1,LEFT(AS19,1)=\"/\"),1,\"\")","v":""},{"$f":"IF(CX19=1,RIGHT(AS19,LEN(AS19)-1),\"\")","v":""},{"$f":"IF(AND(CT19=1,CX19=\"\"),LEFT(AS19,LEN(AS19)-1),\"\")","v":""},{"$f":"CY19&CZ19","v":""},{"$f":"IF(DA19<>\"\",LEFT(DA19,1),\"\")","v":""},{"$f":"IF(CU19=1,MID(AS19,2,1),\"\")","v":""},{"$f":"IF(CV19=1,26,\"\")","v":""},{"$f":"IF(CW19=1,LEFT(AS19,1),\"\")","v":""},{"$f":"DB19&DC19&DD19&DE19","v":""},{"$f":"IF(DF19=\"\",AS19,DF19)","v":0},{"$f":"IF(DA19=\"\",DA19,RIGHT(DA19,LEN(DA19)-2))","v":""},{"$f":"IF(CW19=1,RIGHT(AS19,LEN(AS19)-2),\"\")","v":""},{"$f":"IF(CV19=1,LEFT(AS19,LEN(AS19)-1),\"\")","v":""},{"$f":"DH19&DI19&DJ19","v":""},{"$f":"IF(DK19=\"\",LEFT(AS$17,LEN(AS$17)-1),DK19)","v":"15"},{"$f":"DG19*DL19","v":0},{"$f":"IF(SEARCH(\"/\",AW19&\"/\",1)<=LEN(AW19),1,\"\")","v":""},{"$f":"IF(SEARCH(\"(\",AW19&\"(\",1)<=LEN(AW19),1,\"\")","v":""},{"$f":"IF(SEARCH(\"周\",AW19&\"周\",1)<=LEN(AW19),1,\"\")","v":""},{"$f":"IF(AND(DN19<>1,DO19<>1,DP19<>1,LEN(AW19)>2),1,\"\")","v":""},{"$f":"IF(AND(DN19=1,LEFT(AW19,1)=\"/\"),1,\"\")","v":""},{"$f":"IF(DR19=1,RIGHT(AW19,LEN(AW19)-1),\"\")","v":""},{"$f":"IF(AND(DN19=1,DR19=\"\"),LEFT(AW19,LEN(AW19)-1),\"\")","v":""},{"$f":"DS19&DT19","v":""},{"$f":"IF(DU19<>\"\",LEFT(DU19,1),\"\")","v":""},{"$f":"IF(DO19=1,MID(AW19,2,1),\"\")","v":""},{"$f":"IF(DP19=1,26,\"\")","v":""},{"$f":"IF(DQ19=1,LEFT(AW19,1),\"\")","v":""},{"$f":"DV19&DW19&DX19&DY19","v":""},{"$f":"IF(DZ19=\"\",AW19,DZ19)","v":0},{"$f":"IF(DU19=\"\",DU19,RIGHT(DU19,LEN(DU19)-2))","v":""},{"$f":"IF(DQ19=1,RIGHT(AW19,LEN(AW19)-2),\"\")","v":""},{"$f":"IF(DP19=1,LEFT(AW19,LEN(AW19)-1),\"\")","v":""},{"$f":"EB19&EC19&ED19","v":""},{"$f":"IF(EE19=\"\",LEFT(AW$17,LEN(AW$17)-1),EE19)","v":"18"},{"$f":"EA19*EF19","v":0},null,{"$f":"IF(SEARCH(\"/\",BA19&\"/\",1)<=LEN(BA19),1,\"\")","v":""},{"$f":"IF(SEARCH(\"(\",BA19&\"(\",1)<=LEN(BA19),1,\"\")","v":""},{"$f":"IF(SEARCH(\"周\",BA19&\"周\",1)<=LEN(BA19),1,\"\")","v":""},{"$f":"IF(AND(EI19<>1,EJ19<>1,EK19<>1,LEN(BA19)>2),1,\"\")","v":""},{"$f":"IF(AND(EI19=1,LEFT(BA19)=\"/\"),1,\"\")","v":""},{"$f":"IF(EM19=1,RIGHT(BA19,LEN(BA19)-1),\"\")","v":""},{"$f":"IF(AND(EI19=1,EM19=\"\"),LEFT(BA19,LEN(BA19)-1),\"\")","v":""},{"$f":"EN19&EO19","v":""},{"$f":"IF(EP19<>\"\",LEFT(EP19,1),\"\")","v":""},{"$f":"IF(EJ19=1,MID(BA19,2,1),\"\")","v":""},{"$f":"IF(EK19=1,26,\"\")","v":""},{"$f":"IF(EL19=1,LEFT(BA19,1),\"\")","v":""},{"$f":"EQ19&ER19&ES19&ET19","v":""},{"$f":"IF(EU19=\"\",BA19,EU19)","v":0},{"$f":"IF(EP19=\"\",EP19,RIGHT(EP19,LEN(EP19)-2))","v":""},{"$f":"IF(EL19=1,RIGHT(BA19,LEN(BA19)-2),\"\")","v":""},{"$f":"IF(EK19=1,LEFT(BA19,LEN(BA19)-1),\"\")","v":""},{"$f":"EW19&EX19&EY19","v":""},{"$f":"IF(EZ19=\"\",LEFT(BA$17,LEN(BA$17)-1),EZ19)","v":"18"},{"$f":"EV19*FA19","v":0},null,{"$f":"IF(SEARCH(\"/\",BE19&\"/\",1)<=LEN(BE19),1,\"\")","v":""},{"$f":"IF(SEARCH(\"(\",BE19&\"(\",1)<=LEN(BE19),1,\"\")","v":""},{"$f":"IF(SEARCH(\"周\",BE19&\"周\",1)<=LEN(BE19),1,\"\")","v":""},{"$f":"IF(AND(FD19<>1,FE19<>1,FF19<>1,LEN(BE19)>2),1,\"\")","v":""},{"$f":"IF(AND(FD19=1,LEFT(BE19,1)=\"/\"),1,\"\")","v":""},{"$f":"IF(FH19=1,RIGHT(BE19,LEN(BE19)-1),\"\")","v":""},{"$f":"IF(AND(FD19=1,FH19=\"\"),LEFT(BE19,LEN(BE19)-1),\"\")","v":""},{"$f":"FI19&FJ19","v":""},{"$f":"IF(FK19<>\"\",LEFT(FK19,1),\"\")","v":""},{"$f":"IF(FE19=1,MID(BE19,2,1),\"\")","v":""},{"$f":"IF(FF19=1,26,\"\")","v":""},{"$f":"IF(FG19=1,LEFT(BE19,1),\"\")","v":""},{"$f":"FL19&FM19&FN19&FO19","v":""},{"$f":"IF(FP19=\"\",BE19,FP19)","v":0},{"$f":"IF(FK19=\"\",FK19,RIGHT(FK19,LEN(FK19)-2))","v":""},{"$f":"IF(FG19=1,RIGHT(BE19,LEN(BE19)-2),\"\")","v":""},{"$f":"IF(FF19=1,LEFT(BE19,LEN(BE19)-1),\"\")","v":""},{"$f":"FR19&FS19&FT19","v":""},{"$f":"IF(FU19=\"\",LEFT(BE$17,LEN(BE$17)-1),FU19)","v":"17"},{"$f":"FQ19*FV19","v":0},null,null,null,null,null,null,null,null,null,null,null,null,null,null,null,null,null,null,null,null,null,null,null,null,null,null,null,null,null,null,null,null,null,null,null,null,null,null,null,null,null,null,null,{"$f":"IF(OR(CU19=1,DO19=1,EJ19=1,FE19=1,FZ19=1,GU19=1),1,\"\")","v":""},{"$f":"SUM(DM19,EG19,FB19,FW19,GR19,HM19)","v":0},{"$f":"IF(HO19=\"\",HP19,\"(\"&HP19&\")\")","v":0},{"$f":"IFERROR(HQ19,\"\")","v":0},{"$f":"AN19","v":0},{"$f":"IF(AND(HO19=1,AN19<>\"\"),RIGHT(HS19,LEN(HS19)-1),HS19)","v":0},{"$f":"IF(AND(HO19=1,AN19<>\"\"),LEFT(HT19,LEN(HT19)-1),HT19)","v":0},{"$f":"HP19-HU19","v":0},{"$f":"IF(HO19=1,\"(\"&HV19&\")\",HV19)","v":0},{"$f":"IFERROR(HW19,\"\")","v":0},null,null,null,null,null,null,{"$f":"IF(DG19=\"26\",0,DG19)","v":0},{"$f":"IF(CU19=1,0,IE19)","v":0},null,{"$f":"IF(CT19=1,DG19,0)","v":0},{"$f":"IF(IH19=\"8\",8,0)","v":0},{"$f":"IF(IH19=\"6\",6,0)","v":0},{"$f":"IF(IH19=\"4\",4,0)","v":0},{"$f":"IF(IH19=\"2\",2,0)","v":0},null,{"$f":"IF(EA19=\"26\",0,EA19)","v":0},{"$f":"IF(DO19=1,0,IN19)","v":0},null,{"$f":"IF(DN19=1,EA19,0)","v":0},{"$f":"IF(IQ19=\"8\",8,0)","v":0},{"$f":"IF(IQ19=\"6\",6,0)","v":0},{"$f":"IF(IQ19=\"4\",4,0)","v":0},{"$f":"IF(IQ19=\"2\",2,0)","v":0},null,{"$f":"IF(EV19=\"26\",0,EV19)","v":0},0,null,{"$f":"IF(EI19=1,EV19,0)","v":0},{"$f":"IF(IZ19=\"8\",8,0)","v":0},{"$f":"IF(IZ19=\"6\",6,0)","v":0},{"$f":"IF(IZ19=\"4\",4,0)","v":0},{"$f":"IF(IZ19=\"2\",2,0)","v":0},null,{"$f":"IF(FQ19=\"26\",0,FQ19)","v":0},0,null,{"$f":"IF(FD19=1,FQ19,0)","v":0},{"$f":"IF(JI19=\"8\",8,0)","v":0},{"$f":"IF(JI19=\"6\",6,0)","v":0},{"$f":"IF(JI19=\"4\",4,0)","v":0},{"$f":"IF(JI19=\"2\",2,0)","v":0},null,{"$f":"IF(GL19=\"26\",0,GL19)","v":0},0,null,{"$f":"IF(FY19=1,GL19,0)","v":0},{"$f":"IF(JR19=\"8\",8,0)","v":0},{"$f":"IF(JR19=\"6\",6,0)","v":0},{"$f":"IF(JR19=\"4\",4,0)","v":0},{"$f":"IF(JR19=\"2\",2,0)","v":0},null,null,{"$f":"IF(IF19<>0,1,0)","v":0},null,{"$f":"IF(IO19<>0,1,0)","v":0},null,{"$f":"IF(IX19<>0,1,0)","v":0},null,{"$f":"IF(JG19<>0,1,0)","v":0},null,{"$f":"IF(JP19<>0,1,0)","v":0},null,{"$f":"aaa","v":0},{"$f":"bbb","v":0},{"$f":"ccc","v":0},{"$f":"dddd","v":0},null,{"$f":"aaa","v":0},{"$f":"bbb","v":0},{"$f":"ccc","v":0},{"$f":"dddd","v":0},{"$f":"eee","v":0},{"$f":"fff","v":0},"",{"$f":"IF(AW19<>\"\",1,\"\")","v":""},{"$f":"IF(BA19<>\"\",1,\"\")","v":""},{"$f":"IF(BE19<>\"\",1,\"\")","v":""},null,null,{"$f":"IF(AND(KN19<>0,KT19=1),1,\"\")","v":""},{"$f":"IF(AND(KO19<>0,KU19=1),2,\"\")","v":""},{"$f":"IF(AND(KP19<>0,KV19=1),3,\"\")","v":""},{"$f":"IF(AND(KQ19<>0,KW19=1),4,\"\")","v":""},{"$f":"IF(AND(KR19<>0,KX19=1),5,\"\")","v":""},{"$f":"IF(AND(KS19<>0,KY19=1),6,\"\")","v":""},{"$f":"CONCATENATE(KZ19,LA19,LB19,LC19,LD19,LE19)","v":""},{"$f":"LEN(LF19)","v":0},{"$f":"IF(LG19=1,CONCATENATE(KZ19,LA19,LB19,LC19,LD19,LE19),\"\")","v":""},{"$f":"IF(LG19=2,LF19,\"\")","v":""},{"$f":"IF(LI19<>\"\",LEFT(LI19,1),\"\")","v":""},{"$f":"IF(LI19<>\"\",RIGHT(LI19,1),\"\")","v":""},{"$f":"IF(LI19<>\"\",LJ19&\",\"&LK19,\"\")","v":""},{"$f":"IF(LG19=3,LF19,\"\")","v":""},{"$f":"IF(LM19<>\"\",LEFT(LM19,1),\"\")","v":""},{"$f":"IF(LM19<>\"\",MID(LM19,2,1),\"\")","v":""},{"$f":"IF(LM19<>\"\",RIGHT(LM19,1),\"\")","v":""},{"$f":"IF(LM19<>\"\",LN19&\",\"&LO19&\",\"&LP19,\"\")","v":""},{"$f":"IF(LG19=4,LF19,\"\")","v":""},{"$f":"IF(LR19<>\"\",LEFT(LR19,1),\"\")","v":""},{"$f":"IF(LR19<>\"\",MID(LR19,2,1),\"\")","v":""},{"$f":"IF(LR19<>\"\",MID(LR19,3,1),\"\")","v":""},{"$f":"IF(LR19<>\"\",RIGHT(LR19,1),\"\")","v":""},{"$f":"IF(LR19<>\"\",LS19&\",\"&LT19&\",\"&LU19&\",\"&LV19,\"\")","v":""},{"$f":"LH19&LL19&LQ19&LW19","v":""},{"$f":"IF(AND(KT19=1,KZ19=\"\"),1,\"\")","v":""},{"$f":"IF(AND(KU19=1,LA19=\"\"),2,\"\")","v":""},{"$f":"IF(AND(KV19=1,LB19=\"\"),3,\"\")","v":""},{"$f":"IF(AND(KW19=1,LC19=\"\"),4,\"\")","v":""},{"$f":"IF(AND(KX19=1,LD19=\"\"),5,\"\")","v":""},{"$f":"IF(AND(KY19=1,LE19=\"\"),6,\"\")","v":""},{"$f":"CONCATENATE(LY19,LZ19,MA19,MB19,MC19,MD19)","v":""},{"$f":"LEN(ME19)","v":0},{"$f":"IF(MF19=1,ME19,\"\")","v":""},{"$f":"IF(MF19=2,ME19,\"\")","v":""},{"$f":"IF(MH19<>\"\",LEFT(ME19,1),\"\")","v":""},{"$f":"IF(MH19<>\"\",RIGHT(ME19,1),\"\")","v":""},{"$f":"IF(MH19<>\"\",MI19&\",\"&MJ19,\"\")","v":""},{"$f":"IF(MF19=3,ME19,\"\")","v":""},{"$f":"IF(ML19<>\"\",LEFT(ML19,1),\"\")","v":""},{"$f":"IF(ML19<>\"\",MID(ML19,2,1),\"\")","v":""},{"$f":"IF(ML19<>\"\",RIGHT(ML19,1),\"\")","v":""},{"$f":"IF(ML19<>\"\",MM19&\",\"&MN19&\",\"&MO19,\"\")","v":""},{"$f":"IF(MF19=4,ME19,\"\")","v":""},{"$f":"IF(MQ19<>\"\",LEFT(MQ19,1),\"\")","v":""},{"$f":"IF(MQ19<>\"\",MID(MQ19,2,1),\"\")","v":""},{"$f":"IF(MQ19<>\"\",MID(MQ19,3,1),\"\")","v":""},{"$f":"IF(MQ19<>\"\",RIGHT(MQ19,1),\"\")","v":""},{"$f":"IF(MQ19<>\"\",MR19&\",\"&MS19&\",\"&MT19&\",\"&MU19,\"\")","v":""},{"$f":"CONCATENATE(MG19,MK19,MP19,MV19)","v":""},{"$f":"IF(CV19=1,DJ19,0)","v":0},{"$f":"IF(DP19=1,ED19,0)","v":0},{"$f":"IF(EK19=1,EY19,0)","v":0},{"$f":"IF(FF19=1,FT19,0)","v":0},{"$f":"IF(GA19=1,GO19,0)","v":0},{"$f":"IF(GV19=1,HJ19,0)","v":0},{"$f":"MX19+MY19+MZ19+NA19+NB19+NC19","v":0},0,{"$f":"INT(NE19)","v":0},{"$f":"NE19-NF19","v":0},{"$f":"IF(NG19<0.35,0,\"\")","v":0},{"$f":"IF(AND(NG19>0.35,NG19<0.65),0.5,\"\")","v":""},{"$f":"IF(NG19>0.65,1,\"\")","v":""},{"$f":"NH19&NI19&NJ19","v":"0"},{"$f":"IF(ND19=0,NF19+NK19,0)","v":0},{"$f":"NL19+ND19","v":0},{"$f":"ROUND(NM19,0)","v":0},null,null,{"$f":"IF(LEFT(HQ19,1)=\"(\",\"(\"&NM19&\")\",NN19)","v":0},{"$f":"IFERROR(NQ19,\"\")","v":0},null,null,0,{"$f":"INT(NU19)","v":0},{"$f":"NU19-NV19","v":0},{"$f":"IF(NW19<0.35,0,\"\")","v":0},{"$f":"IF(AND(NW19>0.35,NW19<0.65),0.5,\"\")","v":""},{"$f":"IF(NW19>0.65,1,\"\")","v":""},{"$f":"NX19&NY19&NZ19","v":"0"},0,0,0,{"$f":"IFERROR(OD19,\"\")","v":0},null,0,{"$f":"INT(OG19)","v":0},{"$f":"OG19-OH19","v":0},{"$f":"IF(OI19<0.35,0,\"\")","v":0},{"$f":"IF(AND(OI19>0.35,OI19<0.65),0.5,\"\")","v":""},{"$f":"IF(OI19>0.65,1,\"\")","v":""},{"$f":"OJ19&OK19&OL19","v":"0"},0,0,0,{"$f":"IFERROR(OP19,\"\")","v":0},null,0,{"$f":"INT(OS19)","v":0},{"$f":"OS19-OT19","v":0},{"$f":"IF(OU19<0.35,0,\"\")","v":0},{"$f":"IF(AND(OU19>0.35,OU19<0.65),0.5,\"\")","v":""},{"$f":"IF(OU19>0.65,1,\"\")","v":""},{"$f":"OV19&OW19&OX19","v":"0"},0,0,0,{"$f":"IFERROR(PB19,\"\")","v":0},null,0,{"$f":"INT(PE19)","v":0},{"$f":"PE19-PF19","v":0},{"$f":"IF(PG19<0.35,0,\"\")","v":0},{"$f":"IF(AND(PG19>0.35,PG19<0.65),0.5,\"\")","v":""},{"$f":"IF(PG19>0.65,1,\"\")","v":""},{"$f":"PH19&PI19&PJ19","v":"0"},0,0,0,{"$f":"IFERROR(PN19,\"\")","v":0},0,{"$f":"INT(PP19)","v":0},{"$f":"PP19-PQ19","v":0},{"$f":"IF(PR19<0.35,0,\"\")","v":0},{"$f":"IF(AND(PR19>0.35,PR19<0.65),0.5,\"\")","v":""},{"$f":"IF(PR19>0.65,1,\"\")","v":""},{"$f":"PS19&PT19&PU19","v":"0"},0,0,0,{"$f":"IFERROR(PY19,\"\")","v":0},null,0,{"$f":"INT(QB19)","v":0},{"$f":"QB19-QC19","v":0},{"$f":"IF(QD19<0.35,0,\"\")","v":0},{"$f":"IF(AND(QD19>0.35,QD19<0.65),0.5,\"\")","v":""},{"$f":"IF(QD19>0.65,1,\"\")","v":""},{"$f":"QE19&QF19&QG19","v":"0"},{"$f":"IF(NT19=0,QC19+QH19,0)","v":0},0,0,{"$f":"IFERROR(QK19,\"\")","v":0},null,null,null,null,null,null,0,null,null,null,"计算机二级"]
[null,null,null,null,null,{"$f":"IF(教学计划表!N20<>\"\",序号!C4,\"\")","v":""},null,null,{"$f":"IF(课程名称及编码!P4<>\"\",课程名称及编码!P4,\"\")","v":""},null,null,null,null,null,null,null,null,null,null,null,null,null,null,null,null,null,null,"",null,null,"",null,null,"",null,null,"",null,null,null,null,null,"",null,null,null,null,null,null,null,null,null,null,null,null,null,null,null,null,null,null,null,null,null,null,null,null,null,0,0,null,null,null,null,null,null,null,null,null,null,null,null,null,null,null,null,null,null,null,null,null,null,null,null,null,null,null,{"$f":"IF(SEARCH(\"/\",AS20&\"/\",1)<=LEN(AS20),1,\"\")","v":""},{"$f":"IF(SEARCH(\"(\",AS20&\"(\",1)<=LEN(AS20),1,\"\")","v":""},{"$f":"IF(SEARCH(\"周\",AS20&\"周\",1)<=LEN(AS20),1,\"\")","v":""},{"$f":"IF(AND(CT20<>1,CU20<>1,CV20<>1,LEN(AS20)>2),1,\"\")","v":""},{"$f":"IF(AND(CT20=1,LEFT(AS20,1)=\"/\"),1,\"\")","v":""},{"$f":"IF(CX20=1,RIGHT(AS20,LEN(AS20)-1),\"\")","v":""},{"$f":"IF(AND(CT20=1,CX20=\"\"),LEFT(AS20,LEN(AS20)-1),\"\")","v":""},{"$f":"CY20&CZ20","v":""},{"$f":"IF(DA20<>\"\",LEFT(DA20,1),\"\")","v":""},{"$f":"IF(CU20=1,MID(AS20,2,1),\"\")","v":""},{"$f":"IF(CV20=1,26,\"\")","v":""},{"$f":"IF(CW20=1,LEFT(AS20,1),\"\")","v":""},{"$f":"DB20&DC20&DD20&DE20","v":""},{"$f":"IF(DF20=\"\",AS20,DF20)","v":0},{"$f":"IF(DA20=\"\",DA20,RIGHT(DA20,LEN(DA20)-2))","v":""},{"$f":"IF(CW20=1,RIGHT(AS20,LEN(AS20)-2),\"\")","v":""},{"$f":"IF(CV20=1,LEFT(AS20,LEN(AS20)-1),\"\")","v":""},{"$f":"DH20&DI20&DJ20","v":""},{"$f":"IF(DK20=\"\",LEFT(AS$17,LEN(AS$17)-1),DK20)","v":"15"},{"$f":"DG20*DL20","v":0},{"$f":"IF(SEARCH(\"/\",AW20&\"/\",1)<=LEN(AW20),1,\"\")","v":""},{"$f":"IF(SEARCH(\"(\",AW20&\"(\",1)<=LEN(AW20),1,\"\")","v":""},{"$f":"IF(SEARCH(\"周\",AW20&\"周\",1)<=LEN(AW20),1,\"\")","v":""},{"$f":"IF(AND(DN20<>1,DO20<>1,DP20<>1,LEN(AW20)>2),1,\"\")","v":""},{"$f":"IF(AND(DN20=1,LEFT(AW20,1)=\"/\"),1,\"\")","v":""},{"$f":"IF(DR20=1,RIGHT(AW20,LEN(AW20)-1),\"\")","v":""},{"$f":"IF(AND(DN20=1,DR20=\"\"),LEFT(AW20,LEN(AW20)-1),\"\")","v":""},{"$f":"DS20&DT20","v":""},{"$f":"IF(DU20<>\"\",LEFT(DU20,1),\"\")","v":""},{"$f":"IF(DO20=1,MID(AW20,2,1),\"\")","v":""},{"$f":"IF(DP20=1,26,\"\")","v":""},{"$f":"IF(DQ20=1,LEFT(AW20,1),\"\")","v":""},{"$f":"DV20&DW20&DX20&DY20","v":""},{"$f":"IF(DZ20=\"\",AW20,DZ20)","v":0},{"$f":"IF(DU20=\"\",DU20,RIGHT(DU20,LEN(DU20)-2))","v":""},{"$f":"IF(DQ20=1,RIGHT(AW20,LEN(AW20)-2),\"\")","v":""},{"$f":"IF(DP20=1,LEFT(AW20,LEN(AW20)-1),\"\")","v":""},{"$f":"EB20&EC20&ED20","v":""},{"$f":"IF(EE20=\"\",LEFT(AW$17,LEN(AW$17)-1),EE20)","v":"18"},{"$f":"EA20*EF20","v":0},null,"","","","","","","","","","","","","",0,"","","","","18",0,null,"","","","","","","","","","","","","",0,"","","","","17",0,null,null,null,null,null,null,null,null,null,null,null,null,null,null,null,null,null,null,null,null,null,null,null,null,null,null,null,null,null,null,null,null,null,null,null,null,null,null,null,null,null,null,null,"",0,0,0,0,0,0,0,0,0,null,null,null,null,null,null,0,0,null,0,0,0,0,0,null,0,0,null,0,0,0,0,0,null,0,0,null,0,0,0,0,0,null,0,0,null,0,0,0,0,0,null,0,0,null,0,0,0,0,0,null,null,0,null,0,null,0,null,0,null,0,null,{"$f":"aaa","v":0},{"$f":"bbb","v":0},{"$f":"ccc","v":0},{"$f":"dddd","v":0},null,{"$f":"aaa","v":0},{"$f":"bbb","v":0},{"$f":"ccc","v":0},{"$f":"dddd","v":0},{"$f":"eee","v":0},{"$f":"fff","v":0},"","","","",null,null,"","","","","","","",0,"","","","","","","","","","","","","","","","","","","","","","","","",0,"","","","","","","","","","","","","","","","","",0,0,0,0,0,0,0,0,0,0,0,"","","0",0,0,0,null,null,0,0,null,null,0,0,0,0,"","","0",0,0,0,0,null,0,0,0,0,"","","0",0,0,0,0,null,0,0,0,0,"","","0",0,0,0,0,null,0,0,0,0,"","","0",0,0,0,0,0,0,0,0,"","","0",0,0,0,0,null,0,0,0,0,"","","0",0,0,0,0,null,null,null,null,null,null,0,null,null,null,"CAD中级"]
[null,null,null,null,null,{"$f":"IF(教学计划表!N21<>\"\",序号!C5,\"\")","v":""},null,null,{"$f":"IF(课程名称及编码!P5<>\"\",课程名称及编码!P5,\"\")","v":""},null,null,null,null,null,null,null,null,null,null,null,null,null,null,null,null,null,null,"",null,null,"",null,null,"",null,null,"",null,null,null,null,null,{"$f":"IF(NR21<>0,NR21,\"\")","v":""},null,null,null,null,null,null,null,null,null,null,null,null,null,null,null,null,null,null,null,null,null,null,null,null,null,0,0,null,null,null,null,null,null,null,null,null,null,null,null,null,null,null,null,null,null,null,null,null,null,null,null,null,null,null,"","","","","","","","","","","","","",0,"","","","","15",0,"","","","","","","","","","","","","",0,"","","","","18",0,null,"","","","","","","","","","","","","",0,"","","","","18",0,null,"","","","","","","","","","","","","",0,"","","","","17",0,null,null,null,null,null,null,null,null,null,null,null,null,null,null,null,null,null,null,null,null,null,null,null,null,null,null,null,null,null,null,null,null,null,null,null,null,null,null,null,null,null,null,null,"",0,0,0,0,0,0,0,0,0,null,null,null,null,null,null,0,0,null,0,0,0,0,0,null,0,0,null,0,0,0,0,0,null,0,0,null,0,0,0,0,0,null,0,0,null,0,0,0,0,0,null,0,0,null,0,0,0,0,0,null,null,0,null,0,null,0,null,0,null,0,null,{"$f":"aaa","v":0},{"$f":"bbb","v":0},{"$f":"ccc","v":0},{"$f":"dddd","v":0},null,{"$f":"aaa","v":0},{"$f":"bbb","v":0},{"$f":"ccc","v":0},{"$f":"dddd","v":0},{"$f":"eee","v":0},{"$f":"fff","v":0},"","","","",null,null,"","","","","","","",0,"","","","","","","","","","","","","","","","","","","","","","","","",0,"","","","","","","","","","","","","","","","","",0,0,0,0,0,0,0,0,0,0,0,"","","0",0,0,0,null,null,0,0,null,null,0,0,0,0,"","","0",0,0,0,0,null,0,0,0,0,"","","0",0,0,0,0,null,0,0,0,0,"","","0",0,0,0,0,null,0,0,0,0,"","","0",0,0,0,0,0,0,0,0,"","","0",0,0,0,0,null,0,0,0,0,"","","0",0,0,0,0,null,null,null,null,null,null,0,null,null,null,"报关员"]
[null,null,null,null,null,{"$f":"IF(教学计划表!N22<>\"\",序号!C6,\"\")","v":""},null,null,{"$f":"IF(课程名称及编码!P6<>\"\",课程名称及编码!P6,\"\")","v":""},null,null,null,null,null,null,null,null,null,null,null,null,null,null,null,null,null,null,"",null,null,"",null,null,"",null,null,"",null,null,null,null,null,"",null,null,null,null,null,null,null,null,null,null,null,null,null,null,null,null,null,null,null,null,null,null,null,null,null,0,0,null,null,null,null,null,null,null,null,null,null,null,null,null,null,null,null,null,null,null,null,null,null,null,null,null,null,null,"","","","","","","","","","","","","",0,"","","","","15",0,"","","","","","","","","","","","","",0,"","","","","18",0,null,"","","","","","","","","","","","","",0,"","","","","18",0,null,"","","","","","","","","","","","","",0,"","","","","17",0,null,null,null,null,null,null,null,null,null,null,null,null,null,null,null,null,null,null,null,null,null,null,null,null,null,null,null,null,null,null,null,null,null,null,null,null,null,null,null,null,null,null,null,"",0,0,0,0,0,0,0,0,0,null,null,null,null,null,null,0,0,null,0,0,0,0,0,null,0,0,null,0,0,0,0,0,null,0,0,null,0,0,0,0,0,null,0,0,null,0,0,0,0,0,null,0,0,null,0,0,0,0,0,null,null,0,null,0,null,0,null,0,null,0,null,{"$f":"aaa","v":0},{"$f":"bbb","v":0},{"$f":"ccc","v":0},{"$f":"dddd","v":0},null,{"$f":"aaa","v":0},{"$f":"bbb","v":0},{"$f":"ccc","v":0},{"$f":"dddd","v":0},{"$f":"eee","v":0},{"$f":"fff","v":0},"","","","",null,null,"","","","","","","",0,"","","","","","","","","","","","","","","","","","","","","","","","",0,"","","","","","","","","","","","","","","","","",0,0,0,0,0,0,0,0,0,0,0,"","","0",0,0,0,null,null,0,0,null,null,0,0,0,0,"","","0",0,0,0,0,null,0,0,0,0,"","","0",0,0,0,0,null,0,0,0,0,"","","0",0,0,0,0,null,0,0,0,0,"","","0",0,0,0,0,0,0,0,0,"","","0",0,0,0,0,null,0,0,0,0,"","","0",0,0,0,0,null,null,null,null,null,2,0,null,null,null,"国际商务单证员"]
[null,null,null,null,null,{"$f":"IF(教学计划表!N23<>\"\",序号!C7,\"\")","v":""},null,null,{"$f":"IF(课程名称及编码!P7<>\"\",课程名称及编码!P7,\"\")","v":""},null,null,null,null,null,null,null,null,null,null,null,null,null,null,null,null,null,null,"",null,null,"",null,null,"",null,null,"",null,null,null,null,null,"",null,null,null,null,null,null,null,null,null,null,null,null,null,null,null,null,null,null,null,null,null,null,null,null,null,0,0,null,null,null,null,null,null,null,null,null,null,null,null,null,null,null,null,null,null,null,null,null,null,null,null,null,null,null,"","","","","","","","","","","","","",0,"","","","","15",0,"","","","","","","","","","","","","",0,"","","","","18",0,null,"","","","","","","","","","","","","",0,"","","","","18",0,null,"","","","","","","","","","","","","",0,"","","","","17",0,null,null,null,null,null,null,null,null,null,null,null,null,null,null,null,null,null,null,null,null,null,null,null,null,null,null,null,null,null,null,null,null,null,null,null,null,null,null,null,null,null,null,null,"",0,0,0,0,0,0,0,0,0,null,null,null,null,null,null,0,0,null,0,0,0,0,0,null,0,0,null,0,0,0,0,0,null,0,0,null,0,0,0,0,0,null,0,0,null,0,0,0,0,0,null,0,0,null,0,0,0,0,0,null,null,0,null,0,null,0,null,0,null,0,null,{"$f":"aaa","v":0},{"$f":"bbb","v":0},{"$f":"ccc","v":0},{"$f":"dddd","v":0},null,{"$f":"aaa","v":0},{"$f":"bbb","v":0},{"$f":"ccc","v":0},{"$f":"dddd","v":0},{"$f":"eee","v":0},{"$f":"fff","v":0},"","","","",null,null,"","","","","","","",0,"","","","","","","","","","","","","","","","","","","","","","","","",0,"","","","","","","","","","","","","","","","","",0,0,0,0,0,0,0,0,0,0,0,"","","0",0,0,0,null,null,0,0,null,null,0,0,0,0,"","","0",0,0,0,0,null,0,0,0,0,"","","0",0,0,0,0,null,0,0,0,0,"","","0",0,0,0,0,null,0,0,0,0,"","","0",0,0,0,0,0,0,0,0,"","","0",0,0,0,0,null,0,0,0,0,"","","0",0,0,0,0,null,null,null,null,null,4,0,null,null,null,"国际商务英语中级"]
[null,null,null,null,null,{"$f":"IF(教学计划表!N24<>\"\",序号!C8,\"\")","v":""},null,null,{"$f":"IF(课程名称及编码!P8<>\"\",课程名称及编码!P8,\"\")","v":""},null,null,null,null,null,null,null,null,null,null,null,null,null,null,null,null,null,null,"",null,null,"",null,null,"",null,null,"",null,null,null,null,null,"",null,null,null,null,null,null,null,null,null,null,null,null,null,null,null,null,null,null,null,null,null,null,null,null,null,0,0,null,null,null,null,null,null,null,null,null,null,null,null,null,null,null,null,null,null,null,null,null,null,null,null,null,null,null,"","","","","","","","","","","","","",0,"","","","","15",0,"","","","","","","","","","","","","",0,"","","","","18",0,null,"","","","","","","","","","","","","",0,"","","","","18",0,null,"","","","","","","","","","","","","",0,"","","","","17",0,null,null,null,null,null,null,null,null,null,null,null,null,null,null,null,null,null,null,null,null,null,null,null,null,null,null,null,null,null,null,null,null,null,null,null,null,null,null,null,null,null,null,null,"",0,0,0,0,0,0,0,0,0,null,null,null,null,null,null,0,0,null,0,0,0,0,0,null,0,0,null,0,0,0,0,0,null,0,0,null,0,0,0,0,0,null,0,0,null,0,0,0,0,0,null,0,0,null,0,0,0,0,0,null,null,0,null,0,null,0,null,0,null,0,null,{"$f":"aaa","v":0},{"$f":"bbb","v":0},{"$f":"ccc","v":0},{"$f":"dddd","v":0},null,{"$f":"aaa","v":0},{"$f":"bbb","v":0},{"$f":"ccc","v":0},{"$f":"dddd","v":0},{"$f":"eee","v":0},{"$f":"fff","v":0},"","","","",null,null,"","","","","","","",0,"","","","","","","","","","","","","","","","","","","","","","","","",0,"","","","","","","","","","","","","","","","","",0,0,0,0,0,0,0,0,0,0,0,"","","0",0,0,0,null,null,0,0,null,null,0,0,0,0,"","","0",0,0,0,0,null,0,0,0,0,"","","0",0,0,0,0,null,0,0,0,0,"","","0",0,0,0,0,null,0,0,0,0,"","","0",0,0,0,0,0,0,0,0,"","","0",0,0,0,0,null,0,0,0,0,"","","0",0,0,0,0,null,null,null,null,null,6,0,null,null,null,"化工检修钳工"]
[null,null,null,null,null,{"$f":"IF(教学计划表!N25<>\"\",序号!C9,\"\")","v":""},null,null,{"$f":"IF(课程名称及编码!P9<>\"\",课程名称及编码!P9,\"\")","v":""},null,null,null,null,null,null,null,null,null,null,null,null,null,null,null,null,null,null,"",null,null,"",null,null,"",null,null,{"$f":"IF(HX25<>0,HX25,IF(AH25=\"\",\"\",0))","v":""},null,null,null,null,null,"",null,null,null,null,null,null,null,null,null,null,null,null,null,null,null,null,null,null,null,null,null,null,null,null,null,0,0,null,null,null,null,null,null,null,null,null,null,null,null,null,null,null,null,null,null,null,null,null,null,null,null,null,null,null,"","","","","","","","","","","","","",0,"","","","","15",0,"","","","","","","","","","","","","",0,"","","","","18",0,null,"","","","","","","","","","","","","",0,"","","","","18",0,null,"","","","","","","","","","","","","",0,"","","","","17",0,null,null,null,null,null,null,null,null,null,null,null,null,null,null,null,null,null,null,null,null,null,null,null,null,null,null,null,null,null,null,null,null,null,null,null,null,null,null,null,null,null,null,null,"",0,0,0,0,0,0,0,0,0,null,null,null,null,null,null,0,0,null,0,0,0,0,0,null,0,0,null,0,0,0,0,0,null,0,0,null,0,0,0,0,0,null,0,0,null,0,0,0,0,0,null,0,0,null,0,0,0,0,0,null,null,0,null,0,null,0,null,0,null,0,null,{"$f":"aaa","v":0},{"$f":"bbb","v":0},{"$f":"ccc","v":0},{"$f":"dddd","v":0},null,{"$f":"aaa","v":0},{"$f":"bbb","v":0},{"$f":"ccc","v":0},{"$f":"dddd","v":0},{"$f":"eee","v":0},{"$f":"fff","v":0},"","","","",null,null,"","","","","","","",0,"","","","","","","","","","","","","","","","","","","","","","","","",0,"","","","","","","","","","","","","","","","","",0,0,0,0,0,0,0,0,0,0,0,"","","0",0,0,0,null,null,0,0,null,null,0,0,0,0,"","","0",0,0,0,0,null,0,0,0,0,"","","0",0,0,0,0,null,0,0,0,0,"","","0",0,0,0,0,null,0,0,0,0,"","","0",0,0,0,0,0,0,0,0,"","","0",0,0,0,0,null,0,0,0,0,"","","0",0,0,0,0,null,null,null,null,null,8,0,null,null,null,"化工总控工高级"]
[null,null,null,null,null,{"$f":"IF(教学计划表!N26<>\"\",序号!C10,\"\")","v":""},null,null,{"$f":"IF(课程名称及编码!P10<>\"\",课程名称及编码!P10,\"\")","v":""},null,null,null,null,null,null,null,null,null,null,null,null,null,null,null,null,null,null,"",null,null,"",null,null,"",null,null,"",null,null,null,null,null,"",null,null,null,null,null,null,null,null,null,null,null,null,null,null,null,null,null,null,null,null,null,null,null,null,null,0,0,null,null,null,null,null,null,null,null,null,null,null,null,null,null,null,null,null,null,null,null,null,null,null,null,null,null,null,"","","","","","","","","","","","","",0,"","","","","15",0,"","","","","","","","","","","","","",0,"","","","","18",0,null,"","","","","","","","","","","","","",0,"","","","","18",0,null,"","","","","","","","","","","","","",0,"","","","","17",0,null,null,null,null,null,null,null,null,null,null,null,null,null,null,null,null,null,null,null,null,null,null,null,null,null,null,null,null,null,null,null,null,null,null,null,null,null,null,null,null,null,null,null,"",0,0,0,0,0,0,0,0,0,null,null,null,null,null,null,0,0,null,0,0,0,0,0,null,0,0,null,0,0,0,0,0,null,0,0,null,0,0,0,0,0,null,0,0,null,0,0,0,0,0,null,0,0,null,0,0,0,0,0,null,null,0,null,0,null,0,null,0,null,0,null,{"$f":"aaa","v":0},{"$f":"bbb","v":0},{"$f":"ccc","v":0},{"$f":"dddd","v":0},null,{"$f":"aaa","v":0},{"$f":"bbb","v":0},{"$f":"ccc","v":0},{"$f":"dddd","v":0},{"$f":"eee","v":0},{"$f":"fff","v":0},"","","","",null,null,"","","","","","","",0,"","","","","","","","","","","","","","","","","","","","","","","","",0,"","","","","","","","","","","","","","","","","",0,0,0,0,0,0,0,0,0,0,0,"","","0",0,0,0,null,null,0,0,null,null,0,0,0,0,"","","0",0,0,0,0,null,0,0,0,0,"","","0",0,0,0,0,null,0,0,0,0,"","","0",0,0,0,0,null,0,0,0,0,"","","0",0,0,0,0,0,0,0,0,"","","0",0,0,0,0,null,0,0,0,0,"","","0",0,0,0,0,null,null,null,null,null,10,0,null,null,null,"化学检验工高级"]
[null,null,null,"限\n定\n选\n修\n课\n程",null,{"$f":"IF(教学计划表!N27<>\"\",序号!C11,\"\")","v":""},null,null,{"$f":"IF(课程名称及编码!P11<>\"\",课程名称及编码!P11,\"\")","v":""},null,null,null,null,null,null,null,null,null,null,null,null,null,null,null,null,null,null,"",null,null,"",null,null,"",null,null,"",null,null,null,null,null,"",null,null,null,null,null,null,null,null,null,null,null,null,null,null,null,null,null,null,null,null,null,null,null,null,null,0,0,null,null,null,null,null,null,null,null,null,null,null,null,null,null,null,null,null,null,null,null,null,null,null,null,null,null,null,"","","","","","","","","","","","","",0,"","","","","15",0,"","","","","","","","","","","","","",0,"","","","","18",0,null,"","","","","","","","","","","","","",0,"","","","","18",0,null,"","","","","","","","","","","","","",0,"","","","","17",0,null,null,null,null,null,null,null,null,null,null,null,null,null,null,null,null,null,null,null,null,null,null,null,null,null,null,null,null,null,null,null,null,null,null,null,null,null,null,null,null,null,null,null,"",0,0,0,0,0,0,0,0,0,null,null,null,null,null,null,0,0,null,0,0,0,0,0,null,0,0,null,0,0,0,0,0,null,0,0,null,0,0,0,0,0,null,0,0,null,0,0,0,0,0,null,0,0,null,0,0,0,0,0,null,null,0,null,0,null,0,null,0,null,0,null,{"$f":"aaa","v":0},{"$f":"bbb","v":0},{"$f":"ccc","v":0},{"$f":"dddd","v":0},null,{"$f":"aaa","v":0},{"$f":"bbb","v":0},{"$f":"ccc","v":0},{"$f":"dddd","v":0},{"$f":"eee","v":0},{"$f":"fff","v":0},"","","","",null,null,"","","","","","","",0,"","","","","","","","","","","","","","","","","","","","","","","","",0,"","","","","","","","","","","","","","","","","",0,0,0,0,0,0,0,0,0,0,0,"","","0",0,0,0,null,null,0,0,null,null,0,0,0,0,"","","0",0,0,0,0,null,0,0,0,0,"","","0",0,0,0,0,null,0,0,0,0,"","","0",0,0,0,0,null,0,0,0,0,"","","0",0,0,0,0,0,0,0,0,"","","0",0,0,0,0,null,0,0,0,0,"","","0",0,0,0,0,null,null,null,null,null,"2*4",0,null,null,null,"机械设备安装工"]
[null,null,null,null,null,{"$f":"IF(教学计划表!N28<>\"\",序号!C12,\"\")","v":""},null,null,{"$f":"IF(课程名称及编码!P12<>\"\",课程名称及编码!P12,\"\")","v":""},null,null,null,null,null,null,null,null,null,null,null,null,null,null,null,null,null,null,"",null,null,"",null,null,"",null,null,"",null,null,null,null,null,"",null,null,null,null,null,null,null,null,null,null,null,null,null,null,null,null,null,null,null,null,null,null,null,null,null,0,0,null,null,null,null,null,null,null,null,null,null,null,null,null,null,null,null,null,null,null,null,null,null,null,null,null,null,null,"","","","","","","","","","","","","",0,"","","","","15",0,"","","","","","","","","","","","","",0,"","","","","18",0,null,"","","","","","","","","","","","","",0,"","","","","18",0,null,"","","","","","","","","","","","","",0,"","","","","17",0,null,null,null,null,null,null,null,null,null,null,null,null,null,null,null,null,null,null,null,null,null,null,null,null,null,null,null,null,null,null,null,null,null,null,null,null,null,null,null,null,null,null,null,"",0,0,0,0,0,0,0,0,0,null,null,null,null,null,null,0,0,null,0,0,0,0,0,null,0,0,null,0,0,0,0,0,null,0,0,null,0,0,0,0,0,null,0,0,null,0,0,0,0,0,null,0,0,null,0,0,0,0,0,null,null,0,null,0,null,0,null,0,null,0,null,{"$f":"aaa","v":0},{"$f":"bbb","v":0},{"$f":"ccc","v":0},{"$f":"dddd","v":0},null,{"$f":"aaa","v":0},{"$f":"bbb","v":0},{"$f":"ccc","v":0},{"$f":"dddd","v":0},{"$f":"eee","v":0},{"$f":"fff","v":0},"","","","",null,null,"","","","","","","",0,"","","","","","","","","","","","","","","","","","","","","","","","",0,"","","","","","","","","","","","","","","","","",0,0,0,0,0,0,0,0,0,0,0,"","","0",0,0,0,null,null,0,0,null,null,0,0,0,0,"","","0",0,0,0,0,null,0,0,0,0,"","","0",0,0,0,0,null,0,0,0,0,"","","0",0,0,0,0,null,0,0,0,0,"","","0",0,0,0,0,0,0,0,0,"","","0",0,0,0,0,null,0,0,0,0,"","","0",0,0,0,0,null,null,null,null,null,"2*6",0,null,null,null,"聚合工高级"]
[null,null,null,null,null,{"$f":"IF(教学计划表!N29<>\"\",序号!C13,\"\")","v":""},null,null,{"$f":"IF(课程名称及编码!P13<>\"\",课程名称及编码!P13,\"\")","v":""},null,null,null,null,null,null,null,null,null,null,null,null,null,null,null,null,null,null,"",null,null,"",null,null,"",null,null,"",null,null,null,null,null,"",null,null,null,null,null,null,null,null,null,null,null,null,null,null,null,null,null,null,null,null,null,null,null,null,null,0,0,null,null,null,null,null,null,null,null,null,null,null,null,null,null,null,null,null,null,null,null,null,null,null,null,null,null,null,"","","","","","","","","","","","","",0,"","","","","15",0,"","","","","","","","","","","","","",0,"","","","","18",0,null,"","","","","","","","","","","","","",0,"","","","","18",0,null,"","","","","","","","","","","","","",0,"","","","","17",0,null,null,null,null,null,null,null,null,null,null,null,null,null,null,null,null,null,null,null,null,null,null,null,null,null,null,null,null,null,null,null,null,null,null,null,null,null,null,null,null,null,null,null,"",0,0,0,0,0,0,0,0,0,null,null,null,null,null,null,0,0,null,0,0,0,0,0,null,0,0,null,0,0,0,0,0,null,0,0,null,0,0,0,0,0,null,0,0,null,0,0,0,0,0,null,0,0,null,0,0,0,0,0,null,null,0,null,0,null,0,null,0,null,0,null,{"$f":"aaa","v":0},{"$f":"bbb","v":0},{"$f":"ccc","v":0},{"$f":"dddd","v":0},null,{"$f":"aaa","v":0},{"$f":"bbb","v":0},{"$f":"ccc","v":0},{"$f":"dddd","v":0},{"$f":"eee","v":0},{"$f":"fff","v":0},"","","","",null,null,"","","","","","","",0,"","","","","","","","","","","","","","","","","","","","","","","","",0,"","","","","","","","","","","","","","","","","",0,0,0,0,0,0,0,0,0,0,0,"","","0",0,0,0,null,null,0,0,null,null,0,0,0,0,"","","0",0,0,0,0,null,0,0,0,0,"","","0",0,0,0,0,null,0,0,0,0,"","","0",0,0,0,0,null,0,0,0,0,"","","0",0,0,0,0,0,0,0,0,"","","0",0,0,0,0,null,0,0,0,0,"","","0",0,0,0,0,null,null,null,null,null,"2*7",0,null,null,null,"全国国际商务英语一级"]
[null,null,null,null,null,{"$f":"IF(教学计划表!N30<>\"\",序号!C14,\"\")","v":""},null,null,{"$f":"IF(课程名称及编码!P14<>\"\",课程名称及编码!P14,\"\")","v":""},null,null,null,null,null,null,null,null,null,null,null,null,null,null,null,null,null,null,"",null,null,"",null,null,"",null,null,"",null,null,null,null,null,"",null,null,null,null,null,null,null,null,null,null,null,null,null,null,null,null,null,null,null,null,null,null,null,null,null,0,0,null,null,null,null,null,null,null,null,null,null,null,null,null,null,null,null,null,null,null,null,null,null,null,null,null,null,null,"","","","","","","","","","","","","",0,"","","","","15",0,"","","","","","","","","","","","","",0,"","","","","18",0,null,"","","","","","","","","","","","","",0,"","","","","18",0,null,"","","","","","","","","","","","","",0,"","","","","17",0,null,null,null,null,null,null,null,null,null,null,null,null,null,null,null,null,null,null,null,null,null,null,null,null,null,null,null,null,null,null,null,null,null,null,null,null,null,null,null,null,null,null,null,"",0,0,0,0,0,0,0,0,0,null,null,null,null,null,null,0,0,null,0,0,0,0,0,null,0,0,null,0,0,0,0,0,null,0,0,null,0,0,0,0,0,null,0,0,null,0,0,0,0,0,null,0,0,null,0,0,0,0,0,null,null,0,null,0,null,0,null,0,null,0,null,{"$f":"aaa","v":0},{"$f":"bbb","v":0},{"$f":"ccc","v":0},{"$f":"dddd","v":0},null,{"$f":"aaa","v":0},{"$f":"bbb","v":0},{"$f":"ccc","v":0},{"$f":"dddd","v":0},{"$f":"eee","v":0},{"$f":"fff","v":0},"","","","",null,null,"","","","","","","",0,"","","","","","","","","","","","","","","","","","","","","","","","",0,"","","","","","","","","","","","","","","","","",0,0,0,0,0,0,0,0,0,0,0,"","","0",0,0,0,null,null,0,0,null,null,0,0,0,0,"","","0",0,0,0,0,null,0,0,0,0,"","","0",0,0,0,0,null,0,0,0,0,"","","0",0,0,0,0,null,0,0,0,0,"","","0",0,0,0,0,0,0,0,0,"","","0",0,0,0,0,null,0,0,0,0,"","","0",0,0,0,0,null,null,null,null,null,"2*8",0,null,null,null,"燃料油生产工"]
[null,null,null,null,null,{"$f":"IF(教学计划表!N31<>\"\",序号!C15,\"\")","v":""},null,null,{"$f":"IF(课程名称及编码!P15<>\"\",课程名称及编码!P15,\"\")","v":""},null,null,null,null,null,null,null,null,null,null,null,null,null,null,null,null,null,null,"",null,null,"",null,null,"",null,null,"",null,null,null,null,null,"",null,null,null,null,null,null,null,null,null,null,null,null,null,null,null,null,null,null,null,null,null,null,null,null,null,0,0,null,null,null,null,null,null,null,null,null,null,null,null,null,null,null,null,null,null,null,null,null,null,null,null,null,null,null,"","","","","","","","","","","","","",0,"","","","","15",0,"","","","","","","","","","","","","",0,"","","","","18",0,null,"","","","","","","","","","","","","",0,"","","","","18",0,null,"","","","","","","","","","","","","",0,"","","","","17",0,null,null,null,null,null,null,null,null,null,null,null,null,null,null,null,null,null,null,null,null,null,null,null,null,null,null,null,null,null,null,null,null,null,null,null,null,null,null,null,null,null,null,null,"",0,0,0,0,0,0,0,0,0,null,null,null,null,null,null,0,0,null,0,0,0,0,0,null,0,0,null,0,0,0,0,0,null,0,0,null,0,0,0,0,0,null,0,0,null,0,0,0,0,0,null,0,0,null,0,0,0,0,0,null,null,0,null,0,null,0,null,0,null,0,null,{"$f":"aaa","v":0},{"$f":"bbb","v":0},{"$f":"ccc","v":0},{"$f":"dddd","v":0},null,{"$f":"aaa","v":0},{"$f":"bbb","v":0},{"$f":"ccc","v":0},{"$f":"dddd","v":0},{"$f":"eee","v":0},{"$f":"fff","v":0},"","","","",null,null,"","","","","","","",0,"","","","","","","","","","","","","","","","","","","","","","","","",0,"","","","","","","","","","","","","","","","","",0,0,0,0,0,0,0,0,0,0,0,"","","0",0,0,0,null,null,0,0,null,null,0,0,0,0,"","","0",0,0,0,0,null,0,0,0,0,"","","0",0,0,0,0,null,0,0,0,0,"","","0",0,0,0,0,null,0,0,0,0,"","","0",0,0,0,0,0,0,0,0,"","","0",0,0,0,0,null,0,0,0,0,"","","0",0,0,0,0,null,null,null,null,null,"2*9",0,null,null,null,"数控车床操作工"]
[null,null,null,null,null,{"$f":"IF(教学计划表!N32<>\"\",序号!C16,\"\")","v":""},null,null,{"$f":"IF(课程名称及编码!P16<>\"\",课程名称及编码!P16,\"\")","v":""},null,null,null,null,null,null,null,null,null,null,null,null,null,null,null,null,null,null,"",null,null,"",null,null,"",null,null,"",null,null,null,null,null,"",null,null,null,null,null,null,null,null,null,null,null,null,null,null,null,null,null,null,null,null,null,null,null,null,null,0,0,null,null,null,null,null,null,null,null,null,null,null,null,null,null,null,null,null,null,null,null,null,null,null,null,null,null,null,"","","","","","","","","","","","","",0,"","","","","15",0,"","","","","","","","","","","","","",0,"","","","","18",0,null,"","","","","","","","","","","","","",0,"","","","","18",0,null,"","","","","","","","","","","","","",0,"","","","","17",0,null,null,null,null,null,null,null,null,null,null,null,null,null,null,null,null,null,null,null,null,null,null,null,null,null,null,null,null,null,null,null,null,null,null,null,null,null,null,null,null,null,null,null,{"$f":"IF(OR(CU32=1,DO32=1,EJ32=1,FE32=1,FZ32=1,GU32=1),1,\"\")","v":""},{"$f":"SUM(DM32,EG32,FB32,FW32,GR32,HM32)","v":0},{"$f":"IF(HO32=\"\",HP32,\"(\"&HP32&\")\")","v":0},{"$f":"IFERROR(HQ32,\"\")","v":0},{"$f":"AN32","v":0},{"$f":"IF(AND(HO32=1,AN32<>\"\"),RIGHT(HS32,LEN(HS32)-1),HS32)","v":0},{"$f":"IF(AND(HO32=1,AN32<>\"\"),LEFT(HT32,LEN(HT32)-1),HT32)","v":0},{"$f":"HP32-HU32","v":0},{"$f":"IF(HO32=1,\"(\"&HV32&\")\",HV32)","v":0},{"$f":"IFERROR(HW32,\"\")","v":0},null,null,null,null,null,null,{"$f":"IF(DG32=\"26\",0,DG32)","v":0},{"$f":"IF(CU32=1,0,IE32)","v":0},null,0,0,0,0,0,null,{"$f":"IF(EA32=\"26\",0,EA32)","v":0},0,null,0,0,0,0,0,null,{"$f":"IF(EV32=\"26\",0,EV32)","v":0},0,null,0,0,0,0,0,null,{"$f":"IF(FQ32=\"26\",0,FQ32)","v":0},0,null,0,0,0,0,0,null,{"$f":"IF(GL32=\"26\",0,GL32)","v":0},0,null,0,0,0,0,0,null,null,{"$f":"IF(IF32<>0,1,0)","v":0},null,{"$f":"IF(IO32<>0,1,0)","v":0},null,{"$f":"IF(IX32<>0,1,0)","v":0},null,0,null,0,null,{"$f":"aaa","v":0},{"$f":"bbb","v":0},{"$f":"ccc","v":0},{"$f":"dddd","v":0},null,{"$f":"aaa","v":0},{"$f":"bbb","v":0},{"$f":"ccc","v":0},{"$f":"dddd","v":0},{"$f":"eee","v":0},{"$f":"fff","v":0},"","","","",null,null,{"$f":"IF(AND(KN32<>0,KT32=1),1,\"\")","v":""},{"$f":"IF(AND(KO32<>0,KU32=1),2,\"\")","v":""},{"$f":"IF(AND(KP32<>0,KV32=1),3,\"\")","v":""},{"$f":"IF(AND(KQ32<>0,KW32=1),4,\"\")","v":""},{"$f":"IF(AND(KR32<>0,KX32=1),5,\"\")","v":""},{"$f":"IF(AND(KS32<>0,KY32=1),6,\"\")","v":""},{"$f":"CONCATENATE(KZ32,LA32,LB32,LC32,LD32,LE32)","v":""},{"$f":"LEN(LF32)","v":0},{"$f":"IF(LG32=1,CONCATENATE(KZ32,LA32,LB32,LC32,LD32,LE32),\"\")","v":""},{"$f":"IF(LG32=2,LF32,\"\")","v":""},{"$f":"IF(LI32<>\"\",LEFT(LI32,1),\"\")","v":""},{"$f":"IF(LI32<>\"\",RIGHT(LI32,1),\"\")","v":""},{"$f":"IF(LI32<>\"\",LJ32&\",\"&LK32,\"\")","v":""},{"$f":"IF(LG32=3,LF32,\"\")","v":""},{"$f":"IF(LM32<>\"\",LEFT(LM32,1),\"\")","v":""},{"$f":"IF(LM32<>\"\",MID(LM32,2,1),\"\")","v":""},{"$f":"IF(LM32<>\"\",RIGHT(LM32,1),\"\")","v":""},{"$f":"IF(LM32<>\"\",LN32&\",\"&LO32&\",\"&LP32,\"\")","v":""},{"$f":"IF(LG32=4,LF32,\"\")","v":""},{"$f":"IF(LR32<>\"\",LEFT(LR32,1),\"\")","v":""},{"$f":"IF(LR32<>\"\",MID(LR32,2,1),\"\")","v":""},{"$f":"IF(LR32<>\"\",MID(LR32,3,1),\"\")","v":""},{"$f":"IF(LR32<>\"\",RIGHT(LR32,1),\"\")","v":""},{"$f":"IF(LR32<>\"\",LS32&\",\"&LT32&\",\"&LU32&\",\"&LV32,\"\")","v":""},{"$f":"LH32&LL32&LQ32&LW32","v":""},{"$f":"IF(AND(KT32=1,KZ32=\"\"),1,\"\")","v":""},{"$f":"IF(AND(KU32=1,LA32=\"\"),2,\"\")","v":""},{"$f":"IF(AND(KV32=1,LB32=\"\"),3,\"\")","v":""},{"$f":"IF(AND(KW32=1,LC32=\"\"),4,\"\")","v":""},{"$f":"IF(AND(KX32=1,LD32=\"\"),5,\"\")","v":""},{"$f":"IF(AND(KY32=1,LE32=\"\"),6,\"\")","v":""},{"$f":"CONCATENATE(LY32,LZ32,MA32,MB32,MC32,MD32)","v":""},{"$f":"LEN(ME32)","v":0},{"$f":"IF(MF32=1,ME32,\"\")","v":""},"",{"$f":"IF(MH32<>\"\",LEFT(ME32,1),\"\")","v":""},{"$f":"IF(MH32<>\"\",RIGHT(ME32,1),\"\")","v":""},{"$f":"IF(MH32<>\"\",MI32&\",\"&MJ32,\"\")","v":""},{"$f":"IF(MF32=3,ME32,\"\")","v":""},{"$f":"IF(ML32<>\"\",LEFT(ML32,1),\"\")","v":""},{"$f":"IF(ML32<>\"\",MID(ML32,2,1),\"\")","v":""},{"$f":"IF(ML32<>\"\",RIGHT(ML32,1),\"\")","v":""},{"$f":"IF(ML32<>\"\",MM32&\",\"&MN32&\",\"&MO32,\"\")","v":""},{"$f":"IF(MF32=4,ME32,\"\")","v":""},{"$f":"IF(MQ32<>\"\",LEFT(MQ32,1),\"\")","v":""},{"$f":"IF(MQ32<>\"\",MID(MQ32,2,1),\"\")","v":""},{"$f":"IF(MQ32<>\"\",MID(MQ32,3,1),\"\")","v":""},{"$f":"IF(MQ32<>\"\",RIGHT(MQ32,1),\"\")","v":""},{"$f":"IF(MQ32<>\"\",MR32&\",\"&MS32&\",\"&MT32&\",\"&MU32,\"\")","v":""},{"$f":"CONCATENATE(MG32,MK32,MP32,MV32)","v":""},{"$f":"IF(CV32=1,DJ32,0)","v":0},{"$f":"IF(DP32=1,ED32,0)","v":0},{"$f":"IF(EK32=1,EY32,0)","v":0},{"$f":"IF(FF32=1,FT32,0)","v":0},{"$f":"IF(GA32=1,GO32,0)","v":0},{"$f":"IF(GV32=1,HJ32,0)","v":0},{"$f":"MX32+MY32+MZ32+NA32+NB32+NC32","v":0},0,{"$f":"INT(NE32)","v":0},{"$f":"NE32-NF32","v":0},{"$f":"IF(NG32<0.35,0,\"\")","v":0},{"$f":"IF(AND(NG32>0.35,NG32<0.65),0.5,\"\")","v":""},{"$f":"IF(NG32>0.65,1,\"\")","v":""},{"$f":"NH32&NI32&NJ32","v":"0"},{"$f":"IF(ND32=0,NF32+NK32,0)","v":0},{"$f":"NL32+ND32","v":0},0,null,null,0,{"$f":"IFERROR(NQ32,\"\")","v":0},null,null,0,{"$f":"INT(NU32)","v":0},{"$f":"NU32-NV32","v":0},{"$f":"IF(NW32<0.35,0,\"\")","v":0},{"$f":"IF(AND(NW32>0.35,NW32<0.65),0.5,\"\")","v":""},{"$f":"IF(NW32>0.65,1,\"\")","v":""},{"$f":"NX32&NY32&NZ32","v":"0"},0,0,0,{"$f":"IFERROR(OD32,\"\")","v":0},null,0,{"$f":"INT(OG32)","v":0},{"$f":"OG32-OH32","v":0},{"$f":"IF(OI32<0.35,0,\"\")","v":0},{"$f":"IF(AND(OI32>0.35,OI32<0.65),0.5,\"\")","v":""},{"$f":"IF(OI32>0.65,1,\"\")","v":""},{"$f":"OJ32&OK32&OL32","v":"0"},0,0,0,{"$f":"IFERROR(OP32,\"\")","v":0},null,0,{"$f":"INT(OS32)","v":0},{"$f":"OS32-OT32","v":0},{"$f":"IF(OU32<0.35,0,\"\")","v":0},{"$f":"IF(AND(OU32>0.35,OU32<0.65),0.5,\"\")","v":""},{"$f":"IF(OU32>0.65,1,\"\")","v":""},{"$f":"OV32&OW32&OX32","v":"0"},0,0,0,{"$f":"IFERROR(PB32,\"\")","v":0},null,0,{"$f":"INT(PE32)","v":0},{"$f":"PE32-PF32","v":0},{"$f":"IF(PG32<0.35,0,\"\")","v":0},{"$f":"IF(AND(PG32>0.35,PG32<0.65),0.5,\"\")","v":""},{"$f":"IF(PG32>0.65,1,\"\")","v":""},{"$f":"PH32&PI32&PJ32","v":"0"},0,0,0,{"$f":"IFERROR(PN32,\"\")","v":0},0,{"$f":"INT(PP32)","v":0},{"$f":"PP32-PQ32","v":0},{"$f":"IF(PR32<0.35,0,\"\")","v":0},{"$f":"IF(AND(PR32>0.35,PR32<0.65),0.5,\"\")","v":""},{"$f":"IF(PR32>0.65,1,\"\")","v":""},{"$f":"PS32&PT32&PU32","v":"0"},0,0,0,{"$f":"IFERROR(PY32,\"\")","v":0},null,0,{"$f":"INT(QB32)","v":0},{"$f":"QB32-QC32","v":0},{"$f":"IF(QD32<0.35,0,\"\")","v":0},{"$f":"IF(AND(QD32>0.35,QD32<0.65),0.5,\"\")","v":""},{"$f":"IF(QD32>0.65,1,\"\")","v":""},{"$f":"QE32&QF32&QG32","v":"0"},{"$f":"IF(NT32=0,QC32+QH32,0)","v":0},0,0,{"$f":"IFERROR(QK32,\"\")","v":0},null,null,null,null,null,"2*10",0,null,null,null,"数控程序员"]
[null,null,null,null,null,{"$f":"IF(教学计划表!N33<>\"\",序号!C17,\"\")","v":""},null,null,{"$f":"IF(课程名称及编码!P17<>\"\",课程名称及编码!P17,\"\")","v":""},null,null,null,null,null,null,null,null,null,null,null,null,null,null,null,null,null,null,"",null,null,"",null,null,"",null,null,"",null,null,null,null,null,"",null,null,null,null,null,null,null,null,null,null,null,null,null,null,null,null,null,null,null,null,null,null,null,null,null,0,0,null,null,null,null,null,null,null,null,null,null,null,null,null,null,null,null,null,null,null,null,null,null,null,null,null,null,null,"","","","","","","","","","","","","",0,"","","","","15",0,"","","","","","","","","","","","","",0,"","","","","18",0,null,"","","","","","","","","","","","","",0,"","","","","18",0,null,"","","","","","","","","","","","","",0,"","","","","17",0,null,null,null,null,null,null,null,null,null,null,null,null,null,null,null,null,null,null,null,null,null,null,null,null,null,null,null,null,null,null,null,null,null,null,null,null,null,null,null,null,null,null,null,"",0,0,0,0,0,0,0,0,0,null,null,null,null,null,null,0,0,null,0,0,0,0,0,null,0,0,null,0,0,0,0,0,null,0,0,null,0,0,0,0,0,null,0,0,null,0,0,0,0,0,null,0,0,null,0,0,0,0,0,null,null,0,null,0,null,0,null,0,null,0,null,{"$f":"aaa","v":0},{"$f":"bbb","v":0},{"$f":"ccc","v":0},{"$f":"dddd","v":0},null,{"$f":"aaa","v":0},{"$f":"bbb","v":0},{"$f":"ccc","v":0},{"$f":"dddd","v":0},{"$f":"eee","v":0},{"$f":"fff","v":0},"","","","",null,null,"","","","","","","",0,"","","","","","","","","","","","","","","","","","","","","","","","",0,"","","","","","","","","","","","","","","","","",0,0,0,0,0,0,0,0,0,0,0,"","","0",0,0,0,null,null,0,0,null,null,0,0,0,0,"","","0",0,0,0,0,null,0,0,0,0,"","","0",0,0,0,0,null,0,0,0,0,"","","0",0,0,0,0,null,0,0,0,0,"","","0",0,0,0,0,0,0,0,0,"","","0",0,0,0,0,null,0,0,0,0,"","","0",0,0,0,0,null,null,null,null,null,"2*11",0,null,null,null,"数控铣床操作工"]
[null,null,null,null,null,{"$f":"IF(教学计划表!N34<>\"\",序号!C18,\"\")","v":""},null,null,{"$f":"IF(课程名称及编码!P18<>\"\",课程名称及编码!P18,\"\")","v":""},null,null,null,null,null,null,null,null,null,null,null,null,null,null,null,null,null,null,"",null,null,"",null,null,"",null,null,"",null,null,null,null,null,"",null,null,null,null,null,null,null,null,null,null,null,null,null,null,null,null,null,null,null,null,null,null,null,null,null,0,0,null,null,null,null,null,null,null,null,null,null,null,null,null,null,null,null,null,null,null,null,null,null,null,null,null,null,null,"","","","","","","","","","","","","",0,"","","","","15",0,"","","","","","","","","","","","","",0,"","","","","18",0,null,"","","","","","","","","","","","","",0,"","","","","18",0,null,"","","","","","","","","","","","","",0,"","","","","17",0,null,null,null,null,null,null,null,null,null,null,null,null,null,null,null,null,null,null,null,null,null,null,null,null,null,null,null,null,null,null,null,null,null,null,null,null,null,null,null,null,null,null,null,"",0,0,0,0,0,0,0,0,0,null,null,null,null,null,null,0,0,null,0,0,0,0,0,null,0,0,null,0,0,0,0,0,null,0,0,null,0,0,0,0,0,null,0,0,null,0,0,0,0,0,null,0,0,null,0,0,0,0,0,null,null,0,null,0,null,0,null,0,null,0,null,{"$f":"aaa","v":0},{"$f":"bbb","v":0},{"$f":"ccc","v":0},{"$f":"dddd","v":0},null,{"$f":"aaa","v":0},{"$f":"bbb","v":0},{"$f":"ccc","v":0},{"$f":"dddd","v":0},{"$f":"eee","v":0},{"$f":"fff","v":0},"","","","",null,null,"","","","","","","",0,"","","","","","","","","","","","","","","","","","","","","","","","",0,"","","","","","","","","","","","","","","","","",0,0,0,0,0,0,0,0,0,0,0,"","","0",0,0,0,null,null,0,0,null,null,0,0,0,0,"","","0",0,0,0,0,null,0,0,0,0,"","","0",0,0,0,0,null,0,0,0,0,"","","0",0,0,0,0,null,0,0,0,0,"","","0",0,0,0,0,0,0,0,0,"","","0",0,0,0,0,null,0,0,0,0,"","","0",0,0,0,0,null,null,null,null,null,"2*12",0,null,null,null,"水处理工高级"]
[null,null,null,null,null,{"$f":"IF(教学计划表!N35<>\"\",序号!C19,\"\")","v":""},null,null,{"$f":"IF(课程名称及编码!P19<>\"\",课程名称及编码!P19,\"\")","v":""},null,null,null,null,null,null,null,null,null,null,null,null,null,null,null,null,null,null,"",null,null,"",null,null,"",null,null,"",null,null,null,null,null,"",null,null,null,null,null,null,null,null,null,null,null,null,null,null,null,null,null,null,null,null,null,null,null,null,null,0,0,null,null,null,null,null,null,null,null,null,null,null,null,null,null,null,null,null,null,null,null,null,null,null,null,null,null,null,"","","","","","","","","","","","","",0,"","","","","15",0,"","","","","","","","","","","","","",0,"","","","","18",0,null,"","","","","","","","","","","","","",0,"","","","","18",0,null,"","","","","","","","","","","","","",0,"","","","","17",0,null,null,null,null,null,null,null,null,null,null,null,null,null,null,null,null,null,null,null,null,null,null,null,null,null,null,null,null,null,null,null,null,null,null,null,null,null,null,null,null,null,null,null,"",0,0,0,0,0,0,0,0,0,null,null,null,null,null,null,0,0,null,0,0,0,0,0,null,0,0,null,0,0,0,0,0,null,0,0,null,0,0,0,0,0,null,0,0,null,0,0,0,0,0,null,0,0,null,0,0,0,0,0,null,null,0,null,0,null,0,null,0,null,0,null,{"$f":"aaa","v":0},{"$f":"bbb","v":0},{"$f":"ccc","v":0},{"$f":"dddd","v":0},null,{"$f":"aaa","v":0},{"$f":"bbb","v":0},{"$f":"ccc","v":0},{"$f":"dddd","v":0},{"$f":"eee","v":0},{"$f":"fff","v":0},"","","","",null,null,"","","","","","","",0,"","","","","","","","","","","","","","","","","","","","","","","","",0,"","","","","","","","","","","","","","","","","",0,0,0,0,0,0,0,0,0,0,0,"","","0",0,0,0,null,null,0,0,null,null,0,0,0,0,"","","0",0,0,0,0,null,0,0,0,0,"","","0",0,0,0,0,null,0,0,0,0,"","","0",0,0,0,0,null,0,0,0,0,"","","0",0,0,0,0,0,0,0,0,"","","0",0,0,0,0,null,0,0,0,0,"","","0",0,0,0,0,null,null,null,null,null,"2*13",0,null,null,null,"司炉工"]
[null,null,null,null,null,{"$f":"IF(教学计划表!N36<>\"\",序号!C20,\"\")","v":""},null,null,{"$f":"IF(课程名称及编码!P20<>\"\",课程名称及编码!P20,\"\")","v":""},null,null,null,null,null,null,null,null,null,null,null,null,null,null,null,null,null,null,"",null,null,"",null,null,"",null,null,"",null,null,null,null,null,"",null,null,null,null,null,null,null,null,null,null,null,null,null,null,null,null,null,null,null,null,null,null,null,null,null,0,0,null,null,null,null,null,null,null,null,null,null,null,null,null,null,null,null,null,null,null,null,null,null,null,null,null,null,null,"","","","","","","","","","","","","",0,"","","","","15",0,"","","","","","","","","","","","","",0,"","","","","18",0,null,"","","","","","","","","","","","","",0,"","","","","18",0,null,"","","","","","","","","","","","","",0,"","","","","17",0,null,null,null,null,null,null,null,null,null,null,null,null,null,null,null,null,null,null,null,null,null,null,null,null,null,null,null,null,null,null,null,null,null,null,null,null,null,null,null,null,null,null,null,"",0,0,0,0,0,0,0,0,0,null,null,null,null,null,null,0,0,null,0,0,0,0,0,null,0,0,null,0,0,0,0,0,null,0,0,null,0,0,0,0,0,null,0,0,null,0,0,0,0,0,null,0,0,null,0,0,0,0,0,null,null,0,null,0,null,0,null,0,null,0,null,{"$f":"aaa","v":0},{"$f":"bbb","v":0},{"$f":"ccc","v":0},{"$f":"dddd","v":0},null,{"$f":"aaa","v":0},{"$f":"bbb","v":0},{"$f":"ccc","v":0},{"$f":"dddd","v":0},{"$f":"eee","v":0},{"$f":"fff","v":0},"","","","",null,null,"","","","","","","",0,"","","","","","","","","","","","","","","","","","","","","","","","",0,"","","","","","","","","","","","","","","","","",0,0,0,0,0,0,0,0,0,0,0,"","","0",0,0,0,null,null,0,0,null,null,0,0,0,0,"","","0",0,0,0,0,null,0,0,0,0,"","","0",0,0,0,0,null,0,0,0,0,"","","0",0,0,0,0,null,0,0,0,0,"","","0",0,0,0,0,0,0,0,0,"","","0",0,0,0,0,null,0,0,0,0,"","","0",0,0,0,0,null,null,null,null,null,"2*14",0,null,null,null,"添加剂高级"]
[null,null,null,null,null,{"$f":"IF(教学计划表!N37<>\"\",序号!C21,\"\")","v":""},null,null,{"$f":"IF(课程名称及编码!P21<>\"\",课程名称及编码!P21,\"\")","v":""},null,null,null,null,null,null,null,null,null,null,null,null,null,null,null,null,null,null,"",null,null,"",null,null,"",null,null,"",null,null,null,null,null,"",null,null,null,null,null,null,null,null,null,null,null,null,null,null,null,null,null,null,null,null,null,null,null,null,null,0,0,null,null,null,null,null,null,null,null,null,null,null,null,null,null,null,null,null,null,null,null,null,null,null,null,null,null,null,"","","","","","","","","","","","","",0,"","","","","15",0,"","","","","","","","","","","","","",0,"","","","","18",0,null,"","","","","","","","","","","","","",0,"","","","","18",0,null,"","","","","","","","","","","","","",0,"","","","","17",0,null,null,null,null,null,null,null,null,null,null,null,null,null,null,null,null,null,null,null,null,null,null,null,null,null,null,null,null,null,null,null,null,null,null,null,null,null,null,null,null,null,null,null,"",0,0,0,0,0,0,0,0,0,null,null,null,null,null,null,0,0,null,0,0,0,0,0,null,0,0,null,0,0,0,0,0,null,0,0,null,0,0,0,0,0,null,0,0,null,0,0,0,0,0,null,0,0,null,0,0,0,0,0,null,null,0,null,0,null,0,null,0,null,0,null,{"$f":"aaa","v":0},{"$f":"bbb","v":0},{"$f":"ccc","v":0},{"$f":"dddd","v":0},null,{"$f":"aaa","v":0},{"$f":"bbb","v":0},{"$f":"ccc","v":0},{"$f":"dddd","v":0},{"$f":"eee","v":0},{"$f":"fff","v":0},"","","","",null,null,"","","","","","","",0,"","","","","","","","","","","","","","","","","","","","","","","","",0,"","","","","","","","","","","","","","","","","",0,0,0,0,0,0,0,0,0,0,0,"","","0",0,0,0,null,null,0,0,null,null,0,0,0,0,"","","0",0,0,0,0,null,0,0,0,0,"","","0",0,0,0,0,null,0,0,0,0,"","","0",0,0,0,0,null,0,0,0,0,"","","0",0,0,0,0,0,0,0,0,"","","0",0,0,0,0,null,0,0,0,0,"","","0",0,0,0,0,null,null,null,null,null,"2*15",0,null,null,null,"外贸业务员证书"]
[null,null,null,null,null,{"$f":"IF(教学计划表!N38<>\"\",序号!C22,\"\")","v":""},null,null,{"$f":"IF(课程名称及编码!P22<>\"\",课程名称及编码!P22,\"\")","v":""},null,null,null,null,null,null,null,null,null,null,null,null,null,null,null,null,null,null,"",null,null,"",null,null,"",null,null,"",null,null,null,null,null,"",null,null,null,null,null,null,null,null,null,null,null,null,null,null,null,null,null,null,null,null,null,null,null,null,null,0,0,null,null,null,null,null,null,null,null,null,null,null,null,null,null,null,null,null,null,null,null,null,null,null,null,null,null,null,"","","","","","","","","","","","","",0,"","","","","15",0,"","","","","","","","","","","","","",0,"","","","","18",0,null,"","","","","","","","","","","","","",0,"","","","","18",0,null,"","","","","","","","","","","","","",0,"","","","","17",0,null,null,null,null,null,null,null,null,null,null,null,null,null,null,null,null,null,null,null,null,null,null,null,null,null,null,null,null,null,null,null,null,null,null,null,null,null,null,null,null,null,null,null,"",0,0,0,0,0,0,0,0,0,null,null,null,null,null,null,0,0,null,0,0,0,0,0,null,0,0,null,0,0,0,0,0,null,0,0,null,0,0,0,0,0,null,0,0,null,0,0,0,0,0,null,0,0,null,0,0,0,0,0,null,null,0,null,0,null,0,null,0,null,0,null,{"$f":"aaa","v":0},{"$f":"bbb","v":0},{"$f":"ccc","v":0},{"$f":"dddd","v":0},null,{"$f":"aaa","v":0},{"$f":"bbb","v":0},{"$f":"ccc","v":0},{"$f":"dddd","v":0},{"$f":"eee","v":0},{"$f":"fff","v":0},"","","","",null,null,"","","","","","","",0,"","","","","","","","","","","","","","","","","","","","","","","","",0,"","","","","","","","","","","","","","","","","",0,0,0,0,0,0,0,0,0,0,0,"","","0",0,0,0,null,null,0,0,null,null,0,0,0,0,"","","0",0,0,0,0,null,0,0,0,0,"","","0",0,0,0,0,null,0,0,0,0,"","","0",0,0,0,0,null,0,0,0,0,"","","0",0,0,0,0,0,0,0,0,"","","0",0,0,0,0,null,0,0,0,0,"","","0",0,0,0,0,null,null,null,null,null,"4*4",0,null,null,null,"网络工程师"]
[null,null,null,null,null,{"$f":"IF(教学计划表!N39<>\"\",序号!C23,\"\")","v":""},null,null,{"$f":"IF(课程名称及编码!P23<>\"\",课程名称及编码!P23,\"\")","v":""},null,null,null,null,null,null,null,null,null,null,null,null,null,null,null,null,null,null,"",null,null,"",null,null,"",null,null,"",null,null,null,null,null,"",null,null,null,null,null,null,null,null,null,null,null,null,null,null,null,null,null,null,null,null,null,null,null,null,null,0,0,null,null,null,null,null,null,null,null,null,null,null,null,null,null,null,null,null,null,null,null,null,null,null,null,null,null,null,"","","","","","","","","","","","","",0,"","","","","15",0,"","","","","","","","","","","","","",0,"","","","","18",0,null,"","","","","","","","","","","","","",0,"","","","","18",0,null,"","","","","","","","","","","","","",0,"","","","","17",0,null,null,null,null,null,null,null,null,null,null,null,null,null,null,null,null,null,null,null,null,null,null,null,null,null,null,null,null,null,null,null,null,null,null,null,null,null,null,null,null,null,null,null,"",0,0,0,0,0,0,0,0,0,null,null,null,null,null,null,0,0,null,0,0,0,0,0,null,0,0,null,0,0,0,0,0,null,0,0,null,0,0,0,0,0,null,0,0,null,0,0,0,0,0,null,0,0,null,0,0,0,0,0,null,null,0,null,0,null,0,null,0,null,0,null,{"$f":"aaa","v":0},{"$f":"bbb","v":0},{"$f":"ccc","v":0},{"$f":"dddd","v":0},null,{"$f":"aaa","v":0},{"$f":"bbb","v":0},{"$f":"ccc","v":0},{"$f":"dddd","v":0},{"$f":"eee","v":0},{"$f":"fff","v":0},"","","","",null,null,"","","","","","","",0,"","","","","","","","","","","","","","","","","","","","","","","","",0,"","","","","","","","","","","","","","","","","",0,0,0,0,0,0,0,0,0,0,0,"","","0",0,0,0,null,null,0,0,null,null,0,0,0,0,"","","0",0,0,0,0,null,0,0,0,0,"","","0",0,0,0,0,null,0,0,0,0,"","","0",0,0,0,0,null,0,0,0,0,"","","0",0,0,0,0,0,0,0,0,"","","0",0,0,0,0,null,0,0,0,0,"","","0",0,0,0,0,null,null,null,null,null,"4*5",0,null,null,null,"维修电工高级"]
[null,"专业（技能）课程",null,"专\n业\n基\n础\n课\n程",null,{"$f":"IF(教学计划表!N40<>\"\",序号!C24,\"\")","v":""},null,null,{"$f":"IF(课程名称及编码!P24<>\"\",课程名称及编码!P24,\"\")","v":""},null,null,null,null,null,null,null,null,null,null,null,null,null,null,null,null,null,null,"",null,null,"",null,null,"",null,null,"",null,null,null,null,null,"",null,null,null,null,null,null,null,null,null,null,null,null,null,null,null,null,null,null,null,null,null,null,null,null,null,0,0,null,null,null,null,null,null,null,null,null,null,null,null,null,null,null,null,null,null,null,null,null,null,null,null,null,null,null,"","","","","","","","","","","","","",0,"","","","","15",0,"","","","","","","","","","","","","",0,"","","","","18",0,null,"","","","","","","","","","","","","",0,"","","","","18",0,null,"","","","","","","","","","","","","",0,"","","","","17",0,null,null,null,null,null,null,null,null,null,null,null,null,null,null,null,null,null,null,null,null,null,null,null,null,null,null,null,null,null,null,null,null,null,null,null,null,null,null,null,null,null,null,null,"",0,0,0,0,0,0,0,0,0,null,null,null,null,null,null,0,0,null,0,0,0,0,0,null,0,0,null,0,0,0,0,0,null,0,0,null,0,0,0,0,0,null,0,0,null,0,0,0,0,0,null,0,0,null,0,0,0,0,0,null,null,0,null,0,null,0,null,0,null,0,null,{"$f":"aaa","v":0},{"$f":"bbb","v":0},{"$f":"ccc","v":0},{"$f":"dddd","v":0},null,{"$f":"aaa","v":0},{"$f":"bbb","v":0},{"$f":"ccc","v":0},{"$f":"dddd","v":0},{"$f":"eee","v":0},{"$f":"fff","v":0},"","","","",null,null,"","","","","","","",0,"","","","","","","","","","","","","","","","","","","","","","","","",0,"","","","","","","","","","","","","","","","","",0,0,0,0,0,0,0,0,0,0,0,"","","0",0,0,0,null,null,0,0,null,null,0,0,0,0,"","","0",0,0,0,0,null,0,0,0,0,"","","0",0,0,0,0,null,0,0,0,0,"","","0",0,0,0,0,null,0,0,0,0,"","","0",0,0,0,0,0,0,0,0,"","","0",0,0,0,0,null,0,0,0,0,"","","0",0,0,0,0,null,null,null,null,null,"4*6",0,null,null,null,"维修电工中级"]
[null,null,null,null,null,{"$f":"IF(教学计划表!N41<>\"\",序号!C25,\"\")","v":""},null,null,{"$f":"IF(课程名称及编码!P25<>\"\",课程名称及编码!P25,\"\")","v":""},null,null,null,null,null,null,null,null,null,null,null,null,null,null,null,null,null,null,"",null,null,"",null,null,"",null,null,"",null,null,null,null,null,"",null,null,null,null,null,null,null,null,null,null,null,null,null,null,null,null,null,null,null,null,null,null,null,null,null,0,0,null,null,null,null,null,null,null,null,null,null,null,null,null,null,null,null,null,null,null,null,null,null,null,null,null,null,null,"","","","","","","","","","","","","",0,"","","","","15",0,"","","","","","","","","","","","","",0,"","","","","18",0,null,"","","","","","","","","","","","","",0,"","","","","18",0,null,"","","","","","","","","","","","","",0,"","","","","17",0,null,null,null,null,null,null,null,null,null,null,null,null,null,null,null,null,null,null,null,null,null,null,null,null,null,null,null,null,null,null,null,null,null,null,null,null,null,null,null,null,null,null,null,"",0,0,0,0,0,0,0,0,0,null,null,null,null,null,null,0,0,null,0,0,0,0,0,null,0,0,null,0,0,0,0,0,null,0,0,null,0,0,0,0,0,null,0,0,null,0,0,0,0,0,null,0,0,null,0,0,0,0,0,null,null,0,null,0,null,0,null,0,null,0,null,{"$f":"aaa","v":0},{"$f":"bbb","v":0},{"$f":"ccc","v":0},{"$f":"dddd","v":0},null,{"$f":"aaa","v":0},{"$f":"bbb","v":0},{"$f":"ccc","v":0},{"$f":"dddd","v":0},{"$f":"eee","v":0},{"$f":"fff","v":0},"","","","",null,null,"","","","","","","",0,"","","","","","","","","","","","","","","","","","","","","","","","",0,"","","","","","","","","","","","","","","","","",0,0,0,0,0,0,0,0,0,0,0,"","","0",0,0,0,null,null,0,0,null,null,0,0,0,0,"","","0",0,0,0,0,null,0,0,0,0,"","","0",0,0,0,0,null,0,0,0,0,"","","0",0,0,0,0,null,0,0,0,0,"","","0",0,0,0,0,0,0,0,0,"","","0",0,0,0,0,null,0,0,0,0,"","","0",0,0,0,0,null,null,null,null,null,"4*7",0,null,null,null,"仪表维修工高级"]
[null,null,null,null,null,{"$f":"IF(教学计划表!N42<>\"\",序号!C26,\"\")","v":""},null,null,{"$f":"IF(课程名称及编码!P26<>\"\",课程名称及编码!P26,\"\")","v":""},null,null,null,null,null,null,null,null,null,null,null,null,null,null,null,null,null,null,"",null,null,"",null,null,"",null,null,"",null,null,null,null,null,"",null,null,null,null,null,null,null,null,null,null,null,null,null,null,null,null,null,null,null,null,null,null,null,null,null,0,0,null,null,null,null,null,null,null,null,null,null,null,null,null,null,null,null,null,null,null,null,null,null,null,null,null,null,null,"","","","","","","","","","","","","",0,"","","","","15",0,"","","","","","","","","","","","","",0,"","","","","18",0,null,"","","","","","","","","","","","","",0,"","","","","18",0,null,"","","","","","","","","","","","","",0,"","","","","17",0,null,null,null,null,null,null,null,null,null,null,null,null,null,null,null,null,null,null,null,null,null,null,null,null,null,null,null,null,null,null,null,null,null,null,null,null,null,null,null,null,null,null,null,"",0,0,0,0,0,0,0,0,0,null,null,null,null,null,null,0,0,null,0,0,0,0,0,null,0,0,null,0,0,0,0,0,null,0,0,null,0,0,0,0,0,null,0,0,null,0,0,0,0,0,null,0,0,null,0,0,0,0,0,null,null,0,null,0,null,0,null,0,null,0,null,{"$f":"aaa","v":0},{"$f":"bbb","v":0},{"$f":"ccc","v":0},{"$f":"dddd","v":0},null,{"$f":"aaa","v":0},{"$f":"bbb","v":0},{"$f":"ccc","v":0},{"$f":"dddd","v":0},{"$f":"eee","v":0},{"$f":"fff","v":0},"","","","",null,null,"","","","","","","",0,"","","","","","","","","","","","","","","","","","","","","","","","",0,"","","","","","","","","","","","","","","","","",0,0,0,0,0,0,0,0,0,0,0,"","","0",0,0,0,null,null,0,0,null,null,0,0,0,0,"","","0",0,0,0,0,null,0,0,0,0,"","","0",0,0,0,0,null,0,0,0,0,"","","0",0,0,0,0,null,0,0,0,0,"","","0",0,0,0,0,0,0,0,0,"","","0",0,0,0,0,null,0,0,0,0,"","","0",0,0,0,0,null,null,null,null,null,"4*8",0,null,null,null,"制冷工中级"]
[null,null,null,null,null,{"$f":"IF(教学计划表!N43<>\"\",序号!C27,\"\")","v":""},null,null,{"$f":"IF(课程名称及编码!P27<>\"\",课程名称及编码!P27,\"\")","v":""},null,null,null,null,null,null,null,null,null,null,null,null,null,null,null,null,null,null,"",null,null,"",null,null,"",null,null,"",null,null,null,null,null,"",null,null,null,null,null,null,null,null,null,null,null,null,null,null,null,null,null,null,null,null,null,null,null,null,null,0,0,null,null,null,null,null,null,null,null,null,null,null,null,null,null,null,null,null,null,null,null,null,null,null,null,null,null,null,"","","","","","","","","","","","","",0,"","","","","15",0,"","","","","","","","","","","","","",0,"","","","","18",0,null,"","","","","","","","","","","","","",0,"","","","","18",0,null,"","","","","","","","","","","","","",0,"","","","","17",0,null,null,null,null,null,null,null,null,null,null,null,null,null,null,null,null,null,null,null,null,null,null,null,null,null,null,null,null,null,null,null,null,null,null,null,null,null,null,null,null,null,null,null,"",0,0,0,0,0,0,0,0,0,null,null,null,null,null,null,0,0,null,0,0,0,0,0,null,0,0,null,0,0,0,0,0,null,0,0,null,0,0,0,0,0,null,0,0,null,0,0,0,0,0,null,0,0,null,0,0,0,0,0,null,null,0,null,0,null,0,null,0,null,0,null,{"$f":"aaa","v":0},{"$f":"bbb","v":0},{"$f":"ccc","v":0},{"$f":"dddd","v":0},null,{"$f":"aaa","v":0},{"$f":"bbb","v":0},{"$f":"ccc","v":0},{"$f":"dddd","v":0},{"$f":"eee","v":0},{"$f":"fff","v":0},"","","","",null,null,"","","","","","","",0,"","","","","","","","","","","","","","","","","","","","","","","","",0,"","","","","","","","","","","","","","","","","",0,0,0,0,0,0,0,0,0,0,0,"","","0",0,0,0,null,null,0,0,null,null,0,0,0,0,"","","0",0,0,0,0,null,0,0,0,0,"","","0",0,0,0,0,null,0,0,0,0,"","","0",0,0,0,0,null,0,0,0,0,"","","0",0,0,0,0,0,0,0,0,"","","0",0,0,0,0,null,0,0,0,0,"","","0",0,0,0,0,null,null,null,null,null,"4*9",0]
[null,null,null,null,null,{"$f":"IF(教学计划表!N44<>\"\",序号!C28,\"\")","v":""},null,null,{"$f":"IF(课程名称及编码!P28<>\"\",课程名称及编码!P28,\"\")","v":""},null,null,null,null,null,null,null,null,null,null,null,null,null,null,null,null,null,null,"",null,null,"",null,null,"",null,null,"",null,null,null,null,null,"",null,null,null,null,null,null,null,null,null,null,null,null,null,null,null,null,null,null,null,null,null,null,null,null,null,0,0,null,null,null,null,null,null,null,null,null,null,null,null,null,null,null,null,null,null,null,null,null,null,null,null,null,null,null,"","","","","","","","","","","","","",0,"","","","","15",0,"","","","","","","","","","","","","",0,"","","","","18",0,null,"","","","","","","","","","","","","",0,"","","","","18",0,null,"","","","","","","","","","","","","",0,"","","","","17",0,null,null,null,null,null,null,null,null,null,null,null,null,null,null,null,null,null,null,null,null,null,null,null,null,null,null,null,null,null,null,null,null,null,null,null,null,null,null,null,null,null,null,null,"",0,0,0,0,0,0,0,0,0,null,null,null,null,null,null,0,0,null,0,0,0,0,0,null,0,0,null,0,0,0,0,0,null,0,0,null,0,0,0,0,0,null,0,0,null,0,0,0,0,0,null,0,0,null,0,0,0,0,0,null,null,0,null,0,null,0,null,0,null,0,null,{"$f":"aaa","v":0},{"$f":"bbb","v":0},{"$f":"ccc","v":0},{"$f":"dddd","v":0},null,{"$f":"aaa","v":0},{"$f":"bbb","v":0},{"$f":"ccc","v":0},{"$f":"dddd","v":0},{"$f":"eee","v":0},{"$f":"fff","v":0},"","","","",null,null,"","","","","","","",0,"","","","","","","","","","","","","","","","","","","","","","","","",0,"","","","","","","","","","","","","","","","","",0,0,0,0,0,0,0,0,0,0,0,"","","0",0,0,0,null,null,0,0,null,null,0,0,0,0,"","","0",0,0,0,0,null,0,0,0,0,"","","0",0,0,0,0,null,0,0,0,0,"","","0",0,0,0,0,null,0,0,0,0,"","","0",0,0,0,0,0,0,0,0,"","","0",0,0,0,0,null,0,0,0,0,"","","0",0,0,0,0,null,null,null,null,null,"4*10",0]
[null,null,null,null,null,{"$f":"IF(教学计划表!N45<>\"\",序号!C29,\"\")","v":""},null,null,{"$f":"IF(课程名称及编码!P29<>\"\",课程名称及编码!P29,\"\")","v":""},null,null,null,null,null,null,null,null,null,null,null,null,null,null,null,null,null,null,"",null,null,"",null,null,"",null,null,"",null,null,null,null,null,"",null,null,null,null,null,null,null,null,null,null,null,null,null,null,null,null,null,null,null,null,null,null,null,null,null,0,0,null,null,null,null,null,null,null,null,null,null,null,null,null,null,null,null,null,null,null,null,null,null,null,null,null,null,null,"","","","","","","","","","","","","",0,"","","","","15",0,"","","","","","","","","","","","","",0,"","","","","18",0,null,"","","","","","","","","","","","","",0,"","","","","18",0,null,"","","","","","","","","","","","","",0,"","","","","17",0,null,null,null,null,null,null,null,null,null,null,null,null,null,null,null,null,null,null,null,null,null,null,null,null,null,null,null,null,null,null,null,null,null,null,null,null,null,null,null,null,null,null,null,"",0,0,0,0,0,0,0,0,0,null,null,null,null,null,null,0,0,null,0,0,0,0,0,null,0,0,null,0,0,0,0,0,null,0,0,null,0,0,0,0,0,null,0,0,null,0,0,0,0,0,null,0,0,null,0,0,0,0,0,null,null,0,null,0,null,0,null,0,null,0,null,{"$f":"aaa","v":0},{"$f":"bbb","v":0},{"$f":"ccc","v":0},{"$f":"dddd","v":0},null,{"$f":"aaa","v":0},{"$f":"bbb","v":0},{"$f":"ccc","v":0},{"$f":"dddd","v":0},{"$f":"eee","v":0},{"$f":"fff","v":0},"","","","",null,null,"","","","","","","",0,"","","","","","","","","","","","","","","","","","","","","","","","",0,"","","","","","","","","","","","","","","","","",0,0,0,0,0,0,0,0,0,0,0,"","","0",0,0,0,null,null,0,0,null,null,0,0,0,0,"","","0",0,0,0,0,null,0,0,0,0,"","","0",0,0,0,0,null,0,0,0,0,"","","0",0,0,0,0,null,0,0,0,0,"","","0",0,0,0,0,0,0,0,0,"","","0",0,0,0,0,null,0,0,0,0,"","","0",0,0,0,0,null,null,null,null,null,"4*11",0]
[null,null,null,null,null,{"$f":"IF(教学计划表!N46<>\"\",序号!C30,\"\")","v":""},null,null,{"$f":"IF(课程名称及编码!P30<>\"\",课程名称及编码!P30,\"\")","v":""},null,null,null,null,null,null,null,null,null,null,null,null,null,null,null,null,null,null,"",null,null,"",null,null,"",null,null,"",null,null,null,null,null,"",null,null,null,null,null,null,null,null,null,null,null,null,null,null,null,null,null,null,null,null,null,null,null,null,null,0,0,null,null,null,null,null,null,null,null,null,null,null,null,null,null,null,null,null,null,null,null,null,null,null,null,null,null,null,"","","","","","","","","","","","","",0,"","","","","15",0,"","","","","","","","","","","","","",0,"","","","","18",0,null,"","","","","","","","","","","","","",0,"","","","","18",0,null,"","","","","","","","","","","","","",0,"","","","","17",0,null,null,null,null,null,null,null,null,null,null,null,null,null,null,null,null,null,null,null,null,null,null,null,null,null,null,null,null,null,null,null,null,null,null,null,null,null,null,null,null,null,null,null,"",0,0,0,0,0,0,0,0,0,null,null,null,null,null,null,0,0,null,0,0,0,0,0,null,0,0,null,0,0,0,0,0,null,0,0,null,0,0,0,0,0,null,0,0,null,0,0,0,0,0,null,0,0,null,0,0,0,0,0,null,null,0,null,0,null,0,null,0,null,0,null,{"$f":"aaa","v":0},{"$f":"bbb","v":0},{"$f":"ccc","v":0},{"$f":"dddd","v":0},null,{"$f":"aaa","v":0},{"$f":"bbb","v":0},{"$f":"ccc","v":0},{"$f":"dddd","v":0},{"$f":"eee","v":0},{"$f":"fff","v":0},"","","","",null,null,"","","","","","","",0,"","","","","","","","","","","","","","","","","","","","","","","","",0,"","","","","","","","","","","","","","","","","",0,0,0,0,0,0,0,0,0,0,0,"","","0",0,0,0,null,null,0,0,null,null,0,0,0,0,"","","0",0,0,0,0,null,0,0,0,0,"","","0",0,0,0,0,null,0,0,0,0,"","","0",0,0,0,0,null,0,0,0,0,"","","0",0,0,0,0,0,0,0,0,"","","0",0,0,0,0,null,0,0,0,0,"","","0",0,0,0,0,null,null,null,null,null,"4*12",0]
[null,null,null,null,null,{"$f":"IF(教学计划表!N47<>\"\",序号!C31,\"\")","v":""},null,null,{"$f":"IF(课程名称及编码!P31<>\"\",课程名称及编码!P31,\"\")","v":""},null,null,null,null,null,null,null,null,null,null,null,null,null,null,null,null,null,null,"",null,null,"",null,null,"",null,null,"",null,null,null,null,null,"",null,null,null,null,null,null,null,null,null,null,null,null,null,null,null,null,null,null,null,null,null,null,null,null,null,0,0,null,null,null,null,null,null,null,null,null,null,null,null,null,null,null,null,null,null,null,null,null,null,null,null,null,null,null,"","","","","","","","","","","","","",0,"","","","","15",0,"","","","","","","","","","","","","",0,"","","","","18",0,null,"","","","","","","","","","","","","",0,"","","","","18",0,null,"","","","","","","","","","","","","",0,"","","","","17",0,null,null,null,null,null,null,null,null,null,null,null,null,null,null,null,null,null,null,null,null,null,null,null,null,null,null,null,null,null,null,null,null,null,null,null,null,null,null,null,null,null,null,null,"",0,0,0,0,0,0,0,0,0,null,null,null,null,null,null,0,0,null,0,0,0,0,0,null,0,0,null,0,0,0,0,0,null,0,0,null,0,0,0,0,0,null,0,0,null,0,0,0,0,0,null,0,0,null,0,0,0,0,0,null,null,0,null,0,null,0,null,0,null,0,null,{"$f":"aaa","v":0},{"$f":"bbb","v":0},{"$f":"ccc","v":0},{"$f":"dddd","v":0},null,{"$f":"aaa","v":0},{"$f":"bbb","v":0},{"$f":"ccc","v":0},{"$f":"dddd","v":0},{"$f":"eee","v":0},{"$f":"fff","v":0},"","","","",null,null,"","","","","","","",0,"","","","","","","","","","","","","","","","","","","","","","","","",0,"","","","","","","","","","","","","","","","","",0,0,0,0,0,0,0,0,0,0,0,"","","0",0,0,0,null,null,0,0,null,null,0,0,0,0,"","","0",0,0,0,0,null,0,0,0,0,"","","0",0,0,0,0,null,0,0,0,0,"","","0",0,0,0,0,null,0,0,0,0,"","","0",0,0,0,0,0,0,0,0,"","","0",0,0,0,0,null,0,0,0,0,"","","0",0,0,0,0,null,null,null,null,null,"4*13",0]
[null,null,null,null,null,{"$f":"IF(教学计划表!N48<>\"\",序号!C32,\"\")","v":""},null,null,{"$f":"IF(课程名称及编码!P32<>\"\",课程名称及编码!P32,\"\")","v":""},null,null,null,null,null,null,null,null,null,null,null,null,null,null,null,null,null,null,"",null,null,"",null,null,"",null,null,"",null,null,null,null,null,"",null,null,null,null,null,null,null,null,null,null,null,null,null,null,null,null,null,null,null,null,null,null,null,null,null,0,0,null,null,null,null,null,null,null,null,null,null,null,null,null,null,null,null,null,null,null,null,null,null,null,null,null,null,null,"","","","","","","","","","","","","",0,"","","","","15",0,"","","","","","","","","","","","","",0,"","","","","18",0,null,"","","","","","","","","","","","","",0,"","","","","18",0,null,"","","","","","","","","","","","","",0,"","","","","17",0,null,null,null,null,null,null,null,null,null,null,null,null,null,null,null,null,null,null,null,null,null,null,null,null,null,null,null,null,null,null,null,null,null,null,null,null,null,null,null,null,null,null,null,"",0,0,0,0,0,0,0,0,0,null,null,null,null,null,null,0,0,null,0,0,0,0,0,null,0,0,null,0,0,0,0,0,null,0,0,null,0,0,0,0,0,null,0,0,null,0,0,0,0,0,null,0,0,null,0,0,0,0,0,null,null,0,null,0,null,0,null,0,null,0,null,{"$f":"aaa","v":0},{"$f":"bbb","v":0},{"$f":"ccc","v":0},{"$f":"dddd","v":0},null,{"$f":"aaa","v":0},{"$f":"bbb","v":0},{"$f":"ccc","v":0},{"$f":"dddd","v":0},{"$f":"eee","v":0},{"$f":"fff","v":0},"","","","",null,null,"","","","","","","",0,"","","","","","","","","","","","","","","","","","","","","","","","",0,"","","","","","","","","","","","","","","","","",0,0,0,0,0,0,0,0,0,0,0,"","","0",0,0,0,null,null,0,0,null,null,0,0,0,0,"","","0",0,0,0,0,null,0,0,0,0,"","","0",0,0,0,0,null,0,0,0,0,"","","0",0,0,0,0,null,0,0,0,0,"","","0",0,0,0,0,0,0,0,0,"","","0",0,0,0,0,null,0,0,0,0,"","","0",0,0,0,0,null,null,null,null,null,"4*14",0]
[null,null,null,"专\n业\n核\n心\n课\n程",null,{"$f":"IF(教学计划表!N49<>\"\",序号!C33,\"\")","v":""},null,null,{"$f":"IF(课程名称及编码!P33<>\"\",课程名称及编码!P33,\"\")","v":""},null,null,null,null,null,null,null,null,null,null,null,null,null,null,null,null,null,null,"",null,null,"",null,null,"",null,null,"",null,null,null,null,null,"",null,null,null,null,null,null,null,null,null,null,null,null,null,null,null,null,null,null,null,null,null,null,null,null,null,0,0,null,null,null,null,null,null,null,null,null,null,null,null,null,null,null,null,null,null,null,null,null,null,null,null,null,null,null,"","","","","","","","","","","","","",0,"","","","","15",0,"","","","","","","","","","","","","",0,"","","","","18",0,null,"","","","","","","","","","","","","",0,"","","","","18",0,null,"","","","","","","","","","","","","",0,"","","","","17",0,null,null,null,null,null,null,null,null,null,null,null,null,null,null,null,null,null,null,null,null,null,null,null,null,null,null,null,null,null,null,null,null,null,null,null,null,null,null,null,null,null,null,null,"",0,0,0,0,0,0,0,0,0,null,null,null,null,null,null,0,0,null,0,0,0,0,0,null,0,0,null,0,0,0,0,0,null,0,0,null,0,0,0,0,0,null,0,0,null,0,0,0,0,0,null,0,0,null,0,0,0,0,0,null,null,0,null,0,null,0,null,0,null,0,null,{"$f":"aaa","v":0},{"$f":"bbb","v":0},{"$f":"ccc","v":0},{"$f":"dddd","v":0},null,{"$f":"aaa","v":0},{"$f":"bbb","v":0},{"$f":"ccc","v":0},{"$f":"dddd","v":0},{"$f":"eee","v":0},{"$f":"fff","v":0},"","","","",null,null,"","","","","","","",0,"","","","","","","","","","","","","","","","","","","","","","","","",0,"","","","","","","","","","","","","","","","","",0,0,0,0,0,0,0,0,0,0,0,"","","0",0,0,0,null,null,0,0,null,null,0,0,0,0,"","","0",0,0,0,0,null,0,0,0,0,"","","0",0,0,0,0,null,0,0,0,0,"","","0",0,0,0,0,null,0,0,0,0,"","","0",0,0,0,0,0,0,0,0,"","","0",0,0,0,0,null,0,0,0,0,"","","0",0,0,0,0,null,null,null,null,null,"4*15",0]
[null,null,null,null,null,{"$f":"IF(教学计划表!N50<>\"\",序号!C34,\"\")","v":""},null,null,{"$f":"IF(课程名称及编码!P34<>\"\",课程名称及编码!P34,\"\")","v":""},null,null,null,null,null,null,null,null,null,null,null,null,null,null,null,null,null,null,"",null,null,"",null,null,"",null,null,"",null,null,null,null,null,"",null,null,null,null,null,null,null,null,null,null,null,null,null,null,null,null,null,null,null,null,null,null,null,null,null,0,0,null,null,null,null,null,null,null,null,null,null,null,null,null,null,null,null,null,null,null,null,null,null,null,null,null,null,null,"","","","","","","","","","","","","",0,"","","","","15",0,"","","","","","","","","","","","","",0,"","","","","18",0,null,"","","","","","","","","","","","","",0,"","","","","18",0,null,"","","","","","","","","","","","","",0,"","","","","17",0,null,null,null,null,null,null,null,null,null,null,null,null,null,null,null,null,null,null,null,null,null,null,null,null,null,null,null,null,null,null,null,null,null,null,null,null,null,null,null,null,null,null,null,"",0,0,0,0,0,0,0,0,0,null,null,null,null,null,null,0,0,null,0,0,0,0,0,null,0,0,null,0,0,0,0,0,null,0,{"$f":"IF(EJ50=1,0,IW50)","v":0},null,0,0,0,0,0,null,0,{"$f":"IF(FE50=1,0,JF50)","v":0},null,0,0,0,0,0,null,0,{"$f":"IF(FZ50=1,0,JO50)","v":0},null,0,0,0,0,0,null,null,0,null,0,null,0,null,0,null,0,null,{"$f":"aaa","v":0},{"$f":"bbb","v":0},{"$f":"ccc","v":0},{"$f":"dddd","v":0},null,{"$f":"aaa","v":0},{"$f":"bbb","v":0},{"$f":"ccc","v":0},{"$f":"dddd","v":0},{"$f":"eee","v":0},{"$f":"fff","v":0},{"$f":"IF(AS50<>\"\",1,\"\")","v":""},"","","",null,null,"","","","","","","",0,"","","","","","","","","","","","","","","","","","","","","","","","",0,"","","","","","","","","","","","","","","","","",0,0,0,0,0,0,0,{"$f":"IF(ND50=0,HP50/18,0)","v":0},0,0,0,"","","0",0,0,0,null,null,0,0,null,null,{"$f":"IF(ND50=0,DM50/18,0)","v":0},0,0,0,"","","0",{"$f":"IF(ND50=0,NV50+OA50,0)","v":0},{"$f":"OB50+MX50","v":0},{"$f":"IF(LEFT(HQ50,1)=\"(\",\"(\"&OC50&\")\",OC50)","v":0},0,null,{"$f":"IF(ND50=0,EG50/18,0)","v":0},0,0,0,"","","0",{"$f":"IF(ND50=0,OH50+OM50,0)","v":0},{"$f":"ON50+MY50","v":0},{"$f":"IF(LEFT(HQ50,1)=\"(\",\"(\"&OO50&\")\",OO50)","v":0},0,null,{"$f":"IF(ND50=0,FB50/18,0)","v":0},0,0,0,"","","0",{"$f":"IF(ND50=0,OT50+OY50,0)","v":0},{"$f":"OZ50+MZ50","v":0},{"$f":"IF(LEFT(HQ50,1)=\"(\",\"(\"&PA50&\")\",PA50)","v":0},0,null,{"$f":"IF(ND50=0,FW50/18,0)","v":0},0,0,0,"","","0",{"$f":"IF(ND50=0,PF50+PK50,0)","v":0},{"$f":"PL50+NA50","v":0},{"$f":"IF(LEFT(HQ50,1)=\"(\",\"(\"&PM50&\")\",PM50)","v":0},0,{"$f":"IF(ND50=0,GR50/18,0)","v":0},0,0,0,"","","0",{"$f":"IF(ND50=0,PQ50+PV50,0)","v":0},{"$f":"NB50+PW50","v":0},{"$f":"IF(LEFT(HQ50,1)=\"(\",\"(\"&PX50&\")\",PX50)","v":0},0,null,{"$f":"IF(ND50=0,HM50/18,0)","v":0},0,0,0,"","","0",0,{"$f":"NC50+QI50","v":0},{"$f":"IF(LEFT(HQ50,1)=\"(\",\"(\"&QJ50&\")\",QJ50)","v":0},0,null,null,null,null,null,"/2*4",{"$f":"IF(SEARCH(\"(\",AN50&\"(\",1)<=LEN(AN50),0,VALUE(AN50))","v":0}]
[null,null,null,null,null,{"$f":"IF(教学计划表!N51<>\"\",序号!C35,\"\")","v":""},null,null,{"$f":"IF(课程名称及编码!P35<>\"\",课程名称及编码!P35,\"\")","v":""},null,null,null,null,null,null,null,null,null,null,null,null,null,null,null,null,null,null,"",null,null,"",null,null,"",null,null,"",null,null,null,null,null,"",null,null,null,null,null,null,null,null,null,null,null,null,null,null,null,null,null,null,null,null,null,null,null,null,null,0,0,null,null,null,null,null,null,null,null,null,null,null,null,null,null,null,null,null,null,null,null,null,null,null,null,null,null,null,"","","","","","","","","","","","","",0,"","","","","15",0,"","","","","","","","","","","","","",0,"","","","","18",0,null,"","","","","","","","","","","","","",0,"","","","","18",0,null,"","","","","","","","","","","","","",0,"","","","","17",0,null,null,null,null,null,null,null,null,null,null,null,null,null,null,null,null,null,null,null,null,null,null,null,null,null,null,null,null,null,null,null,null,null,null,null,null,null,null,null,null,null,null,null,"",0,0,0,0,0,0,0,0,0,null,null,null,null,null,null,0,0,null,0,0,0,0,0,null,0,0,null,0,0,0,0,0,null,0,0,null,0,0,0,0,0,null,0,0,null,0,0,0,0,0,null,0,0,null,0,0,0,0,0,null,null,0,null,0,null,0,null,0,null,0,null,{"$f":"aaa","v":0},{"$f":"bbb","v":0},{"$f":"ccc","v":0},{"$f":"dddd","v":0},null,{"$f":"aaa","v":0},{"$f":"bbb","v":0},{"$f":"ccc","v":0},{"$f":"dddd","v":0},{"$f":"eee","v":0},{"$f":"fff","v":0},"","","","",null,null,"","","","","","","",0,"","","","","","","","","","","","","","","","","","","","","","","","",0,"","","","","","","","","","","","","","","","","",0,0,0,0,0,0,0,0,0,0,0,"","","0",0,0,0,null,null,0,0,null,null,0,0,0,0,"","","0",0,0,0,0,null,0,0,0,0,"","","0",0,0,0,0,null,0,0,0,0,"","","0",0,0,0,0,null,0,0,0,0,"","","0",0,0,0,0,0,0,0,0,"","","0",0,0,0,0,null,0,0,0,0,"","","0",0,0,0,0,null,null,null,null,null,"/2*6",0]
[null,null,null,null,null,{"$f":"IF(教学计划表!N52<>\"\",序号!C36,\"\")","v":""},null,null,{"$f":"IF(课程名称及编码!P36<>\"\",课程名称及编码!P36,\"\")","v":""},null,null,null,null,null,null,null,null,null,null,null,null,null,null,null,null,null,null,"",null,null,"",null,null,"",null,null,"",null,null,null,null,null,"",null,null,null,null,null,null,null,null,null,null,null,null,null,null,null,null,null,null,null,null,null,null,null,null,null,0,0,null,null,null,null,null,null,null,null,null,null,null,null,null,null,null,null,null,null,null,null,null,null,null,null,null,null,null,"","","","","","","","","","","","","",0,"","","","","15",0,"","","","","","","","","","","","","",0,"","","","","18",0,null,"","","","","","","","","","","","","",0,"","","","","18",0,null,"","","","","","","","","","","","","",0,"","","","","17",0,null,null,null,null,null,null,null,null,null,null,null,null,null,null,null,null,null,null,null,null,null,null,null,null,null,null,null,null,null,null,null,null,null,null,null,null,null,null,null,null,null,null,null,"",0,0,0,0,0,0,0,0,0,null,null,null,null,null,null,0,0,null,0,0,0,0,0,null,0,0,null,0,0,0,0,0,null,0,0,null,0,0,0,0,0,null,0,0,null,0,0,0,0,0,null,0,0,null,0,0,0,0,0,null,null,0,null,0,null,0,null,0,null,0,null,{"$f":"aaa","v":0},{"$f":"bbb","v":0},{"$f":"ccc","v":0},{"$f":"dddd","v":0},null,{"$f":"aaa","v":0},{"$f":"bbb","v":0},{"$f":"ccc","v":0},{"$f":"dddd","v":0},{"$f":"eee","v":0},{"$f":"fff","v":0},"","","","",null,null,"","","","","","","",0,"","","","","","","","","","","","","","","","","","","","","","","","",0,"","","","","","","","","","","","","","","","","",0,0,0,0,0,0,0,0,0,0,0,"","","0",0,0,0,null,null,0,0,null,null,0,0,0,0,"","","0",0,0,0,0,null,0,0,0,0,"","","0",0,0,0,0,null,0,0,0,0,"","","0",0,0,0,0,null,0,0,0,0,"","","0",0,0,0,0,0,0,0,0,"","","0",0,0,0,0,null,0,0,0,0,"","","0",0,0,0,0,null,null,null,null,null,"/2*7",0]
[null,null,null,null,null,{"$f":"IF(教学计划表!N53<>\"\",序号!C37,\"\")","v":""},null,null,{"$f":"IF(课程名称及编码!P37<>\"\",课程名称及编码!P37,\"\")","v":""},null,null,null,null,null,null,null,null,null,null,null,null,null,null,null,null,null,null,"",null,null,"",null,null,"",null,null,"",null,null,null,null,null,"",null,null,null,null,null,null,null,null,null,null,null,null,null,null,null,null,null,null,null,null,null,null,null,null,null,0,0,null,null,null,null,null,null,null,null,null,null,null,null,null,null,null,null,null,null,null,null,null,null,null,null,null,null,null,"","","","","","","","","","","","","",0,"","","","","15",0,"","","","","","","","","","","","","",0,"","","","","18",0,null,"","","","","","","","","","","","","",0,"","","","","18",0,null,"","","","","","","","","","","","","",0,"","","","","17",0,null,null,null,null,null,null,null,null,null,null,null,null,null,null,null,null,null,null,null,null,null,null,null,null,null,null,null,null,null,null,null,null,null,null,null,null,null,null,null,null,null,null,null,"",0,0,0,0,0,0,0,0,0,null,null,null,null,null,null,0,0,null,0,0,0,0,0,null,0,0,null,0,0,0,0,0,null,0,0,null,0,0,0,0,0,null,0,0,null,0,0,0,0,0,null,0,0,null,0,0,0,0,0,null,null,0,null,0,null,0,null,0,null,0,null,{"$f":"aaa","v":0},{"$f":"bbb","v":0},{"$f":"ccc","v":0},{"$f":"dddd","v":0},null,{"$f":"aaa","v":0},{"$f":"bbb","v":0},{"$f":"ccc","v":0},{"$f":"dddd","v":0},{"$f":"eee","v":0},{"$f":"fff","v":0},"","","","",null,null,"","","","","","","",0,"","","","","","","","","","","","","","","","","","","","","","","","",0,"","","","","","","","","","","","","","","","","",0,0,0,0,0,0,0,0,0,0,0,"","","0",0,0,0,null,null,0,0,null,null,0,0,0,0,"","","0",0,0,0,0,null,0,0,0,0,"","","0",0,0,0,0,null,0,0,0,0,"","","0",0,0,0,0,null,0,0,0,0,"","","0",0,0,0,0,0,0,0,0,"","","0",0,0,0,0,null,0,0,0,0,"","","0",0,0,0,0,null,null,null,null,null,"/2*8",0]
[null,null,null,null,null,{"$f":"IF(教学计划表!N54<>\"\",序号!C38,\"\")","v":""},null,null,{"$f":"IF(课程名称及编码!P38<>\"\",课程名称及编码!P38,\"\")","v":""},null,null,null,null,null,null,null,null,null,null,null,null,null,null,null,null,null,null,"",null,null,"",null,null,"",null,null,"",null,null,null,null,null,"",null,null,null,null,null,null,null,null,null,null,null,null,null,null,null,null,null,null,null,null,null,null,null,null,null,0,0,null,null,null,null,null,null,null,null,null,null,null,null,null,null,null,null,null,null,null,null,null,null,null,null,null,null,null,"","","","","","","","","","","","","",0,"","","","","15",0,"","","","","","","","","","","","","",0,"","","","","18",0,null,"","","","","","","","","","","","","",0,"","","","","18",0,null,"","","","","","","","","","","","","",0,"","","","","17",0,null,null,null,null,null,null,null,null,null,null,null,null,null,null,null,null,null,null,null,null,null,null,null,null,null,null,null,null,null,null,null,null,null,null,null,null,null,null,null,null,null,null,null,"",0,0,0,0,0,0,0,0,0,null,null,null,null,null,null,0,0,null,0,0,0,0,0,null,0,0,null,0,0,0,0,0,null,0,0,null,0,0,0,0,0,null,0,0,null,0,0,0,0,0,null,0,0,null,0,0,0,0,0,null,null,0,null,0,null,0,null,0,null,0,null,{"$f":"aaa","v":0},{"$f":"bbb","v":0},{"$f":"ccc","v":0},{"$f":"dddd","v":0},null,{"$f":"aaa","v":0},{"$f":"bbb","v":0},{"$f":"ccc","v":0},{"$f":"dddd","v":0},{"$f":"eee","v":0},{"$f":"fff","v":0},"","","","",null,null,"","","","","","","",0,"","","","","","","","","","","","","","","","","","","","","","","","",0,"","","","","","","","","","","","","","","","","",0,0,0,0,0,0,0,0,0,0,0,"","","0",0,0,0,null,null,0,0,null,null,0,0,0,0,"","","0",0,0,0,0,null,0,0,0,0,"","","0",0,0,0,0,null,0,0,0,0,"","","0",0,0,0,0,null,0,0,0,0,"","","0",0,0,0,0,0,0,0,0,"","","0",0,0,0,0,null,0,0,0,0,"","","0",0,0,0,0,null,null,null,null,null,"/2*9",0]
[null,null,null,null,null,{"$f":"IF(教学计划表!N55<>\"\",序号!C39,\"\")","v":""},null,null,{"$f":"IF(课程名称及编码!P39<>\"\",课程名称及编码!P39,\"\")","v":""},null,null,null,null,null,null,null,null,null,null,null,null,null,null,null,null,null,null,"",null,null,"",null,null,"",null,null,"",null,null,null,null,null,"",null,null,null,null,null,null,null,null,null,null,null,null,null,null,null,null,null,null,null,null,null,null,null,null,null,0,0,null,null,null,null,null,null,null,null,null,null,null,null,null,null,null,null,null,null,null,null,null,null,null,null,null,null,null,"","","","","","","","","","","","","",0,"","","","","15",0,"","","","","","","","","","","","","",0,"","","","","18",0,null,"","","","","","","","","","","","","",0,"","","","","18",0,null,"","","","","","","","","","","","","",0,"","","","","17",0,null,null,null,null,null,null,null,null,null,null,null,null,null,null,null,null,null,null,null,null,null,null,null,null,null,null,null,null,null,null,null,null,null,null,null,null,null,null,null,null,null,null,null,"",0,0,0,0,0,0,0,0,0,null,null,null,null,null,null,0,0,null,0,0,0,0,0,null,0,0,null,0,0,0,0,0,null,0,0,null,0,0,0,0,0,null,0,0,null,0,0,0,0,0,null,0,0,null,0,0,0,0,0,null,null,0,null,0,null,0,null,0,null,0,null,{"$f":"aaa","v":0},{"$f":"bbb","v":0},{"$f":"ccc","v":0},{"$f":"dddd","v":0},null,{"$f":"aaa","v":0},{"$f":"bbb","v":0},{"$f":"ccc","v":0},{"$f":"dddd","v":0},{"$f":"eee","v":0},{"$f":"fff","v":0},"","","","",null,null,"","","","","","","",0,"","","","","","","","","","","","","","","","","","","","","","","","",0,"","","","","","","","","","","","","","","","","",0,0,0,0,0,0,0,0,0,0,0,"","","0",0,0,0,null,null,0,0,null,null,0,0,0,0,"","","0",0,0,0,0,null,0,0,0,0,"","","0",0,0,0,0,null,0,0,0,0,"","","0",0,0,0,0,null,0,0,0,0,"","","0",0,0,0,0,0,0,0,0,"","","0",0,0,0,0,null,0,0,0,0,"","","0",0,0,0,0,null,null,null,null,null,"/2*10",0]
[null,null,null,"专\n业\n拓\n展\n课\n程",null,{"$f":"IF(教学计划表!N56<>\"\",序号!C40,\"\")","v":""},null,null,{"$f":"IF(课程名称及编码!P40<>\"\",课程名称及编码!P40,\"\")","v":""},null,null,null,null,null,null,null,null,null,null,null,null,null,null,null,null,null,null,"",null,null,"",null,null,"",null,null,"",null,null,null,null,null,"",null,null,null,null,null,null,null,null,null,null,null,null,null,null,null,null,null,null,null,null,null,null,null,null,null,0,0,null,null,null,null,null,null,null,null,null,null,null,null,null,null,null,null,null,null,null,null,null,null,null,null,null,null,null,"","","","","","","","","","","","","",0,"","","","","15",0,"","","","","","","","","","","","","",0,"","","","","18",0,null,"","","","","","","","","","","","","",0,"","","","","18",0,null,"","","","","","","","","","","","","",0,"","","","","17",0,null,null,null,null,null,null,null,null,null,null,null,null,null,null,null,null,null,null,null,null,null,null,null,null,null,null,null,null,null,null,null,null,null,null,null,null,null,null,null,null,null,null,null,"",0,0,0,0,0,0,0,0,0,null,null,null,null,null,null,0,0,null,0,0,0,0,0,null,0,0,null,0,0,0,0,0,null,0,0,null,0,0,0,0,0,null,0,0,null,0,0,0,0,0,null,0,0,null,0,0,0,0,0,null,null,0,null,0,null,0,null,0,null,0,null,{"$f":"aaa","v":0},{"$f":"bbb","v":0},{"$f":"ccc","v":0},{"$f":"dddd","v":0},null,{"$f":"aaa","v":0},{"$f":"bbb","v":0},{"$f":"ccc","v":0},{"$f":"dddd","v":0},{"$f":"eee","v":0},{"$f":"fff","v":0},"","","","",null,null,"","","","","","","",0,"","","","","","","","","","","","","","","","","","","","","","","","",0,"","","","","","","","","","","","","","","","","",0,0,0,0,0,0,0,0,0,0,0,"","","0",0,0,0,null,null,0,0,null,null,0,0,0,0,"","","0",0,0,0,0,null,0,0,0,0,"","","0",0,0,0,0,null,0,0,0,0,"","","0",0,0,0,0,null,0,0,0,0,"","","0",0,0,0,0,0,0,0,0,"","","0",0,0,0,0,null,0,0,0,0,"","","0",0,0,0,0,null,null,null,null,null,"/6*9",0]
[null,null,null,null,null,{"$f":"IF(教学计划表!N57<>\"\",序号!C41,\"\")","v":""},null,null,{"$f":"IF(课程名称及编码!P41<>\"\",课程名称及编码!P41,\"\")","v":""},null,null,null,null,null,null,null,null,null,null,null,null,null,null,null,null,null,null,"",null,null,"",null,null,"",null,null,"",null,null,null,null,null,"",null,null,null,null,null,null,null,null,null,null,null,null,null,null,null,null,null,null,null,null,null,null,null,null,null,0,0,null,null,null,null,null,null,null,null,null,null,null,null,null,null,null,null,null,null,null,null,null,null,null,null,null,null,null,"","","","","","","","","","","","","",0,"","","","","15",0,"","","","","","","","","","","","","",0,"","","","","18",0,null,"","","","","","","","","","","","","",0,"","","","","18",0,null,"","","","","","","","","","","","","",0,"","","","","17",0,null,null,null,null,null,null,null,null,null,null,null,null,null,null,null,null,null,null,null,null,null,null,null,null,null,null,null,null,null,null,null,null,null,null,null,null,null,null,null,null,null,null,null,"",0,0,0,0,0,0,0,0,0,null,null,null,null,null,null,0,0,null,0,0,0,0,0,null,0,0,null,0,0,0,0,0,null,0,0,null,0,0,0,0,0,null,0,0,null,0,0,0,0,0,null,0,0,null,0,0,0,0,0,null,null,0,null,0,null,0,null,0,null,0,null,{"$f":"aaa","v":0},{"$f":"bbb","v":0},{"$f":"ccc","v":0},{"$f":"dddd","v":0},null,{"$f":"aaa","v":0},{"$f":"bbb","v":0},{"$f":"ccc","v":0},{"$f":"dddd","v":0},{"$f":"eee","v":0},{"$f":"fff","v":0},"","","","",null,null,"","","","","","","",0,"","","","","","","","","","","","","","","","","","","","","","","","",0,"","","","","","","","","","","","","","","","","",0,0,0,0,0,0,0,0,0,0,0,"","","0",0,0,0,null,null,0,0,null,null,0,0,0,0,"","","0",0,0,0,0,null,0,0,0,0,"","","0",0,0,0,0,null,0,0,0,0,"","","0",0,0,0,0,null,0,0,0,0,"","","0",0,0,0,0,0,0,0,0,"","","0",0,0,0,0,null,0,0,0,0,"","","0",0,0,0,0,null,null,null,null,null,"2*4/",0]
[null,null,null,null,null,{"$f":"IF(教学计划表!N58<>\"\",序号!C42,\"\")","v":""},null,null,{"$f":"IF(课程名称及编码!P42<>\"\",课程名称及编码!P42,\"\")","v":""},null,null,null,null,null,null,null,null,null,null,null,null,null,null,null,null,null,null,"",null,null,"",null,null,"",null,null,"",null,null,null,null,null,"",null,null,null,null,null,null,null,null,null,null,null,null,null,null,null,null,null,null,null,null,null,null,null,null,null,0,0,null,null,null,null,null,null,null,null,null,null,null,null,null,null,null,null,null,null,null,null,null,null,null,null,null,null,null,"","","","","","","","","","","","","",0,"","","","","15",0,"","","","","","","","","","","","","",0,"","","","","18",0,null,"","","","","","","","","","","","","",0,"","","","","18",0,null,"","","","","","","","","","","","","",0,"","","","","17",0,null,null,null,null,null,null,null,null,null,null,null,null,null,null,null,null,null,null,null,null,null,null,null,null,null,null,null,null,null,null,null,null,null,null,null,null,null,null,null,null,null,null,null,"",0,0,0,0,0,0,0,0,0,null,null,null,null,null,null,0,0,null,0,0,0,0,0,null,0,0,null,0,0,0,0,0,null,0,0,null,0,0,0,0,0,null,0,0,null,0,0,0,0,0,null,0,0,null,0,0,0,0,0,null,null,0,null,0,null,0,null,0,null,0,null,{"$f":"aaa","v":0},{"$f":"bbb","v":0},{"$f":"ccc","v":0},{"$f":"dddd","v":0},null,{"$f":"aaa","v":0},{"$f":"bbb","v":0},{"$f":"ccc","v":0},{"$f":"dddd","v":0},{"$f":"eee","v":0},{"$f":"fff","v":0},"","","","",null,null,"","","","","","","",0,"","","","","","","","","","","","","","","","","","","","","","","","",0,"","","","","","","","","","","","","","","","","",0,0,0,0,0,0,0,0,0,0,0,"","","0",0,0,0,null,null,0,0,null,null,0,0,0,0,"","","0",0,0,0,0,null,0,0,0,0,"","","0",0,0,0,0,null,0,0,0,0,"","","0",0,0,0,0,null,0,0,0,0,"","","0",0,0,0,0,0,0,0,0,"","","0",0,0,0,0,null,0,0,0,0,"","","0",0,0,0,0,null,null,null,null,null,"2*6/",0]
[null,null,null,null,null,{"$f":"IF(教学计划表!N59<>\"\",序号!C43,\"\")","v":""},null,null,{"$f":"IF(课程名称及编码!P43<>\"\",课程名称及编码!P43,\"\")","v":""},null,null,null,null,null,null,null,null,null,null,null,null,null,null,null,null,null,null,"",null,null,"",null,null,"",null,null,"",null,null,null,null,null,"",null,null,null,null,null,null,null,null,null,null,null,null,null,null,null,null,null,null,null,null,null,null,null,null,null,0,0,null,null,null,null,null,null,null,null,null,null,null,null,null,null,null,null,null,null,null,null,null,null,null,null,null,null,null,"","","","","","","","","","","","","",0,"","","","","15",0,"","","","","","","","","","","","","",0,"","","","","18",0,null,"","","","","","","","","","","","","",0,"","","","","18",0,null,"","","","","","","","","","","","","",0,"","","","","17",0,null,null,null,null,null,null,null,null,null,null,null,null,null,null,null,null,null,null,null,null,null,null,null,null,null,null,null,null,null,null,null,null,null,null,null,null,null,null,null,null,null,null,null,"",0,0,0,0,0,0,0,0,0,null,null,null,null,null,null,0,0,null,0,0,0,0,0,null,0,0,null,0,0,0,0,0,null,0,0,null,0,0,0,0,0,null,0,0,null,0,0,0,0,0,null,0,0,null,0,0,0,0,0,null,null,0,null,0,null,0,null,0,null,0,null,{"$f":"aaa","v":0},{"$f":"bbb","v":0},{"$f":"ccc","v":0},{"$f":"dddd","v":0},null,{"$f":"aaa","v":0},{"$f":"bbb","v":0},{"$f":"ccc","v":0},{"$f":"dddd","v":0},{"$f":"eee","v":0},{"$f":"fff","v":0},"","","","",null,null,"","","","","","","",0,"","","","","","","","","","","","","","","","","","","","","","","","",0,"","","","","","","","","","","","","","","","","",0,0,0,0,0,0,0,0,0,0,0,"","","0",0,0,0,null,null,0,0,null,null,0,0,0,0,"","","0",0,0,0,0,null,0,0,0,0,"","","0",0,0,0,0,null,0,0,0,0,"","","0",0,0,0,0,null,0,0,0,0,"","","0",0,0,0,0,0,0,0,0,"","","0",0,0,0,0,null,0,0,0,0,"","","0",0,0,0,0,null,null,null,null,null,"2*7/",0]
[null,null,null,null,null,{"$f":"IF(教学计划表!N60<>\"\",序号!C44,\"\")","v":""},null,null,{"$f":"IF(课程名称及编码!P44<>\"\",课程名称及编码!P44,\"\")","v":""},null,null,null,null,null,null,null,null,null,null,null,null,null,null,null,null,null,null,"",null,null,"",null,null,"",null,null,"",null,null,null,null,null,"",null,null,null,null,null,null,null,null,null,null,null,null,null,null,null,null,null,null,null,null,null,null,null,null,null,0,0,null,null,null,null,null,null,null,null,null,null,null,null,null,null,null,null,null,null,null,null,null,null,null,null,null,null,null,"","","","","","","","","","","","","",0,"","","","","15",0,"","","","","","","","","","","","","",0,"","","","","18",0,null,"","","","","","","","","","","","","",0,"","","","","18",0,null,"","","","","","","","","","","","","",0,"","","","","17",0,null,null,null,null,null,null,null,null,null,null,null,null,null,null,null,null,null,null,null,null,null,null,null,null,null,null,null,null,null,null,null,null,null,null,null,null,null,null,null,null,null,null,null,"",0,0,0,0,0,0,0,0,0,null,null,null,null,null,null,0,0,null,0,0,0,0,0,null,0,0,null,0,0,0,0,0,null,0,0,null,0,0,0,0,0,null,0,0,null,0,0,0,0,0,null,0,0,null,0,0,0,0,0,null,null,0,null,0,null,0,null,0,null,0,null,{"$f":"aaa","v":0},{"$f":"bbb","v":0},{"$f":"ccc","v":0},{"$f":"dddd","v":0},null,{"$f":"aaa","v":0},{"$f":"bbb","v":0},{"$f":"ccc","v":0},{"$f":"dddd","v":0},{"$f":"eee","v":0},{"$f":"fff","v":0},"","","","",null,null,"","","","","","","",0,"","","","","","","","","","","","","","","","","","","","","","","","",0,"","","","","","","","","","","","","","","","","",0,0,0,0,0,0,0,0,0,0,0,"","","0",0,0,0,null,null,0,0,null,null,0,0,0,0,"","","0",0,0,0,0,null,0,0,0,0,"","","0",0,0,0,0,null,0,0,0,0,"","","0",0,0,0,0,null,0,0,0,0,"","","0",0,0,0,0,0,0,0,0,"","","0",0,0,0,0,null,0,0,0,0,"","","0",0,0,0,0,null,null,null,null,null,"2*8/",0]
[null,null,null,null,null,{"$f":"IF(教学计划表!N61<>\"\",序号!C45,\"\")","v":""},null,null,{"$f":"IF(课程名称及编码!P45<>\"\",课程名称及编码!P45,\"\")","v":""},null,null,null,null,null,null,null,null,null,null,null,null,null,null,null,null,null,null,"",null,null,"",null,null,"",null,null,"",null,null,null,null,null,"",null,null,null,null,null,null,null,null,null,null,null,null,null,null,null,null,null,null,null,null,null,null,null,null,null,0,0,null,null,null,null,null,null,null,null,null,null,null,null,null,null,null,null,null,null,null,null,null,null,null,null,null,null,null,"","","","","","","","","","","","","",0,"","","","","15",0,"","","","","","","","","","","","","",0,"","","","","18",0,null,"","","","","","","","","","","","","",0,"","","","","18",0,null,"","","","","","","","","","","","","",0,"","","","","17",0,null,null,null,null,null,null,null,null,null,null,null,null,null,null,null,null,null,null,null,null,null,null,null,null,null,null,null,null,null,null,null,null,null,null,null,null,null,null,null,null,null,null,null,"",0,0,0,0,0,0,0,0,0,null,null,null,null,null,null,0,0,null,0,0,0,0,0,null,0,0,null,0,0,0,0,0,null,0,0,null,0,0,0,0,0,null,0,0,null,0,0,0,0,0,null,0,0,null,0,0,0,0,0,null,null,0,null,0,null,0,null,0,null,0,null,{"$f":"aaa","v":0},{"$f":"bbb","v":0},{"$f":"ccc","v":0},{"$f":"dddd","v":0},null,{"$f":"aaa","v":0},{"$f":"bbb","v":0},{"$f":"ccc","v":0},{"$f":"dddd","v":0},{"$f":"eee","v":0},{"$f":"fff","v":0},"","","","",null,null,"","","","","","","",0,"","","","","","","","","","","","","","","","","","","","","","","","",0,"","","","","","","","","","","","","","","","","",0,0,0,0,0,0,0,0,0,0,0,"","","0",0,0,0,null,null,0,0,null,null,0,0,0,0,"","","0",0,0,0,0,null,0,0,0,0,"","","0",0,0,0,0,null,0,0,0,0,"","","0",0,0,0,0,null,0,0,0,0,"","","0",0,0,0,0,0,0,0,0,"","","0",0,0,0,0,null,0,0,0,0,"","","0",0,0,0,0,null,null,null,null,null,"2*9/",0]
[null,null,null,null,null,{"$f":"IF(教学计划表!N62<>\"\",序号!C46,\"\")","v":""},null,null,{"$f":"IF(课程名称及编码!P46<>\"\",课程名称及编码!P46,\"\")","v":""},null,null,null,null,null,null,null,null,null,null,null,null,null,null,null,null,null,null,"",null,null,"",null,null,"",null,null,"",null,null,null,null,null,"",null,null,null,null,null,null,null,null,null,null,null,null,null,null,null,null,null,null,null,null,null,null,null,null,null,0,0,null,null,null,null,null,null,null,null,null,null,null,null,null,null,null,null,null,null,null,null,null,null,null,null,null,null,null,"","","","","","","","","","","","","",0,"","","","","15",0,"","","","","","","","","","","","","",0,"","","","","18",0,null,"","","","","","","","","","","","","",0,"","","","","18",0,null,"","","","","","","","","","","","","",0,"","","","","17",0,null,null,null,null,null,null,null,null,null,null,null,null,null,null,null,null,null,null,null,null,null,null,null,null,null,null,null,null,null,null,null,null,null,null,null,null,null,null,null,null,null,null,null,"",0,0,0,0,0,0,0,0,0,null,null,null,null,null,null,0,0,null,0,0,0,0,0,null,0,0,null,0,0,0,0,0,null,0,0,null,0,0,0,0,0,null,0,0,null,0,0,0,0,0,null,0,0,null,0,0,0,0,0,null,null,0,null,0,null,0,null,0,null,0,null,{"$f":"aaa","v":0},{"$f":"bbb","v":0},{"$f":"ccc","v":0},{"$f":"dddd","v":0},null,{"$f":"aaa","v":0},{"$f":"bbb","v":0},{"$f":"ccc","v":0},{"$f":"dddd","v":0},{"$f":"eee","v":0},{"$f":"fff","v":0},"","","","",null,null,"","","","","","","",0,"","","","","","","","","","","","","","","","","","","","","","","","",0,"","","","","","","","","","","","","","","","","",0,0,0,0,0,0,0,0,0,0,0,"","","0",0,0,0,null,null,0,0,null,null,0,0,0,0,"","","0",0,0,0,0,null,0,0,0,0,"","","0",0,0,0,0,null,0,0,0,0,"","","0",0,0,0,0,null,0,0,0,0,"","","0",0,0,0,0,0,0,0,0,"","","0",0,0,0,0,null,0,0,0,0,"","","0",0,0,0,0,null,null,null,null,null,"2*10/",0]
[null,null,null,null,null,{"$f":"IF(教学计划表!N63<>\"\",序号!C47,\"\")","v":""},null,null,{"$f":"IF(课程名称及编码!P47<>\"\",课程名称及编码!P47,\"\")","v":""},null,null,null,null,null,null,null,null,null,null,null,null,null,null,null,null,null,null,"",null,null,"",null,null,"",null,null,"",null,null,null,null,null,"",null,null,null,null,null,null,null,null,null,null,null,null,null,null,null,null,null,null,null,null,null,null,null,null,null,0,0,null,null,null,null,null,null,null,null,null,null,null,null,null,null,null,null,null,null,null,null,null,null,null,null,null,null,null,"","","","","","","","","","","","","",0,"","","","","15",0,"","","","","","","","","","","","","",0,"","","","","18",0,null,"","","","","","","","","","","","","",0,"","","","","18",0,null,"","","","","","","","","","","","","",0,"","","","","17",0,null,null,null,null,null,null,null,null,null,null,null,null,null,null,null,null,null,null,null,null,null,null,null,null,null,null,null,null,null,null,null,null,null,null,null,null,null,null,null,null,null,null,null,"",0,0,0,0,0,0,0,0,0,null,null,null,null,null,null,0,0,null,0,0,0,0,0,null,0,0,null,0,0,0,0,0,null,0,0,null,0,0,0,0,0,null,0,0,null,0,0,0,0,0,null,0,0,null,0,0,0,0,0,null,null,0,null,0,null,0,null,0,null,0,null,{"$f":"aaa","v":0},{"$f":"bbb","v":0},{"$f":"ccc","v":0},{"$f":"dddd","v":0},null,{"$f":"aaa","v":0},{"$f":"bbb","v":0},{"$f":"ccc","v":0},{"$f":"dddd","v":0},{"$f":"eee","v":0},{"$f":"fff","v":0},"","","","",null,null,"","","","","","","",0,"","","","","","","","","","","","","","","","","","","","","","","","",0,"","","","","","","","","","","","","","","","","",0,0,0,0,0,0,0,0,0,0,0,"","","0",0,0,0,null,null,0,0,null,null,0,0,0,0,"","","0",0,0,0,0,null,0,0,0,0,"","","0",0,0,0,0,null,0,0,0,0,"","","0",0,0,0,0,null,0,0,0,0,"","","0",0,0,0,0,0,0,0,0,"","","0",0,0,0,0,null,0,0,0,0,"","","0",0,0,0,0,null,null,null,null,null,"2*11/",0]
[null,null,null,null,null,{"$f":"IF(教学计划表!N64<>\"\",序号!C48,\"\")","v":""},null,null,{"$f":"IF(课程名称及编码!P48<>\"\",课程名称及编码!P48,\"\")","v":""},null,null,null,null,null,null,null,null,null,null,null,null,null,null,null,null,null,null,"",null,null,"",null,null,"",null,null,"",null,null,null,null,null,"",null,null,null,null,null,null,null,null,null,null,null,null,null,null,null,null,null,null,null,null,null,null,null,null,null,0,0,null,null,null,null,null,null,null,null,null,null,null,null,null,null,null,null,null,null,null,null,null,null,null,null,null,null,null,"","","","","","","","","","","","","",0,"","","","","15",0,"","","","","","","","","","","","","",0,"","","","","18",0,null,"","","","","","","","","","","","","",0,"","","","","18",0,null,"","","","","","","","","","","","","",0,"","","","","17",0,null,null,null,null,null,null,null,null,null,null,null,null,null,null,null,null,null,null,null,null,null,null,null,null,null,null,null,null,null,null,null,null,null,null,null,null,null,null,null,null,null,null,null,"",0,0,0,0,0,0,0,0,0,null,null,null,null,null,null,0,0,null,0,0,0,0,0,null,0,0,null,0,0,0,0,0,null,0,0,null,0,0,0,0,0,null,0,0,null,0,0,0,0,0,null,0,0,null,0,0,0,0,0,null,null,0,null,0,null,0,null,0,null,0,null,{"$f":"aaa","v":0},{"$f":"bbb","v":0},{"$f":"ccc","v":0},{"$f":"dddd","v":0},null,{"$f":"aaa","v":0},{"$f":"bbb","v":0},{"$f":"ccc","v":0},{"$f":"dddd","v":0},{"$f":"eee","v":0},{"$f":"fff","v":0},"","","","",null,null,"","","","","","","",0,"","","","","","","","","","","","","","","","","","","","","","","","",0,"","","","","","","","","","","","","","","","","",0,0,0,0,0,0,0,0,0,0,0,"","","0",0,0,0,null,null,0,0,null,null,0,0,0,0,"","","0",0,0,0,0,null,0,0,0,0,"","","0",0,0,0,0,null,0,0,0,0,"","","0",0,0,0,0,null,0,0,0,0,"","","0",0,0,0,0,0,0,0,0,"","","0",0,0,0,0,null,0,0,0,0,"","","0",0,0,0,0,null,null,null,null,null,"6*7/",0]
[null,null,null,"技\n能\n课\n程",null,{"$f":"IF(教学计划表!N65<>\"\",序号!C49,\"\")","v":""},null,null,{"$f":"IF(课程名称及编码!P49<>\"\",课程名称及编码!P49,\"\")","v":""},null,null,null,null,null,null,null,null,null,null,null,null,null,null,null,null,null,null,"",null,null,"",null,null,"",null,null,"",null,null,null,null,null,"",null,null,null,null,null,null,null,null,null,null,null,null,null,null,null,null,null,null,null,null,null,null,null,null,null,0,0,null,null,null,null,null,null,null,null,null,null,null,null,null,null,null,null,null,null,null,null,null,null,null,null,null,null,null,"","","","","","","","","","","","","",0,"","","","","15",0,"","","","","","","","","","","","","",0,"","","","","18",0,null,"","","","","","","","","","","","","",0,"","","","","18",0,null,"","","","","","","","","","","","","",0,"","","","","17",0,null,null,null,null,null,null,null,null,null,null,null,null,null,null,null,null,null,null,null,null,null,null,null,null,null,null,null,null,null,null,null,null,null,null,null,null,null,null,null,null,null,null,null,"",0,0,0,0,0,0,0,0,0,null,null,null,null,null,null,0,0,null,0,0,0,0,0,null,0,0,null,0,0,0,0,0,null,0,0,null,0,0,0,0,0,null,0,0,null,0,0,0,0,0,null,0,0,null,0,0,0,0,0,null,null,0,null,0,null,0,null,0,null,0,null,{"$f":"aaa","v":0},{"$f":"bbb","v":0},{"$f":"ccc","v":0},{"$f":"dddd","v":0},null,{"$f":"aaa","v":0},{"$f":"bbb","v":0},{"$f":"ccc","v":0},{"$f":"dddd","v":0},{"$f":"eee","v":0},{"$f":"fff","v":0},"","","","",null,null,"","","","","","","",0,"","","","","","","","","","","","","","","","","","","","","","","","",0,"","","","","","","","","","","","","","","","","",0,0,0,0,0,0,0,0,0,0,0,"","","0",0,0,0,null,null,0,0,null,null,0,0,0,0,"","","0",0,0,0,0,null,0,0,0,0,"","","0",0,0,0,0,null,0,0,0,0,"","","0",0,0,0,0,null,0,0,0,0,"","","0",0,0,0,0,0,0,0,0,"","","0",0,0,0,0,null,0,0,0,0,"","","0",0,0,0,0,null,null,null,null,null,"(2)",0]
[null,null,null,null,null,{"$f":"IF(教学计划表!N66<>\"\",序号!C50,\"\")","v":""},null,null,{"$f":"IF(课程名称及编码!P50<>\"\",课程名称及编码!P50,\"\")","v":""},null,null,null,null,null,null,null,null,null,null,null,null,null,null,null,null,null,null,"",null,null,"",null,null,"",null,null,"",null,null,null,null,null,"",null,null,null,null,null,null,null,null,null,null,null,null,null,null,null,null,null,null,null,null,null,null,null,null,null,0,0,null,null,null,null,null,null,null,null,null,null,null,null,null,null,null,null,null,null,null,null,null,null,null,null,null,null,null,"","","","","","","","","","","","","",0,"","","","","15",0,"","","","","","","","","","","","","",0,"","","","","18",0,null,"","","","","","","","","","","","","",0,"","","","","18",0,null,"","","","","","","","","","","","","",0,"","","","","17",0,null,null,null,null,null,null,null,null,null,null,null,null,null,null,null,null,null,null,null,null,null,null,null,null,null,null,null,null,null,null,null,null,null,null,null,null,null,null,null,null,null,null,null,"",0,0,0,0,0,0,0,0,0,null,null,null,null,null,null,0,0,null,0,0,0,0,0,null,0,0,null,0,0,0,0,0,null,0,0,null,0,0,0,0,0,null,0,0,null,0,0,0,0,0,null,0,0,null,0,0,0,0,0,null,null,0,null,0,null,0,null,0,null,0,null,{"$f":"aaa","v":0},{"$f":"bbb","v":0},{"$f":"ccc","v":0},{"$f":"dddd","v":0},null,{"$f":"aaa","v":0},{"$f":"bbb","v":0},{"$f":"ccc","v":0},{"$f":"dddd","v":0},{"$f":"eee","v":0},{"$f":"fff","v":0},"","","","",null,null,"","","","","","","",0,"","","","","","","","","","","","","","","","","","","","","","","","",0,"","","","","","","","","","","","","","","","","",0,0,0,0,0,0,0,0,0,0,0,"","","0",0,0,0,null,null,0,0,null,null,0,0,0,0,"","","0",0,0,0,0,null,0,0,0,0,"","","0",0,0,0,0,null,0,0,0,0,"","","0",0,0,0,0,null,0,0,0,0,"","","0",0,0,0,0,0,0,0,0,"","","0",0,0,0,0,null,0,0,0,0,"","","0",0,0,0,0,null,null,null,null,null,"(4)",0]
[null,null,null,null,null,{"$f":"IF(教学计划表!N67<>\"\",序号!C51,\"\")","v":""},null,null,{"$f":"IF(课程名称及编码!P51<>\"\",课程名称及编码!P51,\"\")","v":""},null,null,null,null,null,null,null,null,null,null,null,null,null,null,null,null,null,null,"",null,null,"",null,null,"",null,null,"",null,null,null,null,null,"",null,null,null,null,null,null,null,null,null,null,null,null,null,null,null,null,null,null,null,null,null,null,null,null,null,0,0,null,null,null,null,null,null,null,null,null,null,null,null,null,null,null,null,null,null,null,null,null,null,null,null,null,null,null,"","","","","","","","","","","","","",0,"","","","","15",0,"","","","","","","","","","","","","",0,"","","","","18",0,null,"","","","","","","","","","","","","",0,"","","","","18",0,null,"","","","","","","","","","","","","",0,"","","","","17",0,null,null,null,null,null,null,null,null,null,null,null,null,null,null,null,null,null,null,null,null,null,null,null,null,null,null,null,null,null,null,null,null,null,null,null,null,null,null,null,null,null,null,null,"",0,0,0,0,0,0,0,0,0,null,null,null,null,null,null,0,0,null,0,0,0,0,0,null,0,0,null,0,0,0,0,0,null,0,0,null,0,0,0,0,0,null,0,0,null,0,0,0,0,0,null,0,0,null,0,0,0,0,0,null,null,0,null,0,null,0,null,0,null,0,null,{"$f":"aaa","v":0},{"$f":"bbb","v":0},{"$f":"ccc","v":0},{"$f":"dddd","v":0},null,{"$f":"aaa","v":0},{"$f":"bbb","v":0},{"$f":"ccc","v":0},{"$f":"dddd","v":0},{"$f":"eee","v":0},{"$f":"fff","v":0},"","","","",null,null,"","","","","","","",0,"","","","","","","","","","","","","","","","","","","","","","","","",0,"","","","","","","","","","","","","","","","","",0,0,0,0,0,0,0,0,0,0,0,"","","0",0,0,0,null,null,0,0,null,null,0,0,0,0,"","","0",0,0,0,0,null,0,0,0,0,"","","0",0,0,0,0,null,0,0,0,0,"","","0",0,0,0,0,null,0,0,0,0,"","","0",0,0,0,0,0,0,0,0,"","","0",0,0,0,0,null,0,0,0,0,"","","0",0,0,0,0,null,null,null,null,null,"1周",0]
[null,null,null,null,null,{"$f":"IF(教学计划表!N68<>\"\",序号!C52,\"\")","v":""},null,null,{"$f":"IF(课程名称及编码!P52<>\"\",课程名称及编码!P52,\"\")","v":""},null,null,null,null,null,null,null,null,null,null,null,null,null,null,null,null,null,null,"",null,null,"",null,null,"",null,null,"",null,null,null,null,null,"",null,null,null,null,null,null,null,null,null,null,null,null,null,null,null,null,null,null,null,null,null,null,null,null,null,0,0,null,null,null,null,null,null,null,null,null,null,null,null,null,null,null,null,null,null,null,null,null,null,null,null,null,null,null,"","","","","","","","","","","","","",0,"","","","","15",0,"","","","","","","","","","","","","",0,"","","","","18",0,null,"","","","","","","","","","","","","",0,"","","","","18",0,null,"","","","","","","","","","","","","",0,"","","","","17",0,null,null,null,null,null,null,null,null,null,null,null,null,null,null,null,null,null,null,null,null,null,null,null,null,null,null,null,null,null,null,null,null,null,null,null,null,null,null,null,null,null,null,null,"",0,0,0,0,0,0,0,0,0,null,null,null,null,null,null,0,0,null,0,0,0,0,0,null,0,0,null,0,0,0,0,0,null,0,0,null,0,0,0,0,0,null,0,0,null,0,0,0,0,0,null,0,0,null,0,0,0,0,0,null,null,0,null,0,null,0,null,0,null,0,null,{"$f":"aaa","v":0},{"$f":"bbb","v":0},{"$f":"ccc","v":0},{"$f":"dddd","v":0},null,{"$f":"aaa","v":0},{"$f":"bbb","v":0},{"$f":"ccc","v":0},{"$f":"dddd","v":0},{"$f":"eee","v":0},{"$f":"fff","v":0},"","","","",null,null,"","","","","","","",0,"","","","","","","","","","","","","","","","","","","","","","","","",0,"","","","","","","","","","","","","","","","","",0,0,0,0,0,0,0,0,0,0,0,"","","0",0,0,0,null,null,0,0,null,null,0,0,0,0,"","","0",0,0,0,0,null,0,0,0,0,"","","0",0,0,0,0,null,0,0,0,0,"","","0",0,0,0,0,null,0,0,0,0,"","","0",0,0,0,0,0,0,0,0,"","","0",0,0,0,0,null,0,0,0,0,"","","0",0,0,0,0,null,null,null,null,null,"2周",0]
[null,null,null,null,null,{"$f":"IF(教学计划表!N69<>\"\",序号!C53,\"\")","v":""},null,null,{"$f":"IF(课程名称及编码!P53<>\"\",课程名称及编码!P53,\"\")","v":""},null,null,null,null,null,null,null,null,null,null,null,null,null,null,null,null,null,null,"",null,null,"",null,null,"",null,null,"",null,null,null,null,null,"",null,null,null,null,null,null,null,null,null,null,null,null,null,null,null,null,null,null,null,null,null,null,null,null,null,0,0,null,null,null,null,null,null,null,null,null,null,null,null,null,null,null,null,null,null,null,null,null,null,null,null,null,null,null,"","","","","","","","","","","","","",0,"","","","","15",0,"","","","","","","","","","","","","",0,"","","","","18",0,null,"","","","","","","","","","","","","",0,"","","","","18",0,null,"","","","","","","","","","","","","",0,"","","","","17",0,null,null,null,null,null,null,null,null,null,null,null,null,null,null,null,null,null,null,null,null,null,null,null,null,null,null,null,null,null,null,null,null,null,null,null,null,null,null,null,null,null,null,null,"",0,0,0,0,0,0,0,0,0,null,null,null,null,null,null,0,0,null,0,0,0,0,0,null,0,0,null,0,0,0,0,0,null,0,0,null,0,0,0,0,0,null,0,0,null,0,0,0,0,0,null,0,0,null,0,0,0,0,0,null,null,0,null,0,null,0,null,0,null,0,null,{"$f":"aaa","v":0},{"$f":"bbb","v":0},{"$f":"ccc","v":0},{"$f":"dddd","v":0},null,{"$f":"aaa","v":0},{"$f":"bbb","v":0},{"$f":"ccc","v":0},{"$f":"dddd","v":0},{"$f":"eee","v":0},{"$f":"fff","v":0},"","","","",null,null,"","","","","","","",0,"","","","","","","","","","","","","","","","","","","","","","","","",0,"","","","","","","","","","","","","","","","","",0,0,0,0,0,0,0,0,0,0,0,"","","0",0,0,0,null,null,0,0,null,null,0,0,0,0,"","","0",0,0,0,0,null,0,0,0,0,"","","0",0,0,0,0,null,0,0,0,0,"","","0",0,0,0,0,null,0,0,0,0,"","","0",0,0,0,0,0,0,0,0,"","","0",0,0,0,0,null,0,0,0,0,"","","0",0,0,0,0,null,null,null,null,null,"3周",0]
[null,null,null,null,null,{"$f":"IF(教学计划表!N70<>\"\",序号!C54,\"\")","v":""},null,null,{"$f":"IF(课程名称及编码!P54<>\"\",课程名称及编码!P54,\"\")","v":""},null,null,null,null,null,null,null,null,null,null,null,null,null,null,null,null,null,null,"",null,null,"",null,null,"",null,null,"",null,null,null,null,null,"",null,null,null,null,null,null,null,null,null,null,null,null,null,null,null,null,null,null,null,null,null,null,null,null,null,0,0,null,null,null,null,null,null,null,null,null,null,null,null,null,null,null,null,null,null,null,null,null,null,null,null,null,null,null,"","","","","","","","","","","","","",0,"","","","","15",0,"","","","","","","","","","","","","",0,"","","","","18",0,null,"","","","","","","","","","","","","",0,"","","","","18",0,null,"","","","","","","","","","","","","",0,"","","","","17",0,null,null,null,null,null,null,null,null,null,null,null,null,null,null,null,null,null,null,null,null,null,null,null,null,null,null,null,null,null,null,null,null,null,null,null,null,null,null,null,null,null,null,null,"",0,0,0,0,0,0,0,0,0,null,null,null,null,null,null,0,0,null,0,0,0,0,0,null,0,0,null,0,0,0,0,0,null,0,0,null,0,0,0,0,0,null,0,0,null,0,0,0,0,0,null,0,0,null,0,0,0,0,0,null,null,0,null,0,null,0,null,0,null,0,null,{"$f":"aaa","v":0},{"$f":"bbb","v":0},{"$f":"ccc","v":0},{"$f":"dddd","v":0},null,{"$f":"aaa","v":0},{"$f":"bbb","v":0},{"$f":"ccc","v":0},{"$f":"dddd","v":0},{"$f":"eee","v":0},{"$f":"fff","v":0},"","","","",null,null,"","","","","","","",0,"","","","","","","","","","","","","","","","","","","","","","","","",0,"","","","","","","","","","","","","","","","","",0,0,0,0,0,0,0,0,0,0,0,"","","0",0,0,0,null,null,0,0,null,null,0,0,0,0,"","","0",0,0,0,0,null,0,0,0,0,"","","0",0,0,0,0,null,0,0,0,0,"","","0",0,0,0,0,null,0,0,0,0,"","","0",0,0,0,0,0,0,0,0,"","","0",0,0,0,0,null,0,0,0,0,"","","0",0,0,0,0,null,null,null,null,null,"4周",0]
[null,null,null,null,null,{"$f":"IF(教学计划表!N71<>\"\",序号!C55,\"\")","v":""},null,null,{"$f":"IF(课程名称及编码!P55<>\"\",课程名称及编码!P55,\"\")","v":""},null,null,null,null,null,null,null,null,null,null,null,null,null,null,null,null,null,null,"",null,null,"",null,null,"",null,null,"",null,null,null,null,null,"",null,null,null,null,null,null,null,null,null,null,null,null,null,null,null,null,null,null,null,null,null,null,null,null,null,0,0,null,null,null,null,null,null,null,null,null,null,null,null,null,null,null,null,null,null,null,null,null,null,null,null,null,null,null,"","","","","","","","","","","","","",0,"","","","","15",0,"","","","","","","","","","","","","",0,"","","","","18",0,null,"","","","","","","","","","","","","",0,"","","","","18",0,null,"","","","","","","","","","","","","",0,"","","","","17",0,null,null,null,null,null,null,null,null,null,null,null,null,null,null,null,null,null,null,null,null,null,null,null,null,null,null,null,null,null,null,null,null,null,null,null,null,null,null,null,null,null,null,null,"",0,0,0,0,0,0,0,0,0,null,null,null,null,null,null,0,0,null,0,0,0,0,0,null,0,0,null,0,0,0,0,0,null,0,0,null,0,0,0,0,0,null,0,0,null,0,0,0,0,0,null,0,0,null,0,0,0,0,0,null,null,0,null,0,null,0,null,0,null,0,null,{"$f":"aaa","v":0},{"$f":"bbb","v":0},{"$f":"ccc","v":0},{"$f":"dddd","v":0},null,{"$f":"aaa","v":0},{"$f":"bbb","v":0},{"$f":"ccc","v":0},{"$f":"dddd","v":0},{"$f":"eee","v":0},{"$f":"fff","v":0},"","","","",null,null,"","","","","","","",0,"","","","","","","","","","","","","","","","","","","","","","","","",0,"","","","","","","","","","","","","","","","","",0,0,0,0,0,0,0,0,0,0,0,"","","0",0,0,0,null,null,0,0,null,null,0,0,0,0,"","","0",0,0,0,0,null,0,0,0,0,"","","0",0,0,0,0,null,0,0,0,0,"","","0",0,0,0,0,null,0,0,0,0,"","","0",0,0,0,0,0,0,0,0,"","","0",0,0,0,0,null,0,0,0,0,"","","0",0,0,0,0,null,null,null,null,null,"5周",0]
[null,null,null,null,null,{"$f":"IF(教学计划表!N72<>\"\",序号!C56,\"\")","v":""},null,null,{"$f":"IF(课程名称及编码!P56<>\"\",课程名称及编码!P56,\"\")","v":""},null,null,null,null,null,null,null,null,null,null,null,null,null,null,null,null,null,null,"",null,null,"",null,null,"",null,null,"",null,null,null,null,null,"",null,null,null,null,null,null,null,null,null,null,null,null,null,null,null,null,null,null,null,null,null,null,null,null,null,0,0,null,null,null,null,null,null,null,null,null,null,null,null,null,null,null,null,null,null,null,null,null,null,null,null,null,null,null,"","","","","","","","","","","","","",0,"","","","","15",0,"","","","","","","","","","","","","",0,"","","","","18",0,null,"","","","","","","","","","","","","",0,"","","","","18",0,null,"","","","","","","","","","","","","",0,"","","","","17",0,null,null,null,null,null,null,null,null,null,null,null,null,null,null,null,null,null,null,null,null,null,null,null,null,null,null,null,null,null,null,null,null,null,null,null,null,null,null,null,null,null,null,null,"",0,0,0,0,0,0,0,0,0,null,null,null,null,null,null,0,0,null,0,0,0,0,0,null,0,0,null,0,0,0,0,0,null,0,0,null,0,0,0,0,0,null,0,0,null,0,0,0,0,0,null,0,0,null,0,0,0,0,0,null,null,0,null,0,null,0,null,0,null,0,null,{"$f":"aaa","v":0},{"$f":"bbb","v":0},{"$f":"ccc","v":0},{"$f":"dddd","v":0},null,{"$f":"aaa","v":0},{"$f":"bbb","v":0},{"$f":"ccc","v":0},{"$f":"dddd","v":0},{"$f":"eee","v":0},{"$f":"fff","v":0},"","","","",null,null,"","","","","","","",0,"","","","","","","","","","","","","","","","","","","","","","","","",0,"","","","","","","","","","","","","","","","","",0,0,0,0,0,0,0,0,0,0,0,"","","0",0,0,0,null,null,0,0,null,null,0,0,0,0,"","","0",0,0,0,0,null,0,0,0,0,"","","0",0,0,0,0,null,0,0,0,0,"","","0",0,0,0,0,null,0,0,0,0,"","","0",0,0,0,0,0,0,0,0,"","","0",0,0,0,0,null,0,0,0,0,"","","0",0,0,0,0,null,null,null,null,null,"6周",0]
[null,null,null,null,null,{"$f":"IF(教学计划表!N73<>\"\",序号!C57,\"\")","v":""},null,null,{"$f":"IF(课程名称及编码!P57<>\"\",课程名称及编码!P57,\"\")","v":""},null,null,null,null,null,null,null,null,null,null,null,null,null,null,null,null,null,null,"",null,null,"",null,null,"",null,null,"",null,null,null,null,null,"",null,null,null,null,null,null,null,null,null,null,null,null,null,null,null,null,null,null,null,null,null,null,null,null,null,0,0,null,null,null,null,null,null,null,null,null,null,null,null,null,null,null,null,null,null,null,null,null,null,null,null,null,null,null,"","","","","","","","","","","","","",0,"","","","","15",0,"","","","","","","","","","","","","",0,"","","","","18",0,null,"","","","","","","","","","","","","",0,"","","","","18",0,null,"","","","","","","","","","","","","",0,"","","","","17",0,null,null,null,null,null,null,null,null,null,null,null,null,null,null,null,null,null,null,null,null,null,null,null,null,null,null,null,null,null,null,null,null,null,null,null,null,null,null,null,null,null,null,null,"",0,0,0,0,0,0,0,0,0,null,null,null,null,null,null,0,0,null,0,0,0,0,0,null,0,0,null,0,0,0,0,0,null,0,0,null,0,0,0,0,0,null,0,0,null,0,0,0,0,0,null,0,0,null,0,0,0,0,0,null,null,0,null,0,null,0,null,0,null,0,null,{"$f":"aaa","v":0},{"$f":"bbb","v":0},{"$f":"ccc","v":0},{"$f":"dddd","v":0},null,{"$f":"aaa","v":0},{"$f":"bbb","v":0},{"$f":"ccc","v":0},{"$f":"dddd","v":0},{"$f":"eee","v":0},{"$f":"fff","v":0},"","","","",null,null,"","","","","","","",0,"","","","","","","","","","","","","","","","","","","","","","","","",0,"","","","","","","","","","","","","","","","","",0,0,0,0,0,0,0,0,0,0,0,"","","0",0,0,0,null,null,0,0,null,null,0,0,0,0,"","","0",0,0,0,0,null,0,0,0,0,"","","0",0,0,0,0,null,0,0,0,0,"","","0",0,0,0,0,null,0,0,0,0,"","","0",0,0,0,0,0,0,0,0,"","","0",0,0,0,0,null,0,0,0,0,"","","0",0,0,0,0,null,null,null,null,null,"7周",0]
[null,null,null,null,null,{"$f":"IF(教学计划表!N74<>\"\",序号!C58,\"\")","v":""},null,null,{"$f":"IF(课程名称及编码!P58<>\"\",课程名称及编码!P58,\"\")","v":""},null,null,null,null,null,null,null,null,null,null,null,null,null,null,null,null,null,null,"",null,null,"",null,null,"",null,null,"",null,null,null,null,null,"",null,null,null,null,null,null,null,null,null,null,null,null,null,null,null,null,null,null,null,null,null,null,null,null,null,0,0,null,null,null,null,null,null,null,null,null,null,null,null,null,null,null,null,null,null,null,null,null,null,null,null,null,null,null,"","","","","","","","","","","","","",0,"","","","","15",0,"","","","","","","","","","","","","",0,"","","","","18",0,null,"","","","","","","","","","","","","",0,"","","","","18",0,null,"","","","","","","","","","","","","",0,"","","","","17",0,null,null,null,null,null,null,null,null,null,null,null,null,null,null,null,null,null,null,null,null,null,null,null,null,null,null,null,null,null,null,null,null,null,null,null,null,null,null,null,null,null,null,null,"",0,0,0,0,0,0,0,0,0,null,null,null,null,null,null,0,0,null,0,0,0,0,0,null,0,0,null,0,0,0,0,0,null,0,0,null,0,0,0,0,0,null,0,0,null,0,0,0,0,0,null,0,0,null,0,0,0,0,0,null,null,0,null,0,null,0,null,0,null,0,null,{"$f":"aaa","v":0},{"$f":"bbb","v":0},{"$f":"ccc","v":0},{"$f":"dddd","v":0},null,{"$f":"aaa","v":0},{"$f":"bbb","v":0},{"$f":"ccc","v":0},{"$f":"dddd","v":0},{"$f":"eee","v":0},{"$f":"fff","v":0},"","","","",null,null,"","","","","","","",0,"","","","","","","","","","","","","","","","","","","","","","","","",0,"","","","","","","","","","","","","","","","","",0,0,0,0,0,0,0,0,0,0,0,"","","0",0,0,0,null,null,0,0,null,null,0,0,0,0,"","","0",0,0,0,0,null,0,0,0,0,"","","0",0,0,0,0,null,0,0,0,0,"","","0",0,0,0,0,null,0,0,0,0,"","","0",0,0,0,0,0,0,0,0,"","","0",0,0,0,0,null,0,0,0,0,"","","0",0,0,0,0,null,null,null,null,null,"8周",0]
[null,null,null,null,null,{"$f":"IF(教学计划表!N75<>\"\",序号!C59,\"\")","v":""},null,null,{"$f":"IF(课程名称及编码!P59<>\"\",课程名称及编码!P59,\"\")","v":""},null,null,null,null,null,null,null,null,null,null,null,null,null,null,null,null,null,null,"",null,null,"",null,null,"",null,null,"",null,null,null,null,null,"",null,null,null,null,null,null,null,null,null,null,null,null,null,null,null,null,null,null,null,null,null,null,null,null,null,0,0,null,null,null,null,null,null,null,null,null,null,null,null,null,null,null,null,null,null,null,null,null,null,null,null,null,null,null,"","","","","","","","","","","","","",0,"","","","","15",0,"","","","","","","","","","","","","",0,"","","","","18",0,null,"","","","","","","","","","","","","",0,"","","","","18",0,null,"","","","","","","","","","","","","",0,"","","","","17",0,null,null,null,null,null,null,null,null,null,null,null,null,null,null,null,null,null,null,null,null,null,null,null,null,null,null,null,null,null,null,null,null,null,null,null,null,null,null,null,null,null,null,null,"",0,0,0,0,0,0,0,0,0,null,null,null,null,null,null,0,0,null,0,0,0,0,0,null,0,0,null,0,0,0,0,0,null,0,0,null,0,0,0,0,0,null,0,0,null,0,0,0,0,0,null,0,0,null,0,0,0,0,0,null,null,0,null,0,null,0,null,0,null,0,null,{"$f":"aaa","v":0},{"$f":"bbb","v":0},{"$f":"ccc","v":0},{"$f":"dddd","v":0},null,{"$f":"aaa","v":0},{"$f":"bbb","v":0},{"$f":"ccc","v":0},{"$f":"dddd","v":0},{"$f":"eee","v":0},{"$f":"fff","v":0},"","","","",null,null,"","","","","","","",0,"","","","","","","","","","","","","","","","","","","","","","","","",0,"","","","","","","","","","","","","","","","","",0,0,0,0,0,0,0,0,0,0,0,"","","0",0,0,0,null,null,0,0,null,null,0,0,0,0,"","","0",0,0,0,0,null,0,0,0,0,"","","0",0,0,0,0,null,0,0,0,0,"","","0",0,0,0,0,null,0,0,0,0,"","","0",0,0,0,0,0,0,0,0,"","","0",0,0,0,0,null,0,0,0,0,"","","0",0,0,0,0,null,null,null,null,null,"9周",0]
[null,null,null,null,null,{"$f":"IF(教学计划表!N76<>\"\",序号!C60,\"\")","v":""},null,null,{"$f":"IF(课程名称及编码!P60<>\"\",课程名称及编码!P60,\"\")","v":""},null,null,null,null,null,null,null,null,null,null,null,null,null,null,null,null,null,null,"",null,null,"",null,null,"",null,null,"",null,null,null,null,null,"",null,null,null,null,null,null,null,null,null,null,null,null,null,null,null,null,null,null,null,null,null,null,null,null,null,0,0,null,null,null,null,null,null,null,null,null,null,null,null,null,null,null,null,null,null,null,null,null,null,null,null,null,null,null,"","","","","","","","","","","","","",0,"","","","","15",0,"","","","","","","","","","","","","",0,"","","","","18",0,null,"","","","","","","","","","","","","",0,"","","","","18",0,null,"","","","","","","","","","","","","",0,"","","","","17",0,null,null,null,null,null,null,null,null,null,null,null,null,null,null,null,null,null,null,null,null,null,null,null,null,null,null,null,null,null,null,null,null,null,null,null,null,null,null,null,null,null,null,null,"",0,0,0,0,0,0,0,0,0,null,null,null,null,null,null,0,0,null,0,0,0,0,0,null,0,0,null,0,0,0,0,0,null,0,0,null,0,0,0,0,0,null,0,0,null,0,0,0,0,0,null,0,0,null,0,0,0,0,0,null,null,0,null,0,null,0,null,0,null,0,null,{"$f":"aaa","v":0},{"$f":"bbb","v":0},{"$f":"ccc","v":0},{"$f":"dddd","v":0},null,{"$f":"aaa","v":0},{"$f":"bbb","v":0},{"$f":"ccc","v":0},{"$f":"dddd","v":0},{"$f":"eee","v":0},{"$f":"fff","v":0},"","","","",null,null,"","","","","","","",0,"","","","","","","","","","","","","","","","","","","","","","","","",0,"","","","","","","","","","","","","","","","","",0,0,0,0,0,0,0,0,0,0,0,"","","0",0,0,0,null,null,0,0,null,null,0,0,0,0,"","","0",0,0,0,0,null,0,0,0,0,"","","0",0,0,0,0,null,0,0,0,0,"","","0",0,0,0,0,null,0,0,0,0,"","","0",0,0,0,0,0,0,0,0,"","","0",0,0,0,0,null,0,0,0,0,"","","0",0,0,0,0,null,null,null,null,null,"10周",0]
[null,null,null,null,null,{"$f":"IF(教学计划表!N77<>\"\",序号!C61,\"\")","v":""},null,null,{"$f":"IF(课程名称及编码!P61<>\"\",课程名称及编码!P61,\"\")","v":""},null,null,null,null,null,null,null,null,null,null,null,null,null,null,null,null,null,null,"",null,null,"",null,null,"",null,null,"",null,null,null,null,null,"",null,null,null,null,null,null,null,null,null,null,null,null,null,null,null,null,null,null,null,null,null,null,null,null,null,0,0,null,null,null,null,null,null,null,null,null,null,null,null,null,null,null,null,null,null,null,null,null,null,null,null,null,null,null,"","","","","","","","","","","","","",0,"","","","","15",0,"","","","","","","","","","","","","",0,"","","","","18",0,null,"","","","","","","","","","","","","",0,"","","","","18",0,null,"","","","","","","","","","","","","",0,"","","","","17",0,null,null,null,null,null,null,null,null,null,null,null,null,null,null,null,null,null,null,null,null,null,null,null,null,null,null,null,null,null,null,null,null,null,null,null,null,null,null,null,null,null,null,null,"",0,0,0,0,0,0,0,0,0,null,null,null,null,null,null,0,0,null,0,0,0,0,0,null,0,0,null,0,0,0,0,0,null,0,0,null,0,0,0,0,0,null,0,0,null,0,0,0,0,0,null,0,0,null,0,0,0,0,0,null,null,0,null,0,null,0,null,0,null,0,null,{"$f":"IF(JG77<>0,1,0)","v":0},null,{"$f":"IF(JP77<>0,1,0)","v":0},null,null,{"$f":"aaa","v":0},{"$f":"bbb","v":0},{"$f":"ccc","v":0},{"$f":"dddd","v":0},{"$f":"eee","v":0},{"$f":"fff","v":0},"","","","",null,null,"","","","","","","",0,"","","","","","","","","","","","","","","","","","","","","","","","",0,"","","","","","","","","","","","","","","","","",0,0,0,0,0,0,0,0,0,0,0,"","","0",0,0,0,null,null,0,0,null,null,0,0,0,0,"","","0",0,0,0,0,null,0,0,0,0,"","","0",0,0,0,0,null,0,0,0,0,"","","0",0,0,0,0,null,0,0,0,0,"","","0",0,0,0,0,0,0,0,0,"","","0",0,0,0,0,null,0,0,0,0,"","","0",0,0,0,0,null,null,null,null,null,"11周",0]
[null,null,null,null,null,{"$f":"IF(教学计划表!N78<>\"\",序号!C62,\"\")","v":""},null,null,{"$f":"IF(课程名称及编码!P62<>\"\",课程名称及编码!P62,\"\")","v":""},null,null,null,null,null,null,null,null,null,null,null,null,null,null,null,null,null,null,"",null,null,"",null,null,"",null,null,"",null,null,null,null,null,"",null,null,null,null,null,null,null,null,null,null,null,null,null,null,null,null,null,null,null,null,null,null,null,null,null,0,0,null,null,null,null,null,null,null,null,null,null,null,null,null,null,null,null,null,null,null,null,null,null,null,null,null,null,null,"","","","","","","","","","","","","",0,"","","","","15",0,"","","","","","","","","","","","","",0,"","","","","18",0,null,"","","","","","","","","","","","","",0,"","","","","18",0,null,"","","","","","","","","","","","","",0,"","","","","17",0,null,null,null,null,null,null,null,null,null,null,null,null,null,null,null,null,null,null,null,null,null,null,null,null,null,null,null,null,null,null,null,null,null,null,null,null,null,null,null,null,null,null,null,{"$f":"IF(OR(CU78=1,DO78=1,EJ78=1,FE78=1,FZ78=1,GU78=1),1,\"\")","v":""},{"$f":"SUM(DM78,EG78,FB78,FW78,GR78,HM78)","v":0},{"$f":"IF(HO78=\"\",HP78,\"(\"&HP78&\")\")","v":0},{"$f":"IFERROR(HQ78,\"\")","v":0},{"$f":"AN78","v":0},{"$f":"IF(AND(HO78=1,AN78<>\"\"),RIGHT(HS78,LEN(HS78)-1),HS78)","v":0},{"$f":"IF(AND(HO78=1,AN78<>\"\"),LEFT(HT78,LEN(HT78)-1),HT78)","v":0},{"$f":"HP78-HU78","v":0},{"$f":"IF(HO78=1,\"(\"&HV78&\")\",HV78)","v":0},{"$f":"IFERROR(HW78,\"\")","v":0},null,null,null,null,null,null,{"$f":"IF(DG78=\"26\",0,DG78)","v":0},{"$f":"IF(CU78=1,0,IE78)","v":0},null,0,0,0,0,0,null,{"$f":"IF(EA78=\"26\",0,EA78)","v":0},0,null,0,0,0,0,0,null,{"$f":"IF(EV78=\"26\",0,EV78)","v":0},0,null,0,0,0,0,0,null,{"$f":"IF(FQ78=\"26\",0,FQ78)","v":0},0,null,0,0,0,0,0,null,{"$f":"IF(GL78=\"26\",0,GL78)","v":0},0,null,0,0,0,0,0,null,null,{"$f":"IF(IF78<>0,1,0)","v":0},null,{"$f":"IF(IO78<>0,1,0)","v":0},null,{"$f":"IF(IX78<>0,1,0)","v":0},null,0,null,0,null,{"$f":"IF(JG78<>0,1,0)","v":0},null,{"$f":"IF(JP78<>0,1,0)","v":0},null,null,{"$f":"aaa","v":0},{"$f":"bbb","v":0},{"$f":"ccc","v":0},{"$f":"dddd","v":0},{"$f":"eee","v":0},{"$f":"fff","v":0},"","","","",null,null,{"$f":"IF(AND(KN78<>0,KT78=1),1,\"\")","v":""},{"$f":"IF(AND(KO78<>0,KU78=1),2,\"\")","v":""},{"$f":"IF(AND(KP78<>0,KV78=1),3,\"\")","v":""},{"$f":"IF(AND(KQ78<>0,KW78=1),4,\"\")","v":""},{"$f":"IF(AND(KR78<>0,KX78=1),5,\"\")","v":""},{"$f":"IF(AND(KS78<>0,KY78=1),6,\"\")","v":""},{"$f":"CONCATENATE(KZ78,LA78,LB78,LC78,LD78,LE78)","v":""},{"$f":"LEN(LF78)","v":0},{"$f":"IF(LG78=1,CONCATENATE(KZ78,LA78,LB78,LC78,LD78,LE78),\"\")","v":""},{"$f":"IF(LG78=2,LF78,\"\")","v":""},{"$f":"IF(LI78<>\"\",LEFT(LI78,1),\"\")","v":""},{"$f":"IF(LI78<>\"\",RIGHT(LI78,1),\"\")","v":""},{"$f":"IF(LI78<>\"\",LJ78&\",\"&LK78,\"\")","v":""},{"$f":"IF(LG78=3,LF78,\"\")","v":""},{"$f":"IF(LM78<>\"\",LEFT(LM78,1),\"\")","v":""},{"$f":"IF(LM78<>\"\",MID(LM78,2,1),\"\")","v":""},{"$f":"IF(LM78<>\"\",RIGHT(LM78,1),\"\")","v":""},{"$f":"IF(LM78<>\"\",LN78&\",\"&LO78&\",\"&LP78,\"\")","v":""},{"$f":"IF(LG78=4,LF78,\"\")","v":""},{"$f":"IF(LR78<>\"\",LEFT(LR78,1),\"\")","v":""},{"$f":"IF(LR78<>\"\",MID(LR78,2,1),\"\")","v":""},{"$f":"IF(LR78<>\"\",MID(LR78,3,1),\"\")","v":""},{"$f":"IF(LR78<>\"\",RIGHT(LR78,1),\"\")","v":""},{"$f":"IF(LR78<>\"\",LS78&\",\"&LT78&\",\"&LU78&\",\"&LV78,\"\")","v":""},{"$f":"LH78&LL78&LQ78&LW78","v":""},{"$f":"IF(AND(KT78=1,KZ78=\"\"),1,\"\")","v":""},{"$f":"IF(AND(KU78=1,LA78=\"\"),2,\"\")","v":""},{"$f":"IF(AND(KV78=1,LB78=\"\"),3,\"\")","v":""},{"$f":"IF(AND(KW78=1,LC78=\"\"),4,\"\")","v":""},{"$f":"IF(AND(KX78=1,LD78=\"\"),5,\"\")","v":""},{"$f":"IF(AND(KY78=1,LE78=\"\"),6,\"\")","v":""},{"$f":"CONCATENATE(LY78,LZ78,MA78,MB78,MC78,MD78)","v":""},{"$f":"LEN(ME78)","v":0},{"$f":"IF(MF78=1,ME78,\"\")","v":""},"",{"$f":"IF(MH78<>\"\",LEFT(ME78,1),\"\")","v":""},{"$f":"IF(MH78<>\"\",RIGHT(ME78,1),\"\")","v":""},{"$f":"IF(MH78<>\"\",MI78&\",\"&MJ78,\"\")","v":""},{"$f":"IF(MF78=3,ME78,\"\")","v":""},{"$f":"IF(ML78<>\"\",LEFT(ML78,1),\"\")","v":""},{"$f":"IF(ML78<>\"\",MID(ML78,2,1),\"\")","v":""},{"$f":"IF(ML78<>\"\",RIGHT(ML78,1),\"\")","v":""},{"$f":"IF(ML78<>\"\",MM78&\",\"&MN78&\",\"&MO78,\"\")","v":""},{"$f":"IF(MF78=4,ME78,\"\")","v":""},{"$f":"IF(MQ78<>\"\",LEFT(MQ78,1),\"\")","v":""},{"$f":"IF(MQ78<>\"\",MID(MQ78,2,1),\"\")","v":""},{"$f":"IF(MQ78<>\"\",MID(MQ78,3,1),\"\")","v":""},{"$f":"IF(MQ78<>\"\",RIGHT(MQ78,1),\"\")","v":""},{"$f":"IF(MQ78<>\"\",MR78&\",\"&MS78&\",\"&MT78&\",\"&MU78,\"\")","v":""},{"$f":"CONCATENATE(MG78,MK78,MP78,MV78)","v":""},{"$f":"IF(CV78=1,DJ78,0)","v":0},{"$f":"IF(DP78=1,ED78,0)","v":0},{"$f":"IF(EK78=1,EY78,0)","v":0},{"$f":"IF(FF78=1,FT78,0)","v":0},{"$f":"IF(GA78=1,GO78,0)","v":0},{"$f":"IF(GV78=1,HJ78,0)","v":0},{"$f":"MX78+MY78+MZ78+NA78+NB78+NC78","v":0},0,{"$f":"INT(NE78)","v":0},{"$f":"NE78-NF78","v":0},{"$f":"IF(NG78<0.35,0,\"\")","v":0},{"$f":"IF(AND(NG78>0.35,NG78<0.65),0.5,\"\")","v":""},{"$f":"IF(NG78>0.65,1,\"\")","v":""},{"$f":"NH78&NI78&NJ78","v":"0"},{"$f":"IF(ND78=0,NF78+NK78,0)","v":0},{"$f":"NL78+ND78","v":0},0,null,null,0,{"$f":"IFERROR(NQ78,\"\")","v":0},null,null,0,{"$f":"INT(NU78)","v":0},{"$f":"NU78-NV78","v":0},{"$f":"IF(NW78<0.35,0,\"\")","v":0},{"$f":"IF(AND(NW78>0.35,NW78<0.65),0.5,\"\")","v":""},{"$f":"IF(NW78>0.65,1,\"\")","v":""},{"$f":"NX78&NY78&NZ78","v":"0"},0,0,0,{"$f":"IFERROR(OD78,\"\")","v":0},null,0,{"$f":"INT(OG78)","v":0},{"$f":"OG78-OH78","v":0},{"$f":"IF(OI78<0.35,0,\"\")","v":0},{"$f":"IF(AND(OI78>0.35,OI78<0.65),0.5,\"\")","v":""},{"$f":"IF(OI78>0.65,1,\"\")","v":""},{"$f":"OJ78&OK78&OL78","v":"0"},0,0,0,{"$f":"IFERROR(OP78,\"\")","v":0},null,0,{"$f":"INT(OS78)","v":0},{"$f":"OS78-OT78","v":0},{"$f":"IF(OU78<0.35,0,\"\")","v":0},{"$f":"IF(AND(OU78>0.35,OU78<0.65),0.5,\"\")","v":""},{"$f":"IF(OU78>0.65,1,\"\")","v":""},{"$f":"OV78&OW78&OX78","v":"0"},0,0,0,{"$f":"IFERROR(PB78,\"\")","v":0},null,0,{"$f":"INT(PE78)","v":0},{"$f":"PE78-PF78","v":0},{"$f":"IF(PG78<0.35,0,\"\")","v":0},{"$f":"IF(AND(PG78>0.35,PG78<0.65),0.5,\"\")","v":""},{"$f":"IF(PG78>0.65,1,\"\")","v":""},{"$f":"PH78&PI78&PJ78","v":"0"},0,0,0,{"$f":"IFERROR(PN78,\"\")","v":0},0,{"$f":"INT(PP78)","v":0},{"$f":"PP78-PQ78","v":0},{"$f":"IF(PR78<0.35,0,\"\")","v":0},{"$f":"IF(AND(PR78>0.35,PR78<0.65),0.5,\"\")","v":""},{"$f":"IF(PR78>0.65,1,\"\")","v":""},{"$f":"PS78&PT78&PU78","v":"0"},0,0,0,{"$f":"IFERROR(PY78,\"\")","v":0},null,0,{"$f":"INT(QB78)","v":0},{"$f":"QB78-QC78","v":0},{"$f":"IF(QD78<0.35,0,\"\")","v":0},{"$f":"IF(AND(QD78>0.35,QD78<0.65),0.5,\"\")","v":""},{"$f":"IF(QD78>0.65,1,\"\")","v":""},{"$f":"QE78&QF78&QG78","v":"0"},{"$f":"IF(NT78=0,QC78+QH78,0)","v":0},0,0,{"$f":"IFERROR(QK78,\"\")","v":0},null,null,null,null,null,"12周",0]
[null,null,null,null,null,{"$f":"IF(教学计划表!N79<>\"\",序号!C63,\"\")","v":""},null,null,{"$f":"IF(课程名称及编码!P63<>\"\",课程名称及编码!P63,\"\")","v":""},null,null,null,null,null,null,null,null,null,null,null,null,null,null,null,null,null,null,"",null,null,"",null,null,"",null,null,"",null,null,null,null,null,"",null,null,null,null,null,null,null,null,null,null,null,null,null,null,null,null,null,null,null,null,null,null,null,null,null,0,0,null,null,null,null,null,null,null,null,null,null,null,null,null,null,null,null,null,null,null,null,null,null,null,null,null,null,null,"","","","","","","","","","","","","",0,"","","","","15",0,"","","","","","","","","","","","","",0,"","","","","18",0,null,"","","","","","","","","","","","","",0,"","","","","18",0,null,"","","","","","","","","","","","","",0,"","","","","17",0,null,null,null,null,null,null,null,null,null,null,null,null,null,null,null,null,null,null,null,null,null,null,null,null,null,null,null,null,null,null,null,null,null,null,null,null,null,null,null,null,null,null,null,"",0,0,0,0,0,0,0,0,0,null,null,null,null,null,null,0,0,null,0,0,0,0,0,null,0,0,null,0,0,0,0,0,null,0,0,null,0,0,0,0,0,null,0,0,null,0,0,0,0,0,null,0,0,null,0,0,0,0,0,null,null,0,null,0,null,0,null,0,null,0,null,0,null,0,null,null,{"$f":"aaa","v":0},{"$f":"bbb","v":0},{"$f":"ccc","v":0},{"$f":"dddd","v":0},{"$f":"eee","v":0},{"$f":"fff","v":0},"","","","",null,null,"","","","","","","",0,"","","","","","","","","","","","","","","","","","","","","","","","",0,"","","","","","","","","","","","","","","","","",0,0,0,0,0,0,0,0,0,0,0,"","","0",0,0,0,null,null,0,0,null,null,0,0,0,0,"","","0",0,0,0,0,null,0,0,0,0,"","","0",0,0,0,0,null,0,0,0,0,"","","0",0,0,0,0,null,0,0,0,0,"","","0",0,0,0,0,0,0,0,0,"","","0",0,0,0,0,null,0,0,0,0,"","","0",0,0,0,0,null,null,null,null,null,"13周",0]
[null,null,null,null,null,{"$f":"IF(教学计划表!N80<>\"\",序号!C64,\"\")","v":""},null,null,{"$f":"IF(课程名称及编码!P64<>\"\",课程名称及编码!P64,\"\")","v":""},null,null,null,null,null,null,null,null,null,null,null,null,null,null,null,null,null,null,"",null,null,"",null,null,"",null,null,"",null,null,null,null,null,"",null,null,null,null,null,null,null,null,null,null,null,null,null,null,null,null,null,null,null,null,null,null,null,null,null,0,0,null,null,null,null,null,null,null,null,null,null,null,null,null,null,null,null,null,null,null,null,null,null,null,null,null,null,null,"","","","","","","","","","","","","",0,"","","","","15",0,"","","","","","","","","","","","","",0,"","","","","18",0,null,"","","","","","","","","","","","","",0,"","","","","18",0,null,"","","","","","","","","","","","","",0,"","","","","17",0,null,null,null,null,null,null,null,null,null,null,null,null,null,null,null,null,null,null,null,null,null,null,null,null,null,null,null,null,null,null,null,null,null,null,null,null,null,null,null,null,null,null,null,"",0,0,0,0,0,0,0,0,0,null,null,null,null,null,null,0,0,null,0,0,0,0,0,null,0,0,null,0,0,0,0,0,null,0,0,null,0,0,0,0,0,null,0,0,null,0,0,0,0,0,null,0,0,null,0,0,0,0,0,null,null,0,null,0,null,0,null,0,null,0,null,0,null,0,null,null,{"$f":"aaa","v":0},{"$f":"bbb","v":0},{"$f":"ccc","v":0},{"$f":"dddd","v":0},{"$f":"eee","v":0},{"$f":"fff","v":0},"","","","",null,null,"","","","","","","",0,"","","","","","","","","","","","","","","","","","","","","","","","",0,"","","","","","","","","","","","","","","","","",0,0,0,0,0,0,0,0,0,0,0,"","","0",0,0,0,null,null,0,0,null,null,0,0,0,0,"","","0",0,0,0,0,null,0,0,0,0,"","","0",0,0,0,0,null,0,0,0,0,"","","0",0,0,0,0,null,0,0,0,0,"","","0",0,0,0,0,0,0,0,0,"","","0",0,0,0,0,null,0,0,0,0,"","","0",0,0,0,0,null,null,null,null,null,"14周",0]
[null,null,null,null,null,{"$f":"IF(教学计划表!N81<>\"\",序号!C65,\"\")","v":""},null,null,{"$f":"IF(课程名称及编码!P65<>\"\",课程名称及编码!P65,\"\")","v":""},null,null,null,null,null,null,null,null,null,null,null,null,null,null,null,null,null,null,"",null,null,"",null,null,"",null,null,"",null,null,null,null,null,"",null,null,null,null,null,null,null,null,null,null,null,null,null,null,null,null,null,null,null,null,null,null,null,null,null,0,0,null,null,null,null,null,null,null,null,null,null,null,null,null,null,null,null,null,null,null,null,null,null,null,null,null,null,null,"","","","","","","","","","","","","",0,"","","","","15",0,"","","","","","","","","","","","","",0,"","","","","18",0,null,"","","","","","","","","","","","","",0,"","","","","18",0,null,"","","","","","","","","","","","","",0,"","","","","17",0,null,null,null,null,null,null,null,null,null,null,null,null,null,null,null,null,null,null,null,null,null,null,null,null,null,null,null,null,null,null,null,null,null,null,null,null,null,null,null,null,null,null,null,"",0,0,0,0,0,0,0,0,0,null,null,null,null,null,null,0,0,null,0,0,0,0,0,null,0,0,null,0,0,0,0,0,null,0,0,null,0,0,0,0,0,null,0,0,null,0,0,0,0,0,null,0,0,null,0,0,0,0,0,null,null,0,null,0,null,0,null,0,null,0,null,0,null,0,null,null,{"$f":"aaa","v":0},{"$f":"bbb","v":0},{"$f":"ccc","v":0},{"$f":"dddd","v":0},{"$f":"eee","v":0},{"$f":"fff","v":0},"","","","",null,null,"","","","","","","",0,"","","","","","","","","","","","","","","","","","","","","","","","",0,"","","","","","","","","","","","","","","","","",0,0,0,0,0,0,0,0,0,0,0,"","","0",0,0,0,null,null,0,0,null,null,0,0,0,0,"","","0",0,0,0,0,null,0,0,0,0,"","","0",0,0,0,0,null,0,0,0,0,"","","0",0,0,0,0,null,0,0,0,0,"","","0",0,0,0,0,0,0,0,0,"","","0",0,0,0,0,null,0,0,0,0,"","","0",0,0,0,0,null,null,null,null,null,"15周",0]
[null,null,null,null,null,{"$f":"IF(教学计划表!N82<>\"\",序号!C66,\"\")","v":""},null,null,{"$f":"IF(课程名称及编码!P66<>\"\",课程名称及编码!P66,\"\")","v":""},null,null,null,null,null,null,null,null,null,null,null,null,null,null,null,null,null,null,{"$f":"IF(LX82<>\"\",LX82,\"\")","v":""},null,null,{"$f":"IF(MW82<>\"\",MW82,\"\")","v":""},null,null,{"$f":"IF(HR82<>0,HR82,\"\")","v":""},null,null,{"$f":"IF(HX82<>0,HX82,IF(AH82=\"\",\"\",0))","v":""},null,null,null,null,null,"",null,null,null,null,null,null,null,null,null,null,null,null,null,null,null,null,null,null,null,null,null,null,null,null,null,0,0,null,null,null,null,null,null,null,null,null,null,null,null,null,null,null,null,null,null,null,null,null,null,null,null,null,null,null,"","","","","","","","","","","","","",0,"","","","","15",0,"","","","","","","","","","","","","",0,"","","","","18",0,null,"","","","","","","","","","","","","",0,"","","","","18",0,null,"","","","","","","","","","","","","",0,"","","","","17",0,null,null,null,null,null,null,null,null,null,null,null,null,null,null,null,null,null,null,null,null,null,null,null,null,null,null,null,null,null,null,null,null,null,null,null,null,null,null,null,null,null,null,null,"",0,0,0,0,0,0,0,0,0,null,null,null,null,null,null,0,0,null,0,0,0,0,0,null,0,0,null,0,0,0,0,0,null,0,{"$f":"IF(EJ82=1,0,IW82)","v":0},null,0,0,0,0,0,null,0,{"$f":"IF(FE82=1,0,JF82)","v":0},null,0,0,0,0,0,null,0,{"$f":"IF(FZ82=1,0,JO82)","v":0},null,0,0,0,0,0,null,null,0,null,0,null,0,null,0,null,0,null,0,null,0,null,null,{"$f":"aaa","v":0},{"$f":"bbb","v":0},{"$f":"ccc","v":0},{"$f":"dddd","v":0},{"$f":"eee","v":0},{"$f":"fff","v":0},"","","","",null,null,"","","","","","","",0,"","","","","","","","","","","","","","","","","","","","","","","","",0,"","","","","","","","","","","","","","","","","",0,0,0,0,0,0,0,{"$f":"IF(ND82=0,HP82/18,0)","v":0},0,0,0,"","","0",0,0,0,null,null,{"$f":"IF(LEFT(HQ82,1)=\"(\",\"(\"&NM82&\")\",NN82)","v":0},0,null,null,0,0,0,0,"","","0",{"$f":"IF(ND82=0,NV82+OA82,0)","v":0},{"$f":"OB82+MX82","v":0},{"$f":"IF(LEFT(HQ82,1)=\"(\",\"(\"&OC82&\")\",OC82)","v":0},0,null,0,0,0,0,"","","0",{"$f":"IF(ND82=0,OH82+OM82,0)","v":0},{"$f":"ON82+MY82","v":0},{"$f":"IF(LEFT(HQ82,1)=\"(\",\"(\"&OO82&\")\",OO82)","v":0},0,null,0,0,0,0,"","","0",{"$f":"IF(ND82=0,OT82+OY82,0)","v":0},{"$f":"OZ82+MZ82","v":0},{"$f":"IF(LEFT(HQ82,1)=\"(\",\"(\"&PA82&\")\",PA82)","v":0},0,null,0,0,0,0,"","","0",{"$f":"IF(ND82=0,PF82+PK82,0)","v":0},{"$f":"PL82+NA82","v":0},{"$f":"IF(LEFT(HQ82,1)=\"(\",\"(\"&PM82&\")\",PM82)","v":0},0,0,0,0,0,"","","0",{"$f":"IF(ND82=0,PQ82+PV82,0)","v":0},{"$f":"NB82+PW82","v":0},{"$f":"IF(LEFT(HQ82,1)=\"(\",\"(\"&PX82&\")\",PX82)","v":0},0,null,0,0,0,0,"","","0",0,{"$f":"NC82+QI82","v":0},{"$f":"IF(LEFT(HQ82,1)=\"(\",\"(\"&QJ82&\")\",QJ82)","v":0},0,null,null,null,null,null,"16周",0]
[null,"总学时、学分",null,null,null,null,null,null,null,null,null,null,null,null,null,null,null,null,null,null,null,null,null,null,null,null,null,null,null,null,null,null,null,{"$f":"SUM(AH18:AH82)","v":0},null,null,{"$f":"AH83-AN83","v":0},null,null,{"$f":"BR83","v":0},null,null,{"$f":"SUM(AQ18:AR82)","v":0},null,null,null,null,null,null,null,null,null,null,null,null,null,null,null,null,null,null,null,null,null,null,null,null,null,null,{"$f":"SUM(BR18:BS82)","v":0},null,null,null,null,null,null,null,null,null,null,null,null,null,null,null,null,null,null,null,null,null,null,null,null,null,null,null,null,null,null,null,null,null,null,null,null,null,null,null,null,null,null,null,null,null,null,null,null,null,null,null,null,null,null,null,null,null,null,null,null,null,null,null,null,null,null,null,null,null,null,null,null,null,null,null,null,null,null,null,null,null,null,null,null,null,null,null,null,null,null,null,null,null,null,null,null,null,null,null,null,null,null,null,null,null,null,null,null,null,null,null,null,null,null,null,null,null,null,null,null,null,null,null,null,null,null,null,null,null,null,null,null,null,null,null,null,null,null,null,null,null,null,null,null,null,null,null,null,null,null,null,null,null,null,null,null,null,null,null,null,null,null,null,null,null,null,null,null,null,null,null,null,null,null,null,null,null,null,null,null,null,null,null,null,null,null,null,null,null,null,null,null,null,null,null,null,null,null,null,null,null,null,null,null,null,null,null,null,null,null,null,null,null,null,null,null,null,null,null,null,null,null,null,null,null,null,null,null,null,null,null,null,null,null,null,null,null,null,null,null,null,null,null,null,null,null,null,null,null,null,null,null,null,null,null,null,null,null,null,null,null,null,null,null,null,null,null,null,null,null,null,null,null,null,null,null,null,null,null,null,null,null,null,null,null,null,null,null,null,null,null,null,null,null,null,null,null,null,null,null,null,null,null,null,null,null,null,null,null,null,null,null,null,null,null,null,null,null,null,null,null,null,null,null,null,null,null,null,null,null,null,null,null,null,null,null,null,null,null,null,null,null,null,null,null,null,null,null,null,null,null,null,null,null,null,null,null,null,null,null,null,null,null,null,null,null,null,null,null,null,null,null,null,null,null,null,null,null,null,null,null,null,null,null,null,null,null,null,null,"17周",{"$f":"SUM(QS18:QS82)","v":0}]
[null,"周学时数",null,null,null,null,null,null,null,null,null,null,null,null,null,null,null,null,null,null,null,null,null,null,null,null,null,null,null,null,null,null,null,null,null,null,null,null,null,null,null,null,null,null,{"$f":"IG17-IM17","v":0},null,null,null,{"$f":"IP17-IV17","v":0},null,null,null,{"$f":"IY17-JE17","v":0},null,null,null,"实践学时占总学时比例",null,null,null,null,null,null,null,{"$f":"AN83/AH83","v":{"$error":"#DIV/0!"}},null,null,null,null,null,null,null,null,null,null,null,null,null,null,null,null,null,null,null,null,null,null,null,null,null,null,null,null,null,null,null,null,null,null,null,null,null,null,null,null,null,null,null,null,null,null,null,null,null,null,null,null,null,null,null,null,null,null,null,null,null,null,null,null,null,null,null,null,null,null,null,null,null,null,null,null,null,null,null,null,null,null,null,null,null,null,null,null,null,null,null,null,null,null,null,null,null,null,null,null,null,null,null,null,null,null,null,null,null,null,null,null,null,null,null,null,null,null,null,null,null,null,null,null,null,null,null,null,null,null,null,null,null,null,null,null,null,null,null,null,null,null,null,null,null,null,null,null,null,null,null,null,null,null,null,null,null,null,null,null,null,null,null,null,null,null,null,null,null,null,null,null,null,null,null,null,null,null,null,null,null,null,null,null,null,null,null,null,null,null,null,null,null,null,null,null,null,null,null,null,null,null,null,null,null,null,null,null,null,null,null,null,null,null,null,null,null,null,null,null,null,null,null,null,null,null,null,null,null,null,null,null,null,null,null,null,null,null,null,null,null,null,null,null,null,null,null,null,null,null,null,null,null,null,null,null,null,null,null,null,null,null,null,null,null,null,null,null,null,null,null,null,null,null,null,null,null,null,null,null,null,null,null,null,null,null,null,null,null,null,null,null,null,null,null,null,null,null,null,null,null,null,null,null,null,null,null,null,null,null,null,null,null,null,null,null,null,null,null,null,null,null,null,null,null,null,null,null,null,null,null,null,null,null,null,null,null,null,null,null,null,null,null,null,null,null,null,null,null,null,null,null,null,null,null,null,null,null,null,null,null,null,null,null,null,null,null,null,null,null,null,null,null,null,null,null,null,null,null,null,null,null,null,null,null,null,null,null,null,null,null,null,null,null,"18周"]
[null,"课程门数",null,null,null,null,null,null,null,null,null,null,null,null,null,null,null,null,null,null,null,null,null,null,null,null,null,null,null,null,null,null,null,null,null,null,null,null,null,null,null,null,null,null,{"$f":"JZ17","v":0},null,null,null,{"$f":"KB17","v":0},null,null,null,{"$f":"KD17","v":0},null,null,null,null,null,null,null,null,null,null,null,null,null,null,null,null,null,null,null,null,null,null,null,null,null,null,null,null,null,null,null,null,null,null,null,null,null,null,null,null,null,null,null,null,null,null,null,null,null,null,null,null,null,null,null,null,null,null,null,null,null,null,null,null,null,null,null,null,null,null,null,null,null,null,null,null,null,null,null,null,null,null,null,null,null,null,null,null,null,null,null,null,null,null,null,null,null,null,null,null,null,null,null,null,null,null,null,null,null,null,null,null,null,null,null,null,null,null,null,null,null,null,null,null,null,null,null,null,null,null,null,null,null,null,null,null,null,null,null,null,null,null,null,null,null,null,null,null,null,null,null,null,null,null,null,null,null,null,null,null,null,null,null,null,null,null,null,null,null,null,null,null,null,null,null,null,null,null,null,null,null,null,null,null,null,null,null,null,null,null,null,null,null,null,null,null,null,null,null,null,null,null,null,null,null,null,null,null,null,null,null,null,null,null,null,null,null,null,null,null,null,null,null,null,null,null,null,null,null,null,null,null,null,null,null,null,null,null,null,null,null,null,null,null,null,null,null,null,null,null,null,null,null,null,null,null,null,null,null,null,null,null,null,null,null,null,null,null,null,null,null,null,null,null,null,null,null,null,null,null,null,null,null,null,null,null,null,null,null,null,null,null,null,null,null,null,null,null,null,null,null,null,null,null,null,null,null,null,null,null,null,null,null,null,null,null,null,null,null,null,null,null,null,null,null,null,null,null,null,null,null,null,null,null,null,null,null,null,null,null,null,null,null,null,null,null,null,null,null,null,null,null,null,null,null,null,null,null,null,null,null,null,null,null,null,null,null,null,null,null,null,null,null,null,null,null,null,null,null,null,null,null,null,null,null,null,null,null,null,null,null,null,null,null,null,null,null,null,null,null,null,null,null,null,null,null,"19周"]
[]
[null,"         制定人：                     系主任：                   教务处长：                         教学院长：",null,null,null,null,null,null,null,null,null,null,null,null,null,null,null,null,null,null,null,null,null,null,null,null,null,null,null,null,null,null,null,null,null,null,null,null,null,null,null,null,null,null,null,null,null,null,null,null,null,null,null,null,null,null,null,null,null,null,null,null,null,null,null,null,null,null,null,null,null,null,null,null,null,null,null,null,null,null,null,null,null,null,null,null,null,null,null,null,null,null,null,null,null,null,null,null,null,null,null,null,null,null,null,null,null,null,null,null,null,null,null,null,null,null,null,null,null,null,null,null,null,null,null,null,null,null,null,null,null,null,null,null,null,null,null,null,null,null,null,null,null,null,null,null,null,null,null,null,null,null,null,null,null,null,null,null,null,null,null,null,null,null,null,null,null,null,null,null,null,null,null,null,null,null,null,null,null,null,null,null,null,null,null,null,null,null,null,null,null,null,null,null,null,null,null,null,null,null,null,null,null,null,null,null,null,null,null,null,null,null,null,null,null,null,null,null,null,null,null,null,null,null,null,null,null,null,null,null,null,null,null,null,null,null,null,null,null,null,null,null,null,null,null,null,null,null,null,null,null,null,null,null,null,null,null,null,null,null,null,null,null,null,null,null,null,null,null,null,null,null,null,null,null,null,null,null,null,null,null,null,null,null,null,null,null,null,null,null,null,null,null,null,null,null,null,null,null,null,null,null,null,null,null,null,null,null,null,null,null,null,null,null,null,null,null,null,null,null,null,null,null,null,null,null,null,null,null,null,null,null,null,null,null,null,null,null,null,null,null,null,null,null,null,null,null,null,null,null,null,null,null,null,null,null,null,null,null,null,null,null,null,null,null,null,null,null,null,null,null,null,null,null,null,null,null,null,null,null,null,{"$f":"SUM(NR18:NR85)","v":0}]

{"sheet":"自动生成的开课信息","index":2,"n_rows":72,"n_cols":272,"rows_kept":72,"cut":false,"hidden":false,"merged":[[0,0,0,6],[0,8,0,14],[0,17,0,22],[0,26,0,31],[0,32,0,38],[0,243,0,256],[0,259,0,271],[0,40,0,46],[0,186,0,198],[0,199,0,212],[0,214,0,226],[0,227,0,240]]}
["第1学期开课信息",null,null,null,null,null,null,null,"第2学期开课信息",null,null,null,null,null,null,null,null,"第3学期开课信息",null,null,null,null,null,null,null,null,"第4学期开课信息",null,null,null,null,null,"第5学期开课信息",null,null,null,null,null,null,null,"第6学期开课信息",null,null,null,null,null,null,null,null,null,null,null,null,null,null,null,null,null,null,null,null,null,null,null,null,null,null,null,null,null,null,null,null,null,null,null,null,null,null,null,null,null,null,null,null,null,null,null,null,null,null,null,null,null,null,null,null,null,null,null,null,null,null,null,null,null,null,null,null,null,null,null,null,null,null,null,null,null,null,null,null,null,null,null,null,null,null,null,null,null,null,null,null,null,null,null,null,null,null,null,null,null,null,null,null,null,null,null,null,null,null,null,null,null,null,null,null,null,null,null,null,null,null,null,null,null,null,null,null,null,null,null,null,null,null,null,null,null,null,null,null,null,null,null,null,null,"第1学期开课信息准备",null,null,null,null,null,null,null,null,null,null,null,null,"第2学期开课信息准备",null,null,null,null,null,null,null,null,null,null,null,null,null,null,"第3学期开课信息准备",null,null,null,null,null,null,null,null,null,null,null,null,"第4学期开课信息准备",null,null,null,null,null,null,null,null,null,null,null,null,null,null,null,"第5学期开课信息准备",null,null,null,null,null,null,null,null,null,null,null,null,null,null,null,"第6学期开课信息准备"]
["课程编码","课程名称","考核方式","周学时","周数","总学时","学分",null,"课程编码",{"$f":"IF(ISERROR(GZ2),\"\",GZ2)","v":"第2学期课程名称"},{"$f":"IF(ISERROR(HA2),\"\",HA2)","v":"第2学期考核方式"},{"$f":"IF(ISERROR(自动生成的开课信息!HB2),\"\",自动生成的开课信息!HB2)","v":"周学时"},"周数","总学时","学分",null,null,{"$f":"IF(ISERROR(HN2),\"\",HN2)","v":"第3学期课程名称"},{"$f":"IF(ISERROR(HO2),\"\",HO2)","v":"第3学期考核方式"},{"$f":"IF(ISERROR(HP2),\"\",HP2)","v":"周学时"},{"$f":"IF(ISERROR(HQ2),\"\",HQ2)","v":"周数"},{"$f":"IF(ISERROR(HR2),\"\",HR2)","v":"总学时"},{"$f":"IF(ISERROR(HS2),\"\",HS2)","v":"学分"},null,null,"第4学期课程名称","第4学期考核方式","周学时","周数","总学时","学分",null,"第5学期课程编码","第5学期课程名称","第5学期考核方式","周学时","周数","总学时","学分",null,"第6学期课程名称","第6学期课程名称","第6学期考核方式","周学时","周数","总学时","学分",null,null,null,null,null,null,null,null,null,null,null,null,null,null,null,null,null,null,null,null,null,null,null,null,null,null,null,null,null,null,null,null,null,null,null,null,null,null,null,null,null,null,null,null,null,null,null,null,null,null,null,null,null,null,null,null,null,null,null,null,null,null,null,null,null,null,null,null,null,null,null,null,null,null,null,null,null,null,null,null,null,null,null,null,null,null,null,null,null,null,null,null,null,null,null,null,null,null,null,null,null,null,null,null,null,null,null,null,null,null,null,null,null,null,null,null,null,null,null,null,null,null,null,null,null,null,null,null,null,null,null,null,null,null,null,null,null,null,"第1学期课程编码","第1学期课程名称","第1学期考核方式","周学时","周数","总学时","学分",null,{"$f":"OFFSET($GE$2,SMALL(IF($GE$2:$GE$72<>\"\",ROW($2:$72),\"\"),ROW(GE1))-2,0)","v":"第1学期课程名称"},null,"周学时","周数","总学时","学分","第2学期课程编码","第2学期课程名称","第2学期考核方式","周学时","周数","总学时","学分",null,{"$f":"OFFSET($GS$2,SMALL(IF($GS$2:$GS$61<>\"\",ROW($I$2:$K$61),\"\"),ROW(GR1))-2,0)","v":"第2学期课程名称"},{"$f":"OFFSET($GT$2,SMALL(IF($GT$2:$GT$61<>\"\",ROW($I$2:$K$61),\"\"),ROW(GT1))-2,0)","v":"第2学期考核方式"},"周学时","周数","总学时","学分","第3学期课程编码","第3学期课程名称","第3学期考核方式","周学时","周数","总学时","学分",null,{"$f":"OFFSET($HG$2,SMALL(IF($HG$2:$HG$61<>\"\",ROW($HG$2:$HG$61),\"\"),ROW(HG1))-2,0)","v":"第3学期课程名称"},{"$f":"OFFSET($HH$2,SMALL(IF($HH$2:$HH$51<>\"\",ROW($HH$2:$HH$51),\"\"),ROW(HH1))-2,0)","v":"第3学期考核方式"},"周学时","周数","总学时","学分","第4学期课程编码","第4学期课程名称","第4学期考核方式","周学时","周数","总学时","学分",null,{"$f":"OFFSET($HU$2,SMALL(IF($HU$2:$HU$61<>\"\",ROW($HU$2:$HU$61),\"\"),ROW(HT1))-2,0)","v":"第4学期课程名称"},{"$f":"OFFSET($HV$2,SMALL(IF($HV$2:$HV$51<>\"\",ROW($HV$2:$HV$51),\"\"),ROW(HV1))-2,0)","v":"第4学期考核方式"},"周学时","周数","总学时","学分",null,null,"第5学期课程编码","第5学期课程名称","第5学期考核方式","周学时","周数","总学时","学分",null,{"$f":"OFFSET($IK$2,SMALL(IF($IK$2:$IK$61<>\"\",ROW($IK$2:$IK$61),\"\"),ROW(IJ1))-2,0)","v":"第5学期课程名称"},{"$f":"OFFSET($IL$2,SMALL(IF($IL$2:$IL$51<>\"\",ROW($IL$2:$IL$51),\"\"),ROW(IL1))-2,0)","v":"第5学期考核方式"},"周学时","周数","总学时","学分",null,"第6学期课程名称","第6学期课程名称","第6学期考核方式","周学时","周数","总学时","学分","第6学期课程编码",{"$f":"OFFSET($IZ$2,SMALL(IF($IZ$2:$IZ$51<>\"\",ROW($IZ$2:$IZ$51),\"\"),ROW(IZ1))-2,0)","v":"第6学期课程名称"},{"$f":"OFFSET($JA$2,SMALL(IF($JA$2:$JA$51<>\"\",ROW($JA$2:$JA$51),\"\"),ROW(JA1))-2,0)","v":"第6学期考核方式"},"周学时","周数","总学时","学分"]
[{"$f":"IF(ISERROR(GK3),\"\",GK3)","v":""},"",{"$f":"IF(ISERROR(GM3),\"\",GM3)","v":""},{"$f":"IF(ISERROR(GN3),\"\",GN3)","v":""},{"$f":"IF(ISERROR(GO3),\"\",GO3)","v":""},{"$f":"IF(ISERROR(GP3),\"\",GP3)","v":""},{"$f":"IF(ISERROR(GQ3),\"\",GQ3)","v":""},null,"","","",{"$f":"IF(ISERROR(自动生成的开课信息!HB3),\"\",自动生成的开课信息!HB3)","v":""},{"$f":"IF(ISERROR(自动生成的开课信息!HC3),\"\",自动生成的开课信息!HC3)","v":""},{"$f":"IF(ISERROR(自动生成的开课信息!HD3),\"\",自动生成的开课信息!HD3)","v":""},{"$f":"IF(ISERROR(自动生成的开课信息!HE3),\"\",自动生成的开课信息!HE3)","v":""},null,"","","","","","","",null,{"$f":"IF(ISERROR(IA3),\"\",IA3)","v":""},{"$f":"IF(ISERROR(IB3),\"\",IB3)","v":""},{"$f":"IF(ISERROR(IC3),\"\",IC3)","v":""},{"$f":"IF(ISERROR(ID3),\"\",ID3)","v":""},{"$f":"IF(ISERROR(IE3),\"\",IE3)","v":""},{"$f":"IF(ISERROR(IF3),\"\",IF3)","v":""},{"$f":"IF(ISERROR(IG3),\"\",IG3)","v":""},null,{"$f":"IF(ISERROR(IQ3),\"\",IQ3)","v":""},"",{"$f":"IF(ISERROR(IS3),\"\",IS3)","v":""},{"$f":"IF(ISERROR(IT3),\"\",IT3)","v":""},{"$f":"IF(ISERROR(IU3),\"\",IU3)","v":""},{"$f":"IF(ISERROR(IV3),\"\",IV3)","v":""},{"$f":"IF(ISERROR(IW3),\"\",IW3)","v":""},null,{"$f":"IF(ISERROR(JF3),\"\",JF3)","v":""},"",{"$f":"IF(ISERROR(JH3),\"\",JH3)","v":""},{"$f":"IF(ISERROR(JI3),\"\",JI3)","v":""},{"$f":"IF(ISERROR(JJ3),\"\",JJ3)","v":""},{"$f":"IF(ISERROR(JK3),\"\",JK3)","v":""},{"$f":"IF(ISERROR(JL3),\"\",JL3)","v":""},null,null,null,null,null,null,null,null,null,null,null,null,null,null,null,null,null,null,null,null,null,null,null,null,null,null,null,null,null,null,null,null,null,null,null,null,null,null,null,null,null,null,null,null,null,null,null,null,null,null,null,null,null,null,null,null,null,null,null,null,null,null,null,null,null,null,null,null,null,null,null,null,null,null,null,null,null,null,null,null,null,null,null,null,null,null,null,null,null,null,null,null,null,null,null,null,null,null,null,null,null,null,null,null,null,null,null,null,null,null,null,null,null,null,null,null,null,null,null,null,null,null,null,null,null,null,null,null,null,null,null,null,null,null,null,null,null,null,{"$f":"IF(AND(教学计划表!N18<>\"\",教学计划表!AS18<>\"\"),教学计划表!I18,\"\")","v":""},{"$f":"IF(教学计划表!AS18<>\"\",教学计划表!N18,\"\")","v":""},{"$f":"IF(GE3<>\"\",IF(SEARCH(\"1\",教学计划表!AB18&\"1\",1)<=LEN(教学计划表!AB18),\"考试\",\"考查\"),\"\")","v":""},{"$f":"IF(教学计划表!DG18<>0,教学计划表!DG18,\"\")","v":""},{"$f":"IF(教学计划表!DG18<>0,教学计划表!DL18,\"\")","v":""},{"$f":"IF(教学计划表!DG18<>0,教学计划表!DM18,\"\")","v":""},{"$f":"IF(教学计划表!DG18<>0,教学计划表!OE18,\"\")","v":""},{"$f":"OFFSET($GD$2,SMALL(IF($GD$2:$GD$72<>\"\",ROW($2:$72),\"\"),ROW(GD2))-2,0)","v":{"$error":"#NUM!"}},{"$f":"OFFSET($GE$2,SMALL(IF($GE$2:$GE$72<>\"\",ROW($2:$72),\"\"),ROW(GE2))-2,0)","v":{"$error":"#NUM!"}},{"$f":"OFFSET($GF$2,SMALL(IF($GF$2:$GF$72<>\"\",ROW($2:$72),\"\"),ROW(GF2))-2,0)","v":{"$error":"#NUM!"}},{"$f":"OFFSET($GG$2,SMALL(IF($GG$2:$GG$72<>\"\",ROW($2:$72),\"\"),ROW(GG2))-2,0)","v":{"$error":"#NUM!"}},{"$f":"OFFSET($GH$2,SMALL(IF($GH$2:$GH$72<>\"\",ROW($2:$72),\"\"),ROW(GH2))-2,0)","v":{"$error":"#NUM!"}},{"$f":"GN3*GO3","v":{"$error":"#NUM!"}},{"$f":"OFFSET($GJ$2,SMALL(IF($GJ$2:$GJ$72<>\"\",ROW($2:$72),\"\"),ROW(GJ2))-2,0)","v":{"$error":"#NUM!"}},{"$f":"IF(AND(教学计划表!N18<>\"\",教学计划表!AV18<>\"\"),教学计划表!I18,\"\")","v":""},{"$f":"IF(教学计划表!AV18<>\"\",教学计划表!N18,\"\")","v":""},{"$f":"IF(GS3<>\"\",IF(SEARCH(\"2\",教学计划表!AB18&\"2\",1)<=LEN(教学计划表!AB18),\"考试\",\"考查\"),\"\")","v":""},{"$f":"IF(教学计划表!EA18<>0,教学计划表!EA18,\"\")","v":""},{"$f":"IF(教学计划表!EA18<>0,教学计划表!EF18,\"\")","v":""},{"$f":"IF(教学计划表!EA18<>0,教学计划表!EG18,\"\")","v":""},{"$f":"IF(教学计划表!EA18<>0,教学计划表!OQ18,\"\")","v":""},{"$f":"OFFSET($GR$2,SMALL(IF($GR$2:$GR$72<>\"\",ROW($I$2:$K$72),\"\"),ROW(GR2))-2,0)","v":{"$error":"#NUM!"}},{"$f":"OFFSET($GS$2,SMALL(IF($GS$2:$GS$72<>\"\",ROW($I$2:$K$72),\"\"),ROW(GS2))-2,0)","v":{"$error":"#NUM!"}},{"$f":"OFFSET($GT$2,SMALL(IF($GT$2:$GT$72<>\"\",ROW($I$2:$K$72),\"\"),ROW(GT2))-2,0)","v":{"$error":"#NUM!"}},{"$f":"OFFSET($GU$2,SMALL(IF($GU$2:$GU$72<>\"\",ROW($I$2:$K$72),\"\"),ROW(GU2))-2,0)","v":{"$error":"#NUM!"}},{"$f":"OFFSET($GV$2,SMALL(IF($GV$2:$GV$72<>\"\",ROW($GV$2:$GV$72),\"\"),ROW(GV2))-2,0)","v":{"$error":"#NUM!"}},{"$f":"OFFSET($GW$2,SMALL(IF($GW$2:$GW$72<>\"\",ROW($GW$2:$GW$72),\"\"),ROW(GW2))-2,0)","v":{"$error":"#NUM!"}},{"$f":"OFFSET($GX$2,SMALL(IF($GX$2:$GX$72<>\"\",ROW($GX$2:$GX$72),\"\"),ROW(GX2))-2,0)","v":{"$error":"#NUM!"}},{"$f":"IF(AND(教学计划表!N18<>\"\",教学计划表!AY18<>\"\"),教学计划表!I18,\"\")","v":""},{"$f":"IF(教学计划表!AY18<>\"\",教学计划表!N18,\"\")","v":""},{"$f":"IF(HG3<>\"\",IF(SEARCH(\"3\",教学计划表!AB18&\"3\",1)<=LEN(教学计划表!AB18),\"考试\",\"考查\"),\"\")","v":""},{"$f":"IF(教学计划表!EV18<>0,教学计划表!EV18,\"\")","v":""},{"$f":"IF(教学计划表!EV18<>0,教学计划表!FA18,\"\")","v":""},{"$f":"IF(教学计划表!EV18<>0,教学计划表!FB18,\"\")","v":""},{"$f":"IF(教学计划表!EV18<>0,教学计划表!PC18,\"\")","v":""},{"$f":"OFFSET($HF$2,SMALL(IF($HF$2:$HF$72<>\"\",ROW($HF$2:$HF$72),\"\"),ROW(HF2))-2,0)","v":{"$error":"#NUM!"}},{"$f":"OFFSET($HG$2,SMALL(IF($HG$2:$HG$72<>\"\",ROW($HG$2:$HG$72),\"\"),ROW(HG2))-2,0)","v":{"$error":"#NUM!"}},{"$f":"OFFSET($HH$2,SMALL(IF($HH$2:$HH$72<>\"\",ROW($HH$2:$HH$72),\"\"),ROW(HH2))-2,0)","v":{"$error":"#NUM!"}},{"$f":"OFFSET($HI$2,SMALL(IF($HI$2:$HI$72<>\"\",ROW($HI$2:$HI$72),\"\"),ROW(HI2))-2,0)","v":{"$error":"#NUM!"}},{"$f":"OFFSET($HJ$2,SMALL(IF($HJ$2:$HJ$72<>\"\",ROW($HJ$2:$HJ$72),\"\"),ROW(HJ2))-2,0)","v":{"$error":"#NUM!"}},{"$f":"OFFSET($HK$2,SMALL(IF($HK$2:$HK$72<>\"\",ROW($HK$2:$HK$72),\"\"),ROW(HK2))-2,0)","v":{"$error":"#NUM!"}},{"$f":"OFFSET($HL$2,SMALL(IF($HL$2:$HL$72<>\"\",ROW($HL$2:$HL$72),\"\"),ROW(HL2))-2,0)","v":{"$error":"#NUM!"}},{"$f":"IF(AND(教学计划表!N18<>\"\",教学计划表!BB18<>\"\"),教学计划表!I18,\"\")","v":""},{"$f":"IF(教学计划表!BB18<>\"\",教学计划表!N18,\"\")","v":""},{"$f":"IF(HU3<>\"\",IF(SEARCH(\"4\",教学计划表!AB18&\"4\",1)<=LEN(教学计划表!AB18),\"考试\",\"考查\"),\"\")","v":""},{"$f":"IF(教学计划表!FQ18<>0,教学计划表!FQ18,\"\")","v":""},{"$f":"IF(教学计划表!FQ18<>0,教学计划表!FV18,\"\")","v":""},{"$f":"IF(教学计划表!FQ18<>0,教学计划表!FW18,\"\")","v":""},{"$f":"IF(教学计划表!FQ18<>0,教学计划表!PO18,\"\")","v":""},{"$f":"OFFSET($HT$2,SMALL(IF($HT$2:$HT$72<>\"\",ROW($HT$2:$HT$72),\"\"),ROW(HT2))-2,0)","v":{"$error":"#NUM!"}},{"$f":"OFFSET($HU$2,SMALL(IF($HU$2:$HU$72<>\"\",ROW($HU$2:$HU$72),\"\"),ROW(HU2))-2,0)","v":{"$error":"#NUM!"}},{"$f":"OFFSET($HV$2,SMALL(IF($HV$2:$HV$72<>\"\",ROW($HV$2:$HV$72),\"\"),ROW(HV2))-2,0)","v":{"$error":"#NUM!"}},{"$f":"OFFSET($HW$2,SMALL(IF($HW$2:$HW$72<>\"\",ROW($HW$2:$HW$72),\"\"),ROW(HW2))-2,0)","v":{"$error":"#NUM!"}},{"$f":"OFFSET($HX$2,SMALL(IF($HX$2:$HX$72<>\"\",ROW($HX$2:$HX$72),\"\"),ROW(HX2))-2,0)","v":{"$error":"#NUM!"}},{"$f":"OFFSET($HY$2,SMALL(IF($HY$2:$HY$72<>\"\",ROW($HY$2:$HY$72),\"\"),ROW(HY2))-2,0)","v":{"$error":"#NUM!"}},{"$f":"OFFSET($HZ$2,SMALL(IF($HZ$2:$HZ$72<>\"\",ROW($HZ$2:$HZ$72),\"\"),ROW(HZ2))-2,0)","v":{"$error":"#NUM!"}},null,null,{"$f":"IF(AND(教学计划表!N18<>\"\",教学计划表!BE18<>\"\"),教学计划表!I18,\"\")","v":""},{"$f":"IF(教学计划表!BE18<>\"\",教学计划表!N18,\"\")","v":""},{"$f":"IF(IK3<>\"\",IF(SEARCH(\"5\",教学计划表!AB18&\"5\",1)<=LEN(教学计划表!AB18),\"考试\",\"考查\"),\"\")","v":""},{"$f":"IF(教学计划表!GL18<>0,教学计划表!GL18,\"\")","v":""},{"$f":"IF(教学计划表!GL18<>0,教学计划表!GQ18,\"\")","v":""},{"$f":"IF(教学计划表!GL18<>0,教学计划表!GR18,\"\")","v":""},{"$f":"IF(教学计划表!GL18<>0,教学计划表!PZ18,\"\")","v":""},{"$f":"OFFSET($IJ$2,SMALL(IF($IJ$2:$IJ$72<>\"\",ROW($IJ$2:$IJ$72),\"\"),ROW(IJ2))-2,0)","v":{"$error":"#NUM!"}},{"$f":"OFFSET($IK$2,SMALL(IF($IK$2:$IK$72<>\"\",ROW($IK$2:$IK$72),\"\"),ROW(IK2))-2,0)","v":{"$error":"#NUM!"}},{"$f":"OFFSET($IL$2,SMALL(IF($IL$2:$IL$72<>\"\",ROW($IL$2:$IL$72),\"\"),ROW(IL2))-2,0)","v":{"$error":"#NUM!"}},{"$f":"OFFSET($IM$2,SMALL(IF($IM$2:$IM$72<>\"\",ROW($IM$2:$IM$72),\"\"),ROW(IM2))-2,0)","v":{"$error":"#NUM!"}},{"$f":"OFFSET($IN$2,SMALL(IF($IN$2:$IN$72<>\"\",ROW($IN$2:$IN$72),\"\"),ROW(IN2))-2,0)","v":{"$error":"#NUM!"}},{"$f":"OFFSET($IO$2,SMALL(IF($IO$2:$IO$72<>\"\",ROW($IO$2:$IO$72),\"\"),ROW(IO2))-2,0)","v":{"$error":"#NUM!"}},{"$f":"OFFSET($IP$2,SMALL(IF($IP$2:$IP$72<>\"\",ROW($IP$2:$IP$72),\"\"),ROW(IP2))-2,0)","v":{"$error":"#NUM!"}},null,{"$f":"IF(AND(教学计划表!N18<>\"\",教学计划表!BH18<>\"\"),教学计划表!I18,\"\")","v":""},{"$f":"IF(教学计划表!BH18<>\"\",教学计划表!N18,\"\")","v":""},{"$f":"IF(教学计划表!BH18<>\"\",IF(SEARCH(\"6\",教学计划表!AB18&\"6\",1)<=LEN(教学计划表!AB18),\"考试\",\"考查\"),\"\")","v":""},{"$f":"IF(教学计划表!BH18<>0,教学计划表!HG18,\"\")","v":""},{"$f":"IF(教学计划表!BH18<>0,教学计划表!HL18,\"\")","v":""},{"$f":"IF(教学计划表!BH18<>0,教学计划表!HM18,\"\")","v":""},{"$f":"IF(教学计划表!BH18<>0,教学计划表!QL18,\"\")","v":""},{"$f":"OFFSET($IY$2,SMALL(IF($IY$2:$IY$72<>\"\",ROW($IY$2:$IY$72),\"\"),ROW(IY2))-2,0)","v":{"$error":"#NUM!"}},{"$f":"OFFSET($IZ$2,SMALL(IF($IZ$2:$IZ$72<>\"\",ROW($IZ$2:$IZ$72),\"\"),ROW(IZ2))-2,0)","v":{"$error":"#NUM!"}},{"$f":"OFFSET($JA$2,SMALL(IF($JA$2:$JA$72<>\"\",ROW($JA$2:$JA$72),\"\"),ROW(JA2))-2,0)","v":{"$error":"#NUM!"}},{"$f":"OFFSET($JB$2,SMALL(IF($JB$2:$JB$72<>\"\",ROW($JB$2:$JB$72),\"\"),ROW(JB2))-2,0)","v":{"$error":"#NUM!"}},{"$f":"OFFSET($JC$2,SMALL(IF($JC$2:$JC$72<>\"\",ROW($JC$2:$JC$72),\"\"),ROW(JC2))-2,0)","v":{"$error":"#NUM!"}},{"$f":"OFFSET($JD$2,SMALL(IF($JD$2:$JD$72<>\"\",ROW($JD$2:$JD$72),\"\"),ROW(JD2))-2,0)","v":{"$error":"#NUM!"}},{"$f":"OFFSET($JE$2,SMALL(IF($JE$2:$JE$72<>\"\",ROW($JE$2:$JE$72),\"\"),ROW(JE2))-2,0)","v":{"$error":"#NUM!"}}]
["",{"$f":"IF(ISERROR(GL4),\"\",GL4)","v":""},{"$f":"IF(ISERROR(GM4),\"\",GM4)","v":""},{"$f":"IF(ISERROR(GN4),\"\",GN4)","v":""},{"$f":"IF(ISERROR(GO4),\"\",GO4)","v":""},{"$f":"IF(ISERROR(GP4),\"\",GP4)","v":""},{"$f":"IF(ISERROR(GQ4),\"\",GQ4)","v":""},null,"",{"$f":"IF(ISERROR(GZ4),\"\",GZ4)","v":""},"",{"$f":"IF(ISERROR(自动生成的开课信息!HB4),\"\",自动生成的开课信息!HB4)","v":""},{"$f":"IF(ISERROR(自动生成的开课信息!HC4),\"\",自动生成的开课信息!HC4)","v":""},{"$f":"IF(ISERROR(自动生成的开课信息!HD4),\"\",自动生成的开课信息!HD4)","v":""},{"$f":"IF(ISERROR(自动生成的开课信息!HE4),\"\",自动生成的开课信息!HE4)","v":""},null,"",{"$f":"IF(ISERROR(HN4),\"\",HN4)","v":""},{"$f":"IF(ISERROR(HO4),\"\",HO4)","v":""},{"$f":"IF(ISERROR(HP4),\"\",HP4)","v":""},{"$f":"IF(ISERROR(HQ4),\"\",HQ4)","v":""},{"$f":"IF(ISERROR(HR4),\"\",HR4)","v":""},{"$f":"IF(ISERROR(HS4),\"\",HS4)","v":""},null,{"$f":"IF(ISERROR(IA4),\"\",IA4)","v":""},{"$f":"IF(ISERROR(IB4),\"\",IB4)","v":""},{"$f":"IF(ISERROR(IC4),\"\",IC4)","v":""},{"$f":"IF(ISERROR(ID4),\"\",ID4)","v":""},{"$f":"IF(ISERROR(IE4),\"\",IE4)","v":""},{"$f":"IF(ISERROR(IF4),\"\",IF4)","v":""},{"$f":"IF(ISERROR(IG4),\"\",IG4)","v":""},null,"",{"$f":"IF(ISERROR(IR4),\"\",IR4)","v":""},{"$f":"IF(ISERROR(IS4),\"\",IS4)","v":""},{"$f":"IF(ISERROR(IT4),\"\",IT4)","v":""},{"$f":"IF(ISERROR(IU4),\"\",IU4)","v":""},{"$f":"IF(ISERROR(IV4),\"\",IV4)","v":""},{"$f":"IF(ISERROR(IW4),\"\",IW4)","v":""},null,"",{"$f":"IF(ISERROR(JG4),\"\",JG4)","v":""},{"$f":"IF(ISERROR(JH4),\"\",JH4)","v":""},{"$f":"IF(ISERROR(JI4),\"\",JI4)","v":""},{"$f":"IF(ISERROR(JJ4),\"\",JJ4)","v":""},{"$f":"IF(ISERROR(JK4),\"\",JK4)","v":""},{"$f":"IF(ISERROR(JL4),\"\",JL4)","v":""},null,null,null,null,null,null,null,null,null,null,null,null,null,null,null,null,null,null,null,null,null,null,null,null,null,null,null,null,null,null,null,null,null,null,null,null,null,null,null,null,null,null,null,null,null,null,null,null,null,null,null,null,null,null,null,null,null,null,null,null,null,null,null,null,null,null,null,null,null,null,null,null,null,null,null,null,null,null,null,null,null,null,null,null,null,null,null,null,null,null,null,null,null,null,null,null,null,null,null,null,null,null,null,null,null,null,null,null,null,null,null,null,null,null,null,null,null,null,null,null,null,null,null,null,null,null,null,null,null,null,null,null,null,null,null,null,null,null,{"$f":"IF(AND(教学计划表!N19<>\"\",教学计划表!AS19<>\"\"),教学计划表!I19,\"\")","v":""},{"$f":"IF(教学计划表!AS19<>\"\",教学计划表!N19,\"\")","v":""},{"$f":"IF(GE4<>\"\",IF(SEARCH(\"1\",教学计划表!AB19&\"1\",1)<=LEN(教学计划表!AB19),\"考试\",\"考查\"),\"\")","v":""},{"$f":"IF(教学计划表!DG19<>0,教学计划表!DG19,\"\")","v":""},{"$f":"IF(教学计划表!DG19<>0,教学计划表!DL19,\"\")","v":""},{"$f":"IF(教学计划表!DG19<>0,教学计划表!DM19,\"\")","v":""},{"$f":"IF(教学计划表!DG19<>0,教学计划表!OE19,\"\")","v":""},{"$f":"OFFSET($GD$2,SMALL(IF($GD$2:$GD$72<>\"\",ROW($2:$72),\"\"),ROW(GD3))-2,0)","v":{"$error":"#NUM!"}},{"$f":"OFFSET($GE$2,SMALL(IF($GE$2:$GE$72<>\"\",ROW($2:$72),\"\"),ROW(GE3))-2,0)","v":{"$error":"#NUM!"}},{"$f":"OFFSET($GF$2,SMALL(IF($GF$2:$GF$72<>\"\",ROW($2:$72),\"\"),ROW(GF3))-2,0)","v":{"$error":"#NUM!"}},{"$f":"OFFSET($GG$2,SMALL(IF($GG$2:$GG$72<>\"\",ROW($2:$72),\"\"),ROW(GG3))-2,0)","v":{"$error":"#NUM!"}},{"$f":"OFFSET($GH$2,SMALL(IF($GH$2:$GH$72<>\"\",ROW($2:$72),\"\"),ROW(GH3))-2,0)","v":{"$error":"#NUM!"}},{"$error":"#NUM!"},{"$f":"OFFSET($GJ$2,SMALL(IF($GJ$2:$GJ$72<>\"\",ROW($2:$72),\"\"),ROW(GJ3))-2,0)","v":{"$error":"#NUM!"}},{"$f":"IF(AND(教学计划表!N19<>\"\",教学计划表!AV19<>\"\"),教学计划表!I19,\"\")","v":""},{"$f":"IF(教学计划表!AV19<>\"\",教学计划表!N19,\"\")","v":""},{"$f":"IF(GS4<>\"\",IF(SEARCH(\"2\",教学计划表!AB19&\"2\",1)<=LEN(教学计划表!AB19),\"考试\",\"考查\"),\"\")","v":""},{"$f":"IF(教学计划表!EA19<>0,教学计划表!EA19,\"\")","v":""},{"$f":"IF(教学计划表!EA19<>0,教学计划表!EF19,\"\")","v":""},{"$f":"IF(教学计划表!EA19<>0,教学计划表!EG19,\"\")","v":""},{"$f":"IF(教学计划表!EA19<>0,教学计划表!OQ19,\"\")","v":""},{"$f":"OFFSET($GR$2,SMALL(IF($GR$2:$GR$72<>\"\",ROW($I$2:$K$72),\"\"),ROW(GR3))-2,0)","v":{"$error":"#NUM!"}},{"$f":"OFFSET($GS$2,SMALL(IF($GS$2:$GS$72<>\"\",ROW($I$2:$K$72),\"\"),ROW(GS3))-2,0)","v":{"$error":"#NUM!"}},{"$f":"OFFSET($GT$2,SMALL(IF($GT$2:$GT$72<>\"\",ROW($I$2:$K$72),\"\"),ROW(GT3))-2,0)","v":{"$error":"#NUM!"}},{"$f":"OFFSET($GU$2,SMALL(IF($GU$2:$GU$72<>\"\",ROW($I$2:$K$72),\"\"),ROW(GU3))-2,0)","v":{"$error":"#NUM!"}},{"$f":"OFFSET($GV$2,SMALL(IF($GV$2:$GV$72<>\"\",ROW($GV$2:$GV$72),\"\"),ROW(GV3))-2,0)","v":{"$error":"#NUM!"}},{"$f":"OFFSET($GW$2,SMALL(IF($GW$2:$GW$72<>\"\",ROW($GW$2:$GW$72),\"\"),ROW(GW3))-2,0)","v":{"$error":"#NUM!"}},{"$f":"OFFSET($GX$2,SMALL(IF($GX$2:$GX$72<>\"\",ROW($GX$2:$GX$72),\"\"),ROW(GX3))-2,0)","v":{"$error":"#NUM!"}},{"$f":"IF(AND(教学计划表!N19<>\"\",教学计划表!AY19<>\"\"),教学计划表!I19,\"\")","v":""},{"$f":"IF(教学计划表!AY19<>\"\",教学计划表!N19,\"\")","v":""},{"$f":"IF(HG4<>\"\",IF(SEARCH(\"3\",教学计划表!AB19&\"3\",1)<=LEN(教学计划表!AB19),\"考试\",\"考查\"),\"\")","v":""},{"$f":"IF(教学计划表!EV19<>0,教学计划表!EV19,\"\")","v":""},{"$f":"IF(教学计划表!EV19<>0,教学计划表!FA19,\"\")","v":""},{"$f":"IF(教学计划表!EV19<>0,教学计划表!FB19,\"\")","v":""},{"$f":"IF(教学计划表!EV19<>0,教学计划表!PC19,\"\")","v":""},{"$f":"OFFSET($HF$2,SMALL(IF($HF$2:$HF$72<>\"\",ROW($HF$2:$HF$72),\"\"),ROW(HF3))-2,0)","v":{"$error":"#NUM!"}},{"$f":"OFFSET($HG$2,SMALL(IF($HG$2:$HG$72<>\"\",ROW($HG$2:$HG$72),\"\"),ROW(HG3))-2,0)","v":{"$error":"#NUM!"}},{"$f":"OFFSET($HH$2,SMALL(IF($HH$2:$HH$72<>\"\",ROW($HH$2:$HH$72),\"\"),ROW(HH3))-2,0)","v":{"$error":"#NUM!"}},{"$f":"OFFSET($HI$2,SMALL(IF($HI$2:$HI$72<>\"\",ROW($HI$2:$HI$72),\"\"),ROW(HI3))-2,0)","v":{"$error":"#NUM!"}},{"$f":"OFFSET($HJ$2,SMALL(IF($HJ$2:$HJ$72<>\"\",ROW($HJ$2:$HJ$72),\"\"),ROW(HJ3))-2,0)","v":{"$error":"#NUM!"}},{"$f":"OFFSET($HK$2,SMALL(IF($HK$2:$HK$72<>\"\",ROW($HK$2:$HK$72),\"\"),ROW(HK3))-2,0)","v":{"$error":"#NUM!"}},{"$f":"OFFSET($HL$2,SMALL(IF($HL$2:$HL$72<>\"\",ROW($HL$2:$HL$72),\"\"),ROW(HL3))-2,0)","v":{"$error":"#NUM!"}},{"$f":"IF(AND(教学计划表!N19<>\"\",教学计划表!BB19<>\"\"),教学计划表!I19,\"\")","v":""},{"$f":"IF(教学计划表!BB19<>\"\",教学计划表!N19,\"\")","v":""},{"$f":"IF(HU4<>\"\",IF(SEARCH(\"4\",教学计划表!AB19&\"4\",1)<=LEN(教学计划表!AB19),\"考试\",\"考查\"),\"\")","v":""},{"$f":"IF(教学计划表!FQ19<>0,教学计划表!FQ19,\"\")","v":""},{"$f":"IF(教学计划表!FQ19<>0,教学计划表!FV19,\"\")","v":""},{"$f":"IF(教学计划表!FQ19<>0,教学计划表!FW19,\"\")","v":""},{"$f":"IF(教学计划表!FQ19<>0,教学计划表!PO19,\"\")","v":""},{"$f":"OFFSET($HT$2,SMALL(IF($HT$2:$HT$72<>\"\",ROW($HT$2:$HT$72),\"\"),ROW(HT3))-2,0)","v":{"$error":"#NUM!"}},{"$f":"OFFSET($HU$2,SMALL(IF($HU$2:$HU$72<>\"\",ROW($HU$2:$HU$72),\"\"),ROW(HU3))-2,0)","v":{"$error":"#NUM!"}},{"$f":"OFFSET($HV$2,SMALL(IF($HV$2:$HV$72<>\"\",ROW($HV$2:$HV$72),\"\"),ROW(HV3))-2,0)","v":{"$error":"#NUM!"}},{"$f":"OFFSET($HW$2,SMALL(IF($HW$2:$HW$72<>\"\",ROW($HW$2:$HW$72),\"\"),ROW(HW3))-2,0)","v":{"$error":"#NUM!"}},{"$f":"OFFSET($HX$2,SMALL(IF($HX$2:$HX$72<>\"\",ROW($HX$2:$HX$72),\"\"),ROW(HX3))-2,0)","v":{"$error":"#NUM!"}},{"$f":"OFFSET($HY$2,SMALL(IF($HY$2:$HY$72<>\"\",ROW($HY$2:$HY$72),\"\"),ROW(HY3))-2,0)","v":{"$error":"#NUM!"}},{"$f":"OFFSET($HZ$2,SMALL(IF($HZ$2:$HZ$72<>\"\",ROW($HZ$2:$HZ$72),\"\"),ROW(HZ3))-2,0)","v":{"$error":"#NUM!"}},null,null,{"$f":"IF(AND(教学计划表!N19<>\"\",教学计划表!BE19<>\"\"),教学计划表!I19,\"\")","v":""},{"$f":"IF(教学计划表!BE19<>\"\",教学计划表!N19,\"\")","v":""},{"$f":"IF(IK4<>\"\",IF(SEARCH(\"5\",教学计划表!AB19&\"5\",1)<=LEN(教学计划表!AB19),\"考试\",\"考查\"),\"\")","v":""},{"$f":"IF(教学计划表!GL19<>0,教学计划表!GL19,\"\")","v":""},{"$f":"IF(教学计划表!GL19<>0,教学计划表!GQ19,\"\")","v":""},{"$f":"IF(教学计划表!GL19<>0,教学计划表!GR19,\"\")","v":""},{"$f":"IF(教学计划表!GL19<>0,教学计划表!PZ19,\"\")","v":""},{"$f":"OFFSET($IJ$2,SMALL(IF($IJ$2:$IJ$72<>\"\",ROW($IJ$2:$IJ$72),\"\"),ROW(IJ3))-2,0)","v":{"$error":"#NUM!"}},{"$f":"OFFSET($IK$2,SMALL(IF($IK$2:$IK$72<>\"\",ROW($IK$2:$IK$72),\"\"),ROW(IK3))-2,0)","v":{"$error":"#NUM!"}},{"$f":"OFFSET($IL$2,SMALL(IF($IL$2:$IL$72<>\"\",ROW($IL$2:$IL$72),\"\"),ROW(IL3))-2,0)","v":{"$error":"#NUM!"}},{"$f":"OFFSET($IM$2,SMALL(IF($IM$2:$IM$72<>\"\",ROW($IM$2:$IM$72),\"\"),ROW(IM3))-2,0)","v":{"$error":"#NUM!"}},{"$f":"OFFSET($IN$2,SMALL(IF($IN$2:$IN$72<>\"\",ROW($IN$2:$IN$72),\"\"),ROW(IN3))-2,0)","v":{"$error":"#NUM!"}},{"$f":"OFFSET($IO$2,SMALL(IF($IO$2:$IO$72<>\"\",ROW($IO$2:$IO$72),\"\"),ROW(IO3))-2,0)","v":{"$error":"#NUM!"}},{"$f":"OFFSET($IP$2,SMALL(IF($IP$2:$IP$72<>\"\",ROW($IP$2:$IP$72),\"\"),ROW(IP3))-2,0)","v":{"$error":"#NUM!"}},null,{"$f":"IF(AND(教学计划表!N19<>\"\",教学计划表!BH19<>\"\"),教学计划表!I19,\"\")","v":""},{"$f":"IF(教学计划表!BH19<>\"\",教学计划表!N19,\"\")","v":""},{"$f":"IF(教学计划表!BH19<>\"\",IF(SEARCH(\"6\",教学计划表!AB19&\"6\",1)<=LEN(教学计划表!AB19),\"考试\",\"考查\"),\"\")","v":""},{"$f":"IF(教学计划表!BH19<>0,教学计划表!HG19,\"\")","v":""},{"$f":"IF(教学计划表!BH19<>0,教学计划表!HL19,\"\")","v":""},{"$f":"IF(教学计划表!BH19<>0,教学计划表!HM19,\"\")","v":""},{"$f":"IF(教学计划表!BH19<>0,教学计划表!QL19,\"\")","v":""},{"$f":"OFFSET($IY$2,SMALL(IF($IY$2:$IY$72<>\"\",ROW($IY$2:$IY$72),\"\"),ROW(IY3))-2,0)","v":{"$error":"#NUM!"}},{"$f":"OFFSET($IZ$2,SMALL(IF($IZ$2:$IZ$72<>\"\",ROW($IZ$2:$IZ$72),\"\"),ROW(IZ3))-2,0)","v":{"$error":"#NUM!"}},{"$f":"OFFSET($JA$2,SMALL(IF($JA$2:$JA$72<>\"\",ROW($JA$2:$JA$72),\"\"),ROW(JA3))-2,0)","v":{"$error":"#NUM!"}},{"$f":"OFFSET($JB$2,SMALL(IF($JB$2:$JB$72<>\"\",ROW($JB$2:$JB$72),\"\"),ROW(JB3))-2,0)","v":{"$error":"#NUM!"}},{"$f":"OFFSET($JC$2,SMALL(IF($JC$2:$JC$72<>\"\",ROW($JC$2:$JC$72),\"\"),ROW(JC3))-2,0)","v":{"$error":"#NUM!"}},{"$f":"OFFSET($JD$2,SMALL(IF($JD$2:$JD$72<>\"\",ROW($JD$2:$JD$72),\"\"),ROW(JD3))-2,0)","v":{"$error":"#NUM!"}},{"$f":"OFFSET($JE$2,SMALL(IF($JE$2:$JE$72<>\"\",ROW($JE$2:$JE$72),\"\"),ROW(JE3))-2,0)","v":{"$error":"#NUM!"}}]
["","","","","","","",null,"","",{"$f":"IF(ISERROR(HA5),\"\",HA5)","v":""},{"$f":"IF(ISERROR(自动生成的开课信息!HB5),\"\",自动生成的开课信息!HB5)","v":""},{"$f":"IF(ISERROR(自动生成的开课信息!HC5),\"\",自动生成的开课信息!HC5)","v":""},{"$f":"IF(ISERROR(自动生成的开课信息!HD5),\"\",自动生成的开课信息!HD5)","v":""},{"$f":"IF(ISERROR(自动生成的开课信息!HE5),\"\",自动生成的开课信息!HE5)","v":""},null,"","","","","","","",null,"","","","","","","",null,"","","","","","","",null,"","","","","","","",null,null,null,null,null,null,null,null,null,null,null,null,null,null,null,null,null,null,null,null,null,null,null,null,null,null,null,null,null,null,null,null,null,null,null,null,null,null,null,null,null,null,null,null,null,null,null,null,null,null,null,null,null,null,null,null,null,null,null,null,null,null,null,null,null,null,null,null,null,null,null,null,null,null,null,null,null,null,null,null,null,null,null,null,null,null,null,null,null,null,null,null,null,null,null,null,null,null,null,null,null,null,null,null,null,null,null,null,null,null,null,null,null,null,null,null,null,null,null,null,null,null,null,null,null,null,null,null,null,null,null,null,null,null,null,null,null,null,{"$f":"IF(AND(教学计划表!N20<>\"\",教学计划表!AS20<>\"\"),教学计划表!I20,\"\")","v":""},{"$f":"IF(教学计划表!AS20<>\"\",教学计划表!N20,\"\")","v":""},{"$f":"IF(GE5<>\"\",IF(SEARCH(\"1\",教学计划表!AB20&\"1\",1)<=LEN(教学计划表!AB20),\"考试\",\"考查\"),\"\")","v":""},{"$f":"IF(教学计划表!DG20<>0,教学计划表!DG20,\"\")","v":""},{"$f":"IF(教学计划表!DG20<>0,教学计划表!DL20,\"\")","v":""},{"$f":"IF(教学计划表!DG20<>0,教学计划表!DM20,\"\")","v":""},{"$f":"IF(教学计划表!DG20<>0,教学计划表!OE20,\"\")","v":""},{"$f":"OFFSET($GD$2,SMALL(IF($GD$2:$GD$72<>\"\",ROW($2:$72),\"\"),ROW(GD4))-2,0)","v":{"$error":"#NUM!"}},{"$f":"OFFSET($GE$2,SMALL(IF($GE$2:$GE$72<>\"\",ROW($2:$72),\"\"),ROW(GE4))-2,0)","v":{"$error":"#NUM!"}},{"$f":"OFFSET($GF$2,SMALL(IF($GF$2:$GF$72<>\"\",ROW($2:$72),\"\"),ROW(GF4))-2,0)","v":{"$error":"#NUM!"}},{"$f":"OFFSET($GG$2,SMALL(IF($GG$2:$GG$72<>\"\",ROW($2:$72),\"\"),ROW(GG4))-2,0)","v":{"$error":"#NUM!"}},{"$f":"OFFSET($GH$2,SMALL(IF($GH$2:$GH$72<>\"\",ROW($2:$72),\"\"),ROW(GH4))-2,0)","v":{"$error":"#NUM!"}},{"$error":"#NUM!"},{"$f":"OFFSET($GJ$2,SMALL(IF($GJ$2:$GJ$72<>\"\",ROW($2:$72),\"\"),ROW(GJ4))-2,0)","v":{"$error":"#NUM!"}},{"$f":"IF(AND(教学计划表!N20<>\"\",教学计划表!AV20<>\"\"),教学计划表!I20,\"\")","v":""},{"$f":"IF(教学计划表!AV20<>\"\",教学计划表!N20,\"\")","v":""},{"$f":"IF(GS5<>\"\",IF(SEARCH(\"2\",教学计划表!AB20&\"2\",1)<=LEN(教学计划表!AB20),\"考试\",\"考查\"),\"\")","v":""},{"$f":"IF(教学计划表!EA20<>0,教学计划表!EA20,\"\")","v":""},{"$f":"IF(教学计划表!EA20<>0,教学计划表!EF20,\"\")","v":""},{"$f":"IF(教学计划表!EA20<>0,教学计划表!EG20,\"\")","v":""},{"$f":"IF(教学计划表!EA20<>0,教学计划表!OQ20,\"\")","v":""},{"$f":"OFFSET($GR$2,SMALL(IF($GR$2:$GR$72<>\"\",ROW($I$2:$K$72),\"\"),ROW(GR4))-2,0)","v":{"$error":"#NUM!"}},{"$f":"OFFSET($GS$2,SMALL(IF($GS$2:$GS$72<>\"\",ROW($I$2:$K$72),\"\"),ROW(GS4))-2,0)","v":{"$error":"#NUM!"}},{"$f":"OFFSET($GT$2,SMALL(IF($GT$2:$GT$72<>\"\",ROW($I$2:$K$72),\"\"),ROW(GT4))-2,0)","v":{"$error":"#NUM!"}},{"$f":"OFFSET($GU$2,SMALL(IF($GU$2:$GU$72<>\"\",ROW($I$2:$K$72),\"\"),ROW(GU4))-2,0)","v":{"$error":"#NUM!"}},{"$f":"OFFSET($GV$2,SMALL(IF($GV$2:$GV$72<>\"\",ROW($GV$2:$GV$72),\"\"),ROW(GV4))-2,0)","v":{"$error":"#NUM!"}},{"$f":"OFFSET($GW$2,SMALL(IF($GW$2:$GW$72<>\"\",ROW($GW$2:$GW$72),\"\"),ROW(GW4))-2,0)","v":{"$error":"#NUM!"}},{"$f":"OFFSET($GX$2,SMALL(IF($GX$2:$GX$72<>\"\",ROW($GX$2:$GX$72),\"\"),ROW(GX4))-2,0)","v":{"$error":"#NUM!"}},{"$f":"IF(AND(教学计划表!N20<>\"\",教学计划表!AY20<>\"\"),教学计划表!I20,\"\")","v":""},{"$f":"IF(教学计划表!AY20<>\"\",教学计划表!N20,\"\")","v":""},{"$f":"IF(HG5<>\"\",IF(SEARCH(\"3\",教学计划表!AB20&\"3\",1)<=LEN(教学计划表!AB20),\"考试\",\"考查\"),\"\")","v":""},{"$f":"IF(教学计划表!EV20<>0,教学计划表!EV20,\"\")","v":""},{"$f":"IF(教学计划表!EV20<>0,教学计划表!FA20,\"\")","v":""},{"$f":"IF(教学计划表!EV20<>0,教学计划表!FB20,\"\")","v":""},{"$f":"IF(教学计划表!EV20<>0,教学计划表!PC20,\"\")","v":""},{"$f":"OFFSET($HF$2,SMALL(IF($HF$2:$HF$72<>\"\",ROW($HF$2:$HF$72),\"\"),ROW(HF4))-2,0)","v":{"$error":"#NUM!"}},{"$f":"OFFSET($HG$2,SMALL(IF($HG$2:$HG$72<>\"\",ROW($HG$2:$HG$72),\"\"),ROW(HG4))-2,0)","v":{"$error":"#NUM!"}},{"$f":"OFFSET($HH$2,SMALL(IF($HH$2:$HH$72<>\"\",ROW($HH$2:$HH$72),\"\"),ROW(HH4))-2,0)","v":{"$error":"#NUM!"}},{"$f":"OFFSET($HI$2,SMALL(IF($HI$2:$HI$72<>\"\",ROW($HI$2:$HI$72),\"\"),ROW(HI4))-2,0)","v":{"$error":"#NUM!"}},{"$f":"OFFSET($HJ$2,SMALL(IF($HJ$2:$HJ$72<>\"\",ROW($HJ$2:$HJ$72),\"\"),ROW(HJ4))-2,0)","v":{"$error":"#NUM!"}},{"$f":"OFFSET($HK$2,SMALL(IF($HK$2:$HK$72<>\"\",ROW($HK$2:$HK$72),\"\"),ROW(HK4))-2,0)","v":{"$error":"#NUM!"}},{"$f":"OFFSET($HL$2,SMALL(IF($HL$2:$HL$72<>\"\",ROW($HL$2:$HL$72),\"\"),ROW(HL4))-2,0)","v":{"$error":"#NUM!"}},{"$f":"IF(AND(教学计划表!N20<>\"\",教学计划表!BB20<>\"\"),教学计划表!I20,\"\")","v":""},{"$f":"IF(教学计划表!BB20<>\"\",教学计划表!N20,\"\")","v":""},{"$f":"IF(HU5<>\"\",IF(SEARCH(\"4\",教学计划表!AB20&\"4\",1)<=LEN(教学计划表!AB20),\"考试\",\"考查\"),\"\")","v":""},{"$f":"IF(教学计划表!FQ20<>0,教学计划表!FQ20,\"\")","v":""},{"$f":"IF(教学计划表!FQ20<>0,教学计划表!FV20,\"\")","v":""},{"$f":"IF(教学计划表!FQ20<>0,教学计划表!FW20,\"\")","v":""},{"$f":"IF(教学计划表!FQ20<>0,教学计划表!PO20,\"\")","v":""},{"$f":"OFFSET($HT$2,SMALL(IF($HT$2:$HT$72<>\"\",ROW($HT$2:$HT$72),\"\"),ROW(HT4))-2,0)","v":{"$error":"#NUM!"}},{"$f":"OFFSET($HU$2,SMALL(IF($HU$2:$HU$72<>\"\",ROW($HU$2:$HU$72),\"\"),ROW(HU4))-2,0)","v":{"$error":"#NUM!"}},{"$f":"OFFSET($HV$2,SMALL(IF($HV$2:$HV$72<>\"\",ROW($HV$2:$HV$72),\"\"),ROW(HV4))-2,0)","v":{"$error":"#NUM!"}},{"$f":"OFFSET($HW$2,SMALL(IF($HW$2:$HW$72<>\"\",ROW($HW$2:$HW$72),\"\"),ROW(HW4))-2,0)","v":{"$error":"#NUM!"}},{"$f":"OFFSET($HX$2,SMALL(IF($HX$2:$HX$72<>\"\",ROW($HX$2:$HX$72),\"\"),ROW(HX4))-2,0)","v":{"$error":"#NUM!"}},{"$f":"OFFSET($HY$2,SMALL(IF($HY$2:$HY$72<>\"\",ROW($HY$2:$HY$72),\"\"),ROW(HY4))-2,0)","v":{"$error":"#NUM!"}},{"$f":"OFFSET($HZ$2,SMALL(IF($HZ$2:$HZ$72<>\"\",ROW($HZ$2:$HZ$72),\"\"),ROW(HZ4))-2,0)","v":{"$error":"#NUM!"}},null,null,{"$f":"IF(AND(教学计划表!N20<>\"\",教学计划表!BE20<>\"\"),教学计划表!I20,\"\")","v":""},{"$f":"IF(教学计划表!BE20<>\"\",教学计划表!N20,\"\")","v":""},{"$f":"IF(IK5<>\"\",IF(SEARCH(\"5\",教学计划表!AB20&\"5\",1)<=LEN(教学计划表!AB20),\"考试\",\"考查\"),\"\")","v":""},{"$f":"IF(教学计划表!GL20<>0,教学计划表!GL20,\"\")","v":""},{"$f":"IF(教学计划表!GL20<>0,教学计划表!GQ20,\"\")","v":""},{"$f":"IF(教学计划表!GL20<>0,教学计划表!GR20,\"\")","v":""},{"$f":"IF(教学计划表!GL20<>0,教学计划表!PZ20,\"\")","v":""},{"$f":"OFFSET($IJ$2,SMALL(IF($IJ$2:$IJ$72<>\"\",ROW($IJ$2:$IJ$72),\"\"),ROW(IJ4))-2,0)","v":{"$error":"#NUM!"}},{"$f":"OFFSET($IK$2,SMALL(IF($IK$2:$IK$72<>\"\",ROW($IK$2:$IK$72),\"\"),ROW(IK4))-2,0)","v":{"$error":"#NUM!"}},{"$f":"OFFSET($IL$2,SMALL(IF($IL$2:$IL$72<>\"\",ROW($IL$2:$IL$72),\"\"),ROW(IL4))-2,0)","v":{"$error":"#NUM!"}},{"$f":"OFFSET($IM$2,SMALL(IF($IM$2:$IM$72<>\"\",ROW($IM$2:$IM$72),\"\"),ROW(IM4))-2,0)","v":{"$error":"#NUM!"}},{"$f":"OFFSET($IN$2,SMALL(IF($IN$2:$IN$72<>\"\",ROW($IN$2:$IN$72),\"\"),ROW(IN4))-2,0)","v":{"$error":"#NUM!"}},{"$f":"OFFSET($IO$2,SMALL(IF($IO$2:$IO$72<>\"\",ROW($IO$2:$IO$72),\"\"),ROW(IO4))-2,0)","v":{"$error":"#NUM!"}},{"$f":"OFFSET($IP$2,SMALL(IF($IP$2:$IP$72<>\"\",ROW($IP$2:$IP$72),\"\"),ROW(IP4))-2,0)","v":{"$error":"#NUM!"}},null,{"$f":"IF(AND(教学计划表!N20<>\"\",教学计划表!BH20<>\"\"),教学计划表!I20,\"\")","v":""},{"$f":"IF(教学计划表!BH20<>\"\",教学计划表!N20,\"\")","v":""},{"$f":"IF(教学计划表!BH20<>\"\",IF(SEARCH(\"6\",教学计划表!AB20&\"6\",1)<=LEN(教学计划表!AB20),\"考试\",\"考查\"),\"\")","v":""},{"$f":"IF(教学计划表!BH20<>0,教学计划表!HG20,\"\")","v":""},{"$f":"IF(教学计划表!BH20<>0,教学计划表!HL20,\"\")","v":""},{"$f":"IF(教学计划表!BH20<>0,教学计划表!HM20,\"\")","v":""},{"$f":"IF(教学计划表!BH20<>0,教学计划表!QL20,\"\")","v":""},{"$f":"OFFSET($IY$2,SMALL(IF($IY$2:$IY$72<>\"\",ROW($IY$2:$IY$72),\"\"),ROW(IY4))-2,0)","v":{"$error":"#NUM!"}},{"$f":"OFFSET($IZ$2,SMALL(IF($IZ$2:$IZ$72<>\"\",ROW($IZ$2:$IZ$72),\"\"),ROW(IZ4))-2,0)","v":{"$error":"#NUM!"}},{"$f":"OFFSET($JA$2,SMALL(IF($JA$2:$JA$72<>\"\",ROW($JA$2:$JA$72),\"\"),ROW(JA4))-2,0)","v":{"$error":"#NUM!"}},{"$f":"OFFSET($JB$2,SMALL(IF($JB$2:$JB$72<>\"\",ROW($JB$2:$JB$72),\"\"),ROW(JB4))-2,0)","v":{"$error":"#NUM!"}},{"$f":"OFFSET($JC$2,SMALL(IF($JC$2:$JC$72<>\"\",ROW($JC$2:$JC$72),\"\"),ROW(JC4))-2,0)","v":{"$error":"#NUM!"}},{"$f":"OFFSET($JD$2,SMALL(IF($JD$2:$JD$72<>\"\",ROW($JD$2:$JD$72),\"\"),ROW(JD4))-2,0)","v":{"$error":"#NUM!"}},{"$f":"OFFSET($JE$2,SMALL(IF($JE$2:$JE$72<>\"\",ROW($JE$2:$JE$72),\"\"),ROW(JE4))-2,0)","v":{"$error":"#NUM!"}}]
["","","","","","","",null,"","","",{"$f":"IF(ISERROR(自动生成的开课信息!HB6),\"\",自动生成的开课信息!HB6)","v":""},{"$f":"IF(ISERROR(自动生成的开课信息!HC6),\"\",自动生成的开课信息!HC6)","v":""},{"$f":"IF(ISERROR(自动生成的开课信息!HD6),\"\",自动生成的开课信息!HD6)","v":""},{"$f":"IF(ISERROR(自动生成的开课信息!HE6),\"\",自动生成的开课信息!HE6)","v":""},null,"","","","","","","",null,"","","","","","","",null,"","","","","","","",null,"","","","","","","",null,null,null,null,null,null,null,null,null,null,null,null,null,null,null,null,null,null,null,null,null,null,null,null,null,null,null,null,null,null,null,null,null,null,null,null,null,null,null,null,null,null,null,null,null,null,null,null,null,null,null,null,null,null,null,null,null,null,null,null,null,null,null,null,null,null,null,null,null,null,null,null,null,null,null,null,null,null,null,null,null,null,null,null,null,null,null,null,null,null,null,null,null,null,null,null,null,null,null,null,null,null,null,null,null,null,null,null,null,null,null,null,null,null,null,null,null,null,null,null,null,null,null,null,null,null,null,null,null,null,null,null,null,null,null,null,null,null,{"$f":"IF(AND(教学计划表!N21<>\"\",教学计划表!AS21<>\"\"),教学计划表!I21,\"\")","v":""},{"$f":"IF(教学计划表!AS21<>\"\",教学计划表!N21,\"\")","v":""},{"$f":"IF(GE6<>\"\",IF(SEARCH(\"1\",教学计划表!AB21&\"1\",1)<=LEN(教学计划表!AB21),\"考试\",\"考查\"),\"\")","v":""},{"$f":"IF(教学计划表!DG21<>0,教学计划表!DG21,\"\")","v":""},{"$f":"IF(教学计划表!DG21<>0,教学计划表!DL21,\"\")","v":""},{"$f":"IF(教学计划表!DG21<>0,教学计划表!DM21,\"\")","v":""},{"$f":"IF(教学计划表!DG21<>0,教学计划表!OE21,\"\")","v":""},{"$f":"OFFSET($GD$2,SMALL(IF($GD$2:$GD$72<>\"\",ROW($2:$72),\"\"),ROW(GD5))-2,0)","v":{"$error":"#NUM!"}},{"$f":"OFFSET($GE$2,SMALL(IF($GE$2:$GE$72<>\"\",ROW($2:$72),\"\"),ROW(GE5))-2,0)","v":{"$error":"#NUM!"}},{"$f":"OFFSET($GF$2,SMALL(IF($GF$2:$GF$72<>\"\",ROW($2:$72),\"\"),ROW(GF5))-2,0)","v":{"$error":"#NUM!"}},{"$f":"OFFSET($GG$2,SMALL(IF($GG$2:$GG$72<>\"\",ROW($2:$72),\"\"),ROW(GG5))-2,0)","v":{"$error":"#NUM!"}},{"$f":"OFFSET($GH$2,SMALL(IF($GH$2:$GH$72<>\"\",ROW($2:$72),\"\"),ROW(GH5))-2,0)","v":{"$error":"#NUM!"}},{"$error":"#NUM!"},{"$f":"OFFSET($GJ$2,SMALL(IF($GJ$2:$GJ$72<>\"\",ROW($2:$72),\"\"),ROW(GJ5))-2,0)","v":{"$error":"#NUM!"}},{"$f":"IF(AND(教学计划表!N21<>\"\",教学计划表!AV21<>\"\"),教学计划表!I21,\"\")","v":""},{"$f":"IF(教学计划表!AV21<>\"\",教学计划表!N21,\"\")","v":""},{"$f":"IF(GS6<>\"\",IF(SEARCH(\"2\",教学计划表!AB21&\"2\",1)<=LEN(教学计划表!AB21),\"考试\",\"考查\"),\"\")","v":""},{"$f":"IF(教学计划表!EA21<>0,教学计划表!EA21,\"\")","v":""},{"$f":"IF(教学计划表!EA21<>0,教学计划表!EF21,\"\")","v":""},{"$f":"IF(教学计划表!EA21<>0,教学计划表!EG21,\"\")","v":""},{"$f":"IF(教学计划表!EA21<>0,教学计划表!OQ21,\"\")","v":""},{"$f":"OFFSET($GR$2,SMALL(IF($GR$2:$GR$72<>\"\",ROW($I$2:$K$72),\"\"),ROW(GR5))-2,0)","v":{"$error":"#NUM!"}},{"$f":"OFFSET($GS$2,SMALL(IF($GS$2:$GS$72<>\"\",ROW($I$2:$K$72),\"\"),ROW(GS5))-2,0)","v":{"$error":"#NUM!"}},{"$f":"OFFSET($GT$2,SMALL(IF($GT$2:$GT$72<>\"\",ROW($I$2:$K$72),\"\"),ROW(GT5))-2,0)","v":{"$error":"#NUM!"}},{"$f":"OFFSET($GU$2,SMALL(IF($GU$2:$GU$72<>\"\",ROW($I$2:$K$72),\"\"),ROW(GU5))-2,0)","v":{"$error":"#NUM!"}},{"$f":"OFFSET($GV$2,SMALL(IF($GV$2:$GV$72<>\"\",ROW($GV$2:$GV$72),\"\"),ROW(GV5))-2,0)","v":{"$error":"#NUM!"}},{"$f":"OFFSET($GW$2,SMALL(IF($GW$2:$GW$72<>\"\",ROW($GW$2:$GW$72),\"\"),ROW(GW5))-2,0)","v":{"$error":"#NUM!"}},{"$f":"OFFSET($GX$2,SMALL(IF($GX$2:$GX$72<>\"\",ROW($GX$2:$GX$72),\"\"),ROW(GX5))-2,0)","v":{"$error":"#NUM!"}},{"$f":"IF(AND(教学计划表!N21<>\"\",教学计划表!AY21<>\"\"),教学计划表!I21,\"\")","v":""},{"$f":"IF(教学计划表!AY21<>\"\",教学计划表!N21,\"\")","v":""},{"$f":"IF(HG6<>\"\",IF(SEARCH(\"3\",教学计划表!AB21&\"3\",1)<=LEN(教学计划表!AB21),\"考试\",\"考查\"),\"\")","v":""},{"$f":"IF(教学计划表!EV21<>0,教学计划表!EV21,\"\")","v":""},{"$f":"IF(教学计划表!EV21<>0,教学计划表!FA21,\"\")","v":""},{"$f":"IF(教学计划表!EV21<>0,教学计划表!FB21,\"\")","v":""},{"$f":"IF(教学计划表!EV21<>0,教学计划表!PC21,\"\")","v":""},{"$f":"OFFSET($HF$2,SMALL(IF($HF$2:$HF$72<>\"\",ROW($HF$2:$HF$72),\"\"),ROW(HF5))-2,0)","v":{"$error":"#NUM!"}},{"$f":"OFFSET($HG$2,SMALL(IF($HG$2:$HG$72<>\"\",ROW($HG$2:$HG$72),\"\"),ROW(HG5))-2,0)","v":{"$error":"#NUM!"}},{"$f":"OFFSET($HH$2,SMALL(IF($HH$2:$HH$72<>\"\",ROW($HH$2:$HH$72),\"\"),ROW(HH5))-2,0)","v":{"$error":"#NUM!"}},{"$f":"OFFSET($HI$2,SMALL(IF($HI$2:$HI$72<>\"\",ROW($HI$2:$HI$72),\"\"),ROW(HI5))-2,0)","v":{"$error":"#NUM!"}},{"$f":"OFFSET($HJ$2,SMALL(IF($HJ$2:$HJ$72<>\"\",ROW($HJ$2:$HJ$72),\"\"),ROW(HJ5))-2,0)","v":{"$error":"#NUM!"}},{"$f":"OFFSET($HK$2,SMALL(IF($HK$2:$HK$72<>\"\",ROW($HK$2:$HK$72),\"\"),ROW(HK5))-2,0)","v":{"$error":"#NUM!"}},{"$f":"OFFSET($HL$2,SMALL(IF($HL$2:$HL$72<>\"\",ROW($HL$2:$HL$72),\"\"),ROW(HL5))-2,0)","v":{"$error":"#NUM!"}},{"$f":"IF(AND(教学计划表!N21<>\"\",教学计划表!BB21<>\"\"),教学计划表!I21,\"\")","v":""},{"$f":"IF(教学计划表!BB21<>\"\",教学计划表!N21,\"\")","v":""},{"$f":"IF(HU6<>\"\",IF(SEARCH(\"4\",教学计划表!AB21&\"4\",1)<=LEN(教学计划表!AB21),\"考试\",\"考查\"),\"\")","v":""},{"$f":"IF(教学计划表!FQ21<>0,教学计划表!FQ21,\"\")","v":""},{"$f":"IF(教学计划表!FQ21<>0,教学计划表!FV21,\"\")","v":""},{"$f":"IF(教学计划表!FQ21<>0,教学计划表!FW21,\"\")","v":""},{"$f":"IF(教学计划表!FQ21<>0,教学计划表!PO21,\"\")","v":""},{"$f":"OFFSET($HT$2,SMALL(IF($HT$2:$HT$72<>\"\",ROW($HT$2:$HT$72),\"\"),ROW(HT5))-2,0)","v":{"$error":"#NUM!"}},{"$f":"OFFSET($HU$2,SMALL(IF($HU$2:$HU$72<>\"\",ROW($HU$2:$HU$72),\"\"),ROW(HU5))-2,0)","v":{"$error":"#NUM!"}},{"$f":"OFFSET($HV$2,SMALL(IF($HV$2:$HV$72<>\"\",ROW($HV$2:$HV$72),\"\"),ROW(HV5))-2,0)","v":{"$error":"#NUM!"}},{"$f":"OFFSET($HW$2,SMALL(IF($HW$2:$HW$72<>\"\",ROW($HW$2:$HW$72),\"\"),ROW(HW5))-2,0)","v":{"$error":"#NUM!"}},{"$f":"OFFSET($HX$2,SMALL(IF($HX$2:$HX$72<>\"\",ROW($HX$2:$HX$72),\"\"),ROW(HX5))-2,0)","v":{"$error":"#NUM!"}},{"$f":"OFFSET($HY$2,SMALL(IF($HY$2:$HY$72<>\"\",ROW($HY$2:$HY$72),\"\"),ROW(HY5))-2,0)","v":{"$error":"#NUM!"}},{"$f":"OFFSET($HZ$2,SMALL(IF($HZ$2:$HZ$72<>\"\",ROW($HZ$2:$HZ$72),\"\"),ROW(HZ5))-2,0)","v":{"$error":"#NUM!"}},null,null,{"$f":"IF(AND(教学计划表!N21<>\"\",教学计划表!BE21<>\"\"),教学计划表!I21,\"\")","v":""},{"$f":"IF(教学计划表!BE21<>\"\",教学计划表!N21,\"\")","v":""},{"$f":"IF(IK6<>\"\",IF(SEARCH(\"5\",教学计划表!AB21&\"5\",1)<=LEN(教学计划表!AB21),\"考试\",\"考查\"),\"\")","v":""},{"$f":"IF(教学计划表!GL21<>0,教学计划表!GL21,\"\")","v":""},{"$f":"IF(教学计划表!GL21<>0,教学计划表!GQ21,\"\")","v":""},{"$f":"IF(教学计划表!GL21<>0,教学计划表!GR21,\"\")","v":""},{"$f":"IF(教学计划表!GL21<>0,教学计划表!PZ21,\"\")","v":""},{"$f":"OFFSET($IJ$2,SMALL(IF($IJ$2:$IJ$72<>\"\",ROW($IJ$2:$IJ$72),\"\"),ROW(IJ5))-2,0)","v":{"$error":"#NUM!"}},{"$f":"OFFSET($IK$2,SMALL(IF($IK$2:$IK$72<>\"\",ROW($IK$2:$IK$72),\"\"),ROW(IK5))-2,0)","v":{"$error":"#NUM!"}},{"$f":"OFFSET($IL$2,SMALL(IF($IL$2:$IL$72<>\"\",ROW($IL$2:$IL$72),\"\"),ROW(IL5))-2,0)","v":{"$error":"#NUM!"}},{"$f":"OFFSET($IM$2,SMALL(IF($IM$2:$IM$72<>\"\",ROW($IM$2:$IM$72),\"\"),ROW(IM5))-2,0)","v":{"$error":"#NUM!"}},{"$f":"OFFSET($IN$2,SMALL(IF($IN$2:$IN$72<>\"\",ROW($IN$2:$IN$72),\"\"),ROW(IN5))-2,0)","v":{"$error":"#NUM!"}},{"$f":"OFFSET($IO$2,SMALL(IF($IO$2:$IO$72<>\"\",ROW($IO$2:$IO$72),\"\"),ROW(IO5))-2,0)","v":{"$error":"#NUM!"}},{"$f":"OFFSET($IP$2,SMALL(IF($IP$2:$IP$72<>\"\",ROW($IP$2:$IP$72),\"\"),ROW(IP5))-2,0)","v":{"$error":"#NUM!"}},null,{"$f":"IF(AND(教学计划表!N21<>\"\",教学计划表!BH21<>\"\"),教学计划表!I21,\"\")","v":""},{"$f":"IF(教学计划表!BH21<>\"\",教学计划表!N21,\"\")","v":""},{"$f":"IF(教学计划表!BH21<>\"\",IF(SEARCH(\"6\",教学计划表!AB21&\"6\",1)<=LEN(教学计划表!AB21),\"考试\",\"考查\"),\"\")","v":""},{"$f":"IF(教学计划表!BH21<>0,教学计划表!HG21,\"\")","v":""},{"$f":"IF(教学计划表!BH21<>0,教学计划表!HL21,\"\")","v":""},{"$f":"IF(教学计划表!BH21<>0,教学计划表!HM21,\"\")","v":""},{"$f":"IF(教学计划表!BH21<>0,教学计划表!QL21,\"\")","v":""},{"$f":"OFFSET($IY$2,SMALL(IF($IY$2:$IY$72<>\"\",ROW($IY$2:$IY$72),\"\"),ROW(IY5))-2,0)","v":{"$error":"#NUM!"}},{"$f":"OFFSET($IZ$2,SMALL(IF($IZ$2:$IZ$72<>\"\",ROW($IZ$2:$IZ$72),\"\"),ROW(IZ5))-2,0)","v":{"$error":"#NUM!"}},{"$f":"OFFSET($JA$2,SMALL(IF($JA$2:$JA$72<>\"\",ROW($JA$2:$JA$72),\"\"),ROW(JA5))-2,0)","v":{"$error":"#NUM!"}},{"$f":"OFFSET($JB$2,SMALL(IF($JB$2:$JB$72<>\"\",ROW($JB$2:$JB$72),\"\"),ROW(JB5))-2,0)","v":{"$error":"#NUM!"}},{"$f":"OFFSET($JC$2,SMALL(IF($JC$2:$JC$72<>\"\",ROW($JC$2:$JC$72),\"\"),ROW(JC5))-2,0)","v":{"$error":"#NUM!"}},{"$f":"OFFSET($JD$2,SMALL(IF($JD$2:$JD$72<>\"\",ROW($JD$2:$JD$72),\"\"),ROW(JD5))-2,0)","v":{"$error":"#NUM!"}},{"$f":"OFFSET($JE$2,SMALL(IF($JE$2:$JE$72<>\"\",ROW($JE$2:$JE$72),\"\"),ROW(JE5))-2,0)","v":{"$error":"#NUM!"}}]
["","","","","","","",null,"","","",{"$f":"IF(ISERROR(自动生成的开课信息!HB7),\"\",自动生成的开课信息!HB7)","v":""},{"$f":"IF(ISERROR(自动生成的开课信息!HC7),\"\",自动生成的开课信息!HC7)","v":""},{"$f":"IF(ISERROR(自动生成的开课信息!HD7),\"\",自动生成的开课信息!HD7)","v":""},{"$f":"IF(ISERROR(自动生成的开课信息!HE7),\"\",自动生成的开课信息!HE7)","v":""},null,"","","","","","","",null,"","","","","","","",null,"","","","","","","",null,"","","","","","","",null,null,null,null,null,null,null,null,null,null,null,null,null,null,null,null,null,null,null,null,null,null,null,null,null,null,null,null,null,null,null,null,null,null,null,null,null,null,null,null,null,null,null,null,null,null,null,null,null,null,null,null,null,null,null,null,null,null,null,null,null,null,null,null,null,null,null,null,null,null,null,null,null,null,null,null,null,null,null,null,null,null,null,null,null,null,null,null,null,null,null,null,null,null,null,null,null,null,null,null,null,null,null,null,null,null,null,null,null,null,null,null,null,null,null,null,null,null,null,null,null,null,null,null,null,null,null,null,null,null,null,null,null,null,null,null,null,null,{"$f":"IF(AND(教学计划表!N22<>\"\",教学计划表!AS22<>\"\"),教学计划表!I22,\"\")","v":""},{"$f":"IF(教学计划表!AS22<>\"\",教学计划表!N22,\"\")","v":""},{"$f":"IF(GE7<>\"\",IF(SEARCH(\"1\",教学计划表!AB22&\"1\",1)<=LEN(教学计划表!AB22),\"考试\",\"考查\"),\"\")","v":""},{"$f":"IF(教学计划表!DG22<>0,教学计划表!DG22,\"\")","v":""},{"$f":"IF(教学计划表!DG22<>0,教学计划表!DL22,\"\")","v":""},{"$f":"IF(教学计划表!DG22<>0,教学计划表!DM22,\"\")","v":""},{"$f":"IF(教学计划表!DG22<>0,教学计划表!OE22,\"\")","v":""},{"$f":"OFFSET($GD$2,SMALL(IF($GD$2:$GD$72<>\"\",ROW($2:$72),\"\"),ROW(GD6))-2,0)","v":{"$error":"#NUM!"}},{"$f":"OFFSET($GE$2,SMALL(IF($GE$2:$GE$72<>\"\",ROW($2:$72),\"\"),ROW(GE6))-2,0)","v":{"$error":"#NUM!"}},{"$f":"OFFSET($GF$2,SMALL(IF($GF$2:$GF$72<>\"\",ROW($2:$72),\"\"),ROW(GF6))-2,0)","v":{"$error":"#NUM!"}},{"$f":"OFFSET($GG$2,SMALL(IF($GG$2:$GG$72<>\"\",ROW($2:$72),\"\"),ROW(GG6))-2,0)","v":{"$error":"#NUM!"}},{"$f":"OFFSET($GH$2,SMALL(IF($GH$2:$GH$72<>\"\",ROW($2:$72),\"\"),ROW(GH6))-2,0)","v":{"$error":"#NUM!"}},{"$error":"#NUM!"},{"$f":"OFFSET($GJ$2,SMALL(IF($GJ$2:$GJ$72<>\"\",ROW($2:$72),\"\"),ROW(GJ6))-2,0)","v":{"$error":"#NUM!"}},{"$f":"IF(AND(教学计划表!N22<>\"\",教学计划表!AV22<>\"\"),教学计划表!I22,\"\")","v":""},{"$f":"IF(教学计划表!AV22<>\"\",教学计划表!N22,\"\")","v":""},{"$f":"IF(GS7<>\"\",IF(SEARCH(\"2\",教学计划表!AB22&\"2\",1)<=LEN(教学计划表!AB22),\"考试\",\"考查\"),\"\")","v":""},{"$f":"IF(教学计划表!EA22<>0,教学计划表!EA22,\"\")","v":""},{"$f":"IF(教学计划表!EA22<>0,教学计划表!EF22,\"\")","v":""},{"$f":"IF(教学计划表!EA22<>0,教学计划表!EG22,\"\")","v":""},{"$f":"IF(教学计划表!EA22<>0,教学计划表!OQ22,\"\")","v":""},{"$f":"OFFSET($GR$2,SMALL(IF($GR$2:$GR$72<>\"\",ROW($I$2:$K$72),\"\"),ROW(GR6))-2,0)","v":{"$error":"#NUM!"}},{"$f":"OFFSET($GS$2,SMALL(IF($GS$2:$GS$72<>\"\",ROW($I$2:$K$72),\"\"),ROW(GS6))-2,0)","v":{"$error":"#NUM!"}},{"$f":"OFFSET($GT$2,SMALL(IF($GT$2:$GT$72<>\"\",ROW($I$2:$K$72),\"\"),ROW(GT6))-2,0)","v":{"$error":"#NUM!"}},{"$f":"OFFSET($GU$2,SMALL(IF($GU$2:$GU$72<>\"\",ROW($I$2:$K$72),\"\"),ROW(GU6))-2,0)","v":{"$error":"#NUM!"}},{"$f":"OFFSET($GV$2,SMALL(IF($GV$2:$GV$72<>\"\",ROW($GV$2:$GV$72),\"\"),ROW(GV6))-2,0)","v":{"$error":"#NUM!"}},{"$f":"OFFSET($GW$2,SMALL(IF($GW$2:$GW$72<>\"\",ROW($GW$2:$GW$72),\"\"),ROW(GW6))-2,0)","v":{"$error":"#NUM!"}},{"$f":"OFFSET($GX$2,SMALL(IF($GX$2:$GX$72<>\"\",ROW($GX$2:$GX$72),\"\"),ROW(GX6))-2,0)","v":{"$error":"#NUM!"}},{"$f":"IF(AND(教学计划表!N22<>\"\",教学计划表!AY22<>\"\"),教学计划表!I22,\"\")","v":""},{"$f":"IF(教学计划表!AY22<>\"\",教学计划表!N22,\"\")","v":""},{"$f":"IF(HG7<>\"\",IF(SEARCH(\"3\",教学计划表!AB22&\"3\",1)<=LEN(教学计划表!AB22),\"考试\",\"考查\"),\"\")","v":""},{"$f":"IF(教学计划表!EV22<>0,教学计划表!EV22,\"\")","v":""},{"$f":"IF(教学计划表!EV22<>0,教学计划表!FA22,\"\")","v":""},{"$f":"IF(教学计划表!EV22<>0,教学计划表!FB22,\"\")","v":""},{"$f":"IF(教学计划表!EV22<>0,教学计划表!PC22,\"\")","v":""},{"$f":"OFFSET($HF$2,SMALL(IF($HF$2:$HF$72<>\"\",ROW($HF$2:$HF$72),\"\"),ROW(HF6))-2,0)","v":{"$error":"#NUM!"}},{"$f":"OFFSET($HG$2,SMALL(IF($HG$2:$HG$72<>\"\",ROW($HG$2:$HG$72),\"\"),ROW(HG6))-2,0)","v":{"$error":"#NUM!"}},{"$f":"OFFSET($HH$2,SMALL(IF($HH$2:$HH$72<>\"\",ROW($HH$2:$HH$72),\"\"),ROW(HH6))-2,0)","v":{"$error":"#NUM!"}},{"$f":"OFFSET($HI$2,SMALL(IF($HI$2:$HI$72<>\"\",ROW($HI$2:$HI$72),\"\"),ROW(HI6))-2,0)","v":{"$error":"#NUM!"}},{"$f":"OFFSET($HJ$2,SMALL(IF($HJ$2:$HJ$72<>\"\",ROW($HJ$2:$HJ$72),\"\"),ROW(HJ6))-2,0)","v":{"$error":"#NUM!"}},{"$f":"OFFSET($HK$2,SMALL(IF($HK$2:$HK$72<>\"\",ROW($HK$2:$HK$72),\"\"),ROW(HK6))-2,0)","v":{"$error":"#NUM!"}},{"$f":"OFFSET($HL$2,SMALL(IF($HL$2:$HL$72<>\"\",ROW($HL$2:$HL$72),\"\"),ROW(HL6))-2,0)","v":{"$error":"#NUM!"}},{"$f":"IF(AND(教学计划表!N22<>\"\",教学计划表!BB22<>\"\"),教学计划表!I22,\"\")","v":""},{"$f":"IF(教学计划表!BB22<>\"\",教学计划表!N22,\"\")","v":""},{"$f":"IF(HU7<>\"\",IF(SEARCH(\"4\",教学计划表!AB22&\"4\",1)<=LEN(教学计划表!AB22),\"考试\",\"考查\"),\"\")","v":""},{"$f":"IF(教学计划表!FQ22<>0,教学计划表!FQ22,\"\")","v":""},{"$f":"IF(教学计划表!FQ22<>0,教学计划表!FV22,\"\")","v":""},{"$f":"IF(教学计划表!FQ22<>0,教学计划表!FW22,\"\")","v":""},{"$f":"IF(教学计划表!FQ22<>0,教学计划表!PO22,\"\")","v":""},{"$f":"OFFSET($HT$2,SMALL(IF($HT$2:$HT$72<>\"\",ROW($HT$2:$HT$72),\"\"),ROW(HT6))-2,0)","v":{"$error":"#NUM!"}},{"$f":"OFFSET($HU$2,SMALL(IF($HU$2:$HU$72<>\"\",ROW($HU$2:$HU$72),\"\"),ROW(HU6))-2,0)","v":{"$error":"#NUM!"}},{"$f":"OFFSET($HV$2,SMALL(IF($HV$2:$HV$72<>\"\",ROW($HV$2:$HV$72),\"\"),ROW(HV6))-2,0)","v":{"$error":"#NUM!"}},{"$f":"OFFSET($HW$2,SMALL(IF($HW$2:$HW$72<>\"\",ROW($HW$2:$HW$72),\"\"),ROW(HW6))-2,0)","v":{"$error":"#NUM!"}},{"$f":"OFFSET($HX$2,SMALL(IF($HX$2:$HX$72<>\"\",ROW($HX$2:$HX$72),\"\"),ROW(HX6))-2,0)","v":{"$error":"#NUM!"}},{"$f":"OFFSET($HY$2,SMALL(IF($HY$2:$HY$72<>\"\",ROW($HY$2:$HY$72),\"\"),ROW(HY6))-2,0)","v":{"$error":"#NUM!"}},{"$f":"OFFSET($HZ$2,SMALL(IF($HZ$2:$HZ$72<>\"\",ROW($HZ$2:$HZ$72),\"\"),ROW(HZ6))-2,0)","v":{"$error":"#NUM!"}},null,null,{"$f":"IF(AND(教学计划表!N22<>\"\",教学计划表!BE22<>\"\"),教学计划表!I22,\"\")","v":""},{"$f":"IF(教学计划表!BE22<>\"\",教学计划表!N22,\"\")","v":""},{"$f":"IF(IK7<>\"\",IF(SEARCH(\"5\",教学计划表!AB22&\"5\",1)<=LEN(教学计划表!AB22),\"考试\",\"考查\"),\"\")","v":""},{"$f":"IF(教学计划表!GL22<>0,教学计划表!GL22,\"\")","v":""},{"$f":"IF(教学计划表!GL22<>0,教学计划表!GQ22,\"\")","v":""},{"$f":"IF(教学计划表!GL22<>0,教学计划表!GR22,\"\")","v":""},{"$f":"IF(教学计划表!GL22<>0,教学计划表!PZ22,\"\")","v":""},{"$f":"OFFSET($IJ$2,SMALL(IF($IJ$2:$IJ$72<>\"\",ROW($IJ$2:$IJ$72),\"\"),ROW(IJ6))-2,0)","v":{"$error":"#NUM!"}},{"$f":"OFFSET($IK$2,SMALL(IF($IK$2:$IK$72<>\"\",ROW($IK$2:$IK$72),\"\"),ROW(IK6))-2,0)","v":{"$error":"#NUM!"}},{"$f":"OFFSET($IL$2,SMALL(IF($IL$2:$IL$72<>\"\",ROW($IL$2:$IL$72),\"\"),ROW(IL6))-2,0)","v":{"$error":"#NUM!"}},{"$f":"OFFSET($IM$2,SMALL(IF($IM$2:$IM$72<>\"\",ROW($IM$2:$IM$72),\"\"),ROW(IM6))-2,0)","v":{"$error":"#NUM!"}},{"$f":"OFFSET($IN$2,SMALL(IF($IN$2:$IN$72<>\"\",ROW($IN$2:$IN$72),\"\"),ROW(IN6))-2,0)","v":{"$error":"#NUM!"}},{"$f":"OFFSET($IO$2,SMALL(IF($IO$2:$IO$72<>\"\",ROW($IO$2:$IO$72),\"\"),ROW(IO6))-2,0)","v":{"$error":"#NUM!"}},{"$f":"OFFSET($IP$2,SMALL(IF($IP$2:$IP$72<>\"\",ROW($IP$2:$IP$72),\"\"),ROW(IP6))-2,0)","v":{"$error":"#NUM!"}},null,{"$f":"IF(AND(教学计划表!N22<>\"\",教学计划表!BH22<>\"\"),教学计划表!I22,\"\")","v":""},{"$f":"IF(教学计划表!BH22<>\"\",教学计划表!N22,\"\")","v":""},{"$f":"IF(教学计划表!BH22<>\"\",IF(SEARCH(\"6\",教学计划表!AB22&\"6\",1)<=LEN(教学计划表!AB22),\"考试\",\"考查\"),\"\")","v":""},{"$f":"IF(教学计划表!BH22<>0,教学计划表!HG22,\"\")","v":""},{"$f":"IF(教学计划表!BH22<>0,教学计划表!HL22,\"\")","v":""},{"$f":"IF(教学计划表!BH22<>0,教学计划表!HM22,\"\")","v":""},{"$f":"IF(教学计划表!BH22<>0,教学计划表!QL22,\"\")","v":""},{"$f":"OFFSET($IY$2,SMALL(IF($IY$2:$IY$72<>\"\",ROW($IY$2:$IY$72),\"\"),ROW(IY6))-2,0)","v":{"$error":"#NUM!"}},{"$f":"OFFSET($IZ$2,SMALL(IF($IZ$2:$IZ$72<>\"\",ROW($IZ$2:$IZ$72),\"\"),ROW(IZ6))-2,0)","v":{"$error":"#NUM!"}},{"$f":"OFFSET($JA$2,SMALL(IF($JA$2:$JA$72<>\"\",ROW($JA$2:$JA$72),\"\"),ROW(JA6))-2,0)","v":{"$error":"#NUM!"}},{"$f":"OFFSET($JB$2,SMALL(IF($JB$2:$JB$72<>\"\",ROW($JB$2:$JB$72),\"\"),ROW(JB6))-2,0)","v":{"$error":"#NUM!"}},{"$f":"OFFSET($JC$2,SMALL(IF($JC$2:$JC$72<>\"\",ROW($JC$2:$JC$72),\"\"),ROW(JC6))-2,0)","v":{"$error":"#NUM!"}},{"$f":"OFFSET($JD$2,SMALL(IF($JD$2:$JD$72<>\"\",ROW($JD$2:$JD$72),\"\"),ROW(JD6))-2,0)","v":{"$error":"#NUM!"}},{"$f":"OFFSET($JE$2,SMALL(IF($JE$2:$JE$72<>\"\",ROW($JE$2:$JE$72),\"\"),ROW(JE6))-2,0)","v":{"$error":"#NUM!"}}]
["","","","","","","",null,"","","",{"$f":"IF(ISERROR(自动生成的开课信息!HB8),\"\",自动生成的开课信息!HB8)","v":""},{"$f":"IF(ISERROR(自动生成的开课信息!HC8),\"\",自动生成的开课信息!HC8)","v":""},{"$f":"IF(ISERROR(自动生成的开课信息!HD8),\"\",自动生成的开课信息!HD8)","v":""},{"$f":"IF(ISERROR(自动生成的开课信息!HE8),\"\",自动生成的开课信息!HE8)","v":""},null,"","","","","","","",null,"","","","","","","",null,"","","","","","","",null,"","","","","","","",null,null,null,null,null,null,null,null,null,null,null,null,null,null,null,null,null,null,null,null,null,null,null,null,null,null,null,null,null,null,null,null,null,null,null,null,null,null,null,null,null,null,null,null,null,null,null,null,null,null,null,null,null,null,null,null,null,null,null,null,null,null,null,null,null,null,null,null,null,null,null,null,null,null,null,null,null,null,null,null,null,null,null,null,null,null,null,null,null,null,null,null,null,null,null,null,null,null,null,null,null,null,null,null,null,null,null,null,null,null,null,null,null,null,null,null,null,null,null,null,null,null,null,null,null,null,null,null,null,null,null,null,null,null,null,null,null,null,{"$f":"IF(AND(教学计划表!N23<>\"\",教学计划表!AS23<>\"\"),教学计划表!I23,\"\")","v":""},{"$f":"IF(教学计划表!AS23<>\"\",教学计划表!N23,\"\")","v":""},{"$f":"IF(GE8<>\"\",IF(SEARCH(\"1\",教学计划表!AB23&\"1\",1)<=LEN(教学计划表!AB23),\"考试\",\"考查\"),\"\")","v":""},{"$f":"IF(教学计划表!DG23<>0,教学计划表!DG23,\"\")","v":""},{"$f":"IF(教学计划表!DG23<>0,教学计划表!DL23,\"\")","v":""},{"$f":"IF(教学计划表!DG23<>0,教学计划表!DM23,\"\")","v":""},{"$f":"IF(教学计划表!DG23<>0,教学计划表!OE23,\"\")","v":""},{"$f":"OFFSET($GD$2,SMALL(IF($GD$2:$GD$72<>\"\",ROW($2:$72),\"\"),ROW(GD7))-2,0)","v":{"$error":"#NUM!"}},{"$f":"OFFSET($GE$2,SMALL(IF($GE$2:$GE$72<>\"\",ROW($2:$72),\"\"),ROW(GE7))-2,0)","v":{"$error":"#NUM!"}},{"$f":"OFFSET($GF$2,SMALL(IF($GF$2:$GF$72<>\"\",ROW($2:$72),\"\"),ROW(GF7))-2,0)","v":{"$error":"#NUM!"}},{"$f":"OFFSET($GG$2,SMALL(IF($GG$2:$GG$72<>\"\",ROW($2:$72),\"\"),ROW(GG7))-2,0)","v":{"$error":"#NUM!"}},{"$f":"OFFSET($GH$2,SMALL(IF($GH$2:$GH$72<>\"\",ROW($2:$72),\"\"),ROW(GH7))-2,0)","v":{"$error":"#NUM!"}},{"$error":"#NUM!"},{"$f":"OFFSET($GJ$2,SMALL(IF($GJ$2:$GJ$72<>\"\",ROW($2:$72),\"\"),ROW(GJ7))-2,0)","v":{"$error":"#NUM!"}},{"$f":"IF(AND(教学计划表!N23<>\"\",教学计划表!AV23<>\"\"),教学计划表!I23,\"\")","v":""},{"$f":"IF(教学计划表!AV23<>\"\",教学计划表!N23,\"\")","v":""},{"$f":"IF(GS8<>\"\",IF(SEARCH(\"2\",教学计划表!AB23&\"2\",1)<=LEN(教学计划表!AB23),\"考试\",\"考查\"),\"\")","v":""},{"$f":"IF(教学计划表!EA23<>0,教学计划表!EA23,\"\")","v":""},{"$f":"IF(教学计划表!EA23<>0,教学计划表!EF23,\"\")","v":""},{"$f":"IF(教学计划表!EA23<>0,教学计划表!EG23,\"\")","v":""},{"$f":"IF(教学计划表!EA23<>0,教学计划表!OQ23,\"\")","v":""},{"$f":"OFFSET($GR$2,SMALL(IF($GR$2:$GR$72<>\"\",ROW($I$2:$K$72),\"\"),ROW(GR7))-2,0)","v":{"$error":"#NUM!"}},{"$f":"OFFSET($GS$2,SMALL(IF($GS$2:$GS$72<>\"\",ROW($I$2:$K$72),\"\"),ROW(GS7))-2,0)","v":{"$error":"#NUM!"}},{"$f":"OFFSET($GT$2,SMALL(IF($GT$2:$GT$72<>\"\",ROW($I$2:$K$72),\"\"),ROW(GT7))-2,0)","v":{"$error":"#NUM!"}},{"$f":"OFFSET($GU$2,SMALL(IF($GU$2:$GU$72<>\"\",ROW($I$2:$K$72),\"\"),ROW(GU7))-2,0)","v":{"$error":"#NUM!"}},{"$f":"OFFSET($GV$2,SMALL(IF($GV$2:$GV$72<>\"\",ROW($GV$2:$GV$72),\"\"),ROW(GV7))-2,0)","v":{"$error":"#NUM!"}},{"$f":"OFFSET($GW$2,SMALL(IF($GW$2:$GW$72<>\"\",ROW($GW$2:$GW$72),\"\"),ROW(GW7))-2,0)","v":{"$error":"#NUM!"}},{"$f":"OFFSET($GX$2,SMALL(IF($GX$2:$GX$72<>\"\",ROW($GX$2:$GX$72),\"\"),ROW(GX7))-2,0)","v":{"$error":"#NUM!"}},{"$f":"IF(AND(教学计划表!N23<>\"\",教学计划表!AY23<>\"\"),教学计划表!I23,\"\")","v":""},{"$f":"IF(教学计划表!AY23<>\"\",教学计划表!N23,\"\")","v":""},{"$f":"IF(HG8<>\"\",IF(SEARCH(\"3\",教学计划表!AB23&\"3\",1)<=LEN(教学计划表!AB23),\"考试\",\"考查\"),\"\")","v":""},{"$f":"IF(教学计划表!EV23<>0,教学计划表!EV23,\"\")","v":""},{"$f":"IF(教学计划表!EV23<>0,教学计划表!FA23,\"\")","v":""},{"$f":"IF(教学计划表!EV23<>0,教学计划表!FB23,\"\")","v":""},{"$f":"IF(教学计划表!EV23<>0,教学计划表!PC23,\"\")","v":""},{"$f":"OFFSET($HF$2,SMALL(IF($HF$2:$HF$72<>\"\",ROW($HF$2:$HF$72),\"\"),ROW(HF7))-2,0)","v":{"$error":"#NUM!"}},{"$f":"OFFSET($HG$2,SMALL(IF($HG$2:$HG$72<>\"\",ROW($HG$2:$HG$72),\"\"),ROW(HG7))-2,0)","v":{"$error":"#NUM!"}},{"$f":"OFFSET($HH$2,SMALL(IF($HH$2:$HH$72<>\"\",ROW($HH$2:$HH$72),\"\"),ROW(HH7))-2,0)","v":{"$error":"#NUM!"}},{"$f":"OFFSET($HI$2,SMALL(IF($HI$2:$HI$72<>\"\",ROW($HI$2:$HI$72),\"\"),ROW(HI7))-2,0)","v":{"$error":"#NUM!"}},{"$f":"OFFSET($HJ$2,SMALL(IF($HJ$2:$HJ$72<>\"\",ROW($HJ$2:$HJ$72),\"\"),ROW(HJ7))-2,0)","v":{"$error":"#NUM!"}},{"$f":"OFFSET($HK$2,SMALL(IF($HK$2:$HK$72<>\"\",ROW($HK$2:$HK$72),\"\"),ROW(HK7))-2,0)","v":{"$error":"#NUM!"}},{"$f":"OFFSET($HL$2,SMALL(IF($HL$2:$HL$72<>\"\",ROW($HL$2:$HL$72),\"\"),ROW(HL7))-2,0)","v":{"$error":"#NUM!"}},{"$f":"IF(AND(教学计划表!N23<>\"\",教学计划表!BB23<>\"\"),教学计划表!I23,\"\")","v":""},{"$f":"IF(教学计划表!BB23<>\"\",教学计划表!N23,\"\")","v":""},{"$f":"IF(HU8<>\"\",IF(SEARCH(\"4\",教学计划表!AB23&\"4\",1)<=LEN(教学计划表!AB23),\"考试\",\"考查\"),\"\")","v":""},{"$f":"IF(教学计划表!FQ23<>0,教学计划表!FQ23,\"\")","v":""},{"$f":"IF(教学计划表!FQ23<>0,教学计划表!FV23,\"\")","v":""},{"$f":"IF(教学计划表!FQ23<>0,教学计划表!FW23,\"\")","v":""},{"$f":"IF(教学计划表!FQ23<>0,教学计划表!PO23,\"\")","v":""},{"$f":"OFFSET($HT$2,SMALL(IF($HT$2:$HT$72<>\"\",ROW($HT$2:$HT$72),\"\"),ROW(HT7))-2,0)","v":{"$error":"#NUM!"}},{"$f":"OFFSET($HU$2,SMALL(IF($HU$2:$HU$72<>\"\",ROW($HU$2:$HU$72),\"\"),ROW(HU7))-2,0)","v":{"$error":"#NUM!"}},{"$f":"OFFSET($HV$2,SMALL(IF($HV$2:$HV$72<>\"\",ROW($HV$2:$HV$72),\"\"),ROW(HV7))-2,0)","v":{"$error":"#NUM!"}},{"$f":"OFFSET($HW$2,SMALL(IF($HW$2:$HW$72<>\"\",ROW($HW$2:$HW$72),\"\"),ROW(HW7))-2,0)","v":{"$error":"#NUM!"}},{"$f":"OFFSET($HX$2,SMALL(IF($HX$2:$HX$72<>\"\",ROW($HX$2:$HX$72),\"\"),ROW(HX7))-2,0)","v":{"$error":"#NUM!"}},{"$f":"OFFSET($HY$2,SMALL(IF($HY$2:$HY$72<>\"\",ROW($HY$2:$HY$72),\"\"),ROW(HY7))-2,0)","v":{"$error":"#NUM!"}},{"$f":"OFFSET($HZ$2,SMALL(IF($HZ$2:$HZ$72<>\"\",ROW($HZ$2:$HZ$72),\"\"),ROW(HZ7))-2,0)","v":{"$error":"#NUM!"}},null,null,{"$f":"IF(AND(教学计划表!N23<>\"\",教学计划表!BE23<>\"\"),教学计划表!I23,\"\")","v":""},{"$f":"IF(教学计划表!BE23<>\"\",教学计划表!N23,\"\")","v":""},{"$f":"IF(IK8<>\"\",IF(SEARCH(\"5\",教学计划表!AB23&\"5\",1)<=LEN(教学计划表!AB23),\"考试\",\"考查\"),\"\")","v":""},{"$f":"IF(教学计划表!GL23<>0,教学计划表!GL23,\"\")","v":""},{"$f":"IF(教学计划表!GL23<>0,教学计划表!GQ23,\"\")","v":""},{"$f":"IF(教学计划表!GL23<>0,教学计划表!GR23,\"\")","v":""},{"$f":"IF(教学计划表!GL23<>0,教学计划表!PZ23,\"\")","v":""},{"$f":"OFFSET($IJ$2,SMALL(IF($IJ$2:$IJ$72<>\"\",ROW($IJ$2:$IJ$72),\"\"),ROW(IJ7))-2,0)","v":{"$error":"#NUM!"}},{"$f":"OFFSET($IK$2,SMALL(IF($IK$2:$IK$72<>\"\",ROW($IK$2:$IK$72),\"\"),ROW(IK7))-2,0)","v":{"$error":"#NUM!"}},{"$f":"OFFSET($IL$2,SMALL(IF($IL$2:$IL$72<>\"\",ROW($IL$2:$IL$72),\"\"),ROW(IL7))-2,0)","v":{"$error":"#NUM!"}},{"$f":"OFFSET($IM$2,SMALL(IF($IM$2:$IM$72<>\"\",ROW($IM$2:$IM$72),\"\"),ROW(IM7))-2,0)","v":{"$error":"#NUM!"}},{"$f":"OFFSET($IN$2,SMALL(IF($IN$2:$IN$72<>\"\",ROW($IN$2:$IN$72),\"\"),ROW(IN7))-2,0)","v":{"$error":"#NUM!"}},{"$f":"OFFSET($IO$2,SMALL(IF($IO$2:$IO$72<>\"\",ROW($IO$2:$IO$72),\"\"),ROW(IO7))-2,0)","v":{"$error":"#NUM!"}},{"$f":"OFFSET($IP$2,SMALL(IF($IP$2:$IP$72<>\"\",ROW($IP$2:$IP$72),\"\"),ROW(IP7))-2,0)","v":{"$error":"#NUM!"}},null,{"$f":"IF(AND(教学计划表!N23<>\"\",教学计划表!BH23<>\"\"),教学计划表!I23,\"\")","v":""},{"$f":"IF(教学计划表!BH23<>\"\",教学计划表!N23,\"\")","v":""},{"$f":"IF(教学计划表!BH23<>\"\",IF(SEARCH(\"6\",教学计划表!AB23&\"6\",1)<=LEN(教学计划表!AB23),\"考试\",\"考查\"),\"\")","v":""},{"$f":"IF(教学计划表!BH23<>0,教学计划表!HG23,\"\")","v":""},{"$f":"IF(教学计划表!BH23<>0,教学计划表!HL23,\"\")","v":""},{"$f":"IF(教学计划表!BH23<>0,教学计划表!HM23,\"\")","v":""},{"$f":"IF(教学计划表!BH23<>0,教学计划表!QL23,\"\")","v":""},{"$f":"OFFSET($IY$2,SMALL(IF($IY$2:$IY$72<>\"\",ROW($IY$2:$IY$72),\"\"),ROW(IY7))-2,0)","v":{"$error":"#NUM!"}},{"$f":"OFFSET($IZ$2,SMALL(IF($IZ$2:$IZ$72<>\"\",ROW($IZ$2:$IZ$72),\"\"),ROW(IZ7))-2,0)","v":{"$error":"#NUM!"}},{"$f":"OFFSET($JA$2,SMALL(IF($JA$2:$JA$72<>\"\",ROW($JA$2:$JA$72),\"\"),ROW(JA7))-2,0)","v":{"$error":"#NUM!"}},{"$f":"OFFSET($JB$2,SMALL(IF($JB$2:$JB$72<>\"\",ROW($JB$2:$JB$72),\"\"),ROW(JB7))-2,0)","v":{"$error":"#NUM!"}},{"$f":"OFFSET($JC$2,SMALL(IF($JC$2:$JC$72<>\"\",ROW($JC$2:$JC$72),\"\"),ROW(JC7))-2,0)","v":{"$error":"#NUM!"}},{"$f":"OFFSET($JD$2,SMALL(IF($JD$2:$JD$72<>\"\",ROW($JD$2:$JD$72),\"\"),ROW(JD7))-2,0)","v":{"$error":"#NUM!"}},{"$f":"OFFSET($JE$2,SMALL(IF($JE$2:$JE$72<>\"\",ROW($JE$2:$JE$72),\"\"),ROW(JE7))-2,0)","v":{"$error":"#NUM!"}}]
["","","","","","","",null,"","","",{"$f":"IF(ISERROR(自动生成的开课信息!HB9),\"\",自动生成的开课信息!HB9)","v":""},{"$f":"IF(ISERROR(自动生成的开课信息!HC9),\"\",自动生成的开课信息!HC9)","v":""},{"$f":"IF(ISERROR(自动生成的开课信息!HD9),\"\",自动生成的开课信息!HD9)","v":""},{"$f":"IF(ISERROR(自动生成的开课信息!HE9),\"\",自动生成的开课信息!HE9)","v":""},null,"","","","","","","",null,"","","","","","","",null,"","","","","","","",null,"","","","","","","",null,null,null,null,null,null,null,null,null,null,null,null,null,null,null,null,null,null,null,null,null,null,null,null,null,null,null,null,null,null,null,null,null,null,null,null,null,null,null,null,null,null,null,null,null,null,null,null,null,null,null,null,null,null,null,null,null,null,null,null,null,null,null,null,null,null,null,null,null,null,null,null,null,null,null,null,null,null,null,null,null,null,null,null,null,null,null,null,null,null,null,null,null,null,null,null,null,null,null,null,null,null,null,null,null,null,null,null,null,null,null,null,null,null,null,null,null,null,null,null,null,null,null,null,null,null,null,null,null,null,null,null,null,null,null,null,null,null,{"$f":"IF(AND(教学计划表!N24<>\"\",教学计划表!AS24<>\"\"),教学计划表!I24,\"\")","v":""},{"$f":"IF(教学计划表!AS24<>\"\",教学计划表!N24,\"\")","v":""},{"$f":"IF(GE9<>\"\",IF(SEARCH(\"1\",教学计划表!AB24&\"1\",1)<=LEN(教学计划表!AB24),\"考试\",\"考查\"),\"\")","v":""},{"$f":"IF(教学计划表!DG24<>0,教学计划表!DG24,\"\")","v":""},{"$f":"IF(教学计划表!DG24<>0,教学计划表!DL24,\"\")","v":""},{"$f":"IF(教学计划表!DG24<>0,教学计划表!DM24,\"\")","v":""},{"$f":"IF(教学计划表!DG24<>0,教学计划表!OE24,\"\")","v":""},{"$f":"OFFSET($GD$2,SMALL(IF($GD$2:$GD$72<>\"\",ROW($2:$72),\"\"),ROW(GD8))-2,0)","v":{"$error":"#NUM!"}},{"$f":"OFFSET($GE$2,SMALL(IF($GE$2:$GE$72<>\"\",ROW($2:$72),\"\"),ROW(GE8))-2,0)","v":{"$error":"#NUM!"}},{"$f":"OFFSET($GF$2,SMALL(IF($GF$2:$GF$72<>\"\",ROW($2:$72),\"\"),ROW(GF8))-2,0)","v":{"$error":"#NUM!"}},{"$f":"OFFSET($GG$2,SMALL(IF($GG$2:$GG$72<>\"\",ROW($2:$72),\"\"),ROW(GG8))-2,0)","v":{"$error":"#NUM!"}},{"$f":"OFFSET($GH$2,SMALL(IF($GH$2:$GH$72<>\"\",ROW($2:$72),\"\"),ROW(GH8))-2,0)","v":{"$error":"#NUM!"}},{"$error":"#NUM!"},{"$f":"OFFSET($GJ$2,SMALL(IF($GJ$2:$GJ$72<>\"\",ROW($2:$72),\"\"),ROW(GJ8))-2,0)","v":{"$error":"#NUM!"}},{"$f":"IF(AND(教学计划表!N24<>\"\",教学计划表!AV24<>\"\"),教学计划表!I24,\"\")","v":""},{"$f":"IF(教学计划表!AV24<>\"\",教学计划表!N24,\"\")","v":""},{"$f":"IF(GS9<>\"\",IF(SEARCH(\"2\",教学计划表!AB24&\"2\",1)<=LEN(教学计划表!AB24),\"考试\",\"考查\"),\"\")","v":""},{"$f":"IF(教学计划表!EA24<>0,教学计划表!EA24,\"\")","v":""},{"$f":"IF(教学计划表!EA24<>0,教学计划表!EF24,\"\")","v":""},{"$f":"IF(教学计划表!EA24<>0,教学计划表!EG24,\"\")","v":""},{"$f":"IF(教学计划表!EA24<>0,教学计划表!OQ24,\"\")","v":""},{"$f":"OFFSET($GR$2,SMALL(IF($GR$2:$GR$72<>\"\",ROW($I$2:$K$72),\"\"),ROW(GR8))-2,0)","v":{"$error":"#NUM!"}},{"$f":"OFFSET($GS$2,SMALL(IF($GS$2:$GS$72<>\"\",ROW($I$2:$K$72),\"\"),ROW(GS8))-2,0)","v":{"$error":"#NUM!"}},{"$f":"OFFSET($GT$2,SMALL(IF($GT$2:$GT$72<>\"\",ROW($I$2:$K$72),\"\"),ROW(GT8))-2,0)","v":{"$error":"#NUM!"}},{"$f":"OFFSET($GU$2,SMALL(IF($GU$2:$GU$72<>\"\",ROW($I$2:$K$72),\"\"),ROW(GU8))-2,0)","v":{"$error":"#NUM!"}},{"$f":"OFFSET($GV$2,SMALL(IF($GV$2:$GV$72<>\"\",ROW($GV$2:$GV$72),\"\"),ROW(GV8))-2,0)","v":{"$error":"#NUM!"}},{"$f":"OFFSET($GW$2,SMALL(IF($GW$2:$GW$72<>\"\",ROW($GW$2:$GW$72),\"\"),ROW(GW8))-2,0)","v":{"$error":"#NUM!"}},{"$f":"OFFSET($GX$2,SMALL(IF($GX$2:$GX$72<>\"\",ROW($GX$2:$GX$72),\"\"),ROW(GX8))-2,0)","v":{"$error":"#NUM!"}},{"$f":"IF(AND(教学计划表!N24<>\"\",教学计划表!AY24<>\"\"),教学计划表!I24,\"\")","v":""},{"$f":"IF(教学计划表!AY24<>\"\",教学计划表!N24,\"\")","v":""},{"$f":"IF(HG9<>\"\",IF(SEARCH(\"3\",教学计划表!AB24&\"3\",1)<=LEN(教学计划表!AB24),\"考试\",\"考查\"),\"\")","v":""},{"$f":"IF(教学计划表!EV24<>0,教学计划表!EV24,\"\")","v":""},{"$f":"IF(教学计划表!EV24<>0,教学计划表!FA24,\"\")","v":""},{"$f":"IF(教学计划表!EV24<>0,教学计划表!FB24,\"\")","v":""},{"$f":"IF(教学计划表!EV24<>0,教学计划表!PC24,\"\")","v":""},{"$f":"OFFSET($HF$2,SMALL(IF($HF$2:$HF$72<>\"\",ROW($HF$2:$HF$72),\"\"),ROW(HF8))-2,0)","v":{"$error":"#NUM!"}},{"$f":"OFFSET($HG$2,SMALL(IF($HG$2:$HG$72<>\"\",ROW($HG$2:$HG$72),\"\"),ROW(HG8))-2,0)","v":{"$error":"#NUM!"}},{"$f":"OFFSET($HH$2,SMALL(IF($HH$2:$HH$72<>\"\",ROW($HH$2:$HH$72),\"\"),ROW(HH8))-2,0)","v":{"$error":"#NUM!"}},{"$f":"OFFSET($HI$2,SMALL(IF($HI$2:$HI$72<>\"\",ROW($HI$2:$HI$72),\"\"),ROW(HI8))-2,0)","v":{"$error":"#NUM!"}},{"$f":"OFFSET($HJ$2,SMALL(IF($HJ$2:$HJ$72<>\"\",ROW($HJ$2:$HJ$72),\"\"),ROW(HJ8))-2,0)","v":{"$error":"#NUM!"}},{"$f":"OFFSET($HK$2,SMALL(IF($HK$2:$HK$72<>\"\",ROW($HK$2:$HK$72),\"\"),ROW(HK8))-2,0)","v":{"$error":"#NUM!"}},{"$f":"OFFSET($HL$2,SMALL(IF($HL$2:$HL$72<>\"\",ROW($HL$2:$HL$72),\"\"),ROW(HL8))-2,0)","v":{"$error":"#NUM!"}},{"$f":"IF(AND(教学计划表!N24<>\"\",教学计划表!BB24<>\"\"),教学计划表!I24,\"\")","v":""},{"$f":"IF(教学计划表!BB24<>\"\",教学计划表!N24,\"\")","v":""},{"$f":"IF(HU9<>\"\",IF(SEARCH(\"4\",教学计划表!AB24&\"4\",1)<=LEN(教学计划表!AB24),\"考试\",\"考查\"),\"\")","v":""},{"$f":"IF(教学计划表!FQ24<>0,教学计划表!FQ24,\"\")","v":""},{"$f":"IF(教学计划表!FQ24<>0,教学计划表!FV24,\"\")","v":""},{"$f":"IF(教学计划表!FQ24<>0,教学计划表!FW24,\"\")","v":""},{"$f":"IF(教学计划表!FQ24<>0,教学计划表!PO24,\"\")","v":""},{"$f":"OFFSET($HT$2,SMALL(IF($HT$2:$HT$72<>\"\",ROW($HT$2:$HT$72),\"\"),ROW(HT8))-2,0)","v":{"$error":"#NUM!"}},{"$f":"OFFSET($HU$2,SMALL(IF($HU$2:$HU$72<>\"\",ROW($HU$2:$HU$72),\"\"),ROW(HU8))-2,0)","v":{"$error":"#NUM!"}},{"$f":"OFFSET($HV$2,SMALL(IF($HV$2:$HV$72<>\"\",ROW($HV$2:$HV$72),\"\"),ROW(HV8))-2,0)","v":{"$error":"#NUM!"}},{"$f":"OFFSET($HW$2,SMALL(IF($HW$2:$HW$72<>\"\",ROW($HW$2:$HW$72),\"\"),ROW(HW8))-2,0)","v":{"$error":"#NUM!"}},{"$f":"OFFSET($HX$2,SMALL(IF($HX$2:$HX$72<>\"\",ROW($HX$2:$HX$72),\"\"),ROW(HX8))-2,0)","v":{"$error":"#NUM!"}},{"$f":"OFFSET($HY$2,SMALL(IF($HY$2:$HY$72<>\"\",ROW($HY$2:$HY$72),\"\"),ROW(HY8))-2,0)","v":{"$error":"#NUM!"}},{"$f":"OFFSET($HZ$2,SMALL(IF($HZ$2:$HZ$72<>\"\",ROW($HZ$2:$HZ$72),\"\"),ROW(HZ8))-2,0)","v":{"$error":"#NUM!"}},null,null,{"$f":"IF(AND(教学计划表!N24<>\"\",教学计划表!BE24<>\"\"),教学计划表!I24,\"\")","v":""},{"$f":"IF(教学计划表!BE24<>\"\",教学计划表!N24,\"\")","v":""},{"$f":"IF(IK9<>\"\",IF(SEARCH(\"5\",教学计划表!AB24&\"5\",1)<=LEN(教学计划表!AB24),\"考试\",\"考查\"),\"\")","v":""},{"$f":"IF(教学计划表!GL24<>0,教学计划表!GL24,\"\")","v":""},{"$f":"IF(教学计划表!GL24<>0,教学计划表!GQ24,\"\")","v":""},{"$f":"IF(教学计划表!GL24<>0,教学计划表!GR24,\"\")","v":""},{"$f":"IF(教学计划表!GL24<>0,教学计划表!PZ24,\"\")","v":""},{"$f":"OFFSET($IJ$2,SMALL(IF($IJ$2:$IJ$72<>\"\",ROW($IJ$2:$IJ$72),\"\"),ROW(IJ8))-2,0)","v":{"$error":"#NUM!"}},{"$f":"OFFSET($IK$2,SMALL(IF($IK$2:$IK$72<>\"\",ROW($IK$2:$IK$72),\"\"),ROW(IK8))-2,0)","v":{"$error":"#NUM!"}},{"$f":"OFFSET($IL$2,SMALL(IF($IL$2:$IL$72<>\"\",ROW($IL$2:$IL$72),\"\"),ROW(IL8))-2,0)","v":{"$error":"#NUM!"}},{"$f":"OFFSET($IM$2,SMALL(IF($IM$2:$IM$72<>\"\",ROW($IM$2:$IM$72),\"\"),ROW(IM8))-2,0)","v":{"$error":"#NUM!"}},{"$f":"OFFSET($IN$2,SMALL(IF($IN$2:$IN$72<>\"\",ROW($IN$2:$IN$72),\"\"),ROW(IN8))-2,0)","v":{"$error":"#NUM!"}},{"$f":"OFFSET($IO$2,SMALL(IF($IO$2:$IO$72<>\"\",ROW($IO$2:$IO$72),\"\"),ROW(IO8))-2,0)","v":{"$error":"#NUM!"}},{"$f":"OFFSET($IP$2,SMALL(IF($IP$2:$IP$72<>\"\",ROW($IP$2:$IP$72),\"\"),ROW(IP8))-2,0)","v":{"$error":"#NUM!"}},null,{"$f":"IF(AND(教学计划表!N24<>\"\",教学计划表!BH24<>\"\"),教学计划表!I24,\"\")","v":""},{"$f":"IF(教学计划表!BH24<>\"\",教学计划表!N24,\"\")","v":""},{"$f":"IF(教学计划表!BH24<>\"\",IF(SEARCH(\"6\",教学计划表!AB24&\"6\",1)<=LEN(教学计划表!AB24),\"考试\",\"考查\"),\"\")","v":""},{"$f":"IF(教学计划表!BH24<>0,教学计划表!HG24,\"\")","v":""},{"$f":"IF(教学计划表!BH24<>0,教学计划表!HL24,\"\")","v":""},{"$f":"IF(教学计划表!BH24<>0,教学计划表!HM24,\"\")","v":""},{"$f":"IF(教学计划表!BH24<>0,教学计划表!QL24,\"\")","v":""},{"$f":"OFFSET($IY$2,SMALL(IF($IY$2:$IY$72<>\"\",ROW($IY$2:$IY$72),\"\"),ROW(IY8))-2,0)","v":{"$error":"#NUM!"}},{"$f":"OFFSET($IZ$2,SMALL(IF($IZ$2:$IZ$72<>\"\",ROW($IZ$2:$IZ$72),\"\"),ROW(IZ8))-2,0)","v":{"$error":"#NUM!"}},{"$f":"OFFSET($JA$2,SMALL(IF($JA$2:$JA$72<>\"\",ROW($JA$2:$JA$72),\"\"),ROW(JA8))-2,0)","v":{"$error":"#NUM!"}},{"$f":"OFFSET($JB$2,SMALL(IF($JB$2:$JB$72<>\"\",ROW($JB$2:$JB$72),\"\"),ROW(JB8))-2,0)","v":{"$error":"#NUM!"}},{"$f":"OFFSET($JC$2,SMALL(IF($JC$2:$JC$72<>\"\",ROW($JC$2:$JC$72),\"\"),ROW(JC8))-2,0)","v":{"$error":"#NUM!"}},{"$f":"OFFSET($JD$2,SMALL(IF($JD$2:$JD$72<>\"\",ROW($JD$2:$JD$72),\"\"),ROW(JD8))-2,0)","v":{"$error":"#NUM!"}},{"$f":"OFFSET($JE$2,SMALL(IF($JE$2:$JE$72<>\"\",ROW($JE$2:$JE$72),\"\"),ROW(JE8))-2,0)","v":{"$error":"#NUM!"}}]
["","","","","","","",null,"","","",{"$f":"IF(ISERROR(自动生成的开课信息!HB10),\"\",自动生成的开课信息!HB10)","v":""},{"$f":"IF(ISERROR(自动生成的开课信息!HC10),\"\",自动生成的开课信息!HC10)","v":""},{"$f":"IF(ISERROR(自动生成的开课信息!HD10),\"\",自动生成的开课信息!HD10)","v":""},{"$f":"IF(ISERROR(自动生成的开课信息!HE10),\"\",自动生成的开课信息!HE10)","v":""},null,"","","","","","","",null,"","","","","","","",null,"","","","","","","",null,"","","","","","","",null,null,null,null,null,null,null,null,null,null,null,null,null,null,null,null,null,null,null,null,null,null,null,null,null,null,null,null,null,null,null,null,null,null,null,null,null,null,null,null,null,null,null,null,null,null,null,null,null,null,null,null,null,null,null,null,null,null,null,null,null,null,null,null,null,null,null,null,null,null,null,null,null,null,null,null,null,null,null,null,null,null,null,null,null,null,null,null,null,null,null,null,null,null,null,null,null,null,null,null,null,null,null,null,null,null,null,null,null,null,null,null,null,null,null,null,null,null,null,null,null,null,null,null,null,null,null,null,null,null,null,null,null,null,null,null,null,null,{"$f":"IF(AND(教学计划表!N25<>\"\",教学计划表!AS25<>\"\"),教学计划表!I25,\"\")","v":""},{"$f":"IF(教学计划表!AS25<>\"\",教学计划表!N25,\"\")","v":""},{"$f":"IF(GE10<>\"\",IF(SEARCH(\"1\",教学计划表!AB25&\"1\",1)<=LEN(教学计划表!AB25),\"考试\",\"考查\"),\"\")","v":""},{"$f":"IF(教学计划表!DG25<>0,教学计划表!DG25,\"\")","v":""},{"$f":"IF(教学计划表!DG25<>0,教学计划表!DL25,\"\")","v":""},{"$f":"IF(教学计划表!DG25<>0,教学计划表!DM25,\"\")","v":""},{"$f":"IF(教学计划表!DG25<>0,教学计划表!OE25,\"\")","v":""},{"$f":"OFFSET($GD$2,SMALL(IF($GD$2:$GD$72<>\"\",ROW($2:$72),\"\"),ROW(GD9))-2,0)","v":{"$error":"#NUM!"}},{"$f":"OFFSET($GE$2,SMALL(IF($GE$2:$GE$72<>\"\",ROW($2:$72),\"\"),ROW(GE9))-2,0)","v":{"$error":"#NUM!"}},{"$f":"OFFSET($GF$2,SMALL(IF($GF$2:$GF$72<>\"\",ROW($2:$72),\"\"),ROW(GF9))-2,0)","v":{"$error":"#NUM!"}},{"$f":"OFFSET($GG$2,SMALL(IF($GG$2:$GG$72<>\"\",ROW($2:$72),\"\"),ROW(GG9))-2,0)","v":{"$error":"#NUM!"}},{"$f":"OFFSET($GH$2,SMALL(IF($GH$2:$GH$72<>\"\",ROW($2:$72),\"\"),ROW(GH9))-2,0)","v":{"$error":"#NUM!"}},{"$error":"#NUM!"},{"$f":"OFFSET($GJ$2,SMALL(IF($GJ$2:$GJ$72<>\"\",ROW($2:$72),\"\"),ROW(GJ9))-2,0)","v":{"$error":"#NUM!"}},{"$f":"IF(AND(教学计划表!N25<>\"\",教学计划表!AV25<>\"\"),教学计划表!I25,\"\")","v":""},{"$f":"IF(教学计划表!AV25<>\"\",教学计划表!N25,\"\")","v":""},{"$f":"IF(GS10<>\"\",IF(SEARCH(\"2\",教学计划表!AB25&\"2\",1)<=LEN(教学计划表!AB25),\"考试\",\"考查\"),\"\")","v":""},{"$f":"IF(教学计划表!EA25<>0,教学计划表!EA25,\"\")","v":""},{"$f":"IF(教学计划表!EA25<>0,教学计划表!EF25,\"\")","v":""},{"$f":"IF(教学计划表!EA25<>0,教学计划表!EG25,\"\")","v":""},{"$f":"IF(教学计划表!EA25<>0,教学计划表!OQ25,\"\")","v":""},{"$f":"OFFSET($GR$2,SMALL(IF($GR$2:$GR$72<>\"\",ROW($I$2:$K$72),\"\"),ROW(GR9))-2,0)","v":{"$error":"#NUM!"}},{"$f":"OFFSET($GS$2,SMALL(IF($GS$2:$GS$72<>\"\",ROW($I$2:$K$72),\"\"),ROW(GS9))-2,0)","v":{"$error":"#NUM!"}},{"$f":"OFFSET($GT$2,SMALL(IF($GT$2:$GT$72<>\"\",ROW($I$2:$K$72),\"\"),ROW(GT9))-2,0)","v":{"$error":"#NUM!"}},{"$f":"OFFSET($GU$2,SMALL(IF($GU$2:$GU$72<>\"\",ROW($I$2:$K$72),\"\"),ROW(GU9))-2,0)","v":{"$error":"#NUM!"}},{"$f":"OFFSET($GV$2,SMALL(IF($GV$2:$GV$72<>\"\",ROW($GV$2:$GV$72),\"\"),ROW(GV9))-2,0)","v":{"$error":"#NUM!"}},{"$f":"OFFSET($GW$2,SMALL(IF($GW$2:$GW$72<>\"\",ROW($GW$2:$GW$72),\"\"),ROW(GW9))-2,0)","v":{"$error":"#NUM!"}},{"$f":"OFFSET($GX$2,SMALL(IF($GX$2:$GX$72<>\"\",ROW($GX$2:$GX$72),\"\"),ROW(GX9))-2,0)","v":{"$error":"#NUM!"}},{"$f":"IF(AND(教学计划表!N25<>\"\",教学计划表!AY25<>\"\"),教学计划表!I25,\"\")","v":""},{"$f":"IF(教学计划表!AY25<>\"\",教学计划表!N25,\"\")","v":""},{"$f":"IF(HG10<>\"\",IF(SEARCH(\"3\",教学计划表!AB25&\"3\",1)<=LEN(教学计划表!AB25),\"考试\",\"考查\"),\"\")","v":""},{"$f":"IF(教学计划表!EV25<>0,教学计划表!EV25,\"\")","v":""},{"$f":"IF(教学计划表!EV25<>0,教学计划表!FA25,\"\")","v":""},{"$f":"IF(教学计划表!EV25<>0,教学计划表!FB25,\"\")","v":""},{"$f":"IF(教学计划表!EV25<>0,教学计划表!PC25,\"\")","v":""},{"$f":"OFFSET($HF$2,SMALL(IF($HF$2:$HF$72<>\"\",ROW($HF$2:$HF$72),\"\"),ROW(HF9))-2,0)","v":{"$error":"#NUM!"}},{"$f":"OFFSET($HG$2,SMALL(IF($HG$2:$HG$72<>\"\",ROW($HG$2:$HG$72),\"\"),ROW(HG9))-2,0)","v":{"$error":"#NUM!"}},{"$f":"OFFSET($HH$2,SMALL(IF($HH$2:$HH$72<>\"\",ROW($HH$2:$HH$72),\"\"),ROW(HH9))-2,0)","v":{"$error":"#NUM!"}},{"$f":"OFFSET($HI$2,SMALL(IF($HI$2:$HI$72<>\"\",ROW($HI$2:$HI$72),\"\"),ROW(HI9))-2,0)","v":{"$error":"#NUM!"}},{"$f":"OFFSET($HJ$2,SMALL(IF($HJ$2:$HJ$72<>\"\",ROW($HJ$2:$HJ$72),\"\"),ROW(HJ9))-2,0)","v":{"$error":"#NUM!"}},{"$f":"OFFSET($HK$2,SMALL(IF($HK$2:$HK$72<>\"\",ROW($HK$2:$HK$72),\"\"),ROW(HK9))-2,0)","v":{"$error":"#NUM!"}},{"$f":"OFFSET($HL$2,SMALL(IF($HL$2:$HL$72<>\"\",ROW($HL$2:$HL$72),\"\"),ROW(HL9))-2,0)","v":{"$error":"#NUM!"}},{"$f":"IF(AND(教学计划表!N25<>\"\",教学计划表!BB25<>\"\"),教学计划表!I25,\"\")","v":""},{"$f":"IF(教学计划表!BB25<>\"\",教学计划表!N25,\"\")","v":""},{"$f":"IF(HU10<>\"\",IF(SEARCH(\"4\",教学计划表!AB25&\"4\",1)<=LEN(教学计划表!AB25),\"考试\",\"考查\"),\"\")","v":""},{"$f":"IF(教学计划表!FQ25<>0,教学计划表!FQ25,\"\")","v":""},{"$f":"IF(教学计划表!FQ25<>0,教学计划表!FV25,\"\")","v":""},{"$f":"IF(教学计划表!FQ25<>0,教学计划表!FW25,\"\")","v":""},{"$f":"IF(教学计划表!FQ25<>0,教学计划表!PO25,\"\")","v":""},{"$f":"OFFSET($HT$2,SMALL(IF($HT$2:$HT$72<>\"\",ROW($HT$2:$HT$72),\"\"),ROW(HT9))-2,0)","v":{"$error":"#NUM!"}},{"$f":"OFFSET($HU$2,SMALL(IF($HU$2:$HU$72<>\"\",ROW($HU$2:$HU$72),\"\"),ROW(HU9))-2,0)","v":{"$error":"#NUM!"}},{"$f":"OFFSET($HV$2,SMALL(IF($HV$2:$HV$72<>\"\",ROW($HV$2:$HV$72),\"\"),ROW(HV9))-2,0)","v":{"$error":"#NUM!"}},{"$f":"OFFSET($HW$2,SMALL(IF($HW$2:$HW$72<>\"\",ROW($HW$2:$HW$72),\"\"),ROW(HW9))-2,0)","v":{"$error":"#NUM!"}},{"$f":"OFFSET($HX$2,SMALL(IF($HX$2:$HX$72<>\"\",ROW($HX$2:$HX$72),\"\"),ROW(HX9))-2,0)","v":{"$error":"#NUM!"}},{"$f":"OFFSET($HY$2,SMALL(IF($HY$2:$HY$72<>\"\",ROW($HY$2:$HY$72),\"\"),ROW(HY9))-2,0)","v":{"$error":"#NUM!"}},{"$f":"OFFSET($HZ$2,SMALL(IF($HZ$2:$HZ$72<>\"\",ROW($HZ$2:$HZ$72),\"\"),ROW(HZ9))-2,0)","v":{"$error":"#NUM!"}},null,null,{"$f":"IF(AND(教学计划表!N25<>\"\",教学计划表!BE25<>\"\"),教学计划表!I25,\"\")","v":""},{"$f":"IF(教学计划表!BE25<>\"\",教学计划表!N25,\"\")","v":""},{"$f":"IF(IK10<>\"\",IF(SEARCH(\"5\",教学计划表!AB25&\"5\",1)<=LEN(教学计划表!AB25),\"考试\",\"考查\"),\"\")","v":""},{"$f":"IF(教学计划表!GL25<>0,教学计划表!GL25,\"\")","v":""},{"$f":"IF(教学计划表!GL25<>0,教学计划表!GQ25,\"\")","v":""},{"$f":"IF(教学计划表!GL25<>0,教学计划表!GR25,\"\")","v":""},{"$f":"IF(教学计划表!GL25<>0,教学计划表!PZ25,\"\")","v":""},{"$f":"OFFSET($IJ$2,SMALL(IF($IJ$2:$IJ$72<>\"\",ROW($IJ$2:$IJ$72),\"\"),ROW(IJ9))-2,0)","v":{"$error":"#NUM!"}},{"$f":"OFFSET($IK$2,SMALL(IF($IK$2:$IK$72<>\"\",ROW($IK$2:$IK$72),\"\"),ROW(IK9))-2,0)","v":{"$error":"#NUM!"}},{"$f":"OFFSET($IL$2,SMALL(IF($IL$2:$IL$72<>\"\",ROW($IL$2:$IL$72),\"\"),ROW(IL9))-2,0)","v":{"$error":"#NUM!"}},{"$f":"OFFSET($IM$2,SMALL(IF($IM$2:$IM$72<>\"\",ROW($IM$2:$IM$72),\"\"),ROW(IM9))-2,0)","v":{"$error":"#NUM!"}},{"$f":"OFFSET($IN$2,SMALL(IF($IN$2:$IN$72<>\"\",ROW($IN$2:$IN$72),\"\"),ROW(IN9))-2,0)","v":{"$error":"#NUM!"}},{"$f":"OFFSET($IO$2,SMALL(IF($IO$2:$IO$72<>\"\",ROW($IO$2:$IO$72),\"\"),ROW(IO9))-2,0)","v":{"$error":"#NUM!"}},{"$f":"OFFSET($IP$2,SMALL(IF($IP$2:$IP$72<>\"\",ROW($IP$2:$IP$72),\"\"),ROW(IP9))-2,0)","v":{"$error":"#NUM!"}},null,{"$f":"IF(AND(教学计划表!N25<>\"\",教学计划表!BH25<>\"\"),教学计划表!I25,\"\")","v":""},{"$f":"IF(教学计划表!BH25<>\"\",教学计划表!N25,\"\")","v":""},{"$f":"IF(教学计划表!BH25<>\"\",IF(SEARCH(\"6\",教学计划表!AB25&\"6\",1)<=LEN(教学计划表!AB25),\"考试\",\"考查\"),\"\")","v":""},{"$f":"IF(教学计划表!BH25<>0,教学计划表!HG25,\"\")","v":""},{"$f":"IF(教学计划表!BH25<>0,教学计划表!HL25,\"\")","v":""},{"$f":"IF(教学计划表!BH25<>0,教学计划表!HM25,\"\")","v":""},{"$f":"IF(教学计划表!BH25<>0,教学计划表!QL25,\"\")","v":""},{"$f":"OFFSET($IY$2,SMALL(IF($IY$2:$IY$72<>\"\",ROW($IY$2:$IY$72),\"\"),ROW(IY9))-2,0)","v":{"$error":"#NUM!"}},{"$f":"OFFSET($IZ$2,SMALL(IF($IZ$2:$IZ$72<>\"\",ROW($IZ$2:$IZ$72),\"\"),ROW(IZ9))-2,0)","v":{"$error":"#NUM!"}},{"$f":"OFFSET($JA$2,SMALL(IF($JA$2:$JA$72<>\"\",ROW($JA$2:$JA$72),\"\"),ROW(JA9))-2,0)","v":{"$error":"#NUM!"}},{"$f":"OFFSET($JB$2,SMALL(IF($JB$2:$JB$72<>\"\",ROW($JB$2:$JB$72),\"\"),ROW(JB9))-2,0)","v":{"$error":"#NUM!"}},{"$f":"OFFSET($JC$2,SMALL(IF($JC$2:$JC$72<>\"\",ROW($JC$2:$JC$72),\"\"),ROW(JC9))-2,0)","v":{"$error":"#NUM!"}},{"$f":"OFFSET($JD$2,SMALL(IF($JD$2:$JD$72<>\"\",ROW($JD$2:$JD$72),\"\"),ROW(JD9))-2,0)","v":{"$error":"#NUM!"}},{"$f":"OFFSET($JE$2,SMALL(IF($JE$2:$JE$72<>\"\",ROW($JE$2:$JE$72),\"\"),ROW(JE9))-2,0)","v":{"$error":"#NUM!"}}]
["","","","","","","",null,"","","",{"$f":"IF(ISERROR(自动生成的开课信息!HB11),\"\",自动生成的开课信息!HB11)","v":""},{"$f":"IF(ISERROR(自动生成的开课信息!HC11),\"\",自动生成的开课信息!HC11)","v":""},{"$f":"IF(ISERROR(自动生成的开课信息!HD11),\"\",自动生成的开课信息!HD11)","v":""},{"$f":"IF(ISERROR(自动生成的开课信息!HE11),\"\",自动生成的开课信息!HE11)","v":""},null,"","","","","","","",null,"","","","","","","",null,"","","","","","","",null,"","","","","","","",null,null,null,null,null,null,null,null,null,null,null,null,null,null,null,null,null,null,null,null,null,null,null,null,null,null,null,null,null,null,null,null,null,null,null,null,null,null,null,null,null,null,null,null,null,null,null,null,null,null,null,null,null,null,null,null,null,null,null,null,null,null,null,null,null,null,null,null,null,null,null,null,null,null,null,null,null,null,null,null,null,null,null,null,null,null,null,null,null,null,null,null,null,null,null,null,null,null,null,null,null,null,null,null,null,null,null,null,null,null,null,null,null,null,null,null,null,null,null,null,null,null,null,null,null,null,null,null,null,null,null,null,null,null,null,null,null,null,{"$f":"IF(AND(教学计划表!N26<>\"\",教学计划表!AS26<>\"\"),教学计划表!I26,\"\")","v":""},{"$f":"IF(教学计划表!AS26<>\"\",教学计划表!N26,\"\")","v":""},{"$f":"IF(GE11<>\"\",IF(SEARCH(\"1\",教学计划表!AB26&\"1\",1)<=LEN(教学计划表!AB26),\"考试\",\"考查\"),\"\")","v":""},{"$f":"IF(教学计划表!DG26<>0,教学计划表!DG26,\"\")","v":""},{"$f":"IF(教学计划表!DG26<>0,教学计划表!DL26,\"\")","v":""},{"$f":"IF(教学计划表!DG26<>0,教学计划表!DM26,\"\")","v":""},{"$f":"IF(教学计划表!DG26<>0,教学计划表!OE26,\"\")","v":""},{"$f":"OFFSET($GD$2,SMALL(IF($GD$2:$GD$72<>\"\",ROW($2:$72),\"\"),ROW(GD10))-2,0)","v":{"$error":"#NUM!"}},{"$f":"OFFSET($GE$2,SMALL(IF($GE$2:$GE$72<>\"\",ROW($2:$72),\"\"),ROW(GE10))-2,0)","v":{"$error":"#NUM!"}},{"$f":"OFFSET($GF$2,SMALL(IF($GF$2:$GF$72<>\"\",ROW($2:$72),\"\"),ROW(GF10))-2,0)","v":{"$error":"#NUM!"}},{"$f":"OFFSET($GG$2,SMALL(IF($GG$2:$GG$72<>\"\",ROW($2:$72),\"\"),ROW(GG10))-2,0)","v":{"$error":"#NUM!"}},{"$f":"OFFSET($GH$2,SMALL(IF($GH$2:$GH$72<>\"\",ROW($2:$72),\"\"),ROW(GH10))-2,0)","v":{"$error":"#NUM!"}},{"$error":"#NUM!"},{"$f":"OFFSET($GJ$2,SMALL(IF($GJ$2:$GJ$72<>\"\",ROW($2:$72),\"\"),ROW(GJ10))-2,0)","v":{"$error":"#NUM!"}},{"$f":"IF(AND(教学计划表!N26<>\"\",教学计划表!AV26<>\"\"),教学计划表!I26,\"\")","v":""},{"$f":"IF(教学计划表!AV26<>\"\",教学计划表!N26,\"\")","v":""},{"$f":"IF(GS11<>\"\",IF(SEARCH(\"2\",教学计划表!AB26&\"2\",1)<=LEN(教学计划表!AB26),\"考试\",\"考查\"),\"\")","v":""},{"$f":"IF(教学计划表!EA26<>0,教学计划表!EA26,\"\")","v":""},{"$f":"IF(教学计划表!EA26<>0,教学计划表!EF26,\"\")","v":""},{"$f":"IF(教学计划表!EA26<>0,教学计划表!EG26,\"\")","v":""},{"$f":"IF(教学计划表!EA26<>0,教学计划表!OQ26,\"\")","v":""},{"$f":"OFFSET($GR$2,SMALL(IF($GR$2:$GR$72<>\"\",ROW($I$2:$K$72),\"\"),ROW(GR10))-2,0)","v":{"$error":"#NUM!"}},{"$f":"OFFSET($GS$2,SMALL(IF($GS$2:$GS$72<>\"\",ROW($I$2:$K$72),\"\"),ROW(GS10))-2,0)","v":{"$error":"#NUM!"}},{"$f":"OFFSET($GT$2,SMALL(IF($GT$2:$GT$72<>\"\",ROW($I$2:$K$72),\"\"),ROW(GT10))-2,0)","v":{"$error":"#NUM!"}},{"$f":"OFFSET($GU$2,SMALL(IF($GU$2:$GU$72<>\"\",ROW($I$2:$K$72),\"\"),ROW(GU10))-2,0)","v":{"$error":"#NUM!"}},{"$f":"OFFSET($GV$2,SMALL(IF($GV$2:$GV$72<>\"\",ROW($GV$2:$GV$72),\"\"),ROW(GV10))-2,0)","v":{"$error":"#NUM!"}},{"$f":"OFFSET($GW$2,SMALL(IF($GW$2:$GW$72<>\"\",ROW($GW$2:$GW$72),\"\"),ROW(GW10))-2,0)","v":{"$error":"#NUM!"}},{"$f":"OFFSET($GX$2,SMALL(IF($GX$2:$GX$72<>\"\",ROW($GX$2:$GX$72),\"\"),ROW(GX10))-2,0)","v":{"$error":"#NUM!"}},{"$f":"IF(AND(教学计划表!N26<>\"\",教学计划表!AY26<>\"\"),教学计划表!I26,\"\")","v":""},{"$f":"IF(教学计划表!AY26<>\"\",教学计划表!N26,\"\")","v":""},{"$f":"IF(HG11<>\"\",IF(SEARCH(\"3\",教学计划表!AB26&\"3\",1)<=LEN(教学计划表!AB26),\"考试\",\"考查\"),\"\")","v":""},{"$f":"IF(教学计划表!EV26<>0,教学计划表!EV26,\"\")","v":""},{"$f":"IF(教学计划表!EV26<>0,教学计划表!FA26,\"\")","v":""},{"$f":"IF(教学计划表!EV26<>0,教学计划表!FB26,\"\")","v":""},{"$f":"IF(教学计划表!EV26<>0,教学计划表!PC26,\"\")","v":""},{"$f":"OFFSET($HF$2,SMALL(IF($HF$2:$HF$72<>\"\",ROW($HF$2:$HF$72),\"\"),ROW(HF10))-2,0)","v":{"$error":"#NUM!"}},{"$f":"OFFSET($HG$2,SMALL(IF($HG$2:$HG$72<>\"\",ROW($HG$2:$HG$72),\"\"),ROW(HG10))-2,0)","v":{"$error":"#NUM!"}},{"$f":"OFFSET($HH$2,SMALL(IF($HH$2:$HH$72<>\"\",ROW($HH$2:$HH$72),\"\"),ROW(HH10))-2,0)","v":{"$error":"#NUM!"}},{"$f":"OFFSET($HI$2,SMALL(IF($HI$2:$HI$72<>\"\",ROW($HI$2:$HI$72),\"\"),ROW(HI10))-2,0)","v":{"$error":"#NUM!"}},{"$f":"OFFSET($HJ$2,SMALL(IF($HJ$2:$HJ$72<>\"\",ROW($HJ$2:$HJ$72),\"\"),ROW(HJ10))-2,0)","v":{"$error":"#NUM!"}},{"$f":"OFFSET($HK$2,SMALL(IF($HK$2:$HK$72<>\"\",ROW($HK$2:$HK$72),\"\"),ROW(HK10))-2,0)","v":{"$error":"#NUM!"}},{"$f":"OFFSET($HL$2,SMALL(IF($HL$2:$HL$72<>\"\",ROW($HL$2:$HL$72),\"\"),ROW(HL10))-2,0)","v":{"$error":"#NUM!"}},{"$f":"IF(AND(教学计划表!N26<>\"\",教学计划表!BB26<>\"\"),教学计划表!I26,\"\")","v":""},{"$f":"IF(教学计划表!BB26<>\"\",教学计划表!N26,\"\")","v":""},{"$f":"IF(HU11<>\"\",IF(SEARCH(\"4\",教学计划表!AB26&\"4\",1)<=LEN(教学计划表!AB26),\"考试\",\"考查\"),\"\")","v":""},{"$f":"IF(教学计划表!FQ26<>0,教学计划表!FQ26,\"\")","v":""},{"$f":"IF(教学计划表!FQ26<>0,教学计划表!FV26,\"\")","v":""},{"$f":"IF(教学计划表!FQ26<>0,教学计划表!FW26,\"\")","v":""},{"$f":"IF(教学计划表!FQ26<>0,教学计划表!PO26,\"\")","v":""},{"$f":"OFFSET($HT$2,SMALL(IF($HT$2:$HT$72<>\"\",ROW($HT$2:$HT$72),\"\"),ROW(HT10))-2,0)","v":{"$error":"#NUM!"}},{"$f":"OFFSET($HU$2,SMALL(IF($HU$2:$HU$72<>\"\",ROW($HU$2:$HU$72),\"\"),ROW(HU10))-2,0)","v":{"$error":"#NUM!"}},{"$f":"OFFSET($HV$2,SMALL(IF($HV$2:$HV$72<>\"\",ROW($HV$2:$HV$72),\"\"),ROW(HV10))-2,0)","v":{"$error":"#NUM!"}},{"$f":"OFFSET($HW$2,SMALL(IF($HW$2:$HW$72<>\"\",ROW($HW$2:$HW$72),\"\"),ROW(HW10))-2,0)","v":{"$error":"#NUM!"}},{"$f":"OFFSET($HX$2,SMALL(IF($HX$2:$HX$72<>\"\",ROW($HX$2:$HX$72),\"\"),ROW(HX10))-2,0)","v":{"$error":"#NUM!"}},{"$f":"OFFSET($HY$2,SMALL(IF($HY$2:$HY$72<>\"\",ROW($HY$2:$HY$72),\"\"),ROW(HY10))-2,0)","v":{"$error":"#NUM!"}},{"$f":"OFFSET($HZ$2,SMALL(IF($HZ$2:$HZ$72<>\"\",ROW($HZ$2:$HZ$72),\"\"),ROW(HZ10))-2,0)","v":{"$error":"#NUM!"}},null,null,{"$f":"IF(AND(教学计划表!N26<>\"\",教学计划表!BE26<>\"\"),教学计划表!I26,\"\")","v":""},{"$f":"IF(教学计划表!BE26<>\"\",教学计划表!N26,\"\")","v":""},{"$f":"IF(IK11<>\"\",IF(SEARCH(\"5\",教学计划表!AB26&\"5\",1)<=LEN(教学计划表!AB26),\"考试\",\"考查\"),\"\")","v":""},{"$f":"IF(教学计划表!GL26<>0,教学计划表!GL26,\"\")","v":""},{"$f":"IF(教学计划表!GL26<>0,教学计划表!GQ26,\"\")","v":""},{"$f":"IF(教学计划表!GL26<>0,教学计划表!GR26,\"\")","v":""},{"$f":"IF(教学计划表!GL26<>0,教学计划表!PZ26,\"\")","v":""},{"$f":"OFFSET($IJ$2,SMALL(IF($IJ$2:$IJ$72<>\"\",ROW($IJ$2:$IJ$72),\"\"),ROW(IJ10))-2,0)","v":{"$error":"#NUM!"}},{"$f":"OFFSET($IK$2,SMALL(IF($IK$2:$IK$72<>\"\",ROW($IK$2:$IK$72),\"\"),ROW(IK10))-2,0)","v":{"$error":"#NUM!"}},{"$f":"OFFSET($IL$2,SMALL(IF($IL$2:$IL$72<>\"\",ROW($IL$2:$IL$72),\"\"),ROW(IL10))-2,0)","v":{"$error":"#NUM!"}},{"$f":"OFFSET($IM$2,SMALL(IF($IM$2:$IM$72<>\"\",ROW($IM$2:$IM$72),\"\"),ROW(IM10))-2,0)","v":{"$error":"#NUM!"}},{"$f":"OFFSET($IN$2,SMALL(IF($IN$2:$IN$72<>\"\",ROW($IN$2:$IN$72),\"\"),ROW(IN10))-2,0)","v":{"$error":"#NUM!"}},{"$f":"OFFSET($IO$2,SMALL(IF($IO$2:$IO$72<>\"\",ROW($IO$2:$IO$72),\"\"),ROW(IO10))-2,0)","v":{"$error":"#NUM!"}},{"$f":"OFFSET($IP$2,SMALL(IF($IP$2:$IP$72<>\"\",ROW($IP$2:$IP$72),\"\"),ROW(IP10))-2,0)","v":{"$error":"#NUM!"}},null,{"$f":"IF(AND(教学计划表!N26<>\"\",教学计划表!BH26<>\"\"),教学计划表!I26,\"\")","v":""},{"$f":"IF(教学计划表!BH26<>\"\",教学计划表!N26,\"\")","v":""},{"$f":"IF(教学计划表!BH26<>\"\",IF(SEARCH(\"6\",教学计划表!AB26&\"6\",1)<=LEN(教学计划表!AB26),\"考试\",\"考查\"),\"\")","v":""},{"$f":"IF(教学计划表!BH26<>0,教学计划表!HG26,\"\")","v":""},{"$f":"IF(教学计划表!BH26<>0,教学计划表!HL26,\"\")","v":""},{"$f":"IF(教学计划表!BH26<>0,教学计划表!HM26,\"\")","v":""},{"$f":"IF(教学计划表!BH26<>0,教学计划表!QL26,\"\")","v":""},{"$f":"OFFSET($IY$2,SMALL(IF($IY$2:$IY$72<>\"\",ROW($IY$2:$IY$72),\"\"),ROW(IY10))-2,0)","v":{"$error":"#NUM!"}},{"$f":"OFFSET($IZ$2,SMALL(IF($IZ$2:$IZ$72<>\"\",ROW($IZ$2:$IZ$72),\"\"),ROW(IZ10))-2,0)","v":{"$error":"#NUM!"}},{"$f":"OFFSET($JA$2,SMALL(IF($JA$2:$JA$72<>\"\",ROW($JA$2:$JA$72),\"\"),ROW(JA10))-2,0)","v":{"$error":"#NUM!"}},{"$f":"OFFSET($JB$2,SMALL(IF($JB$2:$JB$72<>\"\",ROW($JB$2:$JB$72),\"\"),ROW(JB10))-2,0)","v":{"$error":"#NUM!"}},{"$f":"OFFSET($JC$2,SMALL(IF($JC$2:$JC$72<>\"\",ROW($JC$2:$JC$72),\"\"),ROW(JC10))-2,0)","v":{"$error":"#NUM!"}},{"$f":"OFFSET($JD$2,SMALL(IF($JD$2:$JD$72<>\"\",ROW($JD$2:$JD$72),\"\"),ROW(JD10))-2,0)","v":{"$error":"#NUM!"}},{"$f":"OFFSET($JE$2,SMALL(IF($JE$2:$JE$72<>\"\",ROW($JE$2:$JE$72),\"\"),ROW(JE10))-2,0)","v":{"$error":"#NUM!"}}]
["","","","","","","",null,"","","",{"$f":"IF(ISERROR(自动生成的开课信息!HB12),\"\",自动生成的开课信息!HB12)","v":""},{"$f":"IF(ISERROR(自动生成的开课信息!HC12),\"\",自动生成的开课信息!HC12)","v":""},{"$f":"IF(ISERROR(自动生成的开课信息!HD12),\"\",自动生成的开课信息!HD12)","v":""},{"$f":"IF(ISERROR(自动生成的开课信息!HE12),\"\",自动生成的开课信息!HE12)","v":""},null,"","","","","","","",null,"","","","","","","",null,"","","","","","","",null,"","","","","","","",null,null,null,null,null,null,null,null,null,null,null,null,null,null,null,null,null,null,null,null,null,null,null,null,null,null,null,null,null,null,null,null,null,null,null,null,null,null,null,null,null,null,null,null,null,null,null,null,null,null,null,null,null,null,null,null,null,null,null,null,null,null,null,null,null,null,null,null,null,null,null,null,null,null,null,null,null,null,null,null,null,null,null,null,null,null,null,null,null,null,null,null,null,null,null,null,null,null,null,null,null,null,null,null,null,null,null,null,null,null,null,null,null,null,null,null,null,null,null,null,null,null,null,null,null,null,null,null,null,null,null,null,null,null,null,null,null,null,{"$f":"IF(AND(教学计划表!N27<>\"\",教学计划表!AS27<>\"\"),教学计划表!I27,\"\")","v":""},{"$f":"IF(教学计划表!AS27<>\"\",教学计划表!N27,\"\")","v":""},{"$f":"IF(GE12<>\"\",IF(SEARCH(\"1\",教学计划表!AB27&\"1\",1)<=LEN(教学计划表!AB27),\"考试\",\"考查\"),\"\")","v":""},{"$f":"IF(教学计划表!DG27<>0,教学计划表!DG27,\"\")","v":""},{"$f":"IF(教学计划表!DG27<>0,教学计划表!DL27,\"\")","v":""},{"$f":"IF(教学计划表!DG27<>0,教学计划表!DM27,\"\")","v":""},{"$f":"IF(教学计划表!DG27<>0,教学计划表!OE27,\"\")","v":""},{"$f":"OFFSET($GD$2,SMALL(IF($GD$2:$GD$72<>\"\",ROW($2:$72),\"\"),ROW(GD11))-2,0)","v":{"$error":"#NUM!"}},{"$f":"OFFSET($GE$2,SMALL(IF($GE$2:$GE$72<>\"\",ROW($2:$72),\"\"),ROW(GE11))-2,0)","v":{"$error":"#NUM!"}},{"$f":"OFFSET($GF$2,SMALL(IF($GF$2:$GF$72<>\"\",ROW($2:$72),\"\"),ROW(GF11))-2,0)","v":{"$error":"#NUM!"}},{"$f":"OFFSET($GG$2,SMALL(IF($GG$2:$GG$72<>\"\",ROW($2:$72),\"\"),ROW(GG11))-2,0)","v":{"$error":"#NUM!"}},{"$f":"OFFSET($GH$2,SMALL(IF($GH$2:$GH$72<>\"\",ROW($2:$72),\"\"),ROW(GH11))-2,0)","v":{"$error":"#NUM!"}},{"$error":"#NUM!"},{"$f":"OFFSET($GJ$2,SMALL(IF($GJ$2:$GJ$72<>\"\",ROW($2:$72),\"\"),ROW(GJ11))-2,0)","v":{"$error":"#NUM!"}},{"$f":"IF(AND(教学计划表!N27<>\"\",教学计划表!AV27<>\"\"),教学计划表!I27,\"\")","v":""},{"$f":"IF(教学计划表!AV27<>\"\",教学计划表!N27,\"\")","v":""},{"$f":"IF(GS12<>\"\",IF(SEARCH(\"2\",教学计划表!AB27&\"2\",1)<=LEN(教学计划表!AB27),\"考试\",\"考查\"),\"\")","v":""},{"$f":"IF(教学计划表!EA27<>0,教学计划表!EA27,\"\")","v":""},{"$f":"IF(教学计划表!EA27<>0,教学计划表!EF27,\"\")","v":""},{"$f":"IF(教学计划表!EA27<>0,教学计划表!EG27,\"\")","v":""},{"$f":"IF(教学计划表!EA27<>0,教学计划表!OQ27,\"\")","v":""},{"$f":"OFFSET($GR$2,SMALL(IF($GR$2:$GR$72<>\"\",ROW($I$2:$K$72),\"\"),ROW(GR11))-2,0)","v":{"$error":"#NUM!"}},{"$f":"OFFSET($GS$2,SMALL(IF($GS$2:$GS$72<>\"\",ROW($I$2:$K$72),\"\"),ROW(GS11))-2,0)","v":{"$error":"#NUM!"}},{"$f":"OFFSET($GT$2,SMALL(IF($GT$2:$GT$72<>\"\",ROW($I$2:$K$72),\"\"),ROW(GT11))-2,0)","v":{"$error":"#NUM!"}},{"$f":"OFFSET($GU$2,SMALL(IF($GU$2:$GU$72<>\"\",ROW($I$2:$K$72),\"\"),ROW(GU11))-2,0)","v":{"$error":"#NUM!"}},{"$f":"OFFSET($GV$2,SMALL(IF($GV$2:$GV$72<>\"\",ROW($GV$2:$GV$72),\"\"),ROW(GV11))-2,0)","v":{"$error":"#NUM!"}},{"$f":"OFFSET($GW$2,SMALL(IF($GW$2:$GW$72<>\"\",ROW($GW$2:$GW$72),\"\"),ROW(GW11))-2,0)","v":{"$error":"#NUM!"}},{"$f":"OFFSET($GX$2,SMALL(IF($GX$2:$GX$72<>\"\",ROW($GX$2:$GX$72),\"\"),ROW(GX11))-2,0)","v":{"$error":"#NUM!"}},{"$f":"IF(AND(教学计划表!N27<>\"\",教学计划表!AY27<>\"\"),教学计划表!I27,\"\")","v":""},{"$f":"IF(教学计划表!AY27<>\"\",教学计划表!N27,\"\")","v":""},{"$f":"IF(HG12<>\"\",IF(SEARCH(\"3\",教学计划表!AB27&\"3\",1)<=LEN(教学计划表!AB27),\"考试\",\"考查\"),\"\")","v":""},{"$f":"IF(教学计划表!EV27<>0,教学计划表!EV27,\"\")","v":""},{"$f":"IF(教学计划表!EV27<>0,教学计划表!FA27,\"\")","v":""},{"$f":"IF(教学计划表!EV27<>0,教学计划表!FB27,\"\")","v":""},{"$f":"IF(教学计划表!EV27<>0,教学计划表!PC27,\"\")","v":""},{"$f":"OFFSET($HF$2,SMALL(IF($HF$2:$HF$72<>\"\",ROW($HF$2:$HF$72),\"\"),ROW(HF11))-2,0)","v":{"$error":"#NUM!"}},{"$f":"OFFSET($HG$2,SMALL(IF($HG$2:$HG$72<>\"\",ROW($HG$2:$HG$72),\"\"),ROW(HG11))-2,0)","v":{"$error":"#NUM!"}},{"$f":"OFFSET($HH$2,SMALL(IF($HH$2:$HH$72<>\"\",ROW($HH$2:$HH$72),\"\"),ROW(HH11))-2,0)","v":{"$error":"#NUM!"}},{"$f":"OFFSET($HI$2,SMALL(IF($HI$2:$HI$72<>\"\",ROW($HI$2:$HI$72),\"\"),ROW(HI11))-2,0)","v":{"$error":"#NUM!"}},{"$f":"OFFSET($HJ$2,SMALL(IF($HJ$2:$HJ$72<>\"\",ROW($HJ$2:$HJ$72),\"\"),ROW(HJ11))-2,0)","v":{"$error":"#NUM!"}},{"$f":"OFFSET($HK$2,SMALL(IF($HK$2:$HK$72<>\"\",ROW($HK$2:$HK$72),\"\"),ROW(HK11))-2,0)","v":{"$error":"#NUM!"}},{"$f":"OFFSET($HL$2,SMALL(IF($HL$2:$HL$72<>\"\",ROW($HL$2:$HL$72),\"\"),ROW(HL11))-2,0)","v":{"$error":"#NUM!"}},{"$f":"IF(AND(教学计划表!N27<>\"\",教学计划表!BB27<>\"\"),教学计划表!I27,\"\")","v":""},{"$f":"IF(教学计划表!BB27<>\"\",教学计划表!N27,\"\")","v":""},{"$f":"IF(HU12<>\"\",IF(SEARCH(\"4\",教学计划表!AB27&\"4\",1)<=LEN(教学计划表!AB27),\"考试\",\"考查\"),\"\")","v":""},{"$f":"IF(教学计划表!FQ27<>0,教学计划表!FQ27,\"\")","v":""},{"$f":"IF(教学计划表!FQ27<>0,教学计划表!FV27,\"\")","v":""},{"$f":"IF(教学计划表!FQ27<>0,教学计划表!FW27,\"\")","v":""},{"$f":"IF(教学计划表!FQ27<>0,教学计划表!PO27,\"\")","v":""},{"$f":"OFFSET($HT$2,SMALL(IF($HT$2:$HT$72<>\"\",ROW($HT$2:$HT$72),\"\"),ROW(HT11))-2,0)","v":{"$error":"#NUM!"}},{"$f":"OFFSET($HU$2,SMALL(IF($HU$2:$HU$72<>\"\",ROW($HU$2:$HU$72),\"\"),ROW(HU11))-2,0)","v":{"$error":"#NUM!"}},{"$f":"OFFSET($HV$2,SMALL(IF($HV$2:$HV$72<>\"\",ROW($HV$2:$HV$72),\"\"),ROW(HV11))-2,0)","v":{"$error":"#NUM!"}},{"$f":"OFFSET($HW$2,SMALL(IF($HW$2:$HW$72<>\"\",ROW($HW$2:$HW$72),\"\"),ROW(HW11))-2,0)","v":{"$error":"#NUM!"}},{"$f":"OFFSET($HX$2,SMALL(IF($HX$2:$HX$72<>\"\",ROW($HX$2:$HX$72),\"\"),ROW(HX11))-2,0)","v":{"$error":"#NUM!"}},{"$f":"OFFSET($HY$2,SMALL(IF($HY$2:$HY$72<>\"\",ROW($HY$2:$HY$72),\"\"),ROW(HY11))-2,0)","v":{"$error":"#NUM!"}},{"$f":"OFFSET($HZ$2,SMALL(IF($HZ$2:$HZ$72<>\"\",ROW($HZ$2:$HZ$72),\"\"),ROW(HZ11))-2,0)","v":{"$error":"#NUM!"}},null,null,{"$f":"IF(AND(教学计划表!N27<>\"\",教学计划表!BE27<>\"\"),教学计划表!I27,\"\")","v":""},{"$f":"IF(教学计划表!BE27<>\"\",教学计划表!N27,\"\")","v":""},{"$f":"IF(IK12<>\"\",IF(SEARCH(\"5\",教学计划表!AB27&\"5\",1)<=LEN(教学计划表!AB27),\"考试\",\"考查\"),\"\")","v":""},{"$f":"IF(教学计划表!GL27<>0,教学计划表!GL27,\"\")","v":""},{"$f":"IF(教学计划表!GL27<>0,教学计划表!GQ27,\"\")","v":""},{"$f":"IF(教学计划表!GL27<>0,教学计划表!GR27,\"\")","v":""},{"$f":"IF(教学计划表!GL27<>0,教学计划表!PZ27,\"\")","v":""},{"$f":"OFFSET($IJ$2,SMALL(IF($IJ$2:$IJ$72<>\"\",ROW($IJ$2:$IJ$72),\"\"),ROW(IJ11))-2,0)","v":{"$error":"#NUM!"}},{"$f":"OFFSET($IK$2,SMALL(IF($IK$2:$IK$72<>\"\",ROW($IK$2:$IK$72),\"\"),ROW(IK11))-2,0)","v":{"$error":"#NUM!"}},{"$f":"OFFSET($IL$2,SMALL(IF($IL$2:$IL$72<>\"\",ROW($IL$2:$IL$72),\"\"),ROW(IL11))-2,0)","v":{"$error":"#NUM!"}},{"$f":"OFFSET($IM$2,SMALL(IF($IM$2:$IM$72<>\"\",ROW($IM$2:$IM$72),\"\"),ROW(IM11))-2,0)","v":{"$error":"#NUM!"}},{"$f":"OFFSET($IN$2,SMALL(IF($IN$2:$IN$72<>\"\",ROW($IN$2:$IN$72),\"\"),ROW(IN11))-2,0)","v":{"$error":"#NUM!"}},{"$f":"OFFSET($IO$2,SMALL(IF($IO$2:$IO$72<>\"\",ROW($IO$2:$IO$72),\"\"),ROW(IO11))-2,0)","v":{"$error":"#NUM!"}},{"$f":"OFFSET($IP$2,SMALL(IF($IP$2:$IP$72<>\"\",ROW($IP$2:$IP$72),\"\"),ROW(IP11))-2,0)","v":{"$error":"#NUM!"}},null,{"$f":"IF(AND(教学计划表!N27<>\"\",教学计划表!BH27<>\"\"),教学计划表!I27,\"\")","v":""},{"$f":"IF(教学计划表!BH27<>\"\",教学计划表!N27,\"\")","v":""},{"$f":"IF(教学计划表!BH27<>\"\",IF(SEARCH(\"6\",教学计划表!AB27&\"6\",1)<=LEN(教学计划表!AB27),\"考试\",\"考查\"),\"\")","v":""},{"$f":"IF(教学计划表!BH27<>0,教学计划表!HG27,\"\")","v":""},{"$f":"IF(教学计划表!BH27<>0,教学计划表!HL27,\"\")","v":""},{"$f":"IF(教学计划表!BH27<>0,教学计划表!HM27,\"\")","v":""},{"$f":"IF(教学计划表!BH27<>0,教学计划表!QL27,\"\")","v":""},{"$f":"OFFSET($IY$2,SMALL(IF($IY$2:$IY$72<>\"\",ROW($IY$2:$IY$72),\"\"),ROW(IY11))-2,0)","v":{"$error":"#NUM!"}},{"$f":"OFFSET($IZ$2,SMALL(IF($IZ$2:$IZ$72<>\"\",ROW($IZ$2:$IZ$72),\"\"),ROW(IZ11))-2,0)","v":{"$error":"#NUM!"}},{"$f":"OFFSET($JA$2,SMALL(IF($JA$2:$JA$72<>\"\",ROW($JA$2:$JA$72),\"\"),ROW(JA11))-2,0)","v":{"$error":"#NUM!"}},{"$f":"OFFSET($JB$2,SMALL(IF($JB$2:$JB$72<>\"\",ROW($JB$2:$JB$72),\"\"),ROW(JB11))-2,0)","v":{"$error":"#NUM!"}},{"$f":"OFFSET($JC$2,SMALL(IF($JC$2:$JC$72<>\"\",ROW($JC$2:$JC$72),\"\"),ROW(JC11))-2,0)","v":{"$error":"#NUM!"}},{"$f":"OFFSET($JD$2,SMALL(IF($JD$2:$JD$72<>\"\",ROW($JD$2:$JD$72),\"\"),ROW(JD11))-2,0)","v":{"$error":"#NUM!"}},{"$f":"OFFSET($JE$2,SMALL(IF($JE$2:$JE$72<>\"\",ROW($JE$2:$JE$72),\"\"),ROW(JE11))-2,0)","v":{"$error":"#NUM!"}}]
["","","","","","","",null,"","","",{"$f":"IF(ISERROR(自动生成的开课信息!HB13),\"\",自动生成的开课信息!HB13)","v":""},{"$f":"IF(ISERROR(自动生成的开课信息!HC13),\"\",自动生成的开课信息!HC13)","v":""},{"$f":"IF(ISERROR(自动生成的开课信息!HD13),\"\",自动生成的开课信息!HD13)","v":""},{"$f":"IF(ISERROR(自动生成的开课信息!HE13),\"\",自动生成的开课信息!HE13)","v":""},null,"","","","","","","",null,"","","","","","","",null,"","","","","","","",null,"","","","","","","",null,null,null,null,null,null,null,null,null,null,null,null,null,null,null,null,null,null,null,null,null,null,null,null,null,null,null,null,null,null,null,null,null,null,null,null,null,null,null,null,null,null,null,null,null,null,null,null,null,null,null,null,null,null,null,null,null,null,null,null,null,null,null,null,null,null,null,null,null,null,null,null,null,null,null,null,null,null,null,null,null,null,null,null,null,null,null,null,null,null,null,null,null,null,null,null,null,null,null,null,null,null,null,null,null,null,null,null,null,null,null,null,null,null,null,null,null,null,null,null,null,null,null,null,null,null,null,null,null,null,null,null,null,null,null,null,null,null,{"$f":"IF(AND(教学计划表!N28<>\"\",教学计划表!AS28<>\"\"),教学计划表!I28,\"\")","v":""},{"$f":"IF(教学计划表!AS28<>\"\",教学计划表!N28,\"\")","v":""},{"$f":"IF(GE13<>\"\",IF(SEARCH(\"1\",教学计划表!AB28&\"1\",1)<=LEN(教学计划表!AB28),\"考试\",\"考查\"),\"\")","v":""},{"$f":"IF(教学计划表!DG28<>0,教学计划表!DG28,\"\")","v":""},{"$f":"IF(教学计划表!DG28<>0,教学计划表!DL28,\"\")","v":""},{"$f":"IF(教学计划表!DG28<>0,教学计划表!DM28,\"\")","v":""},{"$f":"IF(教学计划表!DG28<>0,教学计划表!OE28,\"\")","v":""},{"$f":"OFFSET($GD$2,SMALL(IF($GD$2:$GD$72<>\"\",ROW($2:$72),\"\"),ROW(GD12))-2,0)","v":{"$error":"#NUM!"}},{"$f":"OFFSET($GE$2,SMALL(IF($GE$2:$GE$72<>\"\",ROW($2:$72),\"\"),ROW(GE12))-2,0)","v":{"$error":"#NUM!"}},{"$f":"OFFSET($GF$2,SMALL(IF($GF$2:$GF$72<>\"\",ROW($2:$72),\"\"),ROW(GF12))-2,0)","v":{"$error":"#NUM!"}},{"$f":"OFFSET($GG$2,SMALL(IF($GG$2:$GG$72<>\"\",ROW($2:$72),\"\"),ROW(GG12))-2,0)","v":{"$error":"#NUM!"}},{"$f":"OFFSET($GH$2,SMALL(IF($GH$2:$GH$72<>\"\",ROW($2:$72),\"\"),ROW(GH12))-2,0)","v":{"$error":"#NUM!"}},{"$error":"#NUM!"},{"$f":"OFFSET($GJ$2,SMALL(IF($GJ$2:$GJ$72<>\"\",ROW($2:$72),\"\"),ROW(GJ12))-2,0)","v":{"$error":"#NUM!"}},{"$f":"IF(AND(教学计划表!N28<>\"\",教学计划表!AV28<>\"\"),教学计划表!I28,\"\")","v":""},{"$f":"IF(教学计划表!AV28<>\"\",教学计划表!N28,\"\")","v":""},{"$f":"IF(GS13<>\"\",IF(SEARCH(\"2\",教学计划表!AB28&\"2\",1)<=LEN(教学计划表!AB28),\"考试\",\"考查\"),\"\")","v":""},{"$f":"IF(教学计划表!EA28<>0,教学计划表!EA28,\"\")","v":""},{"$f":"IF(教学计划表!EA28<>0,教学计划表!EF28,\"\")","v":""},{"$f":"IF(教学计划表!EA28<>0,教学计划表!EG28,\"\")","v":""},{"$f":"IF(教学计划表!EA28<>0,教学计划表!OQ28,\"\")","v":""},{"$f":"OFFSET($GR$2,SMALL(IF($GR$2:$GR$72<>\"\",ROW($I$2:$K$72),\"\"),ROW(GR12))-2,0)","v":{"$error":"#NUM!"}},{"$f":"OFFSET($GS$2,SMALL(IF($GS$2:$GS$72<>\"\",ROW($I$2:$K$72),\"\"),ROW(GS12))-2,0)","v":{"$error":"#NUM!"}},{"$f":"OFFSET($GT$2,SMALL(IF($GT$2:$GT$72<>\"\",ROW($I$2:$K$72),\"\"),ROW(GT12))-2,0)","v":{"$error":"#NUM!"}},{"$f":"OFFSET($GU$2,SMALL(IF($GU$2:$GU$72<>\"\",ROW($I$2:$K$72),\"\"),ROW(GU12))-2,0)","v":{"$error":"#NUM!"}},{"$f":"OFFSET($GV$2,SMALL(IF($GV$2:$GV$72<>\"\",ROW($GV$2:$GV$72),\"\"),ROW(GV12))-2,0)","v":{"$error":"#NUM!"}},{"$f":"OFFSET($GW$2,SMALL(IF($GW$2:$GW$72<>\"\",ROW($GW$2:$GW$72),\"\"),ROW(GW12))-2,0)","v":{"$error":"#NUM!"}},{"$f":"OFFSET($GX$2,SMALL(IF($GX$2:$GX$72<>\"\",ROW($GX$2:$GX$72),\"\"),ROW(GX12))-2,0)","v":{"$error":"#NUM!"}},{"$f":"IF(AND(教学计划表!N28<>\"\",教学计划表!AY28<>\"\"),教学计划表!I28,\"\")","v":""},{"$f":"IF(教学计划表!AY28<>\"\",教学计划表!N28,\"\")","v":""},{"$f":"IF(HG13<>\"\",IF(SEARCH(\"3\",教学计划表!AB28&\"3\",1)<=LEN(教学计划表!AB28),\"考试\",\"考查\"),\"\")","v":""},{"$f":"IF(教学计划表!EV28<>0,教学计划表!EV28,\"\")","v":""},{"$f":"IF(教学计划表!EV28<>0,教学计划表!FA28,\"\")","v":""},{"$f":"IF(教学计划表!EV28<>0,教学计划表!FB28,\"\")","v":""},{"$f":"IF(教学计划表!EV28<>0,教学计划表!PC28,\"\")","v":""},{"$f":"OFFSET($HF$2,SMALL(IF($HF$2:$HF$72<>\"\",ROW($HF$2:$HF$72),\"\"),ROW(HF12))-2,0)","v":{"$error":"#NUM!"}},{"$f":"OFFSET($HG$2,SMALL(IF($HG$2:$HG$72<>\"\",ROW($HG$2:$HG$72),\"\"),ROW(HG12))-2,0)","v":{"$error":"#NUM!"}},{"$f":"OFFSET($HH$2,SMALL(IF($HH$2:$HH$72<>\"\",ROW($HH$2:$HH$72),\"\"),ROW(HH12))-2,0)","v":{"$error":"#NUM!"}},{"$f":"OFFSET($HI$2,SMALL(IF($HI$2:$HI$72<>\"\",ROW($HI$2:$HI$72),\"\"),ROW(HI12))-2,0)","v":{"$error":"#NUM!"}},{"$f":"OFFSET($HJ$2,SMALL(IF($HJ$2:$HJ$72<>\"\",ROW($HJ$2:$HJ$72),\"\"),ROW(HJ12))-2,0)","v":{"$error":"#NUM!"}},{"$f":"OFFSET($HK$2,SMALL(IF($HK$2:$HK$72<>\"\",ROW($HK$2:$HK$72),\"\"),ROW(HK12))-2,0)","v":{"$error":"#NUM!"}},{"$f":"OFFSET($HL$2,SMALL(IF($HL$2:$HL$72<>\"\",ROW($HL$2:$HL$72),\"\"),ROW(HL12))-2,0)","v":{"$error":"#NUM!"}},{"$f":"IF(AND(教学计划表!N28<>\"\",教学计划表!BB28<>\"\"),教学计划表!I28,\"\")","v":""},{"$f":"IF(教学计划表!BB28<>\"\",教学计划表!N28,\"\")","v":""},{"$f":"IF(HU13<>\"\",IF(SEARCH(\"4\",教学计划表!AB28&\"4\",1)<=LEN(教学计划表!AB28),\"考试\",\"考查\"),\"\")","v":""},{"$f":"IF(教学计划表!FQ28<>0,教学计划表!FQ28,\"\")","v":""},{"$f":"IF(教学计划表!FQ28<>0,教学计划表!FV28,\"\")","v":""},{"$f":"IF(教学计划表!FQ28<>0,教学计划表!FW28,\"\")","v":""},{"$f":"IF(教学计划表!FQ28<>0,教学计划表!PO28,\"\")","v":""},{"$f":"OFFSET($HT$2,SMALL(IF($HT$2:$HT$72<>\"\",ROW($HT$2:$HT$72),\"\"),ROW(HT12))-2,0)","v":{"$error":"#NUM!"}},{"$f":"OFFSET($HU$2,SMALL(IF($HU$2:$HU$72<>\"\",ROW($HU$2:$HU$72),\"\"),ROW(HU12))-2,0)","v":{"$error":"#NUM!"}},{"$f":"OFFSET($HV$2,SMALL(IF($HV$2:$HV$72<>\"\",ROW($HV$2:$HV$72),\"\"),ROW(HV12))-2,0)","v":{"$error":"#NUM!"}},{"$f":"OFFSET($HW$2,SMALL(IF($HW$2:$HW$72<>\"\",ROW($HW$2:$HW$72),\"\"),ROW(HW12))-2,0)","v":{"$error":"#NUM!"}},{"$f":"OFFSET($HX$2,SMALL(IF($HX$2:$HX$72<>\"\",ROW($HX$2:$HX$72),\"\"),ROW(HX12))-2,0)","v":{"$error":"#NUM!"}},{"$f":"OFFSET($HY$2,SMALL(IF($HY$2:$HY$72<>\"\",ROW($HY$2:$HY$72),\"\"),ROW(HY12))-2,0)","v":{"$error":"#NUM!"}},{"$f":"OFFSET($HZ$2,SMALL(IF($HZ$2:$HZ$72<>\"\",ROW($HZ$2:$HZ$72),\"\"),ROW(HZ12))-2,0)","v":{"$error":"#NUM!"}},null,null,{"$f":"IF(AND(教学计划表!N28<>\"\",教学计划表!BE28<>\"\"),教学计划表!I28,\"\")","v":""},{"$f":"IF(教学计划表!BE28<>\"\",教学计划表!N28,\"\")","v":""},{"$f":"IF(IK13<>\"\",IF(SEARCH(\"5\",教学计划表!AB28&\"5\",1)<=LEN(教学计划表!AB28),\"考试\",\"考查\"),\"\")","v":""},{"$f":"IF(教学计划表!GL28<>0,教学计划表!GL28,\"\")","v":""},{"$f":"IF(教学计划表!GL28<>0,教学计划表!GQ28,\"\")","v":""},{"$f":"IF(教学计划表!GL28<>0,教学计划表!GR28,\"\")","v":""},{"$f":"IF(教学计划表!GL28<>0,教学计划表!PZ28,\"\")","v":""},{"$f":"OFFSET($IJ$2,SMALL(IF($IJ$2:$IJ$72<>\"\",ROW($IJ$2:$IJ$72),\"\"),ROW(IJ12))-2,0)","v":{"$error":"#NUM!"}},{"$f":"OFFSET($IK$2,SMALL(IF($IK$2:$IK$72<>\"\",ROW($IK$2:$IK$72),\"\"),ROW(IK12))-2,0)","v":{"$error":"#NUM!"}},{"$f":"OFFSET($IL$2,SMALL(IF($IL$2:$IL$72<>\"\",ROW($IL$2:$IL$72),\"\"),ROW(IL12))-2,0)","v":{"$error":"#NUM!"}},{"$f":"OFFSET($IM$2,SMALL(IF($IM$2:$IM$72<>\"\",ROW($IM$2:$IM$72),\"\"),ROW(IM12))-2,0)","v":{"$error":"#NUM!"}},{"$f":"OFFSET($IN$2,SMALL(IF($IN$2:$IN$72<>\"\",ROW($IN$2:$IN$72),\"\"),ROW(IN12))-2,0)","v":{"$error":"#NUM!"}},{"$f":"OFFSET($IO$2,SMALL(IF($IO$2:$IO$72<>\"\",ROW($IO$2:$IO$72),\"\"),ROW(IO12))-2,0)","v":{"$error":"#NUM!"}},{"$f":"OFFSET($IP$2,SMALL(IF($IP$2:$IP$72<>\"\",ROW($IP$2:$IP$72),\"\"),ROW(IP12))-2,0)","v":{"$error":"#NUM!"}},null,{"$f":"IF(AND(教学计划表!N28<>\"\",教学计划表!BH28<>\"\"),教学计划表!I28,\"\")","v":""},{"$f":"IF(教学计划表!BH28<>\"\",教学计划表!N28,\"\")","v":""},{"$f":"IF(教学计划表!BH28<>\"\",IF(SEARCH(\"6\",教学计划表!AB28&\"6\",1)<=LEN(教学计划表!AB28),\"考试\",\"考查\"),\"\")","v":""},{"$f":"IF(教学计划表!BH28<>0,教学计划表!HG28,\"\")","v":""},{"$f":"IF(教学计划表!BH28<>0,教学计划表!HL28,\"\")","v":""},{"$f":"IF(教学计划表!BH28<>0,教学计划表!HM28,\"\")","v":""},{"$f":"IF(教学计划表!BH28<>0,教学计划表!QL28,\"\")","v":""},{"$f":"OFFSET($IY$2,SMALL(IF($IY$2:$IY$72<>\"\",ROW($IY$2:$IY$72),\"\"),ROW(IY12))-2,0)","v":{"$error":"#NUM!"}},{"$f":"OFFSET($IZ$2,SMALL(IF($IZ$2:$IZ$72<>\"\",ROW($IZ$2:$IZ$72),\"\"),ROW(IZ12))-2,0)","v":{"$error":"#NUM!"}},{"$f":"OFFSET($JA$2,SMALL(IF($JA$2:$JA$72<>\"\",ROW($JA$2:$JA$72),\"\"),ROW(JA12))-2,0)","v":{"$error":"#NUM!"}},{"$f":"OFFSET($JB$2,SMALL(IF($JB$2:$JB$72<>\"\",ROW($JB$2:$JB$72),\"\"),ROW(JB12))-2,0)","v":{"$error":"#NUM!"}},{"$f":"OFFSET($JC$2,SMALL(IF($JC$2:$JC$72<>\"\",ROW($JC$2:$JC$72),\"\"),ROW(JC12))-2,0)","v":{"$error":"#NUM!"}},{"$f":"OFFSET($JD$2,SMALL(IF($JD$2:$JD$72<>\"\",ROW($JD$2:$JD$72),\"\"),ROW(JD12))-2,0)","v":{"$error":"#NUM!"}},{"$f":"OFFSET($JE$2,SMALL(IF($JE$2:$JE$72<>\"\",ROW($JE$2:$JE$72),\"\"),ROW(JE12))-2,0)","v":{"$error":"#NUM!"}}]
["","","","","","","",null,"","","",{"$f":"IF(ISERROR(自动生成的开课信息!HB14),\"\",自动生成的开课信息!HB14)","v":""},{"$f":"IF(ISERROR(自动生成的开课信息!HC14),\"\",自动生成的开课信息!HC14)","v":""},{"$f":"IF(ISERROR(自动生成的开课信息!HD14),\"\",自动生成的开课信息!HD14)","v":""},{"$f":"IF(ISERROR(自动生成的开课信息!HE14),\"\",自动生成的开课信息!HE14)","v":""},null,"","","","","","","",null,"","","","","","","",null,"","","","","","","",null,"","","","","","","",null,null,null,null,null,null,null,null,null,null,null,null,null,null,null,null,null,null,null,null,null,null,null,null,null,null,null,null,null,null,null,null,null,null,null,null,null,null,null,null,null,null,null,null,null,null,null,null,null,null,null,null,null,null,null,null,null,null,null,null,null,null,null,null,null,null,null,null,null,null,null,null,null,null,null,null,null,null,null,null,null,null,null,null,null,null,null,null,null,null,null,null,null,null,null,null,null,null,null,null,null,null,null,null,null,null,null,null,null,null,null,null,null,null,null,null,null,null,null,null,null,null,null,null,null,null,null,null,null,null,null,null,null,null,null,null,null,null,{"$f":"IF(AND(教学计划表!N29<>\"\",教学计划表!AS29<>\"\"),教学计划表!I29,\"\")","v":""},{"$f":"IF(教学计划表!AS29<>\"\",教学计划表!N29,\"\")","v":""},{"$f":"IF(GE14<>\"\",IF(SEARCH(\"1\",教学计划表!AB29&\"1\",1)<=LEN(教学计划表!AB29),\"考试\",\"考查\"),\"\")","v":""},{"$f":"IF(教学计划表!DG29<>0,教学计划表!DG29,\"\")","v":""},{"$f":"IF(教学计划表!DG29<>0,教学计划表!DL29,\"\")","v":""},{"$f":"IF(教学计划表!DG29<>0,教学计划表!DM29,\"\")","v":""},{"$f":"IF(教学计划表!DG29<>0,教学计划表!OE29,\"\")","v":""},{"$f":"OFFSET($GD$2,SMALL(IF($GD$2:$GD$72<>\"\",ROW($2:$72),\"\"),ROW(GD13))-2,0)","v":{"$error":"#NUM!"}},{"$f":"OFFSET($GE$2,SMALL(IF($GE$2:$GE$72<>\"\",ROW($2:$72),\"\"),ROW(GE13))-2,0)","v":{"$error":"#NUM!"}},{"$f":"OFFSET($GF$2,SMALL(IF($GF$2:$GF$72<>\"\",ROW($2:$72),\"\"),ROW(GF13))-2,0)","v":{"$error":"#NUM!"}},{"$f":"OFFSET($GG$2,SMALL(IF($GG$2:$GG$72<>\"\",ROW($2:$72),\"\"),ROW(GG13))-2,0)","v":{"$error":"#NUM!"}},{"$f":"OFFSET($GH$2,SMALL(IF($GH$2:$GH$72<>\"\",ROW($2:$72),\"\"),ROW(GH13))-2,0)","v":{"$error":"#NUM!"}},{"$error":"#NUM!"},{"$f":"OFFSET($GJ$2,SMALL(IF($GJ$2:$GJ$72<>\"\",ROW($2:$72),\"\"),ROW(GJ13))-2,0)","v":{"$error":"#NUM!"}},{"$f":"IF(AND(教学计划表!N29<>\"\",教学计划表!AV29<>\"\"),教学计划表!I29,\"\")","v":""},{"$f":"IF(教学计划表!AV29<>\"\",教学计划表!N29,\"\")","v":""},{"$f":"IF(GS14<>\"\",IF(SEARCH(\"2\",教学计划表!AB29&\"2\",1)<=LEN(教学计划表!AB29),\"考试\",\"考查\"),\"\")","v":""},{"$f":"IF(教学计划表!EA29<>0,教学计划表!EA29,\"\")","v":""},{"$f":"IF(教学计划表!EA29<>0,教学计划表!EF29,\"\")","v":""},{"$f":"IF(教学计划表!EA29<>0,教学计划表!EG29,\"\")","v":""},{"$f":"IF(教学计划表!EA29<>0,教学计划表!OQ29,\"\")","v":""},{"$f":"OFFSET($GR$2,SMALL(IF($GR$2:$GR$72<>\"\",ROW($I$2:$K$72),\"\"),ROW(GR13))-2,0)","v":{"$error":"#NUM!"}},{"$f":"OFFSET($GS$2,SMALL(IF($GS$2:$GS$72<>\"\",ROW($I$2:$K$72),\"\"),ROW(GS13))-2,0)","v":{"$error":"#NUM!"}},{"$f":"OFFSET($GT$2,SMALL(IF($GT$2:$GT$72<>\"\",ROW($I$2:$K$72),\"\"),ROW(GT13))-2,0)","v":{"$error":"#NUM!"}},{"$f":"OFFSET($GU$2,SMALL(IF($GU$2:$GU$72<>\"\",ROW($I$2:$K$72),\"\"),ROW(GU13))-2,0)","v":{"$error":"#NUM!"}},{"$f":"OFFSET($GV$2,SMALL(IF($GV$2:$GV$72<>\"\",ROW($GV$2:$GV$72),\"\"),ROW(GV13))-2,0)","v":{"$error":"#NUM!"}},{"$f":"OFFSET($GW$2,SMALL(IF($GW$2:$GW$72<>\"\",ROW($GW$2:$GW$72),\"\"),ROW(GW13))-2,0)","v":{"$error":"#NUM!"}},{"$f":"OFFSET($GX$2,SMALL(IF($GX$2:$GX$72<>\"\",ROW($GX$2:$GX$72),\"\"),ROW(GX13))-2,0)","v":{"$error":"#NUM!"}},{"$f":"IF(AND(教学计划表!N29<>\"\",教学计划表!AY29<>\"\"),教学计划表!I29,\"\")","v":""},{"$f":"IF(教学计划表!AY29<>\"\",教学计划表!N29,\"\")","v":""},{"$f":"IF(HG14<>\"\",IF(SEARCH(\"3\",教学计划表!AB29&\"3\",1)<=LEN(教学计划表!AB29),\"考试\",\"考查\"),\"\")","v":""},{"$f":"IF(教学计划表!EV29<>0,教学计划表!EV29,\"\")","v":""},{"$f":"IF(教学计划表!EV29<>0,教学计划表!FA29,\"\")","v":""},{"$f":"IF(教学计划表!EV29<>0,教学计划表!FB29,\"\")","v":""},{"$f":"IF(教学计划表!EV29<>0,教学计划表!PC29,\"\")","v":""},{"$f":"OFFSET($HF$2,SMALL(IF($HF$2:$HF$72<>\"\",ROW($HF$2:$HF$72),\"\"),ROW(HF13))-2,0)","v":{"$error":"#NUM!"}},{"$f":"OFFSET($HG$2,SMALL(IF($HG$2:$HG$72<>\"\",ROW($HG$2:$HG$72),\"\"),ROW(HG13))-2,0)","v":{"$error":"#NUM!"}},{"$f":"OFFSET($HH$2,SMALL(IF($HH$2:$HH$72<>\"\",ROW($HH$2:$HH$72),\"\"),ROW(HH13))-2,0)","v":{"$error":"#NUM!"}},{"$f":"OFFSET($HI$2,SMALL(IF($HI$2:$HI$72<>\"\",ROW($HI$2:$HI$72),\"\"),ROW(HI13))-2,0)","v":{"$error":"#NUM!"}},{"$f":"OFFSET($HJ$2,SMALL(IF($HJ$2:$HJ$72<>\"\",ROW($HJ$2:$HJ$72),\"\"),ROW(HJ13))-2,0)","v":{"$error":"#NUM!"}},{"$f":"OFFSET($HK$2,SMALL(IF($HK$2:$HK$72<>\"\",ROW($HK$2:$HK$72),\"\"),ROW(HK13))-2,0)","v":{"$error":"#NUM!"}},{"$f":"OFFSET($HL$2,SMALL(IF($HL$2:$HL$72<>\"\",ROW($HL$2:$HL$72),\"\"),ROW(HL13))-2,0)","v":{"$error":"#NUM!"}},{"$f":"IF(AND(教学计划表!N29<>\"\",教学计划表!BB29<>\"\"),教学计划表!I29,\"\")","v":""},{"$f":"IF(教学计划表!BB29<>\"\",教学计划表!N29,\"\")","v":""},{"$f":"IF(HU14<>\"\",IF(SEARCH(\"4\",教学计划表!AB29&\"4\",1)<=LEN(教学计划表!AB29),\"考试\",\"考查\"),\"\")","v":""},{"$f":"IF(教学计划表!FQ29<>0,教学计划表!FQ29,\"\")","v":""},{"$f":"IF(教学计划表!FQ29<>0,教学计划表!FV29,\"\")","v":""},{"$f":"IF(教学计划表!FQ29<>0,教学计划表!FW29,\"\")","v":""},{"$f":"IF(教学计划表!FQ29<>0,教学计划表!PO29,\"\")","v":""},{"$f":"OFFSET($HT$2,SMALL(IF($HT$2:$HT$72<>\"\",ROW($HT$2:$HT$72),\"\"),ROW(HT13))-2,0)","v":{"$error":"#NUM!"}},{"$f":"OFFSET($HU$2,SMALL(IF($HU$2:$HU$72<>\"\",ROW($HU$2:$HU$72),\"\"),ROW(HU13))-2,0)","v":{"$error":"#NUM!"}},{"$f":"OFFSET($HV$2,SMALL(IF($HV$2:$HV$72<>\"\",ROW($HV$2:$HV$72),\"\"),ROW(HV13))-2,0)","v":{"$error":"#NUM!"}},{"$f":"OFFSET($HW$2,SMALL(IF($HW$2:$HW$72<>\"\",ROW($HW$2:$HW$72),\"\"),ROW(HW13))-2,0)","v":{"$error":"#NUM!"}},{"$f":"OFFSET($HX$2,SMALL(IF($HX$2:$HX$72<>\"\",ROW($HX$2:$HX$72),\"\"),ROW(HX13))-2,0)","v":{"$error":"#NUM!"}},{"$f":"OFFSET($HY$2,SMALL(IF($HY$2:$HY$72<>\"\",ROW($HY$2:$HY$72),\"\"),ROW(HY13))-2,0)","v":{"$error":"#NUM!"}},{"$f":"OFFSET($HZ$2,SMALL(IF($HZ$2:$HZ$72<>\"\",ROW($HZ$2:$HZ$72),\"\"),ROW(HZ13))-2,0)","v":{"$error":"#NUM!"}},null,null,{"$f":"IF(AND(教学计划表!N29<>\"\",教学计划表!BE29<>\"\"),教学计划表!I29,\"\")","v":""},{"$f":"IF(教学计划表!BE29<>\"\",教学计划表!N29,\"\")","v":""},{"$f":"IF(IK14<>\"\",IF(SEARCH(\"5\",教学计划表!AB29&\"5\",1)<=LEN(教学计划表!AB29),\"考试\",\"考查\"),\"\")","v":""},{"$f":"IF(教学计划表!GL29<>0,教学计划表!GL29,\"\")","v":""},{"$f":"IF(教学计划表!GL29<>0,教学计划表!GQ29,\"\")","v":""},{"$f":"IF(教学计划表!GL29<>0,教学计划表!GR29,\"\")","v":""},{"$f":"IF(教学计划表!GL29<>0,教学计划表!PZ29,\"\")","v":""},{"$f":"OFFSET($IJ$2,SMALL(IF($IJ$2:$IJ$72<>\"\",ROW($IJ$2:$IJ$72),\"\"),ROW(IJ13))-2,0)","v":{"$error":"#NUM!"}},{"$f":"OFFSET($IK$2,SMALL(IF($IK$2:$IK$72<>\"\",ROW($IK$2:$IK$72),\"\"),ROW(IK13))-2,0)","v":{"$error":"#NUM!"}},{"$f":"OFFSET($IL$2,SMALL(IF($IL$2:$IL$72<>\"\",ROW($IL$2:$IL$72),\"\"),ROW(IL13))-2,0)","v":{"$error":"#NUM!"}},{"$f":"OFFSET($IM$2,SMALL(IF($IM$2:$IM$72<>\"\",ROW($IM$2:$IM$72),\"\"),ROW(IM13))-2,0)","v":{"$error":"#NUM!"}},{"$f":"OFFSET($IN$2,SMALL(IF($IN$2:$IN$72<>\"\",ROW($IN$2:$IN$72),\"\"),ROW(IN13))-2,0)","v":{"$error":"#NUM!"}},{"$f":"OFFSET($IO$2,SMALL(IF($IO$2:$IO$72<>\"\",ROW($IO$2:$IO$72),\"\"),ROW(IO13))-2,0)","v":{"$error":"#NUM!"}},{"$f":"OFFSET($IP$2,SMALL(IF($IP$2:$IP$72<>\"\",ROW($IP$2:$IP$72),\"\"),ROW(IP13))-2,0)","v":{"$error":"#NUM!"}},null,{"$f":"IF(AND(教学计划表!N29<>\"\",教学计划表!BH29<>\"\"),教学计划表!I29,\"\")","v":""},{"$f":"IF(教学计划表!BH29<>\"\",教学计划表!N29,\"\")","v":""},{"$f":"IF(教学计划表!BH29<>\"\",IF(SEARCH(\"6\",教学计划表!AB29&\"6\",1)<=LEN(教学计划表!AB29),\"考试\",\"考查\"),\"\")","v":""},{"$f":"IF(教学计划表!BH29<>0,教学计划表!HG29,\"\")","v":""},{"$f":"IF(教学计划表!BH29<>0,教学计划表!HL29,\"\")","v":""},{"$f":"IF(教学计划表!BH29<>0,教学计划表!HM29,\"\")","v":""},{"$f":"IF(教学计划表!BH29<>0,教学计划表!QL29,\"\")","v":""},{"$f":"OFFSET($IY$2,SMALL(IF($IY$2:$IY$72<>\"\",ROW($IY$2:$IY$72),\"\"),ROW(IY13))-2,0)","v":{"$error":"#NUM!"}},{"$f":"OFFSET($IZ$2,SMALL(IF($IZ$2:$IZ$72<>\"\",ROW($IZ$2:$IZ$72),\"\"),ROW(IZ13))-2,0)","v":{"$error":"#NUM!"}},{"$f":"OFFSET($JA$2,SMALL(IF($JA$2:$JA$72<>\"\",ROW($JA$2:$JA$72),\"\"),ROW(JA13))-2,0)","v":{"$error":"#NUM!"}},{"$f":"OFFSET($JB$2,SMALL(IF($JB$2:$JB$72<>\"\",ROW($JB$2:$JB$72),\"\"),ROW(JB13))-2,0)","v":{"$error":"#NUM!"}},{"$f":"OFFSET($JC$2,SMALL(IF($JC$2:$JC$72<>\"\",ROW($JC$2:$JC$72),\"\"),ROW(JC13))-2,0)","v":{"$error":"#NUM!"}},{"$f":"OFFSET($JD$2,SMALL(IF($JD$2:$JD$72<>\"\",ROW($JD$2:$JD$72),\"\"),ROW(JD13))-2,0)","v":{"$error":"#NUM!"}},{"$f":"OFFSET($JE$2,SMALL(IF($JE$2:$JE$72<>\"\",ROW($JE$2:$JE$72),\"\"),ROW(JE13))-2,0)","v":{"$error":"#NUM!"}}]
["","","","","","","",null,"","","",{"$f":"IF(ISERROR(自动生成的开课信息!HB15),\"\",自动生成的开课信息!HB15)","v":""},{"$f":"IF(ISERROR(自动生成的开课信息!HC15),\"\",自动生成的开课信息!HC15)","v":""},{"$f":"IF(ISERROR(自动生成的开课信息!HD15),\"\",自动生成的开课信息!HD15)","v":""},{"$f":"IF(ISERROR(自动生成的开课信息!HE15),\"\",自动生成的开课信息!HE15)","v":""},null,"","","","","","","",null,"","","","","","","",null,"","","","","","","",null,"","","","","","","",null,null,null,null,null,null,null,null,null,null,null,null,null,null,null,null,null,null,null,null,null,null,null,null,null,null,null,null,null,null,null,null,null,null,null,null,null,null,null,null,null,null,null,null,null,null,null,null,null,null,null,null,null,null,null,null,null,null,null,null,null,null,null,null,null,null,null,null,null,null,null,null,null,null,null,null,null,null,null,null,null,null,null,null,null,null,null,null,null,null,null,null,null,null,null,null,null,null,null,null,null,null,null,null,null,null,null,null,null,null,null,null,null,null,null,null,null,null,null,null,null,null,null,null,null,null,null,null,null,null,null,null,null,null,null,null,null,null,{"$f":"IF(AND(教学计划表!N30<>\"\",教学计划表!AS30<>\"\"),教学计划表!I30,\"\")","v":""},{"$f":"IF(教学计划表!AS30<>\"\",教学计划表!N30,\"\")","v":""},{"$f":"IF(GE15<>\"\",IF(SEARCH(\"1\",教学计划表!AB30&\"1\",1)<=LEN(教学计划表!AB30),\"考试\",\"考查\"),\"\")","v":""},{"$f":"IF(教学计划表!DG30<>0,教学计划表!DG30,\"\")","v":""},{"$f":"IF(教学计划表!DG30<>0,教学计划表!DL30,\"\")","v":""},{"$f":"IF(教学计划表!DG30<>0,教学计划表!DM30,\"\")","v":""},{"$f":"IF(教学计划表!DG30<>0,教学计划表!OE30,\"\")","v":""},{"$f":"OFFSET($GD$2,SMALL(IF($GD$2:$GD$72<>\"\",ROW($2:$72),\"\"),ROW(GD14))-2,0)","v":{"$error":"#NUM!"}},{"$f":"OFFSET($GE$2,SMALL(IF($GE$2:$GE$72<>\"\",ROW($2:$72),\"\"),ROW(GE14))-2,0)","v":{"$error":"#NUM!"}},{"$f":"OFFSET($GF$2,SMALL(IF($GF$2:$GF$72<>\"\",ROW($2:$72),\"\"),ROW(GF14))-2,0)","v":{"$error":"#NUM!"}},{"$f":"OFFSET($GG$2,SMALL(IF($GG$2:$GG$72<>\"\",ROW($2:$72),\"\"),ROW(GG14))-2,0)","v":{"$error":"#NUM!"}},{"$f":"OFFSET($GH$2,SMALL(IF($GH$2:$GH$72<>\"\",ROW($2:$72),\"\"),ROW(GH14))-2,0)","v":{"$error":"#NUM!"}},{"$error":"#NUM!"},{"$f":"OFFSET($GJ$2,SMALL(IF($GJ$2:$GJ$72<>\"\",ROW($2:$72),\"\"),ROW(GJ14))-2,0)","v":{"$error":"#NUM!"}},{"$f":"IF(AND(教学计划表!N30<>\"\",教学计划表!AV30<>\"\"),教学计划表!I30,\"\")","v":""},{"$f":"IF(教学计划表!AV30<>\"\",教学计划表!N30,\"\")","v":""},{"$f":"IF(GS15<>\"\",IF(SEARCH(\"2\",教学计划表!AB30&\"2\",1)<=LEN(教学计划表!AB30),\"考试\",\"考查\"),\"\")","v":""},{"$f":"IF(教学计划表!EA30<>0,教学计划表!EA30,\"\")","v":""},{"$f":"IF(教学计划表!EA30<>0,教学计划表!EF30,\"\")","v":""},{"$f":"IF(教学计划表!EA30<>0,教学计划表!EG30,\"\")","v":""},{"$f":"IF(教学计划表!EA30<>0,教学计划表!OQ30,\"\")","v":""},{"$f":"OFFSET($GR$2,SMALL(IF($GR$2:$GR$72<>\"\",ROW($I$2:$K$72),\"\"),ROW(GR14))-2,0)","v":{"$error":"#NUM!"}},{"$f":"OFFSET($GS$2,SMALL(IF($GS$2:$GS$72<>\"\",ROW($I$2:$K$72),\"\"),ROW(GS14))-2,0)","v":{"$error":"#NUM!"}},{"$f":"OFFSET($GT$2,SMALL(IF($GT$2:$GT$72<>\"\",ROW($I$2:$K$72),\"\"),ROW(GT14))-2,0)","v":{"$error":"#NUM!"}},{"$f":"OFFSET($GU$2,SMALL(IF($GU$2:$GU$72<>\"\",ROW($I$2:$K$72),\"\"),ROW(GU14))-2,0)","v":{"$error":"#NUM!"}},{"$f":"OFFSET($GV$2,SMALL(IF($GV$2:$GV$72<>\"\",ROW($GV$2:$GV$72),\"\"),ROW(GV14))-2,0)","v":{"$error":"#NUM!"}},{"$f":"OFFSET($GW$2,SMALL(IF($GW$2:$GW$72<>\"\",ROW($GW$2:$GW$72),\"\"),ROW(GW14))-2,0)","v":{"$error":"#NUM!"}},{"$f":"OFFSET($GX$2,SMALL(IF($GX$2:$GX$72<>\"\",ROW($GX$2:$GX$72),\"\"),ROW(GX14))-2,0)","v":{"$error":"#NUM!"}},{"$f":"IF(AND(教学计划表!N30<>\"\",教学计划表!AY30<>\"\"),教学计划表!I30,\"\")","v":""},{"$f":"IF(教学计划表!AY30<>\"\",教学计划表!N30,\"\")","v":""},{"$f":"IF(HG15<>\"\",IF(SEARCH(\"3\",教学计划表!AB30&\"3\",1)<=LEN(教学计划表!AB30),\"考试\",\"考查\"),\"\")","v":""},{"$f":"IF(教学计划表!EV30<>0,教学计划表!EV30,\"\")","v":""},{"$f":"IF(教学计划表!EV30<>0,教学计划表!FA30,\"\")","v":""},{"$f":"IF(教学计划表!EV30<>0,教学计划表!FB30,\"\")","v":""},{"$f":"IF(教学计划表!EV30<>0,教学计划表!PC30,\"\")","v":""},{"$f":"OFFSET($HF$2,SMALL(IF($HF$2:$HF$72<>\"\",ROW($HF$2:$HF$72),\"\"),ROW(HF14))-2,0)","v":{"$error":"#NUM!"}},{"$f":"OFFSET($HG$2,SMALL(IF($HG$2:$HG$72<>\"\",ROW($HG$2:$HG$72),\"\"),ROW(HG14))-2,0)","v":{"$error":"#NUM!"}},{"$f":"OFFSET($HH$2,SMALL(IF($HH$2:$HH$72<>\"\",ROW($HH$2:$HH$72),\"\"),ROW(HH14))-2,0)","v":{"$error":"#NUM!"}},{"$f":"OFFSET($HI$2,SMALL(IF($HI$2:$HI$72<>\"\",ROW($HI$2:$HI$72),\"\"),ROW(HI14))-2,0)","v":{"$error":"#NUM!"}},{"$f":"OFFSET($HJ$2,SMALL(IF($HJ$2:$HJ$72<>\"\",ROW($HJ$2:$HJ$72),\"\"),ROW(HJ14))-2,0)","v":{"$error":"#NUM!"}},{"$f":"OFFSET($HK$2,SMALL(IF($HK$2:$HK$72<>\"\",ROW($HK$2:$HK$72),\"\"),ROW(HK14))-2,0)","v":{"$error":"#NUM!"}},{"$f":"OFFSET($HL$2,SMALL(IF($HL$2:$HL$72<>\"\",ROW($HL$2:$HL$72),\"\"),ROW(HL14))-2,0)","v":{"$error":"#NUM!"}},{"$f":"IF(AND(教学计划表!N30<>\"\",教学计划表!BB30<>\"\"),教学计划表!I30,\"\")","v":""},{"$f":"IF(教学计划表!BB30<>\"\",教学计划表!N30,\"\")","v":""},{"$f":"IF(HU15<>\"\",IF(SEARCH(\"4\",教学计划表!AB30&\"4\",1)<=LEN(教学计划表!AB30),\"考试\",\"考查\"),\"\")","v":""},{"$f":"IF(教学计划表!FQ30<>0,教学计划表!FQ30,\"\")","v":""},{"$f":"IF(教学计划表!FQ30<>0,教学计划表!FV30,\"\")","v":""},{"$f":"IF(教学计划表!FQ30<>0,教学计划表!FW30,\"\")","v":""},{"$f":"IF(教学计划表!FQ30<>0,教学计划表!PO30,\"\")","v":""},{"$f":"OFFSET($HT$2,SMALL(IF($HT$2:$HT$72<>\"\",ROW($HT$2:$HT$72),\"\"),ROW(HT14))-2,0)","v":{"$error":"#NUM!"}},{"$f":"OFFSET($HU$2,SMALL(IF($HU$2:$HU$72<>\"\",ROW($HU$2:$HU$72),\"\"),ROW(HU14))-2,0)","v":{"$error":"#NUM!"}},{"$f":"OFFSET($HV$2,SMALL(IF($HV$2:$HV$72<>\"\",ROW($HV$2:$HV$72),\"\"),ROW(HV14))-2,0)","v":{"$error":"#NUM!"}},{"$f":"OFFSET($HW$2,SMALL(IF($HW$2:$HW$72<>\"\",ROW($HW$2:$HW$72),\"\"),ROW(HW14))-2,0)","v":{"$error":"#NUM!"}},{"$f":"OFFSET($HX$2,SMALL(IF($HX$2:$HX$72<>\"\",ROW($HX$2:$HX$72),\"\"),ROW(HX14))-2,0)","v":{"$error":"#NUM!"}},{"$f":"OFFSET($HY$2,SMALL(IF($HY$2:$HY$72<>\"\",ROW($HY$2:$HY$72),\"\"),ROW(HY14))-2,0)","v":{"$error":"#NUM!"}},{"$f":"OFFSET($HZ$2,SMALL(IF($HZ$2:$HZ$72<>\"\",ROW($HZ$2:$HZ$72),\"\"),ROW(HZ14))-2,0)","v":{"$error":"#NUM!"}},null,null,{"$f":"IF(AND(教学计划表!N30<>\"\",教学计划表!BE30<>\"\"),教学计划表!I30,\"\")","v":""},{"$f":"IF(教学计划表!BE30<>\"\",教学计划表!N30,\"\")","v":""},{"$f":"IF(IK15<>\"\",IF(SEARCH(\"5\",教学计划表!AB30&\"5\",1)<=LEN(教学计划表!AB30),\"考试\",\"考查\"),\"\")","v":""},{"$f":"IF(教学计划表!GL30<>0,教学计划表!GL30,\"\")","v":""},{"$f":"IF(教学计划表!GL30<>0,教学计划表!GQ30,\"\")","v":""},{"$f":"IF(教学计划表!GL30<>0,教学计划表!GR30,\"\")","v":""},{"$f":"IF(教学计划表!GL30<>0,教学计划表!PZ30,\"\")","v":""},{"$f":"OFFSET($IJ$2,SMALL(IF($IJ$2:$IJ$72<>\"\",ROW($IJ$2:$IJ$72),\"\"),ROW(IJ14))-2,0)","v":{"$error":"#NUM!"}},{"$f":"OFFSET($IK$2,SMALL(IF($IK$2:$IK$72<>\"\",ROW($IK$2:$IK$72),\"\"),ROW(IK14))-2,0)","v":{"$error":"#NUM!"}},{"$f":"OFFSET($IL$2,SMALL(IF($IL$2:$IL$72<>\"\",ROW($IL$2:$IL$72),\"\"),ROW(IL14))-2,0)","v":{"$error":"#NUM!"}},{"$f":"OFFSET($IM$2,SMALL(IF($IM$2:$IM$72<>\"\",ROW($IM$2:$IM$72),\"\"),ROW(IM14))-2,0)","v":{"$error":"#NUM!"}},{"$f":"OFFSET($IN$2,SMALL(IF($IN$2:$IN$72<>\"\",ROW($IN$2:$IN$72),\"\"),ROW(IN14))-2,0)","v":{"$error":"#NUM!"}},{"$f":"OFFSET($IO$2,SMALL(IF($IO$2:$IO$72<>\"\",ROW($IO$2:$IO$72),\"\"),ROW(IO14))-2,0)","v":{"$error":"#NUM!"}},{"$f":"OFFSET($IP$2,SMALL(IF($IP$2:$IP$72<>\"\",ROW($IP$2:$IP$72),\"\"),ROW(IP14))-2,0)","v":{"$error":"#NUM!"}},null,{"$f":"IF(AND(教学计划表!N30<>\"\",教学计划表!BH30<>\"\"),教学计划表!I30,\"\")","v":""},{"$f":"IF(教学计划表!BH30<>\"\",教学计划表!N30,\"\")","v":""},{"$f":"IF(教学计划表!BH30<>\"\",IF(SEARCH(\"6\",教学计划表!AB30&\"6\",1)<=LEN(教学计划表!AB30),\"考试\",\"考查\"),\"\")","v":""},{"$f":"IF(教学计划表!BH30<>0,教学计划表!HG30,\"\")","v":""},{"$f":"IF(教学计划表!BH30<>0,教学计划表!HL30,\"\")","v":""},{"$f":"IF(教学计划表!BH30<>0,教学计划表!HM30,\"\")","v":""},{"$f":"IF(教学计划表!BH30<>0,教学计划表!QL30,\"\")","v":""},{"$f":"OFFSET($IY$2,SMALL(IF($IY$2:$IY$72<>\"\",ROW($IY$2:$IY$72),\"\"),ROW(IY14))-2,0)","v":{"$error":"#NUM!"}},{"$f":"OFFSET($IZ$2,SMALL(IF($IZ$2:$IZ$72<>\"\",ROW($IZ$2:$IZ$72),\"\"),ROW(IZ14))-2,0)","v":{"$error":"#NUM!"}},{"$f":"OFFSET($JA$2,SMALL(IF($JA$2:$JA$72<>\"\",ROW($JA$2:$JA$72),\"\"),ROW(JA14))-2,0)","v":{"$error":"#NUM!"}},{"$f":"OFFSET($JB$2,SMALL(IF($JB$2:$JB$72<>\"\",ROW($JB$2:$JB$72),\"\"),ROW(JB14))-2,0)","v":{"$error":"#NUM!"}},{"$f":"OFFSET($JC$2,SMALL(IF($JC$2:$JC$72<>\"\",ROW($JC$2:$JC$72),\"\"),ROW(JC14))-2,0)","v":{"$error":"#NUM!"}},{"$f":"OFFSET($JD$2,SMALL(IF($JD$2:$JD$72<>\"\",ROW($JD$2:$JD$72),\"\"),ROW(JD14))-2,0)","v":{"$error":"#NUM!"}},{"$f":"OFFSET($JE$2,SMALL(IF($JE$2:$JE$72<>\"\",ROW($JE$2:$JE$72),\"\"),ROW(JE14))-2,0)","v":{"$error":"#NUM!"}}]
["","","","","","","",null,"","","",{"$f":"IF(ISERROR(自动生成的开课信息!HB16),\"\",自动生成的开课信息!HB16)","v":""},{"$f":"IF(ISERROR(自动生成的开课信息!HC16),\"\",自动生成的开课信息!HC16)","v":""},{"$f":"IF(ISERROR(自动生成的开课信息!HD16),\"\",自动生成的开课信息!HD16)","v":""},{"$f":"IF(ISERROR(自动生成的开课信息!HE16),\"\",自动生成的开课信息!HE16)","v":""},null,"","","","","","","",null,"","","","","","","",null,"","","","","","","",null,"","","","","","","",null,null,null,null,null,null,null,null,null,null,null,null,null,null,null,null,null,null,null,null,null,null,null,null,null,null,null,null,null,null,null,null,null,null,null,null,null,null,null,null,null,null,null,null,null,null,null,null,null,null,null,null,null,null,null,null,null,null,null,null,null,null,null,null,null,null,null,null,null,null,null,null,null,null,null,null,null,null,null,null,null,null,null,null,null,null,null,null,null,null,null,null,null,null,null,null,null,null,null,null,null,null,null,null,null,null,null,null,null,null,null,null,null,null,null,null,null,null,null,null,null,null,null,null,null,null,null,null,null,null,null,null,null,null,null,null,null,null,{"$f":"IF(AND(教学计划表!N31<>\"\",教学计划表!AS31<>\"\"),教学计划表!I31,\"\")","v":""},{"$f":"IF(教学计划表!AS31<>\"\",教学计划表!N31,\"\")","v":""},{"$f":"IF(GE16<>\"\",IF(SEARCH(\"1\",教学计划表!AB31&\"1\",1)<=LEN(教学计划表!AB31),\"考试\",\"考查\"),\"\")","v":""},{"$f":"IF(教学计划表!DG31<>0,教学计划表!DG31,\"\")","v":""},{"$f":"IF(教学计划表!DG31<>0,教学计划表!DL31,\"\")","v":""},{"$f":"IF(教学计划表!DG31<>0,教学计划表!DM31,\"\")","v":""},{"$f":"IF(教学计划表!DG31<>0,教学计划表!OE31,\"\")","v":""},{"$f":"OFFSET($GD$2,SMALL(IF($GD$2:$GD$72<>\"\",ROW($2:$72),\"\"),ROW(GD15))-2,0)","v":{"$error":"#NUM!"}},{"$f":"OFFSET($GE$2,SMALL(IF($GE$2:$GE$72<>\"\",ROW($2:$72),\"\"),ROW(GE15))-2,0)","v":{"$error":"#NUM!"}},{"$f":"OFFSET($GF$2,SMALL(IF($GF$2:$GF$72<>\"\",ROW($2:$72),\"\"),ROW(GF15))-2,0)","v":{"$error":"#NUM!"}},{"$f":"OFFSET($GG$2,SMALL(IF($GG$2:$GG$72<>\"\",ROW($2:$72),\"\"),ROW(GG15))-2,0)","v":{"$error":"#NUM!"}},{"$f":"OFFSET($GH$2,SMALL(IF($GH$2:$GH$72<>\"\",ROW($2:$72),\"\"),ROW(GH15))-2,0)","v":{"$error":"#NUM!"}},{"$error":"#NUM!"},{"$f":"OFFSET($GJ$2,SMALL(IF($GJ$2:$GJ$72<>\"\",ROW($2:$72),\"\"),ROW(GJ15))-2,0)","v":{"$error":"#NUM!"}},{"$f":"IF(AND(教学计划表!N31<>\"\",教学计划表!AV31<>\"\"),教学计划表!I31,\"\")","v":""},{"$f":"IF(教学计划表!AV31<>\"\",教学计划表!N31,\"\")","v":""},{"$f":"IF(GS16<>\"\",IF(SEARCH(\"2\",教学计划表!AB31&\"2\",1)<=LEN(教学计划表!AB31),\"考试\",\"考查\"),\"\")","v":""},{"$f":"IF(教学计划表!EA31<>0,教学计划表!EA31,\"\")","v":""},{"$f":"IF(教学计划表!EA31<>0,教学计划表!EF31,\"\")","v":""},{"$f":"IF(教学计划表!EA31<>0,教学计划表!EG31,\"\")","v":""},{"$f":"IF(教学计划表!EA31<>0,教学计划表!OQ31,\"\")","v":""},{"$f":"OFFSET($GR$2,SMALL(IF($GR$2:$GR$72<>\"\",ROW($I$2:$K$72),\"\"),ROW(GR15))-2,0)","v":{"$error":"#NUM!"}},{"$f":"OFFSET($GS$2,SMALL(IF($GS$2:$GS$72<>\"\",ROW($I$2:$K$72),\"\"),ROW(GS15))-2,0)","v":{"$error":"#NUM!"}},{"$f":"OFFSET($GT$2,SMALL(IF($GT$2:$GT$72<>\"\",ROW($I$2:$K$72),\"\"),ROW(GT15))-2,0)","v":{"$error":"#NUM!"}},{"$f":"OFFSET($GU$2,SMALL(IF($GU$2:$GU$72<>\"\",ROW($I$2:$K$72),\"\"),ROW(GU15))-2,0)","v":{"$error":"#NUM!"}},{"$f":"OFFSET($GV$2,SMALL(IF($GV$2:$GV$72<>\"\",ROW($GV$2:$GV$72),\"\"),ROW(GV15))-2,0)","v":{"$error":"#NUM!"}},{"$f":"OFFSET($GW$2,SMALL(IF($GW$2:$GW$72<>\"\",ROW($GW$2:$GW$72),\"\"),ROW(GW15))-2,0)","v":{"$error":"#NUM!"}},{"$f":"OFFSET($GX$2,SMALL(IF($GX$2:$GX$72<>\"\",ROW($GX$2:$GX$72),\"\"),ROW(GX15))-2,0)","v":{"$error":"#NUM!"}},{"$f":"IF(AND(教学计划表!N31<>\"\",教学计划表!AY31<>\"\"),教学计划表!I31,\"\")","v":""},{"$f":"IF(教学计划表!AY31<>\"\",教学计划表!N31,\"\")","v":""},{"$f":"IF(HG16<>\"\",IF(SEARCH(\"3\",教学计划表!AB31&\"3\",1)<=LEN(教学计划表!AB31),\"考试\",\"考查\"),\"\")","v":""},{"$f":"IF(教学计划表!EV31<>0,教学计划表!EV31,\"\")","v":""},{"$f":"IF(教学计划表!EV31<>0,教学计划表!FA31,\"\")","v":""},{"$f":"IF(教学计划表!EV31<>0,教学计划表!FB31,\"\")","v":""},{"$f":"IF(教学计划表!EV31<>0,教学计划表!PC31,\"\")","v":""},{"$f":"OFFSET($HF$2,SMALL(IF($HF$2:$HF$72<>\"\",ROW($HF$2:$HF$72),\"\"),ROW(HF15))-2,0)","v":{"$error":"#NUM!"}},{"$f":"OFFSET($HG$2,SMALL(IF($HG$2:$HG$72<>\"\",ROW($HG$2:$HG$72),\"\"),ROW(HG15))-2,0)","v":{"$error":"#NUM!"}},{"$f":"OFFSET($HH$2,SMALL(IF($HH$2:$HH$72<>\"\",ROW($HH$2:$HH$72),\"\"),ROW(HH15))-2,0)","v":{"$error":"#NUM!"}},{"$f":"OFFSET($HI$2,SMALL(IF($HI$2:$HI$72<>\"\",ROW($HI$2:$HI$72),\"\"),ROW(HI15))-2,0)","v":{"$error":"#NUM!"}},{"$f":"OFFSET($HJ$2,SMALL(IF($HJ$2:$HJ$72<>\"\",ROW($HJ$2:$HJ$72),\"\"),ROW(HJ15))-2,0)","v":{"$error":"#NUM!"}},{"$f":"OFFSET($HK$2,SMALL(IF($HK$2:$HK$72<>\"\",ROW($HK$2:$HK$72),\"\"),ROW(HK15))-2,0)","v":{"$error":"#NUM!"}},{"$f":"OFFSET($HL$2,SMALL(IF($HL$2:$HL$72<>\"\",ROW($HL$2:$HL$72),\"\"),ROW(HL15))-2,0)","v":{"$error":"#NUM!"}},{"$f":"IF(AND(教学计划表!N31<>\"\",教学计划表!BB31<>\"\"),教学计划表!I31,\"\")","v":""},{"$f":"IF(教学计划表!BB31<>\"\",教学计划表!N31,\"\")","v":""},{"$f":"IF(HU16<>\"\",IF(SEARCH(\"4\",教学计划表!AB31&\"4\",1)<=LEN(教学计划表!AB31),\"考试\",\"考查\"),\"\")","v":""},{"$f":"IF(教学计划表!FQ31<>0,教学计划表!FQ31,\"\")","v":""},{"$f":"IF(教学计划表!FQ31<>0,教学计划表!FV31,\"\")","v":""},{"$f":"IF(教学计划表!FQ31<>0,教学计划表!FW31,\"\")","v":""},{"$f":"IF(教学计划表!FQ31<>0,教学计划表!PO31,\"\")","v":""},{"$f":"OFFSET($HT$2,SMALL(IF($HT$2:$HT$72<>\"\",ROW($HT$2:$HT$72),\"\"),ROW(HT15))-2,0)","v":{"$error":"#NUM!"}},{"$f":"OFFSET($HU$2,SMALL(IF($HU$2:$HU$72<>\"\",ROW($HU$2:$HU$72),\"\"),ROW(HU15))-2,0)","v":{"$error":"#NUM!"}},{"$f":"OFFSET($HV$2,SMALL(IF($HV$2:$HV$72<>\"\",ROW($HV$2:$HV$72),\"\"),ROW(HV15))-2,0)","v":{"$error":"#NUM!"}},{"$f":"OFFSET($HW$2,SMALL(IF($HW$2:$HW$72<>\"\",ROW($HW$2:$HW$72),\"\"),ROW(HW15))-2,0)","v":{"$error":"#NUM!"}},{"$f":"OFFSET($HX$2,SMALL(IF($HX$2:$HX$72<>\"\",ROW($HX$2:$HX$72),\"\"),ROW(HX15))-2,0)","v":{"$error":"#NUM!"}},{"$f":"OFFSET($HY$2,SMALL(IF($HY$2:$HY$72<>\"\",ROW($HY$2:$HY$72),\"\"),ROW(HY15))-2,0)","v":{"$error":"#NUM!"}},{"$f":"OFFSET($HZ$2,SMALL(IF($HZ$2:$HZ$72<>\"\",ROW($HZ$2:$HZ$72),\"\"),ROW(HZ15))-2,0)","v":{"$error":"#NUM!"}},null,null,{"$f":"IF(AND(教学计划表!N31<>\"\",教学计划表!BE31<>\"\"),教学计划表!I31,\"\")","v":""},{"$f":"IF(教学计划表!BE31<>\"\",教学计划表!N31,\"\")","v":""},{"$f":"IF(IK16<>\"\",IF(SEARCH(\"5\",教学计划表!AB31&\"5\",1)<=LEN(教学计划表!AB31),\"考试\",\"考查\"),\"\")","v":""},{"$f":"IF(教学计划表!GL31<>0,教学计划表!GL31,\"\")","v":""},{"$f":"IF(教学计划表!GL31<>0,教学计划表!GQ31,\"\")","v":""},{"$f":"IF(教学计划表!GL31<>0,教学计划表!GR31,\"\")","v":""},{"$f":"IF(教学计划表!GL31<>0,教学计划表!PZ31,\"\")","v":""},{"$f":"OFFSET($IJ$2,SMALL(IF($IJ$2:$IJ$72<>\"\",ROW($IJ$2:$IJ$72),\"\"),ROW(IJ15))-2,0)","v":{"$error":"#NUM!"}},{"$f":"OFFSET($IK$2,SMALL(IF($IK$2:$IK$72<>\"\",ROW($IK$2:$IK$72),\"\"),ROW(IK15))-2,0)","v":{"$error":"#NUM!"}},{"$f":"OFFSET($IL$2,SMALL(IF($IL$2:$IL$72<>\"\",ROW($IL$2:$IL$72),\"\"),ROW(IL15))-2,0)","v":{"$error":"#NUM!"}},{"$f":"OFFSET($IM$2,SMALL(IF($IM$2:$IM$72<>\"\",ROW($IM$2:$IM$72),\"\"),ROW(IM15))-2,0)","v":{"$error":"#NUM!"}},{"$f":"OFFSET($IN$2,SMALL(IF($IN$2:$IN$72<>\"\",ROW($IN$2:$IN$72),\"\"),ROW(IN15))-2,0)","v":{"$error":"#NUM!"}},{"$f":"OFFSET($IO$2,SMALL(IF($IO$2:$IO$72<>\"\",ROW($IO$2:$IO$72),\"\"),ROW(IO15))-2,0)","v":{"$error":"#NUM!"}},{"$f":"OFFSET($IP$2,SMALL(IF($IP$2:$IP$72<>\"\",ROW($IP$2:$IP$72),\"\"),ROW(IP15))-2,0)","v":{"$error":"#NUM!"}},null,{"$f":"IF(AND(教学计划表!N31<>\"\",教学计划表!BH31<>\"\"),教学计划表!I31,\"\")","v":""},{"$f":"IF(教学计划表!BH31<>\"\",教学计划表!N31,\"\")","v":""},{"$f":"IF(教学计划表!BH31<>\"\",IF(SEARCH(\"6\",教学计划表!AB31&\"6\",1)<=LEN(教学计划表!AB31),\"考试\",\"考查\"),\"\")","v":""},{"$f":"IF(教学计划表!BH31<>0,教学计划表!HG31,\"\")","v":""},{"$f":"IF(教学计划表!BH31<>0,教学计划表!HL31,\"\")","v":""},{"$f":"IF(教学计划表!BH31<>0,教学计划表!HM31,\"\")","v":""},{"$f":"IF(教学计划表!BH31<>0,教学计划表!QL31,\"\")","v":""},{"$f":"OFFSET($IY$2,SMALL(IF($IY$2:$IY$72<>\"\",ROW($IY$2:$IY$72),\"\"),ROW(IY15))-2,0)","v":{"$error":"#NUM!"}},{"$f":"OFFSET($IZ$2,SMALL(IF($IZ$2:$IZ$72<>\"\",ROW($IZ$2:$IZ$72),\"\"),ROW(IZ15))-2,0)","v":{"$error":"#NUM!"}},{"$f":"OFFSET($JA$2,SMALL(IF($JA$2:$JA$72<>\"\",ROW($JA$2:$JA$72),\"\"),ROW(JA15))-2,0)","v":{"$error":"#NUM!"}},{"$f":"OFFSET($JB$2,SMALL(IF($JB$2:$JB$72<>\"\",ROW($JB$2:$JB$72),\"\"),ROW(JB15))-2,0)","v":{"$error":"#NUM!"}},{"$f":"OFFSET($JC$2,SMALL(IF($JC$2:$JC$72<>\"\",ROW($JC$2:$JC$72),\"\"),ROW(JC15))-2,0)","v":{"$error":"#NUM!"}},{"$f":"OFFSET($JD$2,SMALL(IF($JD$2:$JD$72<>\"\",ROW($JD$2:$JD$72),\"\"),ROW(JD15))-2,0)","v":{"$error":"#NUM!"}},{"$f":"OFFSET($JE$2,SMALL(IF($JE$2:$JE$72<>\"\",ROW($JE$2:$JE$72),\"\"),ROW(JE15))-2,0)","v":{"$error":"#NUM!"}}]
["","","","","","","",null,"","","",{"$f":"IF(ISERROR(自动生成的开课信息!HB17),\"\",自动生成的开课信息!HB17)","v":""},{"$f":"IF(ISERROR(自动生成的开课信息!HC17),\"\",自动生成的开课信息!HC17)","v":""},{"$f":"IF(ISERROR(自动生成的开课信息!HD17),\"\",自动生成的开课信息!HD17)","v":""},{"$f":"IF(ISERROR(自动生成的开课信息!HE17),\"\",自动生成的开课信息!HE17)","v":""},null,"","","","","","","",null,"","","","","","","",null,"","","","","","","",null,"","","","","","","",null,null,null,null,null,null,null,null,null,null,null,null,null,null,null,null,null,null,null,null,null,null,null,null,null,null,null,null,null,null,null,null,null,null,null,null,null,null,null,null,null,null,null,null,null,null,null,null,null,null,null,null,null,null,null,null,null,null,null,null,null,null,null,null,null,null,null,null,null,null,null,null,null,null,null,null,null,null,null,null,null,null,null,null,null,null,null,null,null,null,null,null,null,null,null,null,null,null,null,null,null,null,null,null,null,null,null,null,null,null,null,null,null,null,null,null,null,null,null,null,null,null,null,null,null,null,null,null,null,null,null,null,null,null,null,null,null,null,{"$f":"IF(AND(教学计划表!N32<>\"\",教学计划表!AS32<>\"\"),教学计划表!I32,\"\")","v":""},{"$f":"IF(教学计划表!AS32<>\"\",教学计划表!N32,\"\")","v":""},{"$f":"IF(GE17<>\"\",IF(SEARCH(\"1\",教学计划表!AB32&\"1\",1)<=LEN(教学计划表!AB32),\"考试\",\"考查\"),\"\")","v":""},{"$f":"IF(教学计划表!DG32<>0,教学计划表!DG32,\"\")","v":""},{"$f":"IF(教学计划表!DG32<>0,教学计划表!DL32,\"\")","v":""},{"$f":"IF(教学计划表!DG32<>0,教学计划表!DM32,\"\")","v":""},{"$f":"IF(教学计划表!DG32<>0,教学计划表!OE32,\"\")","v":""},{"$f":"OFFSET($GD$2,SMALL(IF($GD$2:$GD$72<>\"\",ROW($2:$72),\"\"),ROW(GD16))-2,0)","v":{"$error":"#NUM!"}},{"$f":"OFFSET($GE$2,SMALL(IF($GE$2:$GE$72<>\"\",ROW($2:$72),\"\"),ROW(GE16))-2,0)","v":{"$error":"#NUM!"}},{"$f":"OFFSET($GF$2,SMALL(IF($GF$2:$GF$72<>\"\",ROW($2:$72),\"\"),ROW(GF16))-2,0)","v":{"$error":"#NUM!"}},{"$f":"OFFSET($GG$2,SMALL(IF($GG$2:$GG$72<>\"\",ROW($2:$72),\"\"),ROW(GG16))-2,0)","v":{"$error":"#NUM!"}},{"$f":"OFFSET($GH$2,SMALL(IF($GH$2:$GH$72<>\"\",ROW($2:$72),\"\"),ROW(GH16))-2,0)","v":{"$error":"#NUM!"}},{"$error":"#NUM!"},{"$f":"OFFSET($GJ$2,SMALL(IF($GJ$2:$GJ$72<>\"\",ROW($2:$72),\"\"),ROW(GJ16))-2,0)","v":{"$error":"#NUM!"}},{"$f":"IF(AND(教学计划表!N32<>\"\",教学计划表!AV32<>\"\"),教学计划表!I32,\"\")","v":""},{"$f":"IF(教学计划表!AV32<>\"\",教学计划表!N32,\"\")","v":""},{"$f":"IF(GS17<>\"\",IF(SEARCH(\"2\",教学计划表!AB32&\"2\",1)<=LEN(教学计划表!AB32),\"考试\",\"考查\"),\"\")","v":""},{"$f":"IF(教学计划表!EA32<>0,教学计划表!EA32,\"\")","v":""},{"$f":"IF(教学计划表!EA32<>0,教学计划表!EF32,\"\")","v":""},{"$f":"IF(教学计划表!EA32<>0,教学计划表!EG32,\"\")","v":""},{"$f":"IF(教学计划表!EA32<>0,教学计划表!OQ32,\"\")","v":""},{"$f":"OFFSET($GR$2,SMALL(IF($GR$2:$GR$72<>\"\",ROW($I$2:$K$72),\"\"),ROW(GR16))-2,0)","v":{"$error":"#NUM!"}},{"$f":"OFFSET($GS$2,SMALL(IF($GS$2:$GS$72<>\"\",ROW($I$2:$K$72),\"\"),ROW(GS16))-2,0)","v":{"$error":"#NUM!"}},{"$f":"OFFSET($GT$2,SMALL(IF($GT$2:$GT$72<>\"\",ROW($I$2:$K$72),\"\"),ROW(GT16))-2,0)","v":{"$error":"#NUM!"}},{"$f":"OFFSET($GU$2,SMALL(IF($GU$2:$GU$72<>\"\",ROW($I$2:$K$72),\"\"),ROW(GU16))-2,0)","v":{"$error":"#NUM!"}},{"$f":"OFFSET($GV$2,SMALL(IF($GV$2:$GV$72<>\"\",ROW($GV$2:$GV$72),\"\"),ROW(GV16))-2,0)","v":{"$error":"#NUM!"}},{"$f":"OFFSET($GW$2,SMALL(IF($GW$2:$GW$72<>\"\",ROW($GW$2:$GW$72),\"\"),ROW(GW16))-2,0)","v":{"$error":"#NUM!"}},{"$f":"OFFSET($GX$2,SMALL(IF($GX$2:$GX$72<>\"\",ROW($GX$2:$GX$72),\"\"),ROW(GX16))-2,0)","v":{"$error":"#NUM!"}},{"$f":"IF(AND(教学计划表!N32<>\"\",教学计划表!AY32<>\"\"),教学计划表!I32,\"\")","v":""},{"$f":"IF(教学计划表!AY32<>\"\",教学计划表!N32,\"\")","v":""},{"$f":"IF(HG17<>\"\",IF(SEARCH(\"3\",教学计划表!AB32&\"3\",1)<=LEN(教学计划表!AB32),\"考试\",\"考查\"),\"\")","v":""},{"$f":"IF(教学计划表!EV32<>0,教学计划表!EV32,\"\")","v":""},{"$f":"IF(教学计划表!EV32<>0,教学计划表!FA32,\"\")","v":""},{"$f":"IF(教学计划表!EV32<>0,教学计划表!FB32,\"\")","v":""},{"$f":"IF(教学计划表!EV32<>0,教学计划表!PC32,\"\")","v":""},{"$f":"OFFSET($HF$2,SMALL(IF($HF$2:$HF$72<>\"\",ROW($HF$2:$HF$72),\"\"),ROW(HF16))-2,0)","v":{"$error":"#NUM!"}},{"$f":"OFFSET($HG$2,SMALL(IF($HG$2:$HG$72<>\"\",ROW($HG$2:$HG$72),\"\"),ROW(HG16))-2,0)","v":{"$error":"#NUM!"}},{"$f":"OFFSET($HH$2,SMALL(IF($HH$2:$HH$72<>\"\",ROW($HH$2:$HH$72),\"\"),ROW(HH16))-2,0)","v":{"$error":"#NUM!"}},{"$f":"OFFSET($HI$2,SMALL(IF($HI$2:$HI$72<>\"\",ROW($HI$2:$HI$72),\"\"),ROW(HI16))-2,0)","v":{"$error":"#NUM!"}},{"$f":"OFFSET($HJ$2,SMALL(IF($HJ$2:$HJ$72<>\"\",ROW($HJ$2:$HJ$72),\"\"),ROW(HJ16))-2,0)","v":{"$error":"#NUM!"}},{"$f":"OFFSET($HK$2,SMALL(IF($HK$2:$HK$72<>\"\",ROW($HK$2:$HK$72),\"\"),ROW(HK16))-2,0)","v":{"$error":"#NUM!"}},{"$f":"OFFSET($HL$2,SMALL(IF($HL$2:$HL$72<>\"\",ROW($HL$2:$HL$72),\"\"),ROW(HL16))-2,0)","v":{"$error":"#NUM!"}},{"$f":"IF(AND(教学计划表!N32<>\"\",教学计划表!BB32<>\"\"),教学计划表!I32,\"\")","v":""},{"$f":"IF(教学计划表!BB32<>\"\",教学计划表!N32,\"\")","v":""},{"$f":"IF(HU17<>\"\",IF(SEARCH(\"4\",教学计划表!AB32&\"4\",1)<=LEN(教学计划表!AB32),\"考试\",\"考查\"),\"\")","v":""},{"$f":"IF(教学计划表!FQ32<>0,教学计划表!FQ32,\"\")","v":""},{"$f":"IF(教学计划表!FQ32<>0,教学计划表!FV32,\"\")","v":""},{"$f":"IF(教学计划表!FQ32<>0,教学计划表!FW32,\"\")","v":""},{"$f":"IF(教学计划表!FQ32<>0,教学计划表!PO32,\"\")","v":""},{"$f":"OFFSET($HT$2,SMALL(IF($HT$2:$HT$72<>\"\",ROW($HT$2:$HT$72),\"\"),ROW(HT16))-2,0)","v":{"$error":"#NUM!"}},{"$f":"OFFSET($HU$2,SMALL(IF($HU$2:$HU$72<>\"\",ROW($HU$2:$HU$72),\"\"),ROW(HU16))-2,0)","v":{"$error":"#NUM!"}},{"$f":"OFFSET($HV$2,SMALL(IF($HV$2:$HV$72<>\"\",ROW($HV$2:$HV$72),\"\"),ROW(HV16))-2,0)","v":{"$error":"#NUM!"}},{"$f":"OFFSET($HW$2,SMALL(IF($HW$2:$HW$72<>\"\",ROW($HW$2:$HW$72),\"\"),ROW(HW16))-2,0)","v":{"$error":"#NUM!"}},{"$f":"OFFSET($HX$2,SMALL(IF($HX$2:$HX$72<>\"\",ROW($HX$2:$HX$72),\"\"),ROW(HX16))-2,0)","v":{"$error":"#NUM!"}},{"$f":"OFFSET($HY$2,SMALL(IF($HY$2:$HY$72<>\"\",ROW($HY$2:$HY$72),\"\"),ROW(HY16))-2,0)","v":{"$error":"#NUM!"}},{"$f":"OFFSET($HZ$2,SMALL(IF($HZ$2:$HZ$72<>\"\",ROW($HZ$2:$HZ$72),\"\"),ROW(HZ16))-2,0)","v":{"$error":"#NUM!"}},null,null,{"$f":"IF(AND(教学计划表!N32<>\"\",教学计划表!BE32<>\"\"),教学计划表!I32,\"\")","v":""},{"$f":"IF(教学计划表!BE32<>\"\",教学计划表!N32,\"\")","v":""},{"$f":"IF(IK17<>\"\",IF(SEARCH(\"5\",教学计划表!AB32&\"5\",1)<=LEN(教学计划表!AB32),\"考试\",\"考查\"),\"\")","v":""},{"$f":"IF(教学计划表!GL32<>0,教学计划表!GL32,\"\")","v":""},{"$f":"IF(教学计划表!GL32<>0,教学计划表!GQ32,\"\")","v":""},{"$f":"IF(教学计划表!GL32<>0,教学计划表!GR32,\"\")","v":""},{"$f":"IF(教学计划表!GL32<>0,教学计划表!PZ32,\"\")","v":""},{"$f":"OFFSET($IJ$2,SMALL(IF($IJ$2:$IJ$72<>\"\",ROW($IJ$2:$IJ$72),\"\"),ROW(IJ16))-2,0)","v":{"$error":"#NUM!"}},{"$f":"OFFSET($IK$2,SMALL(IF($IK$2:$IK$72<>\"\",ROW($IK$2:$IK$72),\"\"),ROW(IK16))-2,0)","v":{"$error":"#NUM!"}},{"$f":"OFFSET($IL$2,SMALL(IF($IL$2:$IL$72<>\"\",ROW($IL$2:$IL$72),\"\"),ROW(IL16))-2,0)","v":{"$error":"#NUM!"}},{"$f":"OFFSET($IM$2,SMALL(IF($IM$2:$IM$72<>\"\",ROW($IM$2:$IM$72),\"\"),ROW(IM16))-2,0)","v":{"$error":"#NUM!"}},{"$f":"OFFSET($IN$2,SMALL(IF($IN$2:$IN$72<>\"\",ROW($IN$2:$IN$72),\"\"),ROW(IN16))-2,0)","v":{"$error":"#NUM!"}},{"$f":"OFFSET($IO$2,SMALL(IF($IO$2:$IO$72<>\"\",ROW($IO$2:$IO$72),\"\"),ROW(IO16))-2,0)","v":{"$error":"#NUM!"}},{"$f":"OFFSET($IP$2,SMALL(IF($IP$2:$IP$72<>\"\",ROW($IP$2:$IP$72),\"\"),ROW(IP16))-2,0)","v":{"$error":"#NUM!"}},null,{"$f":"IF(AND(教学计划表!N32<>\"\",教学计划表!BH32<>\"\"),教学计划表!I32,\"\")","v":""},{"$f":"IF(教学计划表!BH32<>\"\",教学计划表!N32,\"\")","v":""},{"$f":"IF(教学计划表!BH32<>\"\",IF(SEARCH(\"6\",教学计划表!AB32&\"6\",1)<=LEN(教学计划表!AB32),\"考试\",\"考查\"),\"\")","v":""},{"$f":"IF(教学计划表!BH32<>0,教学计划表!HG32,\"\")","v":""},{"$f":"IF(教学计划表!BH32<>0,教学计划表!HL32,\"\")","v":""},{"$f":"IF(教学计划表!BH32<>0,教学计划表!HM32,\"\")","v":""},{"$f":"IF(教学计划表!BH32<>0,教学计划表!QL32,\"\")","v":""},{"$f":"OFFSET($IY$2,SMALL(IF($IY$2:$IY$72<>\"\",ROW($IY$2:$IY$72),\"\"),ROW(IY16))-2,0)","v":{"$error":"#NUM!"}},{"$f":"OFFSET($IZ$2,SMALL(IF($IZ$2:$IZ$72<>\"\",ROW($IZ$2:$IZ$72),\"\"),ROW(IZ16))-2,0)","v":{"$error":"#NUM!"}},{"$f":"OFFSET($JA$2,SMALL(IF($JA$2:$JA$72<>\"\",ROW($JA$2:$JA$72),\"\"),ROW(JA16))-2,0)","v":{"$error":"#NUM!"}},{"$f":"OFFSET($JB$2,SMALL(IF($JB$2:$JB$72<>\"\",ROW($JB$2:$JB$72),\"\"),ROW(JB16))-2,0)","v":{"$error":"#NUM!"}},{"$f":"OFFSET($JC$2,SMALL(IF($JC$2:$JC$72<>\"\",ROW($JC$2:$JC$72),\"\"),ROW(JC16))-2,0)","v":{"$error":"#NUM!"}},{"$f":"OFFSET($JD$2,SMALL(IF($JD$2:$JD$72<>\"\",ROW($JD$2:$JD$72),\"\"),ROW(JD16))-2,0)","v":{"$error":"#NUM!"}},{"$f":"OFFSET($JE$2,SMALL(IF($JE$2:$JE$72<>\"\",ROW($JE$2:$JE$72),\"\"),ROW(JE16))-2,0)","v":{"$error":"#NUM!"}}]
["","","","","","","",null,{"$f":"IF(ISERROR(GY18),\"\",GY18)","v":""},"","",{"$f":"IF(ISERROR(自动生成的开课信息!HB18),\"\",自动生成的开课信息!HB18)","v":""},{"$f":"IF(ISERROR(自动生成的开课信息!HC18),\"\",自动生成的开课信息!HC18)","v":""},{"$f":"IF(ISERROR(自动生成的开课信息!HD18),\"\",自动生成的开课信息!HD18)","v":""},{"$f":"IF(ISERROR(自动生成的开课信息!HE18),\"\",自动生成的开课信息!HE18)","v":""},null,{"$f":"IF(ISERROR(HM18),\"\",HM18)","v":""},"","","","","","",null,"","","","","","","",null,"","","","","","","",null,"","","","","","","",null,null,null,null,null,null,null,null,null,null,null,null,null,null,null,null,null,null,null,null,null,null,null,null,null,null,null,null,null,null,null,null,null,null,null,null,null,null,null,null,null,null,null,null,null,null,null,null,null,null,null,null,null,null,null,null,null,null,null,null,null,null,null,null,null,null,null,null,null,null,null,null,null,null,null,null,null,null,null,null,null,null,null,null,null,null,null,null,null,null,null,null,null,null,null,null,null,null,null,null,null,null,null,null,null,null,null,null,null,null,null,null,null,null,null,null,null,null,null,null,null,null,null,null,null,null,null,null,null,null,null,null,null,null,null,null,null,null,{"$f":"IF(AND(教学计划表!N33<>\"\",教学计划表!AS33<>\"\"),教学计划表!I33,\"\")","v":""},{"$f":"IF(教学计划表!AS33<>\"\",教学计划表!N33,\"\")","v":""},{"$f":"IF(GE18<>\"\",IF(SEARCH(\"1\",教学计划表!AB33&\"1\",1)<=LEN(教学计划表!AB33),\"考试\",\"考查\"),\"\")","v":""},{"$f":"IF(教学计划表!DG33<>0,教学计划表!DG33,\"\")","v":""},{"$f":"IF(教学计划表!DG33<>0,教学计划表!DL33,\"\")","v":""},{"$f":"IF(教学计划表!DG33<>0,教学计划表!DM33,\"\")","v":""},{"$f":"IF(教学计划表!DG33<>0,教学计划表!OE33,\"\")","v":""},{"$f":"OFFSET($GD$2,SMALL(IF($GD$2:$GD$72<>\"\",ROW($2:$72),\"\"),ROW(GD17))-2,0)","v":{"$error":"#NUM!"}},{"$f":"OFFSET($GE$2,SMALL(IF($GE$2:$GE$72<>\"\",ROW($2:$72),\"\"),ROW(GE17))-2,0)","v":{"$error":"#NUM!"}},{"$f":"OFFSET($GF$2,SMALL(IF($GF$2:$GF$72<>\"\",ROW($2:$72),\"\"),ROW(GF17))-2,0)","v":{"$error":"#NUM!"}},{"$f":"OFFSET($GG$2,SMALL(IF($GG$2:$GG$72<>\"\",ROW($2:$72),\"\"),ROW(GG17))-2,0)","v":{"$error":"#NUM!"}},{"$f":"OFFSET($GH$2,SMALL(IF($GH$2:$GH$72<>\"\",ROW($2:$72),\"\"),ROW(GH17))-2,0)","v":{"$error":"#NUM!"}},{"$error":"#NUM!"},{"$f":"OFFSET($GJ$2,SMALL(IF($GJ$2:$GJ$72<>\"\",ROW($2:$72),\"\"),ROW(GJ17))-2,0)","v":{"$error":"#NUM!"}},{"$f":"IF(AND(教学计划表!N33<>\"\",教学计划表!AV33<>\"\"),教学计划表!I33,\"\")","v":""},{"$f":"IF(教学计划表!AV33<>\"\",教学计划表!N33,\"\")","v":""},{"$f":"IF(GS18<>\"\",IF(SEARCH(\"2\",教学计划表!AB33&\"2\",1)<=LEN(教学计划表!AB33),\"考试\",\"考查\"),\"\")","v":""},{"$f":"IF(教学计划表!EA33<>0,教学计划表!EA33,\"\")","v":""},{"$f":"IF(教学计划表!EA33<>0,教学计划表!EF33,\"\")","v":""},{"$f":"IF(教学计划表!EA33<>0,教学计划表!EG33,\"\")","v":""},{"$f":"IF(教学计划表!EA33<>0,教学计划表!OQ33,\"\")","v":""},{"$f":"OFFSET($GR$2,SMALL(IF($GR$2:$GR$72<>\"\",ROW($I$2:$K$72),\"\"),ROW(GR17))-2,0)","v":{"$error":"#NUM!"}},{"$f":"OFFSET($GS$2,SMALL(IF($GS$2:$GS$72<>\"\",ROW($I$2:$K$72),\"\"),ROW(GS17))-2,0)","v":{"$error":"#NUM!"}},{"$f":"OFFSET($GT$2,SMALL(IF($GT$2:$GT$72<>\"\",ROW($I$2:$K$72),\"\"),ROW(GT17))-2,0)","v":{"$error":"#NUM!"}},{"$f":"OFFSET($GU$2,SMALL(IF($GU$2:$GU$72<>\"\",ROW($I$2:$K$72),\"\"),ROW(GU17))-2,0)","v":{"$error":"#NUM!"}},{"$f":"OFFSET($GV$2,SMALL(IF($GV$2:$GV$72<>\"\",ROW($GV$2:$GV$72),\"\"),ROW(GV17))-2,0)","v":{"$error":"#NUM!"}},{"$f":"OFFSET($GW$2,SMALL(IF($GW$2:$GW$72<>\"\",ROW($GW$2:$GW$72),\"\"),ROW(GW17))-2,0)","v":{"$error":"#NUM!"}},{"$f":"OFFSET($GX$2,SMALL(IF($GX$2:$GX$72<>\"\",ROW($GX$2:$GX$72),\"\"),ROW(GX17))-2,0)","v":{"$error":"#NUM!"}},{"$f":"IF(AND(教学计划表!N33<>\"\",教学计划表!AY33<>\"\"),教学计划表!I33,\"\")","v":""},{"$f":"IF(教学计划表!AY33<>\"\",教学计划表!N33,\"\")","v":""},{"$f":"IF(HG18<>\"\",IF(SEARCH(\"3\",教学计划表!AB33&\"3\",1)<=LEN(教学计划表!AB33),\"考试\",\"考查\"),\"\")","v":""},{"$f":"IF(教学计划表!EV33<>0,教学计划表!EV33,\"\")","v":""},{"$f":"IF(教学计划表!EV33<>0,教学计划表!FA33,\"\")","v":""},{"$f":"IF(教学计划表!EV33<>0,教学计划表!FB33,\"\")","v":""},{"$f":"IF(教学计划表!EV33<>0,教学计划表!PC33,\"\")","v":""},{"$f":"OFFSET($HF$2,SMALL(IF($HF$2:$HF$72<>\"\",ROW($HF$2:$HF$72),\"\"),ROW(HF17))-2,0)","v":{"$error":"#NUM!"}},{"$f":"OFFSET($HG$2,SMALL(IF($HG$2:$HG$72<>\"\",ROW($HG$2:$HG$72),\"\"),ROW(HG17))-2,0)","v":{"$error":"#NUM!"}},{"$f":"OFFSET($HH$2,SMALL(IF($HH$2:$HH$72<>\"\",ROW($HH$2:$HH$72),\"\"),ROW(HH17))-2,0)","v":{"$error":"#NUM!"}},{"$f":"OFFSET($HI$2,SMALL(IF($HI$2:$HI$72<>\"\",ROW($HI$2:$HI$72),\"\"),ROW(HI17))-2,0)","v":{"$error":"#NUM!"}},{"$f":"OFFSET($HJ$2,SMALL(IF($HJ$2:$HJ$72<>\"\",ROW($HJ$2:$HJ$72),\"\"),ROW(HJ17))-2,0)","v":{"$error":"#NUM!"}},{"$f":"OFFSET($HK$2,SMALL(IF($HK$2:$HK$72<>\"\",ROW($HK$2:$HK$72),\"\"),ROW(HK17))-2,0)","v":{"$error":"#NUM!"}},{"$f":"OFFSET($HL$2,SMALL(IF($HL$2:$HL$72<>\"\",ROW($HL$2:$HL$72),\"\"),ROW(HL17))-2,0)","v":{"$error":"#NUM!"}},{"$f":"IF(AND(教学计划表!N33<>\"\",教学计划表!BB33<>\"\"),教学计划表!I33,\"\")","v":""},{"$f":"IF(教学计划表!BB33<>\"\",教学计划表!N33,\"\")","v":""},{"$f":"IF(HU18<>\"\",IF(SEARCH(\"4\",教学计划表!AB33&\"4\",1)<=LEN(教学计划表!AB33),\"考试\",\"考查\"),\"\")","v":""},{"$f":"IF(教学计划表!FQ33<>0,教学计划表!FQ33,\"\")","v":""},{"$f":"IF(教学计划表!FQ33<>0,教学计划表!FV33,\"\")","v":""},{"$f":"IF(教学计划表!FQ33<>0,教学计划表!FW33,\"\")","v":""},{"$f":"IF(教学计划表!FQ33<>0,教学计划表!PO33,\"\")","v":""},{"$f":"OFFSET($HT$2,SMALL(IF($HT$2:$HT$72<>\"\",ROW($HT$2:$HT$72),\"\"),ROW(HT17))-2,0)","v":{"$error":"#NUM!"}},{"$f":"OFFSET($HU$2,SMALL(IF($HU$2:$HU$72<>\"\",ROW($HU$2:$HU$72),\"\"),ROW(HU17))-2,0)","v":{"$error":"#NUM!"}},{"$f":"OFFSET($HV$2,SMALL(IF($HV$2:$HV$72<>\"\",ROW($HV$2:$HV$72),\"\"),ROW(HV17))-2,0)","v":{"$error":"#NUM!"}},{"$f":"OFFSET($HW$2,SMALL(IF($HW$2:$HW$72<>\"\",ROW($HW$2:$HW$72),\"\"),ROW(HW17))-2,0)","v":{"$error":"#NUM!"}},{"$f":"OFFSET($HX$2,SMALL(IF($HX$2:$HX$72<>\"\",ROW($HX$2:$HX$72),\"\"),ROW(HX17))-2,0)","v":{"$error":"#NUM!"}},{"$f":"OFFSET($HY$2,SMALL(IF($HY$2:$HY$72<>\"\",ROW($HY$2:$HY$72),\"\"),ROW(HY17))-2,0)","v":{"$error":"#NUM!"}},{"$f":"OFFSET($HZ$2,SMALL(IF($HZ$2:$HZ$72<>\"\",ROW($HZ$2:$HZ$72),\"\"),ROW(HZ17))-2,0)","v":{"$error":"#NUM!"}},null,null,{"$f":"IF(AND(教学计划表!N33<>\"\",教学计划表!BE33<>\"\"),教学计划表!I33,\"\")","v":""},{"$f":"IF(教学计划表!BE33<>\"\",教学计划表!N33,\"\")","v":""},{"$f":"IF(IK18<>\"\",IF(SEARCH(\"5\",教学计划表!AB33&\"5\",1)<=LEN(教学计划表!AB33),\"考试\",\"考查\"),\"\")","v":""},{"$f":"IF(教学计划表!GL33<>0,教学计划表!GL33,\"\")","v":""},{"$f":"IF(教学计划表!GL33<>0,教学计划表!GQ33,\"\")","v":""},{"$f":"IF(教学计划表!GL33<>0,教学计划表!GR33,\"\")","v":""},{"$f":"IF(教学计划表!GL33<>0,教学计划表!PZ33,\"\")","v":""},{"$f":"OFFSET($IJ$2,SMALL(IF($IJ$2:$IJ$72<>\"\",ROW($IJ$2:$IJ$72),\"\"),ROW(IJ17))-2,0)","v":{"$error":"#NUM!"}},{"$f":"OFFSET($IK$2,SMALL(IF($IK$2:$IK$72<>\"\",ROW($IK$2:$IK$72),\"\"),ROW(IK17))-2,0)","v":{"$error":"#NUM!"}},{"$f":"OFFSET($IL$2,SMALL(IF($IL$2:$IL$72<>\"\",ROW($IL$2:$IL$72),\"\"),ROW(IL17))-2,0)","v":{"$error":"#NUM!"}},{"$f":"OFFSET($IM$2,SMALL(IF($IM$2:$IM$72<>\"\",ROW($IM$2:$IM$72),\"\"),ROW(IM17))-2,0)","v":{"$error":"#NUM!"}},{"$f":"OFFSET($IN$2,SMALL(IF($IN$2:$IN$72<>\"\",ROW($IN$2:$IN$72),\"\"),ROW(IN17))-2,0)","v":{"$error":"#NUM!"}},{"$f":"OFFSET($IO$2,SMALL(IF($IO$2:$IO$72<>\"\",ROW($IO$2:$IO$72),\"\"),ROW(IO17))-2,0)","v":{"$error":"#NUM!"}},{"$f":"OFFSET($IP$2,SMALL(IF($IP$2:$IP$72<>\"\",ROW($IP$2:$IP$72),\"\"),ROW(IP17))-2,0)","v":{"$error":"#NUM!"}},null,{"$f":"IF(AND(教学计划表!N33<>\"\",教学计划表!BH33<>\"\"),教学计划表!I33,\"\")","v":""},{"$f":"IF(教学计划表!BH33<>\"\",教学计划表!N33,\"\")","v":""},{"$f":"IF(教学计划表!BH33<>\"\",IF(SEARCH(\"6\",教学计划表!AB33&\"6\",1)<=LEN(教学计划表!AB33),\"考试\",\"考查\"),\"\")","v":""},{"$f":"IF(教学计划表!BH33<>0,教学计划表!HG33,\"\")","v":""},{"$f":"IF(教学计划表!BH33<>0,教学计划表!HL33,\"\")","v":""},{"$f":"IF(教学计划表!BH33<>0,教学计划表!HM33,\"\")","v":""},{"$f":"IF(教学计划表!BH33<>0,教学计划表!QL33,\"\")","v":""},{"$f":"OFFSET($IY$2,SMALL(IF($IY$2:$IY$72<>\"\",ROW($IY$2:$IY$72),\"\"),ROW(IY17))-2,0)","v":{"$error":"#NUM!"}},{"$f":"OFFSET($IZ$2,SMALL(IF($IZ$2:$IZ$72<>\"\",ROW($IZ$2:$IZ$72),\"\"),ROW(IZ17))-2,0)","v":{"$error":"#NUM!"}},{"$f":"OFFSET($JA$2,SMALL(IF($JA$2:$JA$72<>\"\",ROW($JA$2:$JA$72),\"\"),ROW(JA17))-2,0)","v":{"$error":"#NUM!"}},{"$f":"OFFSET($JB$2,SMALL(IF($JB$2:$JB$72<>\"\",ROW($JB$2:$JB$72),\"\"),ROW(JB17))-2,0)","v":{"$error":"#NUM!"}},{"$f":"OFFSET($JC$2,SMALL(IF($JC$2:$JC$72<>\"\",ROW($JC$2:$JC$72),\"\"),ROW(JC17))-2,0)","v":{"$error":"#NUM!"}},{"$f":"OFFSET($JD$2,SMALL(IF($JD$2:$JD$72<>\"\",ROW($JD$2:$JD$72),\"\"),ROW(JD17))-2,0)","v":{"$error":"#NUM!"}},{"$f":"OFFSET($JE$2,SMALL(IF($JE$2:$JE$72<>\"\",ROW($JE$2:$JE$72),\"\"),ROW(JE17))-2,0)","v":{"$error":"#NUM!"}}]
[{"$f":"IF(ISERROR(GK19),\"\",GK19)","v":""},"","","","","","",null,"","","",{"$f":"IF(ISERROR(自动生成的开课信息!HB19),\"\",自动生成的开课信息!HB19)","v":""},{"$f":"IF(ISERROR(自动生成的开课信息!HC19),\"\",自动生成的开课信息!HC19)","v":""},{"$f":"IF(ISERROR(自动生成的开课信息!HD19),\"\",自动生成的开课信息!HD19)","v":""},{"$f":"IF(ISERROR(自动生成的开课信息!HE19),\"\",自动生成的开课信息!HE19)","v":""},null,"","","","","","","",null,"","","","","","","",null,{"$f":"IF(ISERROR(IQ19),\"\",IQ19)","v":""},"","","","","","",null,{"$f":"IF(ISERROR(JF19),\"\",JF19)","v":""},"","","","","","",null,null,null,null,null,null,null,null,null,null,null,null,null,null,null,null,null,null,null,null,null,null,null,null,null,null,null,null,null,null,null,null,null,null,null,null,null,null,null,null,null,null,null,null,null,null,null,null,null,null,null,null,null,null,null,null,null,null,null,null,null,null,null,null,null,null,null,null,null,null,null,null,null,null,null,null,null,null,null,null,null,null,null,null,null,null,null,null,null,null,null,null,null,null,null,null,null,null,null,null,null,null,null,null,null,null,null,null,null,null,null,null,null,null,null,null,null,null,null,null,null,null,null,null,null,null,null,null,null,null,null,null,null,null,null,null,null,null,{"$f":"IF(AND(教学计划表!N34<>\"\",教学计划表!AS34<>\"\"),教学计划表!I34,\"\")","v":""},{"$f":"IF(教学计划表!AS34<>\"\",教学计划表!N34,\"\")","v":""},{"$f":"IF(GE19<>\"\",IF(SEARCH(\"1\",教学计划表!AB34&\"1\",1)<=LEN(教学计划表!AB34),\"考试\",\"考查\"),\"\")","v":""},{"$f":"IF(教学计划表!DG34<>0,教学计划表!DG34,\"\")","v":""},{"$f":"IF(教学计划表!DG34<>0,教学计划表!DL34,\"\")","v":""},{"$f":"IF(教学计划表!DG34<>0,教学计划表!DM34,\"\")","v":""},{"$f":"IF(教学计划表!DG34<>0,教学计划表!OE34,\"\")","v":""},{"$f":"OFFSET($GD$2,SMALL(IF($GD$2:$GD$72<>\"\",ROW($2:$72),\"\"),ROW(GD18))-2,0)","v":{"$error":"#NUM!"}},{"$f":"OFFSET($GE$2,SMALL(IF($GE$2:$GE$72<>\"\",ROW($2:$72),\"\"),ROW(GE18))-2,0)","v":{"$error":"#NUM!"}},{"$f":"OFFSET($GF$2,SMALL(IF($GF$2:$GF$72<>\"\",ROW($2:$72),\"\"),ROW(GF18))-2,0)","v":{"$error":"#NUM!"}},{"$f":"OFFSET($GG$2,SMALL(IF($GG$2:$GG$72<>\"\",ROW($2:$72),\"\"),ROW(GG18))-2,0)","v":{"$error":"#NUM!"}},{"$f":"OFFSET($GH$2,SMALL(IF($GH$2:$GH$72<>\"\",ROW($2:$72),\"\"),ROW(GH18))-2,0)","v":{"$error":"#NUM!"}},{"$error":"#NUM!"},{"$f":"OFFSET($GJ$2,SMALL(IF($GJ$2:$GJ$72<>\"\",ROW($2:$72),\"\"),ROW(GJ18))-2,0)","v":{"$error":"#NUM!"}},{"$f":"IF(AND(教学计划表!N34<>\"\",教学计划表!AV34<>\"\"),教学计划表!I34,\"\")","v":""},{"$f":"IF(教学计划表!AV34<>\"\",教学计划表!N34,\"\")","v":""},{"$f":"IF(GS19<>\"\",IF(SEARCH(\"2\",教学计划表!AB34&\"2\",1)<=LEN(教学计划表!AB34),\"考试\",\"考查\"),\"\")","v":""},{"$f":"IF(教学计划表!EA34<>0,教学计划表!EA34,\"\")","v":""},{"$f":"IF(教学计划表!EA34<>0,教学计划表!EF34,\"\")","v":""},{"$f":"IF(教学计划表!EA34<>0,教学计划表!EG34,\"\")","v":""},{"$f":"IF(教学计划表!EA34<>0,教学计划表!OQ34,\"\")","v":""},{"$f":"OFFSET($GR$2,SMALL(IF($GR$2:$GR$72<>\"\",ROW($I$2:$K$72),\"\"),ROW(GR18))-2,0)","v":{"$error":"#NUM!"}},{"$f":"OFFSET($GS$2,SMALL(IF($GS$2:$GS$72<>\"\",ROW($I$2:$K$72),\"\"),ROW(GS18))-2,0)","v":{"$error":"#NUM!"}},{"$f":"OFFSET($GT$2,SMALL(IF($GT$2:$GT$72<>\"\",ROW($I$2:$K$72),\"\"),ROW(GT18))-2,0)","v":{"$error":"#NUM!"}},{"$f":"OFFSET($GU$2,SMALL(IF($GU$2:$GU$72<>\"\",ROW($I$2:$K$72),\"\"),ROW(GU18))-2,0)","v":{"$error":"#NUM!"}},{"$f":"OFFSET($GV$2,SMALL(IF($GV$2:$GV$72<>\"\",ROW($GV$2:$GV$72),\"\"),ROW(GV18))-2,0)","v":{"$error":"#NUM!"}},{"$f":"OFFSET($GW$2,SMALL(IF($GW$2:$GW$72<>\"\",ROW($GW$2:$GW$72),\"\"),ROW(GW18))-2,0)","v":{"$error":"#NUM!"}},{"$f":"OFFSET($GX$2,SMALL(IF($GX$2:$GX$72<>\"\",ROW($GX$2:$GX$72),\"\"),ROW(GX18))-2,0)","v":{"$error":"#NUM!"}},{"$f":"IF(AND(教学计划表!N34<>\"\",教学计划表!AY34<>\"\"),教学计划表!I34,\"\")","v":""},{"$f":"IF(教学计划表!AY34<>\"\",教学计划表!N34,\"\")","v":""},{"$f":"IF(HG19<>\"\",IF(SEARCH(\"3\",教学计划表!AB34&\"3\",1)<=LEN(教学计划表!AB34),\"考试\",\"考查\"),\"\")","v":""},{"$f":"IF(教学计划表!EV34<>0,教学计划表!EV34,\"\")","v":""},{"$f":"IF(教学计划表!EV34<>0,教学计划表!FA34,\"\")","v":""},{"$f":"IF(教学计划表!EV34<>0,教学计划表!FB34,\"\")","v":""},{"$f":"IF(教学计划表!EV34<>0,教学计划表!PC34,\"\")","v":""},{"$f":"OFFSET($HF$2,SMALL(IF($HF$2:$HF$72<>\"\",ROW($HF$2:$HF$72),\"\"),ROW(HF18))-2,0)","v":{"$error":"#NUM!"}},{"$f":"OFFSET($HG$2,SMALL(IF($HG$2:$HG$72<>\"\",ROW($HG$2:$HG$72),\"\"),ROW(HG18))-2,0)","v":{"$error":"#NUM!"}},{"$f":"OFFSET($HH$2,SMALL(IF($HH$2:$HH$72<>\"\",ROW($HH$2:$HH$72),\"\"),ROW(HH18))-2,0)","v":{"$error":"#NUM!"}},{"$f":"OFFSET($HI$2,SMALL(IF($HI$2:$HI$72<>\"\",ROW($HI$2:$HI$72),\"\"),ROW(HI18))-2,0)","v":{"$error":"#NUM!"}},{"$f":"OFFSET($HJ$2,SMALL(IF($HJ$2:$HJ$72<>\"\",ROW($HJ$2:$HJ$72),\"\"),ROW(HJ18))-2,0)","v":{"$error":"#NUM!"}},{"$f":"OFFSET($HK$2,SMALL(IF($HK$2:$HK$72<>\"\",ROW($HK$2:$HK$72),\"\"),ROW(HK18))-2,0)","v":{"$error":"#NUM!"}},{"$f":"OFFSET($HL$2,SMALL(IF($HL$2:$HL$72<>\"\",ROW($HL$2:$HL$72),\"\"),ROW(HL18))-2,0)","v":{"$error":"#NUM!"}},{"$f":"IF(AND(教学计划表!N34<>\"\",教学计划表!BB34<>\"\"),教学计划表!I34,\"\")","v":""},{"$f":"IF(教学计划表!BB34<>\"\",教学计划表!N34,\"\")","v":""},{"$f":"IF(HU19<>\"\",IF(SEARCH(\"4\",教学计划表!AB34&\"4\",1)<=LEN(教学计划表!AB34),\"考试\",\"考查\"),\"\")","v":""},{"$f":"IF(教学计划表!FQ34<>0,教学计划表!FQ34,\"\")","v":""},{"$f":"IF(教学计划表!FQ34<>0,教学计划表!FV34,\"\")","v":""},{"$f":"IF(教学计划表!FQ34<>0,教学计划表!FW34,\"\")","v":""},{"$f":"IF(教学计划表!FQ34<>0,教学计划表!PO34,\"\")","v":""},{"$f":"OFFSET($HT$2,SMALL(IF($HT$2:$HT$72<>\"\",ROW($HT$2:$HT$72),\"\"),ROW(HT18))-2,0)","v":{"$error":"#NUM!"}},{"$f":"OFFSET($HU$2,SMALL(IF($HU$2:$HU$72<>\"\",ROW($HU$2:$HU$72),\"\"),ROW(HU18))-2,0)","v":{"$error":"#NUM!"}},{"$f":"OFFSET($HV$2,SMALL(IF($HV$2:$HV$72<>\"\",ROW($HV$2:$HV$72),\"\"),ROW(HV18))-2,0)","v":{"$error":"#NUM!"}},{"$f":"OFFSET($HW$2,SMALL(IF($HW$2:$HW$72<>\"\",ROW($HW$2:$HW$72),\"\"),ROW(HW18))-2,0)","v":{"$error":"#NUM!"}},{"$f":"OFFSET($HX$2,SMALL(IF($HX$2:$HX$72<>\"\",ROW($HX$2:$HX$72),\"\"),ROW(HX18))-2,0)","v":{"$error":"#NUM!"}},{"$f":"OFFSET($HY$2,SMALL(IF($HY$2:$HY$72<>\"\",ROW($HY$2:$HY$72),\"\"),ROW(HY18))-2,0)","v":{"$error":"#NUM!"}},{"$f":"OFFSET($HZ$2,SMALL(IF($HZ$2:$HZ$72<>\"\",ROW($HZ$2:$HZ$72),\"\"),ROW(HZ18))-2,0)","v":{"$error":"#NUM!"}},null,null,{"$f":"IF(AND(教学计划表!N34<>\"\",教学计划表!BE34<>\"\"),教学计划表!I34,\"\")","v":""},{"$f":"IF(教学计划表!BE34<>\"\",教学计划表!N34,\"\")","v":""},{"$f":"IF(IK19<>\"\",IF(SEARCH(\"5\",教学计划表!AB34&\"5\",1)<=LEN(教学计划表!AB34),\"考试\",\"考查\"),\"\")","v":""},{"$f":"IF(教学计划表!GL34<>0,教学计划表!GL34,\"\")","v":""},{"$f":"IF(教学计划表!GL34<>0,教学计划表!GQ34,\"\")","v":""},{"$f":"IF(教学计划表!GL34<>0,教学计划表!GR34,\"\")","v":""},{"$f":"IF(教学计划表!GL34<>0,教学计划表!PZ34,\"\")","v":""},{"$f":"OFFSET($IJ$2,SMALL(IF($IJ$2:$IJ$72<>\"\",ROW($IJ$2:$IJ$72),\"\"),ROW(IJ18))-2,0)","v":{"$error":"#NUM!"}},{"$f":"OFFSET($IK$2,SMALL(IF($IK$2:$IK$72<>\"\",ROW($IK$2:$IK$72),\"\"),ROW(IK18))-2,0)","v":{"$error":"#NUM!"}},{"$f":"OFFSET($IL$2,SMALL(IF($IL$2:$IL$72<>\"\",ROW($IL$2:$IL$72),\"\"),ROW(IL18))-2,0)","v":{"$error":"#NUM!"}},{"$f":"OFFSET($IM$2,SMALL(IF($IM$2:$IM$72<>\"\",ROW($IM$2:$IM$72),\"\"),ROW(IM18))-2,0)","v":{"$error":"#NUM!"}},{"$f":"OFFSET($IN$2,SMALL(IF($IN$2:$IN$72<>\"\",ROW($IN$2:$IN$72),\"\"),ROW(IN18))-2,0)","v":{"$error":"#NUM!"}},{"$f":"OFFSET($IO$2,SMALL(IF($IO$2:$IO$72<>\"\",ROW($IO$2:$IO$72),\"\"),ROW(IO18))-2,0)","v":{"$error":"#NUM!"}},{"$f":"OFFSET($IP$2,SMALL(IF($IP$2:$IP$72<>\"\",ROW($IP$2:$IP$72),\"\"),ROW(IP18))-2,0)","v":{"$error":"#NUM!"}},null,{"$f":"IF(AND(教学计划表!N34<>\"\",教学计划表!BH34<>\"\"),教学计划表!I34,\"\")","v":""},{"$f":"IF(教学计划表!BH34<>\"\",教学计划表!N34,\"\")","v":""},{"$f":"IF(教学计划表!BH34<>\"\",IF(SEARCH(\"6\",教学计划表!AB34&\"6\",1)<=LEN(教学计划表!AB34),\"考试\",\"考查\"),\"\")","v":""},{"$f":"IF(教学计划表!BH34<>0,教学计划表!HG34,\"\")","v":""},{"$f":"IF(教学计划表!BH34<>0,教学计划表!HL34,\"\")","v":""},{"$f":"IF(教学计划表!BH34<>0,教学计划表!HM34,\"\")","v":""},{"$f":"IF(教学计划表!BH34<>0,教学计划表!QL34,\"\")","v":""},{"$f":"OFFSET($IY$2,SMALL(IF($IY$2:$IY$72<>\"\",ROW($IY$2:$IY$72),\"\"),ROW(IY18))-2,0)","v":{"$error":"#NUM!"}},{"$f":"OFFSET($IZ$2,SMALL(IF($IZ$2:$IZ$72<>\"\",ROW($IZ$2:$IZ$72),\"\"),ROW(IZ18))-2,0)","v":{"$error":"#NUM!"}},{"$f":"OFFSET($JA$2,SMALL(IF($JA$2:$JA$72<>\"\",ROW($JA$2:$JA$72),\"\"),ROW(JA18))-2,0)","v":{"$error":"#NUM!"}},{"$f":"OFFSET($JB$2,SMALL(IF($JB$2:$JB$72<>\"\",ROW($JB$2:$JB$72),\"\"),ROW(JB18))-2,0)","v":{"$error":"#NUM!"}},{"$f":"OFFSET($JC$2,SMALL(IF($JC$2:$JC$72<>\"\",ROW($JC$2:$JC$72),\"\"),ROW(JC18))-2,0)","v":{"$error":"#NUM!"}},{"$f":"OFFSET($JD$2,SMALL(IF($JD$2:$JD$72<>\"\",ROW($JD$2:$JD$72),\"\"),ROW(JD18))-2,0)","v":{"$error":"#NUM!"}},{"$f":"OFFSET($JE$2,SMALL(IF($JE$2:$JE$72<>\"\",ROW($JE$2:$JE$72),\"\"),ROW(JE18))-2,0)","v":{"$error":"#NUM!"}}]
["","","","","","","",null,"","","",{"$f":"IF(ISERROR(自动生成的开课信息!HB20),\"\",自动生成的开课信息!HB20)","v":""},{"$f":"IF(ISERROR(自动生成的开课信息!HC20),\"\",自动生成的开课信息!HC20)","v":""},{"$f":"IF(ISERROR(自动生成的开课信息!HD20),\"\",自动生成的开课信息!HD20)","v":""},{"$f":"IF(ISERROR(自动生成的开课信息!HE20),\"\",自动生成的开课信息!HE20)","v":""},null,"","","","","","","",null,"","","","","","","",null,"","","","","","","",null,"","","","","","","",null,null,null,null,null,null,null,null,null,null,null,null,null,null,null,null,null,null,null,null,null,null,null,null,null,null,null,null,null,null,null,null,null,null,null,null,null,null,null,null,null,null,null,null,null,null,null,null,null,null,null,null,null,null,null,null,null,null,null,null,null,null,null,null,null,null,null,null,null,null,null,null,null,null,null,null,null,null,null,null,null,null,null,null,null,null,null,null,null,null,null,null,null,null,null,null,null,null,null,null,null,null,null,null,null,null,null,null,null,null,null,null,null,null,null,null,null,null,null,null,null,null,null,null,null,null,null,null,null,null,null,null,null,null,null,null,null,null,{"$f":"IF(AND(教学计划表!N35<>\"\",教学计划表!AS35<>\"\"),教学计划表!I35,\"\")","v":""},{"$f":"IF(教学计划表!AS35<>\"\",教学计划表!N35,\"\")","v":""},{"$f":"IF(GE20<>\"\",IF(SEARCH(\"1\",教学计划表!AB35&\"1\",1)<=LEN(教学计划表!AB35),\"考试\",\"考查\"),\"\")","v":""},{"$f":"IF(教学计划表!DG35<>0,教学计划表!DG35,\"\")","v":""},{"$f":"IF(教学计划表!DG35<>0,教学计划表!DL35,\"\")","v":""},{"$f":"IF(教学计划表!DG35<>0,教学计划表!DM35,\"\")","v":""},{"$f":"IF(教学计划表!DG35<>0,教学计划表!OE35,\"\")","v":""},{"$f":"OFFSET($GD$2,SMALL(IF($GD$2:$GD$72<>\"\",ROW($2:$72),\"\"),ROW(GD19))-2,0)","v":{"$error":"#NUM!"}},{"$f":"OFFSET($GE$2,SMALL(IF($GE$2:$GE$72<>\"\",ROW($2:$72),\"\"),ROW(GE19))-2,0)","v":{"$error":"#NUM!"}},{"$f":"OFFSET($GF$2,SMALL(IF($GF$2:$GF$72<>\"\",ROW($2:$72),\"\"),ROW(GF19))-2,0)","v":{"$error":"#NUM!"}},{"$f":"OFFSET($GG$2,SMALL(IF($GG$2:$GG$72<>\"\",ROW($2:$72),\"\"),ROW(GG19))-2,0)","v":{"$error":"#NUM!"}},{"$f":"OFFSET($GH$2,SMALL(IF($GH$2:$GH$72<>\"\",ROW($2:$72),\"\"),ROW(GH19))-2,0)","v":{"$error":"#NUM!"}},{"$error":"#NUM!"},{"$f":"OFFSET($GJ$2,SMALL(IF($GJ$2:$GJ$72<>\"\",ROW($2:$72),\"\"),ROW(GJ19))-2,0)","v":{"$error":"#NUM!"}},{"$f":"IF(AND(教学计划表!N35<>\"\",教学计划表!AV35<>\"\"),教学计划表!I35,\"\")","v":""},{"$f":"IF(教学计划表!AV35<>\"\",教学计划表!N35,\"\")","v":""},{"$f":"IF(GS20<>\"\",IF(SEARCH(\"2\",教学计划表!AB35&\"2\",1)<=LEN(教学计划表!AB35),\"考试\",\"考查\"),\"\")","v":""},{"$f":"IF(教学计划表!EA35<>0,教学计划表!EA35,\"\")","v":""},{"$f":"IF(教学计划表!EA35<>0,教学计划表!EF35,\"\")","v":""},{"$f":"IF(教学计划表!EA35<>0,教学计划表!EG35,\"\")","v":""},{"$f":"IF(教学计划表!EA35<>0,教学计划表!OQ35,\"\")","v":""},{"$f":"OFFSET($GR$2,SMALL(IF($GR$2:$GR$72<>\"\",ROW($I$2:$K$72),\"\"),ROW(GR19))-2,0)","v":{"$error":"#NUM!"}},{"$f":"OFFSET($GS$2,SMALL(IF($GS$2:$GS$72<>\"\",ROW($I$2:$K$72),\"\"),ROW(GS19))-2,0)","v":{"$error":"#NUM!"}},{"$f":"OFFSET($GT$2,SMALL(IF($GT$2:$GT$72<>\"\",ROW($I$2:$K$72),\"\"),ROW(GT19))-2,0)","v":{"$error":"#NUM!"}},{"$f":"OFFSET($GU$2,SMALL(IF($GU$2:$GU$72<>\"\",ROW($I$2:$K$72),\"\"),ROW(GU19))-2,0)","v":{"$error":"#NUM!"}},{"$f":"OFFSET($GV$2,SMALL(IF($GV$2:$GV$72<>\"\",ROW($GV$2:$GV$72),\"\"),ROW(GV19))-2,0)","v":{"$error":"#NUM!"}},{"$f":"OFFSET($GW$2,SMALL(IF($GW$2:$GW$72<>\"\",ROW($GW$2:$GW$72),\"\"),ROW(GW19))-2,0)","v":{"$error":"#NUM!"}},{"$f":"OFFSET($GX$2,SMALL(IF($GX$2:$GX$72<>\"\",ROW($GX$2:$GX$72),\"\"),ROW(GX19))-2,0)","v":{"$error":"#NUM!"}},{"$f":"IF(AND(教学计划表!N35<>\"\",教学计划表!AY35<>\"\"),教学计划表!I35,\"\")","v":""},{"$f":"IF(教学计划表!AY35<>\"\",教学计划表!N35,\"\")","v":""},{"$f":"IF(HG20<>\"\",IF(SEARCH(\"3\",教学计划表!AB35&\"3\",1)<=LEN(教学计划表!AB35),\"考试\",\"考查\"),\"\")","v":""},{"$f":"IF(教学计划表!EV35<>0,教学计划表!EV35,\"\")","v":""},{"$f":"IF(教学计划表!EV35<>0,教学计划表!FA35,\"\")","v":""},{"$f":"IF(教学计划表!EV35<>0,教学计划表!FB35,\"\")","v":""},{"$f":"IF(教学计划表!EV35<>0,教学计划表!PC35,\"\")","v":""},{"$f":"OFFSET($HF$2,SMALL(IF($HF$2:$HF$72<>\"\",ROW($HF$2:$HF$72),\"\"),ROW(HF19))-2,0)","v":{"$error":"#NUM!"}},{"$f":"OFFSET($HG$2,SMALL(IF($HG$2:$HG$72<>\"\",ROW($HG$2:$HG$72),\"\"),ROW(HG19))-2,0)","v":{"$error":"#NUM!"}},{"$f":"OFFSET($HH$2,SMALL(IF($HH$2:$HH$72<>\"\",ROW($HH$2:$HH$72),\"\"),ROW(HH19))-2,0)","v":{"$error":"#NUM!"}},{"$f":"OFFSET($HI$2,SMALL(IF($HI$2:$HI$72<>\"\",ROW($HI$2:$HI$72),\"\"),ROW(HI19))-2,0)","v":{"$error":"#NUM!"}},{"$f":"OFFSET($HJ$2,SMALL(IF($HJ$2:$HJ$72<>\"\",ROW($HJ$2:$HJ$72),\"\"),ROW(HJ19))-2,0)","v":{"$error":"#NUM!"}},{"$f":"OFFSET($HK$2,SMALL(IF($HK$2:$HK$72<>\"\",ROW($HK$2:$HK$72),\"\"),ROW(HK19))-2,0)","v":{"$error":"#NUM!"}},{"$f":"OFFSET($HL$2,SMALL(IF($HL$2:$HL$72<>\"\",ROW($HL$2:$HL$72),\"\"),ROW(HL19))-2,0)","v":{"$error":"#NUM!"}},{"$f":"IF(AND(教学计划表!N35<>\"\",教学计划表!BB35<>\"\"),教学计划表!I35,\"\")","v":""},{"$f":"IF(教学计划表!BB35<>\"\",教学计划表!N35,\"\")","v":""},{"$f":"IF(HU20<>\"\",IF(SEARCH(\"4\",教学计划表!AB35&\"4\",1)<=LEN(教学计划表!AB35),\"考试\",\"考查\"),\"\")","v":""},{"$f":"IF(教学计划表!FQ35<>0,教学计划表!FQ35,\"\")","v":""},{"$f":"IF(教学计划表!FQ35<>0,教学计划表!FV35,\"\")","v":""},{"$f":"IF(教学计划表!FQ35<>0,教学计划表!FW35,\"\")","v":""},{"$f":"IF(教学计划表!FQ35<>0,教学计划表!PO35,\"\")","v":""},{"$f":"OFFSET($HT$2,SMALL(IF($HT$2:$HT$72<>\"\",ROW($HT$2:$HT$72),\"\"),ROW(HT19))-2,0)","v":{"$error":"#NUM!"}},{"$f":"OFFSET($HU$2,SMALL(IF($HU$2:$HU$72<>\"\",ROW($HU$2:$HU$72),\"\"),ROW(HU19))-2,0)","v":{"$error":"#NUM!"}},{"$f":"OFFSET($HV$2,SMALL(IF($HV$2:$HV$72<>\"\",ROW($HV$2:$HV$72),\"\"),ROW(HV19))-2,0)","v":{"$error":"#NUM!"}},{"$f":"OFFSET($HW$2,SMALL(IF($HW$2:$HW$72<>\"\",ROW($HW$2:$HW$72),\"\"),ROW(HW19))-2,0)","v":{"$error":"#NUM!"}},{"$f":"OFFSET($HX$2,SMALL(IF($HX$2:$HX$72<>\"\",ROW($HX$2:$HX$72),\"\"),ROW(HX19))-2,0)","v":{"$error":"#NUM!"}},{"$f":"OFFSET($HY$2,SMALL(IF($HY$2:$HY$72<>\"\",ROW($HY$2:$HY$72),\"\"),ROW(HY19))-2,0)","v":{"$error":"#NUM!"}},{"$f":"OFFSET($HZ$2,SMALL(IF($HZ$2:$HZ$72<>\"\",ROW($HZ$2:$HZ$72),\"\"),ROW(HZ19))-2,0)","v":{"$error":"#NUM!"}},null,null,{"$f":"IF(AND(教学计划表!N35<>\"\",教学计划表!BE35<>\"\"),教学计划表!I35,\"\")","v":""},{"$f":"IF(教学计划表!BE35<>\"\",教学计划表!N35,\"\")","v":""},{"$f":"IF(IK20<>\"\",IF(SEARCH(\"5\",教学计划表!AB35&\"5\",1)<=LEN(教学计划表!AB35),\"考试\",\"考查\"),\"\")","v":""},{"$f":"IF(教学计划表!GL35<>0,教学计划表!GL35,\"\")","v":""},{"$f":"IF(教学计划表!GL35<>0,教学计划表!GQ35,\"\")","v":""},{"$f":"IF(教学计划表!GL35<>0,教学计划表!GR35,\"\")","v":""},{"$f":"IF(教学计划表!GL35<>0,教学计划表!PZ35,\"\")","v":""},{"$f":"OFFSET($IJ$2,SMALL(IF($IJ$2:$IJ$72<>\"\",ROW($IJ$2:$IJ$72),\"\"),ROW(IJ19))-2,0)","v":{"$error":"#NUM!"}},{"$f":"OFFSET($IK$2,SMALL(IF($IK$2:$IK$72<>\"\",ROW($IK$2:$IK$72),\"\"),ROW(IK19))-2,0)","v":{"$error":"#NUM!"}},{"$f":"OFFSET($IL$2,SMALL(IF($IL$2:$IL$72<>\"\",ROW($IL$2:$IL$72),\"\"),ROW(IL19))-2,0)","v":{"$error":"#NUM!"}},{"$f":"OFFSET($IM$2,SMALL(IF($IM$2:$IM$72<>\"\",ROW($IM$2:$IM$72),\"\"),ROW(IM19))-2,0)","v":{"$error":"#NUM!"}},{"$f":"OFFSET($IN$2,SMALL(IF($IN$2:$IN$72<>\"\",ROW($IN$2:$IN$72),\"\"),ROW(IN19))-2,0)","v":{"$error":"#NUM!"}},{"$f":"OFFSET($IO$2,SMALL(IF($IO$2:$IO$72<>\"\",ROW($IO$2:$IO$72),\"\"),ROW(IO19))-2,0)","v":{"$error":"#NUM!"}},{"$f":"OFFSET($IP$2,SMALL(IF($IP$2:$IP$72<>\"\",ROW($IP$2:$IP$72),\"\"),ROW(IP19))-2,0)","v":{"$error":"#NUM!"}},null,{"$f":"IF(AND(教学计划表!N35<>\"\",教学计划表!BH35<>\"\"),教学计划表!I35,\"\")","v":""},{"$f":"IF(教学计划表!BH35<>\"\",教学计划表!N35,\"\")","v":""},{"$f":"IF(教学计划表!BH35<>\"\",IF(SEARCH(\"6\",教学计划表!AB35&\"6\",1)<=LEN(教学计划表!AB35),\"考试\",\"考查\"),\"\")","v":""},{"$f":"IF(教学计划表!BH35<>0,教学计划表!HG35,\"\")","v":""},{"$f":"IF(教学计划表!BH35<>0,教学计划表!HL35,\"\")","v":""},{"$f":"IF(教学计划表!BH35<>0,教学计划表!HM35,\"\")","v":""},{"$f":"IF(教学计划表!BH35<>0,教学计划表!QL35,\"\")","v":""},{"$f":"OFFSET($IY$2,SMALL(IF($IY$2:$IY$72<>\"\",ROW($IY$2:$IY$72),\"\"),ROW(IY19))-2,0)","v":{"$error":"#NUM!"}},{"$f":"OFFSET($IZ$2,SMALL(IF($IZ$2:$IZ$72<>\"\",ROW($IZ$2:$IZ$72),\"\"),ROW(IZ19))-2,0)","v":{"$error":"#NUM!"}},{"$f":"OFFSET($JA$2,SMALL(IF($JA$2:$JA$72<>\"\",ROW($JA$2:$JA$72),\"\"),ROW(JA19))-2,0)","v":{"$error":"#NUM!"}},{"$f":"OFFSET($JB$2,SMALL(IF($JB$2:$JB$72<>\"\",ROW($JB$2:$JB$72),\"\"),ROW(JB19))-2,0)","v":{"$error":"#NUM!"}},{"$f":"OFFSET($JC$2,SMALL(IF($JC$2:$JC$72<>\"\",ROW($JC$2:$JC$72),\"\"),ROW(JC19))-2,0)","v":{"$error":"#NUM!"}},{"$f":"OFFSET($JD$2,SMALL(IF($JD$2:$JD$72<>\"\",ROW($JD$2:$JD$72),\"\"),ROW(JD19))-2,0)","v":{"$error":"#NUM!"}},{"$f":"OFFSET($JE$2,SMALL(IF($JE$2:$JE$72<>\"\",ROW($JE$2:$JE$72),\"\"),ROW(JE19))-2,0)","v":{"$error":"#NUM!"}}]
["","","","","","","",null,"","","",{"$f":"IF(ISERROR(自动生成的开课信息!HB21),\"\",自动生成的开课信息!HB21)","v":""},{"$f":"IF(ISERROR(自动生成的开课信息!HC21),\"\",自动生成的开课信息!HC21)","v":""},{"$f":"IF(ISERROR(自动生成的开课信息!HD21),\"\",自动生成的开课信息!HD21)","v":""},{"$f":"IF(ISERROR(自动生成的开课信息!HE21),\"\",自动生成的开课信息!HE21)","v":""},null,"","","","","","","",null,"","","","","","","",null,"","","","","","","",null,"","","","","","","",null,null,null,null,null,null,null,null,null,null,null,null,null,null,null,null,null,null,null,null,null,null,null,null,null,null,null,null,null,null,null,null,null,null,null,null,null,null,null,null,null,null,null,null,null,null,null,null,null,null,null,null,null,null,null,null,null,null,null,null,null,null,null,null,null,null,null,null,null,null,null,null,null,null,null,null,null,null,null,null,null,null,null,null,null,null,null,null,null,null,null,null,null,null,null,null,null,null,null,null,null,null,null,null,null,null,null,null,null,null,null,null,null,null,null,null,null,null,null,null,null,null,null,null,null,null,null,null,null,null,null,null,null,null,null,null,null,null,{"$f":"IF(AND(教学计划表!N36<>\"\",教学计划表!AS36<>\"\"),教学计划表!I36,\"\")","v":""},{"$f":"IF(教学计划表!AS36<>\"\",教学计划表!N36,\"\")","v":""},{"$f":"IF(GE21<>\"\",IF(SEARCH(\"1\",教学计划表!AB36&\"1\",1)<=LEN(教学计划表!AB36),\"考试\",\"考查\"),\"\")","v":""},{"$f":"IF(教学计划表!DG36<>0,教学计划表!DG36,\"\")","v":""},{"$f":"IF(教学计划表!DG36<>0,教学计划表!DL36,\"\")","v":""},{"$f":"IF(教学计划表!DG36<>0,教学计划表!DM36,\"\")","v":""},{"$f":"IF(教学计划表!DG36<>0,教学计划表!OE36,\"\")","v":""},{"$f":"OFFSET($GD$2,SMALL(IF($GD$2:$GD$72<>\"\",ROW($2:$72),\"\"),ROW(GD20))-2,0)","v":{"$error":"#NUM!"}},{"$f":"OFFSET($GE$2,SMALL(IF($GE$2:$GE$72<>\"\",ROW($2:$72),\"\"),ROW(GE20))-2,0)","v":{"$error":"#NUM!"}},{"$f":"OFFSET($GF$2,SMALL(IF($GF$2:$GF$72<>\"\",ROW($2:$72),\"\"),ROW(GF20))-2,0)","v":{"$error":"#NUM!"}},{"$f":"OFFSET($GG$2,SMALL(IF($GG$2:$GG$72<>\"\",ROW($2:$72),\"\"),ROW(GG20))-2,0)","v":{"$error":"#NUM!"}},{"$f":"OFFSET($GH$2,SMALL(IF($GH$2:$GH$72<>\"\",ROW($2:$72),\"\"),ROW(GH20))-2,0)","v":{"$error":"#NUM!"}},{"$error":"#NUM!"},{"$f":"OFFSET($GJ$2,SMALL(IF($GJ$2:$GJ$72<>\"\",ROW($2:$72),\"\"),ROW(GJ20))-2,0)","v":{"$error":"#NUM!"}},{"$f":"IF(AND(教学计划表!N36<>\"\",教学计划表!AV36<>\"\"),教学计划表!I36,\"\")","v":""},{"$f":"IF(教学计划表!AV36<>\"\",教学计划表!N36,\"\")","v":""},{"$f":"IF(GS21<>\"\",IF(SEARCH(\"2\",教学计划表!AB36&\"2\",1)<=LEN(教学计划表!AB36),\"考试\",\"考查\"),\"\")","v":""},{"$f":"IF(教学计划表!EA36<>0,教学计划表!EA36,\"\")","v":""},{"$f":"IF(教学计划表!EA36<>0,教学计划表!EF36,\"\")","v":""},{"$f":"IF(教学计划表!EA36<>0,教学计划表!EG36,\"\")","v":""},{"$f":"IF(教学计划表!EA36<>0,教学计划表!OQ36,\"\")","v":""},{"$f":"OFFSET($GR$2,SMALL(IF($GR$2:$GR$72<>\"\",ROW($I$2:$K$72),\"\"),ROW(GR20))-2,0)","v":{"$error":"#NUM!"}},{"$f":"OFFSET($GS$2,SMALL(IF($GS$2:$GS$72<>\"\",ROW($I$2:$K$72),\"\"),ROW(GS20))-2,0)","v":{"$error":"#NUM!"}},{"$f":"OFFSET($GT$2,SMALL(IF($GT$2:$GT$72<>\"\",ROW($I$2:$K$72),\"\"),ROW(GT20))-2,0)","v":{"$error":"#NUM!"}},{"$f":"OFFSET($GU$2,SMALL(IF($GU$2:$GU$72<>\"\",ROW($I$2:$K$72),\"\"),ROW(GU20))-2,0)","v":{"$error":"#NUM!"}},{"$f":"OFFSET($GV$2,SMALL(IF($GV$2:$GV$72<>\"\",ROW($GV$2:$GV$72),\"\"),ROW(GV20))-2,0)","v":{"$error":"#NUM!"}},{"$f":"OFFSET($GW$2,SMALL(IF($GW$2:$GW$72<>\"\",ROW($GW$2:$GW$72),\"\"),ROW(GW20))-2,0)","v":{"$error":"#NUM!"}},{"$f":"OFFSET($GX$2,SMALL(IF($GX$2:$GX$72<>\"\",ROW($GX$2:$GX$72),\"\"),ROW(GX20))-2,0)","v":{"$error":"#NUM!"}},{"$f":"IF(AND(教学计划表!N36<>\"\",教学计划表!AY36<>\"\"),教学计划表!I36,\"\")","v":""},{"$f":"IF(教学计划表!AY36<>\"\",教学计划表!N36,\"\")","v":""},{"$f":"IF(HG21<>\"\",IF(SEARCH(\"3\",教学计划表!AB36&\"3\",1)<=LEN(教学计划表!AB36),\"考试\",\"考查\"),\"\")","v":""},{"$f":"IF(教学计划表!EV36<>0,教学计划表!EV36,\"\")","v":""},{"$f":"IF(教学计划表!EV36<>0,教学计划表!FA36,\"\")","v":""},{"$f":"IF(教学计划表!EV36<>0,教学计划表!FB36,\"\")","v":""},{"$f":"IF(教学计划表!EV36<>0,教学计划表!PC36,\"\")","v":""},{"$f":"OFFSET($HF$2,SMALL(IF($HF$2:$HF$72<>\"\",ROW($HF$2:$HF$72),\"\"),ROW(HF20))-2,0)","v":{"$error":"#NUM!"}},{"$f":"OFFSET($HG$2,SMALL(IF($HG$2:$HG$72<>\"\",ROW($HG$2:$HG$72),\"\"),ROW(HG20))-2,0)","v":{"$error":"#NUM!"}},{"$f":"OFFSET($HH$2,SMALL(IF($HH$2:$HH$72<>\"\",ROW($HH$2:$HH$72),\"\"),ROW(HH20))-2,0)","v":{"$error":"#NUM!"}},{"$f":"OFFSET($HI$2,SMALL(IF($HI$2:$HI$72<>\"\",ROW($HI$2:$HI$72),\"\"),ROW(HI20))-2,0)","v":{"$error":"#NUM!"}},{"$f":"OFFSET($HJ$2,SMALL(IF($HJ$2:$HJ$72<>\"\",ROW($HJ$2:$HJ$72),\"\"),ROW(HJ20))-2,0)","v":{"$error":"#NUM!"}},{"$f":"OFFSET($HK$2,SMALL(IF($HK$2:$HK$72<>\"\",ROW($HK$2:$HK$72),\"\"),ROW(HK20))-2,0)","v":{"$error":"#NUM!"}},{"$f":"OFFSET($HL$2,SMALL(IF($HL$2:$HL$72<>\"\",ROW($HL$2:$HL$72),\"\"),ROW(HL20))-2,0)","v":{"$error":"#NUM!"}},{"$f":"IF(AND(教学计划表!N36<>\"\",教学计划表!BB36<>\"\"),教学计划表!I36,\"\")","v":""},{"$f":"IF(教学计划表!BB36<>\"\",教学计划表!N36,\"\")","v":""},{"$f":"IF(HU21<>\"\",IF(SEARCH(\"4\",教学计划表!AB36&\"4\",1)<=LEN(教学计划表!AB36),\"考试\",\"考查\"),\"\")","v":""},{"$f":"IF(教学计划表!FQ36<>0,教学计划表!FQ36,\"\")","v":""},{"$f":"IF(教学计划表!FQ36<>0,教学计划表!FV36,\"\")","v":""},{"$f":"IF(教学计划表!FQ36<>0,教学计划表!FW36,\"\")","v":""},{"$f":"IF(教学计划表!FQ36<>0,教学计划表!PO36,\"\")","v":""},{"$f":"OFFSET($HT$2,SMALL(IF($HT$2:$HT$72<>\"\",ROW($HT$2:$HT$72),\"\"),ROW(HT20))-2,0)","v":{"$error":"#NUM!"}},{"$f":"OFFSET($HU$2,SMALL(IF($HU$2:$HU$72<>\"\",ROW($HU$2:$HU$72),\"\"),ROW(HU20))-2,0)","v":{"$error":"#NUM!"}},{"$f":"OFFSET($HV$2,SMALL(IF($HV$2:$HV$72<>\"\",ROW($HV$2:$HV$72),\"\"),ROW(HV20))-2,0)","v":{"$error":"#NUM!"}},{"$f":"OFFSET($HW$2,SMALL(IF($HW$2:$HW$72<>\"\",ROW($HW$2:$HW$72),\"\"),ROW(HW20))-2,0)","v":{"$error":"#NUM!"}},{"$f":"OFFSET($HX$2,SMALL(IF($HX$2:$HX$72<>\"\",ROW($HX$2:$HX$72),\"\"),ROW(HX20))-2,0)","v":{"$error":"#NUM!"}},{"$f":"OFFSET($HY$2,SMALL(IF($HY$2:$HY$72<>\"\",ROW($HY$2:$HY$72),\"\"),ROW(HY20))-2,0)","v":{"$error":"#NUM!"}},{"$f":"OFFSET($HZ$2,SMALL(IF($HZ$2:$HZ$72<>\"\",ROW($HZ$2:$HZ$72),\"\"),ROW(HZ20))-2,0)","v":{"$error":"#NUM!"}},null,null,{"$f":"IF(AND(教学计划表!N36<>\"\",教学计划表!BE36<>\"\"),教学计划表!I36,\"\")","v":""},{"$f":"IF(教学计划表!BE36<>\"\",教学计划表!N36,\"\")","v":""},{"$f":"IF(IK21<>\"\",IF(SEARCH(\"5\",教学计划表!AB36&\"5\",1)<=LEN(教学计划表!AB36),\"考试\",\"考查\"),\"\")","v":""},{"$f":"IF(教学计划表!GL36<>0,教学计划表!GL36,\"\")","v":""},{"$f":"IF(教学计划表!GL36<>0,教学计划表!GQ36,\"\")","v":""},{"$f":"IF(教学计划表!GL36<>0,教学计划表!GR36,\"\")","v":""},{"$f":"IF(教学计划表!GL36<>0,教学计划表!PZ36,\"\")","v":""},{"$f":"OFFSET($IJ$2,SMALL(IF($IJ$2:$IJ$72<>\"\",ROW($IJ$2:$IJ$72),\"\"),ROW(IJ20))-2,0)","v":{"$error":"#NUM!"}},{"$f":"OFFSET($IK$2,SMALL(IF($IK$2:$IK$72<>\"\",ROW($IK$2:$IK$72),\"\"),ROW(IK20))-2,0)","v":{"$error":"#NUM!"}},{"$f":"OFFSET($IL$2,SMALL(IF($IL$2:$IL$72<>\"\",ROW($IL$2:$IL$72),\"\"),ROW(IL20))-2,0)","v":{"$error":"#NUM!"}},{"$f":"OFFSET($IM$2,SMALL(IF($IM$2:$IM$72<>\"\",ROW($IM$2:$IM$72),\"\"),ROW(IM20))-2,0)","v":{"$error":"#NUM!"}},{"$f":"OFFSET($IN$2,SMALL(IF($IN$2:$IN$72<>\"\",ROW($IN$2:$IN$72),\"\"),ROW(IN20))-2,0)","v":{"$error":"#NUM!"}},{"$f":"OFFSET($IO$2,SMALL(IF($IO$2:$IO$72<>\"\",ROW($IO$2:$IO$72),\"\"),ROW(IO20))-2,0)","v":{"$error":"#NUM!"}},{"$f":"OFFSET($IP$2,SMALL(IF($IP$2:$IP$72<>\"\",ROW($IP$2:$IP$72),\"\"),ROW(IP20))-2,0)","v":{"$error":"#NUM!"}},null,{"$f":"IF(AND(教学计划表!N36<>\"\",教学计划表!BH36<>\"\"),教学计划表!I36,\"\")","v":""},{"$f":"IF(教学计划表!BH36<>\"\",教学计划表!N36,\"\")","v":""},{"$f":"IF(教学计划表!BH36<>\"\",IF(SEARCH(\"6\",教学计划表!AB36&\"6\",1)<=LEN(教学计划表!AB36),\"考试\",\"考查\"),\"\")","v":""},{"$f":"IF(教学计划表!BH36<>0,教学计划表!HG36,\"\")","v":""},{"$f":"IF(教学计划表!BH36<>0,教学计划表!HL36,\"\")","v":""},{"$f":"IF(教学计划表!BH36<>0,教学计划表!HM36,\"\")","v":""},{"$f":"IF(教学计划表!BH36<>0,教学计划表!QL36,\"\")","v":""},{"$f":"OFFSET($IY$2,SMALL(IF($IY$2:$IY$72<>\"\",ROW($IY$2:$IY$72),\"\"),ROW(IY20))-2,0)","v":{"$error":"#NUM!"}},{"$f":"OFFSET($IZ$2,SMALL(IF($IZ$2:$IZ$72<>\"\",ROW($IZ$2:$IZ$72),\"\"),ROW(IZ20))-2,0)","v":{"$error":"#NUM!"}},{"$f":"OFFSET($JA$2,SMALL(IF($JA$2:$JA$72<>\"\",ROW($JA$2:$JA$72),\"\"),ROW(JA20))-2,0)","v":{"$error":"#NUM!"}},{"$f":"OFFSET($JB$2,SMALL(IF($JB$2:$JB$72<>\"\",ROW($JB$2:$JB$72),\"\"),ROW(JB20))-2,0)","v":{"$error":"#NUM!"}},{"$f":"OFFSET($JC$2,SMALL(IF($JC$2:$JC$72<>\"\",ROW($JC$2:$JC$72),\"\"),ROW(JC20))-2,0)","v":{"$error":"#NUM!"}},{"$f":"OFFSET($JD$2,SMALL(IF($JD$2:$JD$72<>\"\",ROW($JD$2:$JD$72),\"\"),ROW(JD20))-2,0)","v":{"$error":"#NUM!"}},{"$f":"OFFSET($JE$2,SMALL(IF($JE$2:$JE$72<>\"\",ROW($JE$2:$JE$72),\"\"),ROW(JE20))-2,0)","v":{"$error":"#NUM!"}}]
["","","","","","","",null,"","","",{"$f":"IF(ISERROR(自动生成的开课信息!HB22),\"\",自动生成的开课信息!HB22)","v":""},{"$f":"IF(ISERROR(自动生成的开课信息!HC22),\"\",自动生成的开课信息!HC22)","v":""},{"$f":"IF(ISERROR(自动生成的开课信息!HD22),\"\",自动生成的开课信息!HD22)","v":""},{"$f":"IF(ISERROR(自动生成的开课信息!HE22),\"\",自动生成的开课信息!HE22)","v":""},null,"","","","","","","",null,"","","","","","","",null,"","","","","","","",null,"","","","","","","",null,null,null,null,null,null,null,null,null,null,null,null,null,null,null,null,null,null,null,null,null,null,null,null,null,null,null,null,null,null,null,null,null,null,null,null,null,null,null,null,null,null,null,null,null,null,null,null,null,null,null,null,null,null,null,null,null,null,null,null,null,null,null,null,null,null,null,null,null,null,null,null,null,null,null,null,null,null,null,null,null,null,null,null,null,null,null,null,null,null,null,null,null,null,null,null,null,null,null,null,null,null,null,null,null,null,null,null,null,null,null,null,null,null,null,null,null,null,null,null,null,null,null,null,null,null,null,null,null,null,null,null,null,null,null,null,null,null,{"$f":"IF(AND(教学计划表!N37<>\"\",教学计划表!AS37<>\"\"),教学计划表!I37,\"\")","v":""},{"$f":"IF(教学计划表!AS37<>\"\",教学计划表!N37,\"\")","v":""},{"$f":"IF(GE22<>\"\",IF(SEARCH(\"1\",教学计划表!AB37&\"1\",1)<=LEN(教学计划表!AB37),\"考试\",\"考查\"),\"\")","v":""},{"$f":"IF(教学计划表!DG37<>0,教学计划表!DG37,\"\")","v":""},{"$f":"IF(教学计划表!DG37<>0,教学计划表!DL37,\"\")","v":""},{"$f":"IF(教学计划表!DG37<>0,教学计划表!DM37,\"\")","v":""},{"$f":"IF(教学计划表!DG37<>0,教学计划表!OE37,\"\")","v":""},{"$f":"OFFSET($GD$2,SMALL(IF($GD$2:$GD$72<>\"\",ROW($2:$72),\"\"),ROW(GD21))-2,0)","v":{"$error":"#NUM!"}},{"$f":"OFFSET($GE$2,SMALL(IF($GE$2:$GE$72<>\"\",ROW($2:$72),\"\"),ROW(GE21))-2,0)","v":{"$error":"#NUM!"}},{"$f":"OFFSET($GF$2,SMALL(IF($GF$2:$GF$72<>\"\",ROW($2:$72),\"\"),ROW(GF21))-2,0)","v":{"$error":"#NUM!"}},{"$f":"OFFSET($GG$2,SMALL(IF($GG$2:$GG$72<>\"\",ROW($2:$72),\"\"),ROW(GG21))-2,0)","v":{"$error":"#NUM!"}},{"$f":"OFFSET($GH$2,SMALL(IF($GH$2:$GH$72<>\"\",ROW($2:$72),\"\"),ROW(GH21))-2,0)","v":{"$error":"#NUM!"}},{"$error":"#NUM!"},{"$f":"OFFSET($GJ$2,SMALL(IF($GJ$2:$GJ$72<>\"\",ROW($2:$72),\"\"),ROW(GJ21))-2,0)","v":{"$error":"#NUM!"}},{"$f":"IF(AND(教学计划表!N37<>\"\",教学计划表!AV37<>\"\"),教学计划表!I37,\"\")","v":""},{"$f":"IF(教学计划表!AV37<>\"\",教学计划表!N37,\"\")","v":""},{"$f":"IF(GS22<>\"\",IF(SEARCH(\"2\",教学计划表!AB37&\"2\",1)<=LEN(教学计划表!AB37),\"考试\",\"考查\"),\"\")","v":""},{"$f":"IF(教学计划表!EA37<>0,教学计划表!EA37,\"\")","v":""},{"$f":"IF(教学计划表!EA37<>0,教学计划表!EF37,\"\")","v":""},{"$f":"IF(教学计划表!EA37<>0,教学计划表!EG37,\"\")","v":""},{"$f":"IF(教学计划表!EA37<>0,教学计划表!OQ37,\"\")","v":""},{"$f":"OFFSET($GR$2,SMALL(IF($GR$2:$GR$72<>\"\",ROW($I$2:$K$72),\"\"),ROW(GR21))-2,0)","v":{"$error":"#NUM!"}},{"$f":"OFFSET($GS$2,SMALL(IF($GS$2:$GS$72<>\"\",ROW($I$2:$K$72),\"\"),ROW(GS21))-2,0)","v":{"$error":"#NUM!"}},{"$f":"OFFSET($GT$2,SMALL(IF($GT$2:$GT$72<>\"\",ROW($I$2:$K$72),\"\"),ROW(GT21))-2,0)","v":{"$error":"#NUM!"}},{"$f":"OFFSET($GU$2,SMALL(IF($GU$2:$GU$72<>\"\",ROW($I$2:$K$72),\"\"),ROW(GU21))-2,0)","v":{"$error":"#NUM!"}},{"$f":"OFFSET($GV$2,SMALL(IF($GV$2:$GV$72<>\"\",ROW($GV$2:$GV$72),\"\"),ROW(GV21))-2,0)","v":{"$error":"#NUM!"}},{"$f":"OFFSET($GW$2,SMALL(IF($GW$2:$GW$72<>\"\",ROW($GW$2:$GW$72),\"\"),ROW(GW21))-2,0)","v":{"$error":"#NUM!"}},{"$f":"OFFSET($GX$2,SMALL(IF($GX$2:$GX$72<>\"\",ROW($GX$2:$GX$72),\"\"),ROW(GX21))-2,0)","v":{"$error":"#NUM!"}},{"$f":"IF(AND(教学计划表!N37<>\"\",教学计划表!AY37<>\"\"),教学计划表!I37,\"\")","v":""},{"$f":"IF(教学计划表!AY37<>\"\",教学计划表!N37,\"\")","v":""},{"$f":"IF(HG22<>\"\",IF(SEARCH(\"3\",教学计划表!AB37&\"3\",1)<=LEN(教学计划表!AB37),\"考试\",\"考查\"),\"\")","v":""},{"$f":"IF(教学计划表!EV37<>0,教学计划表!EV37,\"\")","v":""},{"$f":"IF(教学计划表!EV37<>0,教学计划表!FA37,\"\")","v":""},{"$f":"IF(教学计划表!EV37<>0,教学计划表!FB37,\"\")","v":""},{"$f":"IF(教学计划表!EV37<>0,教学计划表!PC37,\"\")","v":""},{"$f":"OFFSET($HF$2,SMALL(IF($HF$2:$HF$72<>\"\",ROW($HF$2:$HF$72),\"\"),ROW(HF21))-2,0)","v":{"$error":"#NUM!"}},{"$f":"OFFSET($HG$2,SMALL(IF($HG$2:$HG$72<>\"\",ROW($HG$2:$HG$72),\"\"),ROW(HG21))-2,0)","v":{"$error":"#NUM!"}},{"$f":"OFFSET($HH$2,SMALL(IF($HH$2:$HH$72<>\"\",ROW($HH$2:$HH$72),\"\"),ROW(HH21))-2,0)","v":{"$error":"#NUM!"}},{"$f":"OFFSET($HI$2,SMALL(IF($HI$2:$HI$72<>\"\",ROW($HI$2:$HI$72),\"\"),ROW(HI21))-2,0)","v":{"$error":"#NUM!"}},{"$f":"OFFSET($HJ$2,SMALL(IF($HJ$2:$HJ$72<>\"\",ROW($HJ$2:$HJ$72),\"\"),ROW(HJ21))-2,0)","v":{"$error":"#NUM!"}},{"$f":"OFFSET($HK$2,SMALL(IF($HK$2:$HK$72<>\"\",ROW($HK$2:$HK$72),\"\"),ROW(HK21))-2,0)","v":{"$error":"#NUM!"}},{"$f":"OFFSET($HL$2,SMALL(IF($HL$2:$HL$72<>\"\",ROW($HL$2:$HL$72),\"\"),ROW(HL21))-2,0)","v":{"$error":"#NUM!"}},{"$f":"IF(AND(教学计划表!N37<>\"\",教学计划表!BB37<>\"\"),教学计划表!I37,\"\")","v":""},{"$f":"IF(教学计划表!BB37<>\"\",教学计划表!N37,\"\")","v":""},{"$f":"IF(HU22<>\"\",IF(SEARCH(\"4\",教学计划表!AB37&\"4\",1)<=LEN(教学计划表!AB37),\"考试\",\"考查\"),\"\")","v":""},{"$f":"IF(教学计划表!FQ37<>0,教学计划表!FQ37,\"\")","v":""},{"$f":"IF(教学计划表!FQ37<>0,教学计划表!FV37,\"\")","v":""},{"$f":"IF(教学计划表!FQ37<>0,教学计划表!FW37,\"\")","v":""},{"$f":"IF(教学计划表!FQ37<>0,教学计划表!PO37,\"\")","v":""},{"$f":"OFFSET($HT$2,SMALL(IF($HT$2:$HT$72<>\"\",ROW($HT$2:$HT$72),\"\"),ROW(HT21))-2,0)","v":{"$error":"#NUM!"}},{"$f":"OFFSET($HU$2,SMALL(IF($HU$2:$HU$72<>\"\",ROW($HU$2:$HU$72),\"\"),ROW(HU21))-2,0)","v":{"$error":"#NUM!"}},{"$f":"OFFSET($HV$2,SMALL(IF($HV$2:$HV$72<>\"\",ROW($HV$2:$HV$72),\"\"),ROW(HV21))-2,0)","v":{"$error":"#NUM!"}},{"$f":"OFFSET($HW$2,SMALL(IF($HW$2:$HW$72<>\"\",ROW($HW$2:$HW$72),\"\"),ROW(HW21))-2,0)","v":{"$error":"#NUM!"}},{"$f":"OFFSET($HX$2,SMALL(IF($HX$2:$HX$72<>\"\",ROW($HX$2:$HX$72),\"\"),ROW(HX21))-2,0)","v":{"$error":"#NUM!"}},{"$f":"OFFSET($HY$2,SMALL(IF($HY$2:$HY$72<>\"\",ROW($HY$2:$HY$72),\"\"),ROW(HY21))-2,0)","v":{"$error":"#NUM!"}},{"$f":"OFFSET($HZ$2,SMALL(IF($HZ$2:$HZ$72<>\"\",ROW($HZ$2:$HZ$72),\"\"),ROW(HZ21))-2,0)","v":{"$error":"#NUM!"}},null,null,{"$f":"IF(AND(教学计划表!N37<>\"\",教学计划表!BE37<>\"\"),教学计划表!I37,\"\")","v":""},{"$f":"IF(教学计划表!BE37<>\"\",教学计划表!N37,\"\")","v":""},{"$f":"IF(IK22<>\"\",IF(SEARCH(\"5\",教学计划表!AB37&\"5\",1)<=LEN(教学计划表!AB37),\"考试\",\"考查\"),\"\")","v":""},{"$f":"IF(教学计划表!GL37<>0,教学计划表!GL37,\"\")","v":""},{"$f":"IF(教学计划表!GL37<>0,教学计划表!GQ37,\"\")","v":""},{"$f":"IF(教学计划表!GL37<>0,教学计划表!GR37,\"\")","v":""},{"$f":"IF(教学计划表!GL37<>0,教学计划表!PZ37,\"\")","v":""},{"$f":"OFFSET($IJ$2,SMALL(IF($IJ$2:$IJ$72<>\"\",ROW($IJ$2:$IJ$72),\"\"),ROW(IJ21))-2,0)","v":{"$error":"#NUM!"}},{"$f":"OFFSET($IK$2,SMALL(IF($IK$2:$IK$72<>\"\",ROW($IK$2:$IK$72),\"\"),ROW(IK21))-2,0)","v":{"$error":"#NUM!"}},{"$f":"OFFSET($IL$2,SMALL(IF($IL$2:$IL$72<>\"\",ROW($IL$2:$IL$72),\"\"),ROW(IL21))-2,0)","v":{"$error":"#NUM!"}},{"$f":"OFFSET($IM$2,SMALL(IF($IM$2:$IM$72<>\"\",ROW($IM$2:$IM$72),\"\"),ROW(IM21))-2,0)","v":{"$error":"#NUM!"}},{"$f":"OFFSET($IN$2,SMALL(IF($IN$2:$IN$72<>\"\",ROW($IN$2:$IN$72),\"\"),ROW(IN21))-2,0)","v":{"$error":"#NUM!"}},{"$f":"OFFSET($IO$2,SMALL(IF($IO$2:$IO$72<>\"\",ROW($IO$2:$IO$72),\"\"),ROW(IO21))-2,0)","v":{"$error":"#NUM!"}},{"$f":"OFFSET($IP$2,SMALL(IF($IP$2:$IP$72<>\"\",ROW($IP$2:$IP$72),\"\"),ROW(IP21))-2,0)","v":{"$error":"#NUM!"}},null,{"$f":"IF(AND(教学计划表!N37<>\"\",教学计划表!BH37<>\"\"),教学计划表!I37,\"\")","v":""},{"$f":"IF(教学计划表!BH37<>\"\",教学计划表!N37,\"\")","v":""},{"$f":"IF(教学计划表!BH37<>\"\",IF(SEARCH(\"6\",教学计划表!AB37&\"6\",1)<=LEN(教学计划表!AB37),\"考试\",\"考查\"),\"\")","v":""},{"$f":"IF(教学计划表!BH37<>0,教学计划表!HG37,\"\")","v":""},{"$f":"IF(教学计划表!BH37<>0,教学计划表!HL37,\"\")","v":""},{"$f":"IF(教学计划表!BH37<>0,教学计划表!HM37,\"\")","v":""},{"$f":"IF(教学计划表!BH37<>0,教学计划表!QL37,\"\")","v":""},{"$f":"OFFSET($IY$2,SMALL(IF($IY$2:$IY$72<>\"\",ROW($IY$2:$IY$72),\"\"),ROW(IY21))-2,0)","v":{"$error":"#NUM!"}},{"$f":"OFFSET($IZ$2,SMALL(IF($IZ$2:$IZ$72<>\"\",ROW($IZ$2:$IZ$72),\"\"),ROW(IZ21))-2,0)","v":{"$error":"#NUM!"}},{"$f":"OFFSET($JA$2,SMALL(IF($JA$2:$JA$72<>\"\",ROW($JA$2:$JA$72),\"\"),ROW(JA21))-2,0)","v":{"$error":"#NUM!"}},{"$f":"OFFSET($JB$2,SMALL(IF($JB$2:$JB$72<>\"\",ROW($JB$2:$JB$72),\"\"),ROW(JB21))-2,0)","v":{"$error":"#NUM!"}},{"$f":"OFFSET($JC$2,SMALL(IF($JC$2:$JC$72<>\"\",ROW($JC$2:$JC$72),\"\"),ROW(JC21))-2,0)","v":{"$error":"#NUM!"}},{"$f":"OFFSET($JD$2,SMALL(IF($JD$2:$JD$72<>\"\",ROW($JD$2:$JD$72),\"\"),ROW(JD21))-2,0)","v":{"$error":"#NUM!"}},{"$f":"OFFSET($JE$2,SMALL(IF($JE$2:$JE$72<>\"\",ROW($JE$2:$JE$72),\"\"),ROW(JE21))-2,0)","v":{"$error":"#NUM!"}}]
["","","","","","","",null,"","","",{"$f":"IF(ISERROR(自动生成的开课信息!HB23),\"\",自动生成的开课信息!HB23)","v":""},{"$f":"IF(ISERROR(自动生成的开课信息!HC23),\"\",自动生成的开课信息!HC23)","v":""},{"$f":"IF(ISERROR(自动生成的开课信息!HD23),\"\",自动生成的开课信息!HD23)","v":""},{"$f":"IF(ISERROR(自动生成的开课信息!HE23),\"\",自动生成的开课信息!HE23)","v":""},null,"","","","","","","",null,"","","","","","","",null,"","","","","","","",null,"","","","","","","",null,null,null,null,null,null,null,null,null,null,null,null,null,null,null,null,null,null,null,null,null,null,null,null,null,null,null,null,null,null,null,null,null,null,null,null,null,null,null,null,null,null,null,null,null,null,null,null,null,null,null,null,null,null,null,null,null,null,null,null,null,null,null,null,null,null,null,null,null,null,null,null,null,null,null,null,null,null,null,null,null,null,null,null,null,null,null,null,null,null,null,null,null,null,null,null,null,null,null,null,null,null,null,null,null,null,null,null,null,null,null,null,null,null,null,null,null,null,null,null,null,null,null,null,null,null,null,null,null,null,null,null,null,null,null,null,null,null,{"$f":"IF(AND(教学计划表!N38<>\"\",教学计划表!AS38<>\"\"),教学计划表!I38,\"\")","v":""},{"$f":"IF(教学计划表!AS38<>\"\",教学计划表!N38,\"\")","v":""},{"$f":"IF(GE23<>\"\",IF(SEARCH(\"1\",教学计划表!AB38&\"1\",1)<=LEN(教学计划表!AB38),\"考试\",\"考查\"),\"\")","v":""},{"$f":"IF(教学计划表!DG38<>0,教学计划表!DG38,\"\")","v":""},{"$f":"IF(教学计划表!DG38<>0,教学计划表!DL38,\"\")","v":""},{"$f":"IF(教学计划表!DG38<>0,教学计划表!DM38,\"\")","v":""},{"$f":"IF(教学计划表!DG38<>0,教学计划表!OE38,\"\")","v":""},{"$f":"OFFSET($GD$2,SMALL(IF($GD$2:$GD$72<>\"\",ROW($2:$72),\"\"),ROW(GD22))-2,0)","v":{"$error":"#NUM!"}},{"$f":"OFFSET($GE$2,SMALL(IF($GE$2:$GE$72<>\"\",ROW($2:$72),\"\"),ROW(GE22))-2,0)","v":{"$error":"#NUM!"}},{"$f":"OFFSET($GF$2,SMALL(IF($GF$2:$GF$72<>\"\",ROW($2:$72),\"\"),ROW(GF22))-2,0)","v":{"$error":"#NUM!"}},{"$f":"OFFSET($GG$2,SMALL(IF($GG$2:$GG$72<>\"\",ROW($2:$72),\"\"),ROW(GG22))-2,0)","v":{"$error":"#NUM!"}},{"$f":"OFFSET($GH$2,SMALL(IF($GH$2:$GH$72<>\"\",ROW($2:$72),\"\"),ROW(GH22))-2,0)","v":{"$error":"#NUM!"}},{"$error":"#NUM!"},{"$f":"OFFSET($GJ$2,SMALL(IF($GJ$2:$GJ$72<>\"\",ROW($2:$72),\"\"),ROW(GJ22))-2,0)","v":{"$error":"#NUM!"}},{"$f":"IF(AND(教学计划表!N38<>\"\",教学计划表!AV38<>\"\"),教学计划表!I38,\"\")","v":""},{"$f":"IF(教学计划表!AV38<>\"\",教学计划表!N38,\"\")","v":""},{"$f":"IF(GS23<>\"\",IF(SEARCH(\"2\",教学计划表!AB38&\"2\",1)<=LEN(教学计划表!AB38),\"考试\",\"考查\"),\"\")","v":""},{"$f":"IF(教学计划表!EA38<>0,教学计划表!EA38,\"\")","v":""},{"$f":"IF(教学计划表!EA38<>0,教学计划表!EF38,\"\")","v":""},{"$f":"IF(教学计划表!EA38<>0,教学计划表!EG38,\"\")","v":""},{"$f":"IF(教学计划表!EA38<>0,教学计划表!OQ38,\"\")","v":""},{"$f":"OFFSET($GR$2,SMALL(IF($GR$2:$GR$72<>\"\",ROW($I$2:$K$72),\"\"),ROW(GR22))-2,0)","v":{"$error":"#NUM!"}},{"$f":"OFFSET($GS$2,SMALL(IF($GS$2:$GS$72<>\"\",ROW($I$2:$K$72),\"\"),ROW(GS22))-2,0)","v":{"$error":"#NUM!"}},{"$f":"OFFSET($GT$2,SMALL(IF($GT$2:$GT$72<>\"\",ROW($I$2:$K$72),\"\"),ROW(GT22))-2,0)","v":{"$error":"#NUM!"}},{"$f":"OFFSET($GU$2,SMALL(IF($GU$2:$GU$72<>\"\",ROW($I$2:$K$72),\"\"),ROW(GU22))-2,0)","v":{"$error":"#NUM!"}},{"$f":"OFFSET($GV$2,SMALL(IF($GV$2:$GV$72<>\"\",ROW($GV$2:$GV$72),\"\"),ROW(GV22))-2,0)","v":{"$error":"#NUM!"}},{"$f":"OFFSET($GW$2,SMALL(IF($GW$2:$GW$72<>\"\",ROW($GW$2:$GW$72),\"\"),ROW(GW22))-2,0)","v":{"$error":"#NUM!"}},{"$f":"OFFSET($GX$2,SMALL(IF($GX$2:$GX$72<>\"\",ROW($GX$2:$GX$72),\"\"),ROW(GX22))-2,0)","v":{"$error":"#NUM!"}},{"$f":"IF(AND(教学计划表!N38<>\"\",教学计划表!AY38<>\"\"),教学计划表!I38,\"\")","v":""},{"$f":"IF(教学计划表!AY38<>\"\",教学计划表!N38,\"\")","v":""},{"$f":"IF(HG23<>\"\",IF(SEARCH(\"3\",教学计划表!AB38&\"3\",1)<=LEN(教学计划表!AB38),\"考试\",\"考查\"),\"\")","v":""},{"$f":"IF(教学计划表!EV38<>0,教学计划表!EV38,\"\")","v":""},{"$f":"IF(教学计划表!EV38<>0,教学计划表!FA38,\"\")","v":""},{"$f":"IF(教学计划表!EV38<>0,教学计划表!FB38,\"\")","v":""},{"$f":"IF(教学计划表!EV38<>0,教学计划表!PC38,\"\")","v":""},{"$f":"OFFSET($HF$2,SMALL(IF($HF$2:$HF$72<>\"\",ROW($HF$2:$HF$72),\"\"),ROW(HF22))-2,0)","v":{"$error":"#NUM!"}},{"$f":"OFFSET($HG$2,SMALL(IF($HG$2:$HG$72<>\"\",ROW($HG$2:$HG$72),\"\"),ROW(HG22))-2,0)","v":{"$error":"#NUM!"}},{"$f":"OFFSET($HH$2,SMALL(IF($HH$2:$HH$72<>\"\",ROW($HH$2:$HH$72),\"\"),ROW(HH22))-2,0)","v":{"$error":"#NUM!"}},{"$f":"OFFSET($HI$2,SMALL(IF($HI$2:$HI$72<>\"\",ROW($HI$2:$HI$72),\"\"),ROW(HI22))-2,0)","v":{"$error":"#NUM!"}},{"$f":"OFFSET($HJ$2,SMALL(IF($HJ$2:$HJ$72<>\"\",ROW($HJ$2:$HJ$72),\"\"),ROW(HJ22))-2,0)","v":{"$error":"#NUM!"}},{"$f":"OFFSET($HK$2,SMALL(IF($HK$2:$HK$72<>\"\",ROW($HK$2:$HK$72),\"\"),ROW(HK22))-2,0)","v":{"$error":"#NUM!"}},{"$f":"OFFSET($HL$2,SMALL(IF($HL$2:$HL$72<>\"\",ROW($HL$2:$HL$72),\"\"),ROW(HL22))-2,0)","v":{"$error":"#NUM!"}},{"$f":"IF(AND(教学计划表!N38<>\"\",教学计划表!BB38<>\"\"),教学计划表!I38,\"\")","v":""},{"$f":"IF(教学计划表!BB38<>\"\",教学计划表!N38,\"\")","v":""},{"$f":"IF(HU23<>\"\",IF(SEARCH(\"4\",教学计划表!AB38&\"4\",1)<=LEN(教学计划表!AB38),\"考试\",\"考查\"),\"\")","v":""},{"$f":"IF(教学计划表!FQ38<>0,教学计划表!FQ38,\"\")","v":""},{"$f":"IF(教学计划表!FQ38<>0,教学计划表!FV38,\"\")","v":""},{"$f":"IF(教学计划表!FQ38<>0,教学计划表!FW38,\"\")","v":""},{"$f":"IF(教学计划表!FQ38<>0,教学计划表!PO38,\"\")","v":""},{"$f":"OFFSET($HT$2,SMALL(IF($HT$2:$HT$72<>\"\",ROW($HT$2:$HT$72),\"\"),ROW(HT22))-2,0)","v":{"$error":"#NUM!"}},{"$f":"OFFSET($HU$2,SMALL(IF($HU$2:$HU$72<>\"\",ROW($HU$2:$HU$72),\"\"),ROW(HU22))-2,0)","v":{"$error":"#NUM!"}},{"$f":"OFFSET($HV$2,SMALL(IF($HV$2:$HV$72<>\"\",ROW($HV$2:$HV$72),\"\"),ROW(HV22))-2,0)","v":{"$error":"#NUM!"}},{"$f":"OFFSET($HW$2,SMALL(IF($HW$2:$HW$72<>\"\",ROW($HW$2:$HW$72),\"\"),ROW(HW22))-2,0)","v":{"$error":"#NUM!"}},{"$f":"OFFSET($HX$2,SMALL(IF($HX$2:$HX$72<>\"\",ROW($HX$2:$HX$72),\"\"),ROW(HX22))-2,0)","v":{"$error":"#NUM!"}},{"$f":"OFFSET($HY$2,SMALL(IF($HY$2:$HY$72<>\"\",ROW($HY$2:$HY$72),\"\"),ROW(HY22))-2,0)","v":{"$error":"#NUM!"}},{"$f":"OFFSET($HZ$2,SMALL(IF($HZ$2:$HZ$72<>\"\",ROW($HZ$2:$HZ$72),\"\"),ROW(HZ22))-2,0)","v":{"$error":"#NUM!"}},null,null,{"$f":"IF(AND(教学计划表!N38<>\"\",教学计划表!BE38<>\"\"),教学计划表!I38,\"\")","v":""},{"$f":"IF(教学计划表!BE38<>\"\",教学计划表!N38,\"\")","v":""},{"$f":"IF(IK23<>\"\",IF(SEARCH(\"5\",教学计划表!AB38&\"5\",1)<=LEN(教学计划表!AB38),\"考试\",\"考查\"),\"\")","v":""},{"$f":"IF(教学计划表!GL38<>0,教学计划表!GL38,\"\")","v":""},{"$f":"IF(教学计划表!GL38<>0,教学计划表!GQ38,\"\")","v":""},{"$f":"IF(教学计划表!GL38<>0,教学计划表!GR38,\"\")","v":""},{"$f":"IF(教学计划表!GL38<>0,教学计划表!PZ38,\"\")","v":""},{"$f":"OFFSET($IJ$2,SMALL(IF($IJ$2:$IJ$72<>\"\",ROW($IJ$2:$IJ$72),\"\"),ROW(IJ22))-2,0)","v":{"$error":"#NUM!"}},{"$f":"OFFSET($IK$2,SMALL(IF($IK$2:$IK$72<>\"\",ROW($IK$2:$IK$72),\"\"),ROW(IK22))-2,0)","v":{"$error":"#NUM!"}},{"$f":"OFFSET($IL$2,SMALL(IF($IL$2:$IL$72<>\"\",ROW($IL$2:$IL$72),\"\"),ROW(IL22))-2,0)","v":{"$error":"#NUM!"}},{"$f":"OFFSET($IM$2,SMALL(IF($IM$2:$IM$72<>\"\",ROW($IM$2:$IM$72),\"\"),ROW(IM22))-2,0)","v":{"$error":"#NUM!"}},{"$f":"OFFSET($IN$2,SMALL(IF($IN$2:$IN$72<>\"\",ROW($IN$2:$IN$72),\"\"),ROW(IN22))-2,0)","v":{"$error":"#NUM!"}},{"$f":"OFFSET($IO$2,SMALL(IF($IO$2:$IO$72<>\"\",ROW($IO$2:$IO$72),\"\"),ROW(IO22))-2,0)","v":{"$error":"#NUM!"}},{"$f":"OFFSET($IP$2,SMALL(IF($IP$2:$IP$72<>\"\",ROW($IP$2:$IP$72),\"\"),ROW(IP22))-2,0)","v":{"$error":"#NUM!"}},null,{"$f":"IF(AND(教学计划表!N38<>\"\",教学计划表!BH38<>\"\"),教学计划表!I38,\"\")","v":""},{"$f":"IF(教学计划表!BH38<>\"\",教学计划表!N38,\"\")","v":""},{"$f":"IF(教学计划表!BH38<>\"\",IF(SEARCH(\"6\",教学计划表!AB38&\"6\",1)<=LEN(教学计划表!AB38),\"考试\",\"考查\"),\"\")","v":""},{"$f":"IF(教学计划表!BH38<>0,教学计划表!HG38,\"\")","v":""},{"$f":"IF(教学计划表!BH38<>0,教学计划表!HL38,\"\")","v":""},{"$f":"IF(教学计划表!BH38<>0,教学计划表!HM38,\"\")","v":""},{"$f":"IF(教学计划表!BH38<>0,教学计划表!QL38,\"\")","v":""},{"$f":"OFFSET($IY$2,SMALL(IF($IY$2:$IY$72<>\"\",ROW($IY$2:$IY$72),\"\"),ROW(IY22))-2,0)","v":{"$error":"#NUM!"}},{"$f":"OFFSET($IZ$2,SMALL(IF($IZ$2:$IZ$72<>\"\",ROW($IZ$2:$IZ$72),\"\"),ROW(IZ22))-2,0)","v":{"$error":"#NUM!"}},{"$f":"OFFSET($JA$2,SMALL(IF($JA$2:$JA$72<>\"\",ROW($JA$2:$JA$72),\"\"),ROW(JA22))-2,0)","v":{"$error":"#NUM!"}},{"$f":"OFFSET($JB$2,SMALL(IF($JB$2:$JB$72<>\"\",ROW($JB$2:$JB$72),\"\"),ROW(JB22))-2,0)","v":{"$error":"#NUM!"}},{"$f":"OFFSET($JC$2,SMALL(IF($JC$2:$JC$72<>\"\",ROW($JC$2:$JC$72),\"\"),ROW(JC22))-2,0)","v":{"$error":"#NUM!"}},{"$f":"OFFSET($JD$2,SMALL(IF($JD$2:$JD$72<>\"\",ROW($JD$2:$JD$72),\"\"),ROW(JD22))-2,0)","v":{"$error":"#NUM!"}},{"$f":"OFFSET($JE$2,SMALL(IF($JE$2:$JE$72<>\"\",ROW($JE$2:$JE$72),\"\"),ROW(JE22))-2,0)","v":{"$error":"#NUM!"}}]
["","","","","","","",null,"","","",{"$f":"IF(ISERROR(自动生成的开课信息!HB24),\"\",自动生成的开课信息!HB24)","v":""},{"$f":"IF(ISERROR(自动生成的开课信息!HC24),\"\",自动生成的开课信息!HC24)","v":""},{"$f":"IF(ISERROR(自动生成的开课信息!HD24),\"\",自动生成的开课信息!HD24)","v":""},{"$f":"IF(ISERROR(自动生成的开课信息!HE24),\"\",自动生成的开课信息!HE24)","v":""},null,"","","","","","","",null,"","","","","","","",null,"","","","","","","",null,"","","","","","","",null,null,null,null,null,null,null,null,null,null,null,null,null,null,null,null,null,null,null,null,null,null,null,null,null,null,null,null,null,null,null,null,null,null,null,null,null,null,null,null,null,null,null,null,null,null,null,null,null,null,null,null,null,null,null,null,null,null,null,null,null,null,null,null,null,null,null,null,null,null,null,null,null,null,null,null,null,null,null,null,null,null,null,null,null,null,null,null,null,null,null,null,null,null,null,null,null,null,null,null,null,null,null,null,null,null,null,null,null,null,null,null,null,null,null,null,null,null,null,null,null,null,null,null,null,null,null,null,null,null,null,null,null,null,null,null,null,null,{"$f":"IF(AND(教学计划表!N39<>\"\",教学计划表!AS39<>\"\"),教学计划表!I39,\"\")","v":""},{"$f":"IF(教学计划表!AS39<>\"\",教学计划表!N39,\"\")","v":""},{"$f":"IF(GE24<>\"\",IF(SEARCH(\"1\",教学计划表!AB39&\"1\",1)<=LEN(教学计划表!AB39),\"考试\",\"考查\"),\"\")","v":""},{"$f":"IF(教学计划表!DG39<>0,教学计划表!DG39,\"\")","v":""},{"$f":"IF(教学计划表!DG39<>0,教学计划表!DL39,\"\")","v":""},{"$f":"IF(教学计划表!DG39<>0,教学计划表!DM39,\"\")","v":""},{"$f":"IF(教学计划表!DG39<>0,教学计划表!OE39,\"\")","v":""},{"$f":"OFFSET($GD$2,SMALL(IF($GD$2:$GD$72<>\"\",ROW($2:$72),\"\"),ROW(GD23))-2,0)","v":{"$error":"#NUM!"}},{"$f":"OFFSET($GE$2,SMALL(IF($GE$2:$GE$72<>\"\",ROW($2:$72),\"\"),ROW(GE23))-2,0)","v":{"$error":"#NUM!"}},{"$f":"OFFSET($GF$2,SMALL(IF($GF$2:$GF$72<>\"\",ROW($2:$72),\"\"),ROW(GF23))-2,0)","v":{"$error":"#NUM!"}},{"$f":"OFFSET($GG$2,SMALL(IF($GG$2:$GG$72<>\"\",ROW($2:$72),\"\"),ROW(GG23))-2,0)","v":{"$error":"#NUM!"}},{"$f":"OFFSET($GH$2,SMALL(IF($GH$2:$GH$72<>\"\",ROW($2:$72),\"\"),ROW(GH23))-2,0)","v":{"$error":"#NUM!"}},{"$error":"#NUM!"},{"$f":"OFFSET($GJ$2,SMALL(IF($GJ$2:$GJ$72<>\"\",ROW($2:$72),\"\"),ROW(GJ23))-2,0)","v":{"$error":"#NUM!"}},{"$f":"IF(AND(教学计划表!N39<>\"\",教学计划表!AV39<>\"\"),教学计划表!I39,\"\")","v":""},{"$f":"IF(教学计划表!AV39<>\"\",教学计划表!N39,\"\")","v":""},{"$f":"IF(GS24<>\"\",IF(SEARCH(\"2\",教学计划表!AB39&\"2\",1)<=LEN(教学计划表!AB39),\"考试\",\"考查\"),\"\")","v":""},{"$f":"IF(教学计划表!EA39<>0,教学计划表!EA39,\"\")","v":""},{"$f":"IF(教学计划表!EA39<>0,教学计划表!EF39,\"\")","v":""},{"$f":"IF(教学计划表!EA39<>0,教学计划表!EG39,\"\")","v":""},{"$f":"IF(教学计划表!EA39<>0,教学计划表!OQ39,\"\")","v":""},{"$f":"OFFSET($GR$2,SMALL(IF($GR$2:$GR$72<>\"\",ROW($I$2:$K$72),\"\"),ROW(GR23))-2,0)","v":{"$error":"#NUM!"}},{"$f":"OFFSET($GS$2,SMALL(IF($GS$2:$GS$72<>\"\",ROW($I$2:$K$72),\"\"),ROW(GS23))-2,0)","v":{"$error":"#NUM!"}},{"$f":"OFFSET($GT$2,SMALL(IF($GT$2:$GT$72<>\"\",ROW($I$2:$K$72),\"\"),ROW(GT23))-2,0)","v":{"$error":"#NUM!"}},{"$f":"OFFSET($GU$2,SMALL(IF($GU$2:$GU$72<>\"\",ROW($I$2:$K$72),\"\"),ROW(GU23))-2,0)","v":{"$error":"#NUM!"}},{"$f":"OFFSET($GV$2,SMALL(IF($GV$2:$GV$72<>\"\",ROW($GV$2:$GV$72),\"\"),ROW(GV23))-2,0)","v":{"$error":"#NUM!"}},{"$f":"OFFSET($GW$2,SMALL(IF($GW$2:$GW$72<>\"\",ROW($GW$2:$GW$72),\"\"),ROW(GW23))-2,0)","v":{"$error":"#NUM!"}},{"$f":"OFFSET($GX$2,SMALL(IF($GX$2:$GX$72<>\"\",ROW($GX$2:$GX$72),\"\"),ROW(GX23))-2,0)","v":{"$error":"#NUM!"}},{"$f":"IF(AND(教学计划表!N39<>\"\",教学计划表!AY39<>\"\"),教学计划表!I39,\"\")","v":""},{"$f":"IF(教学计划表!AY39<>\"\",教学计划表!N39,\"\")","v":""},{"$f":"IF(HG24<>\"\",IF(SEARCH(\"3\",教学计划表!AB39&\"3\",1)<=LEN(教学计划表!AB39),\"考试\",\"考查\"),\"\")","v":""},{"$f":"IF(教学计划表!EV39<>0,教学计划表!EV39,\"\")","v":""},{"$f":"IF(教学计划表!EV39<>0,教学计划表!FA39,\"\")","v":""},{"$f":"IF(教学计划表!EV39<>0,教学计划表!FB39,\"\")","v":""},{"$f":"IF(教学计划表!EV39<>0,教学计划表!PC39,\"\")","v":""},{"$f":"OFFSET($HF$2,SMALL(IF($HF$2:$HF$72<>\"\",ROW($HF$2:$HF$72),\"\"),ROW(HF23))-2,0)","v":{"$error":"#NUM!"}},{"$f":"OFFSET($HG$2,SMALL(IF($HG$2:$HG$72<>\"\",ROW($HG$2:$HG$72),\"\"),ROW(HG23))-2,0)","v":{"$error":"#NUM!"}},{"$f":"OFFSET($HH$2,SMALL(IF($HH$2:$HH$72<>\"\",ROW($HH$2:$HH$72),\"\"),ROW(HH23))-2,0)","v":{"$error":"#NUM!"}},{"$f":"OFFSET($HI$2,SMALL(IF($HI$2:$HI$72<>\"\",ROW($HI$2:$HI$72),\"\"),ROW(HI23))-2,0)","v":{"$error":"#NUM!"}},{"$f":"OFFSET($HJ$2,SMALL(IF($HJ$2:$HJ$72<>\"\",ROW($HJ$2:$HJ$72),\"\"),ROW(HJ23))-2,0)","v":{"$error":"#NUM!"}},{"$f":"OFFSET($HK$2,SMALL(IF($HK$2:$HK$72<>\"\",ROW($HK$2:$HK$72),\"\"),ROW(HK23))-2,0)","v":{"$error":"#NUM!"}},{"$f":"OFFSET($HL$2,SMALL(IF($HL$2:$HL$72<>\"\",ROW($HL$2:$HL$72),\"\"),ROW(HL23))-2,0)","v":{"$error":"#NUM!"}},{"$f":"IF(AND(教学计划表!N39<>\"\",教学计划表!BB39<>\"\"),教学计划表!I39,\"\")","v":""},{"$f":"IF(教学计划表!BB39<>\"\",教学计划表!N39,\"\")","v":""},{"$f":"IF(HU24<>\"\",IF(SEARCH(\"4\",教学计划表!AB39&\"4\",1)<=LEN(教学计划表!AB39),\"考试\",\"考查\"),\"\")","v":""},{"$f":"IF(教学计划表!FQ39<>0,教学计划表!FQ39,\"\")","v":""},{"$f":"IF(教学计划表!FQ39<>0,教学计划表!FV39,\"\")","v":""},{"$f":"IF(教学计划表!FQ39<>0,教学计划表!FW39,\"\")","v":""},{"$f":"IF(教学计划表!FQ39<>0,教学计划表!PO39,\"\")","v":""},{"$f":"OFFSET($HT$2,SMALL(IF($HT$2:$HT$72<>\"\",ROW($HT$2:$HT$72),\"\"),ROW(HT23))-2,0)","v":{"$error":"#NUM!"}},{"$f":"OFFSET($HU$2,SMALL(IF($HU$2:$HU$72<>\"\",ROW($HU$2:$HU$72),\"\"),ROW(HU23))-2,0)","v":{"$error":"#NUM!"}},{"$f":"OFFSET($HV$2,SMALL(IF($HV$2:$HV$72<>\"\",ROW($HV$2:$HV$72),\"\"),ROW(HV23))-2,0)","v":{"$error":"#NUM!"}},{"$f":"OFFSET($HW$2,SMALL(IF($HW$2:$HW$72<>\"\",ROW($HW$2:$HW$72),\"\"),ROW(HW23))-2,0)","v":{"$error":"#NUM!"}},{"$f":"OFFSET($HX$2,SMALL(IF($HX$2:$HX$72<>\"\",ROW($HX$2:$HX$72),\"\"),ROW(HX23))-2,0)","v":{"$error":"#NUM!"}},{"$f":"OFFSET($HY$2,SMALL(IF($HY$2:$HY$72<>\"\",ROW($HY$2:$HY$72),\"\"),ROW(HY23))-2,0)","v":{"$error":"#NUM!"}},{"$f":"OFFSET($HZ$2,SMALL(IF($HZ$2:$HZ$72<>\"\",ROW($HZ$2:$HZ$72),\"\"),ROW(HZ23))-2,0)","v":{"$error":"#NUM!"}},null,null,{"$f":"IF(AND(教学计划表!N39<>\"\",教学计划表!BE39<>\"\"),教学计划表!I39,\"\")","v":""},{"$f":"IF(教学计划表!BE39<>\"\",教学计划表!N39,\"\")","v":""},{"$f":"IF(IK24<>\"\",IF(SEARCH(\"5\",教学计划表!AB39&\"5\",1)<=LEN(教学计划表!AB39),\"考试\",\"考查\"),\"\")","v":""},{"$f":"IF(教学计划表!GL39<>0,教学计划表!GL39,\"\")","v":""},{"$f":"IF(教学计划表!GL39<>0,教学计划表!GQ39,\"\")","v":""},{"$f":"IF(教学计划表!GL39<>0,教学计划表!GR39,\"\")","v":""},{"$f":"IF(教学计划表!GL39<>0,教学计划表!PZ39,\"\")","v":""},{"$f":"OFFSET($IJ$2,SMALL(IF($IJ$2:$IJ$72<>\"\",ROW($IJ$2:$IJ$72),\"\"),ROW(IJ23))-2,0)","v":{"$error":"#NUM!"}},{"$f":"OFFSET($IK$2,SMALL(IF($IK$2:$IK$72<>\"\",ROW($IK$2:$IK$72),\"\"),ROW(IK23))-2,0)","v":{"$error":"#NUM!"}},{"$f":"OFFSET($IL$2,SMALL(IF($IL$2:$IL$72<>\"\",ROW($IL$2:$IL$72),\"\"),ROW(IL23))-2,0)","v":{"$error":"#NUM!"}},{"$f":"OFFSET($IM$2,SMALL(IF($IM$2:$IM$72<>\"\",ROW($IM$2:$IM$72),\"\"),ROW(IM23))-2,0)","v":{"$error":"#NUM!"}},{"$f":"OFFSET($IN$2,SMALL(IF($IN$2:$IN$72<>\"\",ROW($IN$2:$IN$72),\"\"),ROW(IN23))-2,0)","v":{"$error":"#NUM!"}},{"$f":"OFFSET($IO$2,SMALL(IF($IO$2:$IO$72<>\"\",ROW($IO$2:$IO$72),\"\"),ROW(IO23))-2,0)","v":{"$error":"#NUM!"}},{"$f":"OFFSET($IP$2,SMALL(IF($IP$2:$IP$72<>\"\",ROW($IP$2:$IP$72),\"\"),ROW(IP23))-2,0)","v":{"$error":"#NUM!"}},null,{"$f":"IF(AND(教学计划表!N39<>\"\",教学计划表!BH39<>\"\"),教学计划表!I39,\"\")","v":""},{"$f":"IF(教学计划表!BH39<>\"\",教学计划表!N39,\"\")","v":""},{"$f":"IF(教学计划表!BH39<>\"\",IF(SEARCH(\"6\",教学计划表!AB39&\"6\",1)<=LEN(教学计划表!AB39),\"考试\",\"考查\"),\"\")","v":""},{"$f":"IF(教学计划表!BH39<>0,教学计划表!HG39,\"\")","v":""},{"$f":"IF(教学计划表!BH39<>0,教学计划表!HL39,\"\")","v":""},{"$f":"IF(教学计划表!BH39<>0,教学计划表!HM39,\"\")","v":""},{"$f":"IF(教学计划表!BH39<>0,教学计划表!QL39,\"\")","v":""},{"$f":"OFFSET($IY$2,SMALL(IF($IY$2:$IY$72<>\"\",ROW($IY$2:$IY$72),\"\"),ROW(IY23))-2,0)","v":{"$error":"#NUM!"}},{"$f":"OFFSET($IZ$2,SMALL(IF($IZ$2:$IZ$72<>\"\",ROW($IZ$2:$IZ$72),\"\"),ROW(IZ23))-2,0)","v":{"$error":"#NUM!"}},{"$f":"OFFSET($JA$2,SMALL(IF($JA$2:$JA$72<>\"\",ROW($JA$2:$JA$72),\"\"),ROW(JA23))-2,0)","v":{"$error":"#NUM!"}},{"$f":"OFFSET($JB$2,SMALL(IF($JB$2:$JB$72<>\"\",ROW($JB$2:$JB$72),\"\"),ROW(JB23))-2,0)","v":{"$error":"#NUM!"}},{"$f":"OFFSET($JC$2,SMALL(IF($JC$2:$JC$72<>\"\",ROW($JC$2:$JC$72),\"\"),ROW(JC23))-2,0)","v":{"$error":"#NUM!"}},{"$f":"OFFSET($JD$2,SMALL(IF($JD$2:$JD$72<>\"\",ROW($JD$2:$JD$72),\"\"),ROW(JD23))-2,0)","v":{"$error":"#NUM!"}},{"$f":"OFFSET($JE$2,SMALL(IF($JE$2:$JE$72<>\"\",ROW($JE$2:$JE$72),\"\"),ROW(JE23))-2,0)","v":{"$error":"#NUM!"}}]
["","","","","","","",null,"","","",{"$f":"IF(ISERROR(自动生成的开课信息!HB25),\"\",自动生成的开课信息!HB25)","v":""},{"$f":"IF(ISERROR(自动生成的开课信息!HC25),\"\",自动生成的开课信息!HC25)","v":""},{"$f":"IF(ISERROR(自动生成的开课信息!HD25),\"\",自动生成的开课信息!HD25)","v":""},{"$f":"IF(ISERROR(自动生成的开课信息!HE25),\"\",自动生成的开课信息!HE25)","v":""},null,"","","","","","","",null,"","","","","","","",null,"","","","","","","",null,"","","","","","","",null,null,null,null,null,null,null,null,null,null,null,null,null,null,null,null,null,null,null,null,null,null,null,null,null,null,null,null,null,null,null,null,null,null,null,null,null,null,null,null,null,null,null,null,null,null,null,null,null,null,null,null,null,null,null,null,null,null,null,null,null,null,null,null,null,null,null,null,null,null,null,null,null,null,null,null,null,null,null,null,null,null,null,null,null,null,null,null,null,null,null,null,null,null,null,null,null,null,null,null,null,null,null,null,null,null,null,null,null,null,null,null,null,null,null,null,null,null,null,null,null,null,null,null,null,null,null,null,null,null,null,null,null,null,null,null,null,null,{"$f":"IF(AND(教学计划表!N40<>\"\",教学计划表!AS40<>\"\"),教学计划表!I40,\"\")","v":""},{"$f":"IF(教学计划表!AS40<>\"\",教学计划表!N40,\"\")","v":""},{"$f":"IF(GE25<>\"\",IF(SEARCH(\"1\",教学计划表!AB40&\"1\",1)<=LEN(教学计划表!AB40),\"考试\",\"考查\"),\"\")","v":""},{"$f":"IF(教学计划表!DG40<>0,教学计划表!DG40,\"\")","v":""},{"$f":"IF(教学计划表!DG40<>0,教学计划表!DL40,\"\")","v":""},{"$f":"IF(教学计划表!DG40<>0,教学计划表!DM40,\"\")","v":""},{"$f":"IF(教学计划表!DG40<>0,教学计划表!OE40,\"\")","v":""},{"$f":"OFFSET($GD$2,SMALL(IF($GD$2:$GD$72<>\"\",ROW($2:$72),\"\"),ROW(GD24))-2,0)","v":{"$error":"#NUM!"}},{"$f":"OFFSET($GE$2,SMALL(IF($GE$2:$GE$72<>\"\",ROW($2:$72),\"\"),ROW(GE24))-2,0)","v":{"$error":"#NUM!"}},{"$f":"OFFSET($GF$2,SMALL(IF($GF$2:$GF$72<>\"\",ROW($2:$72),\"\"),ROW(GF24))-2,0)","v":{"$error":"#NUM!"}},{"$f":"OFFSET($GG$2,SMALL(IF($GG$2:$GG$72<>\"\",ROW($2:$72),\"\"),ROW(GG24))-2,0)","v":{"$error":"#NUM!"}},{"$f":"OFFSET($GH$2,SMALL(IF($GH$2:$GH$72<>\"\",ROW($2:$72),\"\"),ROW(GH24))-2,0)","v":{"$error":"#NUM!"}},{"$error":"#NUM!"},{"$f":"OFFSET($GJ$2,SMALL(IF($GJ$2:$GJ$72<>\"\",ROW($2:$72),\"\"),ROW(GJ24))-2,0)","v":{"$error":"#NUM!"}},{"$f":"IF(AND(教学计划表!N40<>\"\",教学计划表!AV40<>\"\"),教学计划表!I40,\"\")","v":""},{"$f":"IF(教学计划表!AV40<>\"\",教学计划表!N40,\"\")","v":""},{"$f":"IF(GS25<>\"\",IF(SEARCH(\"2\",教学计划表!AB40&\"2\",1)<=LEN(教学计划表!AB40),\"考试\",\"考查\"),\"\")","v":""},{"$f":"IF(教学计划表!EA40<>0,教学计划表!EA40,\"\")","v":""},{"$f":"IF(教学计划表!EA40<>0,教学计划表!EF40,\"\")","v":""},{"$f":"IF(教学计划表!EA40<>0,教学计划表!EG40,\"\")","v":""},{"$f":"IF(教学计划表!EA40<>0,教学计划表!OQ40,\"\")","v":""},{"$f":"OFFSET($GR$2,SMALL(IF($GR$2:$GR$72<>\"\",ROW($I$2:$K$72),\"\"),ROW(GR24))-2,0)","v":{"$error":"#NUM!"}},{"$f":"OFFSET($GS$2,SMALL(IF($GS$2:$GS$72<>\"\",ROW($I$2:$K$72),\"\"),ROW(GS24))-2,0)","v":{"$error":"#NUM!"}},{"$f":"OFFSET($GT$2,SMALL(IF($GT$2:$GT$72<>\"\",ROW($I$2:$K$72),\"\"),ROW(GT24))-2,0)","v":{"$error":"#NUM!"}},{"$f":"OFFSET($GU$2,SMALL(IF($GU$2:$GU$72<>\"\",ROW($I$2:$K$72),\"\"),ROW(GU24))-2,0)","v":{"$error":"#NUM!"}},{"$f":"OFFSET($GV$2,SMALL(IF($GV$2:$GV$72<>\"\",ROW($GV$2:$GV$72),\"\"),ROW(GV24))-2,0)","v":{"$error":"#NUM!"}},{"$f":"OFFSET($GW$2,SMALL(IF($GW$2:$GW$72<>\"\",ROW($GW$2:$GW$72),\"\"),ROW(GW24))-2,0)","v":{"$error":"#NUM!"}},{"$f":"OFFSET($GX$2,SMALL(IF($GX$2:$GX$72<>\"\",ROW($GX$2:$GX$72),\"\"),ROW(GX24))-2,0)","v":{"$error":"#NUM!"}},{"$f":"IF(AND(教学计划表!N40<>\"\",教学计划表!AY40<>\"\"),教学计划表!I40,\"\")","v":""},{"$f":"IF(教学计划表!AY40<>\"\",教学计划表!N40,\"\")","v":""},{"$f":"IF(HG25<>\"\",IF(SEARCH(\"3\",教学计划表!AB40&\"3\",1)<=LEN(教学计划表!AB40),\"考试\",\"考查\"),\"\")","v":""},{"$f":"IF(教学计划表!EV40<>0,教学计划表!EV40,\"\")","v":""},{"$f":"IF(教学计划表!EV40<>0,教学计划表!FA40,\"\")","v":""},{"$f":"IF(教学计划表!EV40<>0,教学计划表!FB40,\"\")","v":""},{"$f":"IF(教学计划表!EV40<>0,教学计划表!PC40,\"\")","v":""},{"$f":"OFFSET($HF$2,SMALL(IF($HF$2:$HF$72<>\"\",ROW($HF$2:$HF$72),\"\"),ROW(HF24))-2,0)","v":{"$error":"#NUM!"}},{"$f":"OFFSET($HG$2,SMALL(IF($HG$2:$HG$72<>\"\",ROW($HG$2:$HG$72),\"\"),ROW(HG24))-2,0)","v":{"$error":"#NUM!"}},{"$f":"OFFSET($HH$2,SMALL(IF($HH$2:$HH$72<>\"\",ROW($HH$2:$HH$72),\"\"),ROW(HH24))-2,0)","v":{"$error":"#NUM!"}},{"$f":"OFFSET($HI$2,SMALL(IF($HI$2:$HI$72<>\"\",ROW($HI$2:$HI$72),\"\"),ROW(HI24))-2,0)","v":{"$error":"#NUM!"}},{"$f":"OFFSET($HJ$2,SMALL(IF($HJ$2:$HJ$72<>\"\",ROW($HJ$2:$HJ$72),\"\"),ROW(HJ24))-2,0)","v":{"$error":"#NUM!"}},{"$f":"OFFSET($HK$2,SMALL(IF($HK$2:$HK$72<>\"\",ROW($HK$2:$HK$72),\"\"),ROW(HK24))-2,0)","v":{"$error":"#NUM!"}},{"$f":"OFFSET($HL$2,SMALL(IF($HL$2:$HL$72<>\"\",ROW($HL$2:$HL$72),\"\"),ROW(HL24))-2,0)","v":{"$error":"#NUM!"}},{"$f":"IF(AND(教学计划表!N40<>\"\",教学计划表!BB40<>\"\"),教学计划表!I40,\"\")","v":""},{"$f":"IF(教学计划表!BB40<>\"\",教学计划表!N40,\"\")","v":""},{"$f":"IF(HU25<>\"\",IF(SEARCH(\"4\",教学计划表!AB40&\"4\",1)<=LEN(教学计划表!AB40),\"考试\",\"考查\"),\"\")","v":""},{"$f":"IF(教学计划表!FQ40<>0,教学计划表!FQ40,\"\")","v":""},{"$f":"IF(教学计划表!FQ40<>0,教学计划表!FV40,\"\")","v":""},{"$f":"IF(教学计划表!FQ40<>0,教学计划表!FW40,\"\")","v":""},{"$f":"IF(教学计划表!FQ40<>0,教学计划表!PO40,\"\")","v":""},{"$f":"OFFSET($HT$2,SMALL(IF($HT$2:$HT$72<>\"\",ROW($HT$2:$HT$72),\"\"),ROW(HT24))-2,0)","v":{"$error":"#NUM!"}},{"$f":"OFFSET($HU$2,SMALL(IF($HU$2:$HU$72<>\"\",ROW($HU$2:$HU$72),\"\"),ROW(HU24))-2,0)","v":{"$error":"#NUM!"}},{"$f":"OFFSET($HV$2,SMALL(IF($HV$2:$HV$72<>\"\",ROW($HV$2:$HV$72),\"\"),ROW(HV24))-2,0)","v":{"$error":"#NUM!"}},{"$f":"OFFSET($HW$2,SMALL(IF($HW$2:$HW$72<>\"\",ROW($HW$2:$HW$72),\"\"),ROW(HW24))-2,0)","v":{"$error":"#NUM!"}},{"$f":"OFFSET($HX$2,SMALL(IF($HX$2:$HX$72<>\"\",ROW($HX$2:$HX$72),\"\"),ROW(HX24))-2,0)","v":{"$error":"#NUM!"}},{"$f":"OFFSET($HY$2,SMALL(IF($HY$2:$HY$72<>\"\",ROW($HY$2:$HY$72),\"\"),ROW(HY24))-2,0)","v":{"$error":"#NUM!"}},{"$f":"OFFSET($HZ$2,SMALL(IF($HZ$2:$HZ$72<>\"\",ROW($HZ$2:$HZ$72),\"\"),ROW(HZ24))-2,0)","v":{"$error":"#NUM!"}},null,null,{"$f":"IF(AND(教学计划表!N40<>\"\",教学计划表!BE40<>\"\"),教学计划表!I40,\"\")","v":""},{"$f":"IF(教学计划表!BE40<>\"\",教学计划表!N40,\"\")","v":""},{"$f":"IF(IK25<>\"\",IF(SEARCH(\"5\",教学计划表!AB40&\"5\",1)<=LEN(教学计划表!AB40),\"考试\",\"考查\"),\"\")","v":""},{"$f":"IF(教学计划表!GL40<>0,教学计划表!GL40,\"\")","v":""},{"$f":"IF(教学计划表!GL40<>0,教学计划表!GQ40,\"\")","v":""},{"$f":"IF(教学计划表!GL40<>0,教学计划表!GR40,\"\")","v":""},{"$f":"IF(教学计划表!GL40<>0,教学计划表!PZ40,\"\")","v":""},{"$f":"OFFSET($IJ$2,SMALL(IF($IJ$2:$IJ$72<>\"\",ROW($IJ$2:$IJ$72),\"\"),ROW(IJ24))-2,0)","v":{"$error":"#NUM!"}},{"$f":"OFFSET($IK$2,SMALL(IF($IK$2:$IK$72<>\"\",ROW($IK$2:$IK$72),\"\"),ROW(IK24))-2,0)","v":{"$error":"#NUM!"}},{"$f":"OFFSET($IL$2,SMALL(IF($IL$2:$IL$72<>\"\",ROW($IL$2:$IL$72),\"\"),ROW(IL24))-2,0)","v":{"$error":"#NUM!"}},{"$f":"OFFSET($IM$2,SMALL(IF($IM$2:$IM$72<>\"\",ROW($IM$2:$IM$72),\"\"),ROW(IM24))-2,0)","v":{"$error":"#NUM!"}},{"$f":"OFFSET($IN$2,SMALL(IF($IN$2:$IN$72<>\"\",ROW($IN$2:$IN$72),\"\"),ROW(IN24))-2,0)","v":{"$error":"#NUM!"}},{"$f":"OFFSET($IO$2,SMALL(IF($IO$2:$IO$72<>\"\",ROW($IO$2:$IO$72),\"\"),ROW(IO24))-2,0)","v":{"$error":"#NUM!"}},{"$f":"OFFSET($IP$2,SMALL(IF($IP$2:$IP$72<>\"\",ROW($IP$2:$IP$72),\"\"),ROW(IP24))-2,0)","v":{"$error":"#NUM!"}},null,{"$f":"IF(AND(教学计划表!N40<>\"\",教学计划表!BH40<>\"\"),教学计划表!I40,\"\")","v":""},{"$f":"IF(教学计划表!BH40<>\"\",教学计划表!N40,\"\")","v":""},{"$f":"IF(教学计划表!BH40<>\"\",IF(SEARCH(\"6\",教学计划表!AB40&\"6\",1)<=LEN(教学计划表!AB40),\"考试\",\"考查\"),\"\")","v":""},{"$f":"IF(教学计划表!BH40<>0,教学计划表!HG40,\"\")","v":""},{"$f":"IF(教学计划表!BH40<>0,教学计划表!HL40,\"\")","v":""},{"$f":"IF(教学计划表!BH40<>0,教学计划表!HM40,\"\")","v":""},{"$f":"IF(教学计划表!BH40<>0,教学计划表!QL40,\"\")","v":""},{"$f":"OFFSET($IY$2,SMALL(IF($IY$2:$IY$72<>\"\",ROW($IY$2:$IY$72),\"\"),ROW(IY24))-2,0)","v":{"$error":"#NUM!"}},{"$f":"OFFSET($IZ$2,SMALL(IF($IZ$2:$IZ$72<>\"\",ROW($IZ$2:$IZ$72),\"\"),ROW(IZ24))-2,0)","v":{"$error":"#NUM!"}},{"$f":"OFFSET($JA$2,SMALL(IF($JA$2:$JA$72<>\"\",ROW($JA$2:$JA$72),\"\"),ROW(JA24))-2,0)","v":{"$error":"#NUM!"}},{"$f":"OFFSET($JB$2,SMALL(IF($JB$2:$JB$72<>\"\",ROW($JB$2:$JB$72),\"\"),ROW(JB24))-2,0)","v":{"$error":"#NUM!"}},{"$f":"OFFSET($JC$2,SMALL(IF($JC$2:$JC$72<>\"\",ROW($JC$2:$JC$72),\"\"),ROW(JC24))-2,0)","v":{"$error":"#NUM!"}},{"$f":"OFFSET($JD$2,SMALL(IF($JD$2:$JD$72<>\"\",ROW($JD$2:$JD$72),\"\"),ROW(JD24))-2,0)","v":{"$error":"#NUM!"}},{"$f":"OFFSET($JE$2,SMALL(IF($JE$2:$JE$72<>\"\",ROW($JE$2:$JE$72),\"\"),ROW(JE24))-2,0)","v":{"$error":"#NUM!"}}]
["","","","","","","",null,"","","",{"$f":"IF(ISERROR(自动生成的开课信息!HB26),\"\",自动生成的开课信息!HB26)","v":""},{"$f":"IF(ISERROR(自动生成的开课信息!HC26),\"\",自动生成的开课信息!HC26)","v":""},{"$f":"IF(ISERROR(自动生成的开课信息!HD26),\"\",自动生成的开课信息!HD26)","v":""},{"$f":"IF(ISERROR(自动生成的开课信息!HE26),\"\",自动生成的开课信息!HE26)","v":""},null,"","","","","","","",null,"","","","","","","",null,"","","","","","","",null,"","","","","","","",null,null,null,null,null,null,null,null,null,null,null,null,null,null,null,null,null,null,null,null,null,null,null,null,null,null,null,null,null,null,null,null,null,null,null,null,null,null,null,null,null,null,null,null,null,null,null,null,null,null,null,null,null,null,null,null,null,null,null,null,null,null,null,null,null,null,null,null,null,null,null,null,null,null,null,null,null,null,null,null,null,null,null,null,null,null,null,null,null,null,null,null,null,null,null,null,null,null,null,null,null,null,null,null,null,null,null,null,null,null,null,null,null,null,null,null,null,null,null,null,null,null,null,null,null,null,null,null,null,null,null,null,null,null,null,null,null,null,{"$f":"IF(AND(教学计划表!N41<>\"\",教学计划表!AS41<>\"\"),教学计划表!I41,\"\")","v":""},{"$f":"IF(教学计划表!AS41<>\"\",教学计划表!N41,\"\")","v":""},{"$f":"IF(GE26<>\"\",IF(SEARCH(\"1\",教学计划表!AB41&\"1\",1)<=LEN(教学计划表!AB41),\"考试\",\"考查\"),\"\")","v":""},{"$f":"IF(教学计划表!DG41<>0,教学计划表!DG41,\"\")","v":""},{"$f":"IF(教学计划表!DG41<>0,教学计划表!DL41,\"\")","v":""},{"$f":"IF(教学计划表!DG41<>0,教学计划表!DM41,\"\")","v":""},{"$f":"IF(教学计划表!DG41<>0,教学计划表!OE41,\"\")","v":""},{"$f":"OFFSET($GD$2,SMALL(IF($GD$2:$GD$72<>\"\",ROW($2:$72),\"\"),ROW(GD25))-2,0)","v":{"$error":"#NUM!"}},{"$f":"OFFSET($GE$2,SMALL(IF($GE$2:$GE$72<>\"\",ROW($2:$72),\"\"),ROW(GE25))-2,0)","v":{"$error":"#NUM!"}},{"$f":"OFFSET($GF$2,SMALL(IF($GF$2:$GF$72<>\"\",ROW($2:$72),\"\"),ROW(GF25))-2,0)","v":{"$error":"#NUM!"}},{"$f":"OFFSET($GG$2,SMALL(IF($GG$2:$GG$72<>\"\",ROW($2:$72),\"\"),ROW(GG25))-2,0)","v":{"$error":"#NUM!"}},{"$f":"OFFSET($GH$2,SMALL(IF($GH$2:$GH$72<>\"\",ROW($2:$72),\"\"),ROW(GH25))-2,0)","v":{"$error":"#NUM!"}},{"$error":"#NUM!"},{"$f":"OFFSET($GJ$2,SMALL(IF($GJ$2:$GJ$72<>\"\",ROW($2:$72),\"\"),ROW(GJ25))-2,0)","v":{"$error":"#NUM!"}},{"$f":"IF(AND(教学计划表!N41<>\"\",教学计划表!AV41<>\"\"),教学计划表!I41,\"\")","v":""},{"$f":"IF(教学计划表!AV41<>\"\",教学计划表!N41,\"\")","v":""},{"$f":"IF(GS26<>\"\",IF(SEARCH(\"2\",教学计划表!AB41&\"2\",1)<=LEN(教学计划表!AB41),\"考试\",\"考查\"),\"\")","v":""},{"$f":"IF(教学计划表!EA41<>0,教学计划表!EA41,\"\")","v":""},{"$f":"IF(教学计划表!EA41<>0,教学计划表!EF41,\"\")","v":""},{"$f":"IF(教学计划表!EA41<>0,教学计划表!EG41,\"\")","v":""},{"$f":"IF(教学计划表!EA41<>0,教学计划表!OQ41,\"\")","v":""},{"$f":"OFFSET($GR$2,SMALL(IF($GR$2:$GR$72<>\"\",ROW($I$2:$K$72),\"\"),ROW(GR25))-2,0)","v":{"$error":"#NUM!"}},{"$f":"OFFSET($GS$2,SMALL(IF($GS$2:$GS$72<>\"\",ROW($I$2:$K$72),\"\"),ROW(GS25))-2,0)","v":{"$error":"#NUM!"}},{"$f":"OFFSET($GT$2,SMALL(IF($GT$2:$GT$72<>\"\",ROW($I$2:$K$72),\"\"),ROW(GT25))-2,0)","v":{"$error":"#NUM!"}},{"$f":"OFFSET($GU$2,SMALL(IF($GU$2:$GU$72<>\"\",ROW($I$2:$K$72),\"\"),ROW(GU25))-2,0)","v":{"$error":"#NUM!"}},{"$f":"OFFSET($GV$2,SMALL(IF($GV$2:$GV$72<>\"\",ROW($GV$2:$GV$72),\"\"),ROW(GV25))-2,0)","v":{"$error":"#NUM!"}},{"$f":"OFFSET($GW$2,SMALL(IF($GW$2:$GW$72<>\"\",ROW($GW$2:$GW$72),\"\"),ROW(GW25))-2,0)","v":{"$error":"#NUM!"}},{"$f":"OFFSET($GX$2,SMALL(IF($GX$2:$GX$72<>\"\",ROW($GX$2:$GX$72),\"\"),ROW(GX25))-2,0)","v":{"$error":"#NUM!"}},{"$f":"IF(AND(教学计划表!N41<>\"\",教学计划表!AY41<>\"\"),教学计划表!I41,\"\")","v":""},{"$f":"IF(教学计划表!AY41<>\"\",教学计划表!N41,\"\")","v":""},{"$f":"IF(HG26<>\"\",IF(SEARCH(\"3\",教学计划表!AB41&\"3\",1)<=LEN(教学计划表!AB41),\"考试\",\"考查\"),\"\")","v":""},{"$f":"IF(教学计划表!EV41<>0,教学计划表!EV41,\"\")","v":""},{"$f":"IF(教学计划表!EV41<>0,教学计划表!FA41,\"\")","v":""},{"$f":"IF(教学计划表!EV41<>0,教学计划表!FB41,\"\")","v":""},{"$f":"IF(教学计划表!EV41<>0,教学计划表!PC41,\"\")","v":""},{"$f":"OFFSET($HF$2,SMALL(IF($HF$2:$HF$72<>\"\",ROW($HF$2:$HF$72),\"\"),ROW(HF25))-2,0)","v":{"$error":"#NUM!"}},{"$f":"OFFSET($HG$2,SMALL(IF($HG$2:$HG$72<>\"\",ROW($HG$2:$HG$72),\"\"),ROW(HG25))-2,0)","v":{"$error":"#NUM!"}},{"$f":"OFFSET($HH$2,SMALL(IF($HH$2:$HH$72<>\"\",ROW($HH$2:$HH$72),\"\"),ROW(HH25))-2,0)","v":{"$error":"#NUM!"}},{"$f":"OFFSET($HI$2,SMALL(IF($HI$2:$HI$72<>\"\",ROW($HI$2:$HI$72),\"\"),ROW(HI25))-2,0)","v":{"$error":"#NUM!"}},{"$f":"OFFSET($HJ$2,SMALL(IF($HJ$2:$HJ$72<>\"\",ROW($HJ$2:$HJ$72),\"\"),ROW(HJ25))-2,0)","v":{"$error":"#NUM!"}},{"$f":"OFFSET($HK$2,SMALL(IF($HK$2:$HK$72<>\"\",ROW($HK$2:$HK$72),\"\"),ROW(HK25))-2,0)","v":{"$error":"#NUM!"}},{"$f":"OFFSET($HL$2,SMALL(IF($HL$2:$HL$72<>\"\",ROW($HL$2:$HL$72),\"\"),ROW(HL25))-2,0)","v":{"$error":"#NUM!"}},{"$f":"IF(AND(教学计划表!N41<>\"\",教学计划表!BB41<>\"\"),教学计划表!I41,\"\")","v":""},{"$f":"IF(教学计划表!BB41<>\"\",教学计划表!N41,\"\")","v":""},{"$f":"IF(HU26<>\"\",IF(SEARCH(\"4\",教学计划表!AB41&\"4\",1)<=LEN(教学计划表!AB41),\"考试\",\"考查\"),\"\")","v":""},{"$f":"IF(教学计划表!FQ41<>0,教学计划表!FQ41,\"\")","v":""},{"$f":"IF(教学计划表!FQ41<>0,教学计划表!FV41,\"\")","v":""},{"$f":"IF(教学计划表!FQ41<>0,教学计划表!FW41,\"\")","v":""},{"$f":"IF(教学计划表!FQ41<>0,教学计划表!PO41,\"\")","v":""},{"$f":"OFFSET($HT$2,SMALL(IF($HT$2:$HT$72<>\"\",ROW($HT$2:$HT$72),\"\"),ROW(HT25))-2,0)","v":{"$error":"#NUM!"}},{"$f":"OFFSET($HU$2,SMALL(IF($HU$2:$HU$72<>\"\",ROW($HU$2:$HU$72),\"\"),ROW(HU25))-2,0)","v":{"$error":"#NUM!"}},{"$f":"OFFSET($HV$2,SMALL(IF($HV$2:$HV$72<>\"\",ROW($HV$2:$HV$72),\"\"),ROW(HV25))-2,0)","v":{"$error":"#NUM!"}},{"$f":"OFFSET($HW$2,SMALL(IF($HW$2:$HW$72<>\"\",ROW($HW$2:$HW$72),\"\"),ROW(HW25))-2,0)","v":{"$error":"#NUM!"}},{"$f":"OFFSET($HX$2,SMALL(IF($HX$2:$HX$72<>\"\",ROW($HX$2:$HX$72),\"\"),ROW(HX25))-2,0)","v":{"$error":"#NUM!"}},{"$f":"OFFSET($HY$2,SMALL(IF($HY$2:$HY$72<>\"\",ROW($HY$2:$HY$72),\"\"),ROW(HY25))-2,0)","v":{"$error":"#NUM!"}},{"$f":"OFFSET($HZ$2,SMALL(IF($HZ$2:$HZ$72<>\"\",ROW($HZ$2:$HZ$72),\"\"),ROW(HZ25))-2,0)","v":{"$error":"#NUM!"}},null,null,{"$f":"IF(AND(教学计划表!N41<>\"\",教学计划表!BE41<>\"\"),教学计划表!I41,\"\")","v":""},{"$f":"IF(教学计划表!BE41<>\"\",教学计划表!N41,\"\")","v":""},{"$f":"IF(IK26<>\"\",IF(SEARCH(\"5\",教学计划表!AB41&\"5\",1)<=LEN(教学计划表!AB41),\"考试\",\"考查\"),\"\")","v":""},{"$f":"IF(教学计划表!GL41<>0,教学计划表!GL41,\"\")","v":""},{"$f":"IF(教学计划表!GL41<>0,教学计划表!GQ41,\"\")","v":""},{"$f":"IF(教学计划表!GL41<>0,教学计划表!GR41,\"\")","v":""},{"$f":"IF(教学计划表!GL41<>0,教学计划表!PZ41,\"\")","v":""},{"$f":"OFFSET($IJ$2,SMALL(IF($IJ$2:$IJ$72<>\"\",ROW($IJ$2:$IJ$72),\"\"),ROW(IJ25))-2,0)","v":{"$error":"#NUM!"}},{"$f":"OFFSET($IK$2,SMALL(IF($IK$2:$IK$72<>\"\",ROW($IK$2:$IK$72),\"\"),ROW(IK25))-2,0)","v":{"$error":"#NUM!"}},{"$f":"OFFSET($IL$2,SMALL(IF($IL$2:$IL$72<>\"\",ROW($IL$2:$IL$72),\"\"),ROW(IL25))-2,0)","v":{"$error":"#NUM!"}},{"$f":"OFFSET($IM$2,SMALL(IF($IM$2:$IM$72<>\"\",ROW($IM$2:$IM$72),\"\"),ROW(IM25))-2,0)","v":{"$error":"#NUM!"}},{"$f":"OFFSET($IN$2,SMALL(IF($IN$2:$IN$72<>\"\",ROW($IN$2:$IN$72),\"\"),ROW(IN25))-2,0)","v":{"$error":"#NUM!"}},{"$f":"OFFSET($IO$2,SMALL(IF($IO$2:$IO$72<>\"\",ROW($IO$2:$IO$72),\"\"),ROW(IO25))-2,0)","v":{"$error":"#NUM!"}},{"$f":"OFFSET($IP$2,SMALL(IF($IP$2:$IP$72<>\"\",ROW($IP$2:$IP$72),\"\"),ROW(IP25))-2,0)","v":{"$error":"#NUM!"}},null,{"$f":"IF(AND(教学计划表!N41<>\"\",教学计划表!BH41<>\"\"),教学计划表!I41,\"\")","v":""},{"$f":"IF(教学计划表!BH41<>\"\",教学计划表!N41,\"\")","v":""},{"$f":"IF(教学计划表!BH41<>\"\",IF(SEARCH(\"6\",教学计划表!AB41&\"6\",1)<=LEN(教学计划表!AB41),\"考试\",\"考查\"),\"\")","v":""},{"$f":"IF(教学计划表!BH41<>0,教学计划表!HG41,\"\")","v":""},{"$f":"IF(教学计划表!BH41<>0,教学计划表!HL41,\"\")","v":""},{"$f":"IF(教学计划表!BH41<>0,教学计划表!HM41,\"\")","v":""},{"$f":"IF(教学计划表!BH41<>0,教学计划表!QL41,\"\")","v":""},{"$f":"OFFSET($IY$2,SMALL(IF($IY$2:$IY$72<>\"\",ROW($IY$2:$IY$72),\"\"),ROW(IY25))-2,0)","v":{"$error":"#NUM!"}},{"$f":"OFFSET($IZ$2,SMALL(IF($IZ$2:$IZ$72<>\"\",ROW($IZ$2:$IZ$72),\"\"),ROW(IZ25))-2,0)","v":{"$error":"#NUM!"}},{"$f":"OFFSET($JA$2,SMALL(IF($JA$2:$JA$72<>\"\",ROW($JA$2:$JA$72),\"\"),ROW(JA25))-2,0)","v":{"$error":"#NUM!"}},{"$f":"OFFSET($JB$2,SMALL(IF($JB$2:$JB$72<>\"\",ROW($JB$2:$JB$72),\"\"),ROW(JB25))-2,0)","v":{"$error":"#NUM!"}},{"$f":"OFFSET($JC$2,SMALL(IF($JC$2:$JC$72<>\"\",ROW($JC$2:$JC$72),\"\"),ROW(JC25))-2,0)","v":{"$error":"#NUM!"}},{"$f":"OFFSET($JD$2,SMALL(IF($JD$2:$JD$72<>\"\",ROW($JD$2:$JD$72),\"\"),ROW(JD25))-2,0)","v":{"$error":"#NUM!"}},{"$f":"OFFSET($JE$2,SMALL(IF($JE$2:$JE$72<>\"\",ROW($JE$2:$JE$72),\"\"),ROW(JE25))-2,0)","v":{"$error":"#NUM!"}}]
["","","","","","","",null,"","","",{"$f":"IF(ISERROR(自动生成的开课信息!HB27),\"\",自动生成的开课信息!HB27)","v":""},{"$f":"IF(ISERROR(自动生成的开课信息!HC27),\"\",自动生成的开课信息!HC27)","v":""},{"$f":"IF(ISERROR(自动生成的开课信息!HD27),\"\",自动生成的开课信息!HD27)","v":""},{"$f":"IF(ISERROR(自动生成的开课信息!HE27),\"\",自动生成的开课信息!HE27)","v":""},null,"","","","","","","",null,"","","","","","","",null,"","","","","","","",null,"","","","","","","",null,null,null,null,null,null,null,null,null,null,null,null,null,null,null,null,null,null,null,null,null,null,null,null,null,null,null,null,null,null,null,null,null,null,null,null,null,null,null,null,null,null,null,null,null,null,null,null,null,null,null,null,null,null,null,null,null,null,null,null,null,null,null,null,null,null,null,null,null,null,null,null,null,null,null,null,null,null,null,null,null,null,null,null,null,null,null,null,null,null,null,null,null,null,null,null,null,null,null,null,null,null,null,null,null,null,null,null,null,null,null,null,null,null,null,null,null,null,null,null,null,null,null,null,null,null,null,null,null,null,null,null,null,null,null,null,null,null,{"$f":"IF(AND(教学计划表!N42<>\"\",教学计划表!AS42<>\"\"),教学计划表!I42,\"\")","v":""},{"$f":"IF(教学计划表!AS42<>\"\",教学计划表!N42,\"\")","v":""},{"$f":"IF(GE27<>\"\",IF(SEARCH(\"1\",教学计划表!AB42&\"1\",1)<=LEN(教学计划表!AB42),\"考试\",\"考查\"),\"\")","v":""},{"$f":"IF(教学计划表!DG42<>0,教学计划表!DG42,\"\")","v":""},{"$f":"IF(教学计划表!DG42<>0,教学计划表!DL42,\"\")","v":""},{"$f":"IF(教学计划表!DG42<>0,教学计划表!DM42,\"\")","v":""},{"$f":"IF(教学计划表!DG42<>0,教学计划表!OE42,\"\")","v":""},{"$f":"OFFSET($GD$2,SMALL(IF($GD$2:$GD$72<>\"\",ROW($2:$72),\"\"),ROW(GD26))-2,0)","v":{"$error":"#NUM!"}},{"$f":"OFFSET($GE$2,SMALL(IF($GE$2:$GE$72<>\"\",ROW($2:$72),\"\"),ROW(GE26))-2,0)","v":{"$error":"#NUM!"}},{"$f":"OFFSET($GF$2,SMALL(IF($GF$2:$GF$72<>\"\",ROW($2:$72),\"\"),ROW(GF26))-2,0)","v":{"$error":"#NUM!"}},{"$f":"OFFSET($GG$2,SMALL(IF($GG$2:$GG$72<>\"\",ROW($2:$72),\"\"),ROW(GG26))-2,0)","v":{"$error":"#NUM!"}},{"$f":"OFFSET($GH$2,SMALL(IF($GH$2:$GH$72<>\"\",ROW($2:$72),\"\"),ROW(GH26))-2,0)","v":{"$error":"#NUM!"}},{"$error":"#NUM!"},{"$f":"OFFSET($GJ$2,SMALL(IF($GJ$2:$GJ$72<>\"\",ROW($2:$72),\"\"),ROW(GJ26))-2,0)","v":{"$error":"#NUM!"}},{"$f":"IF(AND(教学计划表!N42<>\"\",教学计划表!AV42<>\"\"),教学计划表!I42,\"\")","v":""},{"$f":"IF(教学计划表!AV42<>\"\",教学计划表!N42,\"\")","v":""},{"$f":"IF(GS27<>\"\",IF(SEARCH(\"2\",教学计划表!AB42&\"2\",1)<=LEN(教学计划表!AB42),\"考试\",\"考查\"),\"\")","v":""},{"$f":"IF(教学计划表!EA42<>0,教学计划表!EA42,\"\")","v":""},{"$f":"IF(教学计划表!EA42<>0,教学计划表!EF42,\"\")","v":""},{"$f":"IF(教学计划表!EA42<>0,教学计划表!EG42,\"\")","v":""},{"$f":"IF(教学计划表!EA42<>0,教学计划表!OQ42,\"\")","v":""},{"$f":"OFFSET($GR$2,SMALL(IF($GR$2:$GR$72<>\"\",ROW($I$2:$K$72),\"\"),ROW(GR26))-2,0)","v":{"$error":"#NUM!"}},{"$f":"OFFSET($GS$2,SMALL(IF($GS$2:$GS$72<>\"\",ROW($I$2:$K$72),\"\"),ROW(GS26))-2,0)","v":{"$error":"#NUM!"}},{"$f":"OFFSET($GT$2,SMALL(IF($GT$2:$GT$72<>\"\",ROW($I$2:$K$72),\"\"),ROW(GT26))-2,0)","v":{"$error":"#NUM!"}},{"$f":"OFFSET($GU$2,SMALL(IF($GU$2:$GU$72<>\"\",ROW($I$2:$K$72),\"\"),ROW(GU26))-2,0)","v":{"$error":"#NUM!"}},{"$f":"OFFSET($GV$2,SMALL(IF($GV$2:$GV$72<>\"\",ROW($GV$2:$GV$72),\"\"),ROW(GV26))-2,0)","v":{"$error":"#NUM!"}},{"$f":"OFFSET($GW$2,SMALL(IF($GW$2:$GW$72<>\"\",ROW($GW$2:$GW$72),\"\"),ROW(GW26))-2,0)","v":{"$error":"#NUM!"}},{"$f":"OFFSET($GX$2,SMALL(IF($GX$2:$GX$72<>\"\",ROW($GX$2:$GX$72),\"\"),ROW(GX26))-2,0)","v":{"$error":"#NUM!"}},{"$f":"IF(AND(教学计划表!N42<>\"\",教学计划表!AY42<>\"\"),教学计划表!I42,\"\")","v":""},{"$f":"IF(教学计划表!AY42<>\"\",教学计划表!N42,\"\")","v":""},{"$f":"IF(HG27<>\"\",IF(SEARCH(\"3\",教学计划表!AB42&\"3\",1)<=LEN(教学计划表!AB42),\"考试\",\"考查\"),\"\")","v":""},{"$f":"IF(教学计划表!EV42<>0,教学计划表!EV42,\"\")","v":""},{"$f":"IF(教学计划表!EV42<>0,教学计划表!FA42,\"\")","v":""},{"$f":"IF(教学计划表!EV42<>0,教学计划表!FB42,\"\")","v":""},{"$f":"IF(教学计划表!EV42<>0,教学计划表!PC42,\"\")","v":""},{"$f":"OFFSET($HF$2,SMALL(IF($HF$2:$HF$72<>\"\",ROW($HF$2:$HF$72),\"\"),ROW(HF26))-2,0)","v":{"$error":"#NUM!"}},{"$f":"OFFSET($HG$2,SMALL(IF($HG$2:$HG$72<>\"\",ROW($HG$2:$HG$72),\"\"),ROW(HG26))-2,0)","v":{"$error":"#NUM!"}},{"$f":"OFFSET($HH$2,SMALL(IF($HH$2:$HH$72<>\"\",ROW($HH$2:$HH$72),\"\"),ROW(HH26))-2,0)","v":{"$error":"#NUM!"}},{"$f":"OFFSET($HI$2,SMALL(IF($HI$2:$HI$72<>\"\",ROW($HI$2:$HI$72),\"\"),ROW(HI26))-2,0)","v":{"$error":"#NUM!"}},{"$f":"OFFSET($HJ$2,SMALL(IF($HJ$2:$HJ$72<>\"\",ROW($HJ$2:$HJ$72),\"\"),ROW(HJ26))-2,0)","v":{"$error":"#NUM!"}},{"$f":"OFFSET($HK$2,SMALL(IF($HK$2:$HK$72<>\"\",ROW($HK$2:$HK$72),\"\"),ROW(HK26))-2,0)","v":{"$error":"#NUM!"}},{"$f":"OFFSET($HL$2,SMALL(IF($HL$2:$HL$72<>\"\",ROW($HL$2:$HL$72),\"\"),ROW(HL26))-2,0)","v":{"$error":"#NUM!"}},{"$f":"IF(AND(教学计划表!N42<>\"\",教学计划表!BB42<>\"\"),教学计划表!I42,\"\")","v":""},{"$f":"IF(教学计划表!BB42<>\"\",教学计划表!N42,\"\")","v":""},{"$f":"IF(HU27<>\"\",IF(SEARCH(\"4\",教学计划表!AB42&\"4\",1)<=LEN(教学计划表!AB42),\"考试\",\"考查\"),\"\")","v":""},{"$f":"IF(教学计划表!FQ42<>0,教学计划表!FQ42,\"\")","v":""},{"$f":"IF(教学计划表!FQ42<>0,教学计划表!FV42,\"\")","v":""},{"$f":"IF(教学计划表!FQ42<>0,教学计划表!FW42,\"\")","v":""},{"$f":"IF(教学计划表!FQ42<>0,教学计划表!PO42,\"\")","v":""},{"$f":"OFFSET($HT$2,SMALL(IF($HT$2:$HT$72<>\"\",ROW($HT$2:$HT$72),\"\"),ROW(HT26))-2,0)","v":{"$error":"#NUM!"}},{"$f":"OFFSET($HU$2,SMALL(IF($HU$2:$HU$72<>\"\",ROW($HU$2:$HU$72),\"\"),ROW(HU26))-2,0)","v":{"$error":"#NUM!"}},{"$f":"OFFSET($HV$2,SMALL(IF($HV$2:$HV$72<>\"\",ROW($HV$2:$HV$72),\"\"),ROW(HV26))-2,0)","v":{"$error":"#NUM!"}},{"$f":"OFFSET($HW$2,SMALL(IF($HW$2:$HW$72<>\"\",ROW($HW$2:$HW$72),\"\"),ROW(HW26))-2,0)","v":{"$error":"#NUM!"}},{"$f":"OFFSET($HX$2,SMALL(IF($HX$2:$HX$72<>\"\",ROW($HX$2:$HX$72),\"\"),ROW(HX26))-2,0)","v":{"$error":"#NUM!"}},{"$f":"OFFSET($HY$2,SMALL(IF($HY$2:$HY$72<>\"\",ROW($HY$2:$HY$72),\"\"),ROW(HY26))-2,0)","v":{"$error":"#NUM!"}},{"$f":"OFFSET($HZ$2,SMALL(IF($HZ$2:$HZ$72<>\"\",ROW($HZ$2:$HZ$72),\"\"),ROW(HZ26))-2,0)","v":{"$error":"#NUM!"}},null,null,{"$f":"IF(AND(教学计划表!N42<>\"\",教学计划表!BE42<>\"\"),教学计划表!I42,\"\")","v":""},{"$f":"IF(教学计划表!BE42<>\"\",教学计划表!N42,\"\")","v":""},{"$f":"IF(IK27<>\"\",IF(SEARCH(\"5\",教学计划表!AB42&\"5\",1)<=LEN(教学计划表!AB42),\"考试\",\"考查\"),\"\")","v":""},{"$f":"IF(教学计划表!GL42<>0,教学计划表!GL42,\"\")","v":""},{"$f":"IF(教学计划表!GL42<>0,教学计划表!GQ42,\"\")","v":""},{"$f":"IF(教学计划表!GL42<>0,教学计划表!GR42,\"\")","v":""},{"$f":"IF(教学计划表!GL42<>0,教学计划表!PZ42,\"\")","v":""},{"$f":"OFFSET($IJ$2,SMALL(IF($IJ$2:$IJ$72<>\"\",ROW($IJ$2:$IJ$72),\"\"),ROW(IJ26))-2,0)","v":{"$error":"#NUM!"}},{"$f":"OFFSET($IK$2,SMALL(IF($IK$2:$IK$72<>\"\",ROW($IK$2:$IK$72),\"\"),ROW(IK26))-2,0)","v":{"$error":"#NUM!"}},{"$f":"OFFSET($IL$2,SMALL(IF($IL$2:$IL$72<>\"\",ROW($IL$2:$IL$72),\"\"),ROW(IL26))-2,0)","v":{"$error":"#NUM!"}},{"$f":"OFFSET($IM$2,SMALL(IF($IM$2:$IM$72<>\"\",ROW($IM$2:$IM$72),\"\"),ROW(IM26))-2,0)","v":{"$error":"#NUM!"}},{"$f":"OFFSET($IN$2,SMALL(IF($IN$2:$IN$72<>\"\",ROW($IN$2:$IN$72),\"\"),ROW(IN26))-2,0)","v":{"$error":"#NUM!"}},{"$f":"OFFSET($IO$2,SMALL(IF($IO$2:$IO$72<>\"\",ROW($IO$2:$IO$72),\"\"),ROW(IO26))-2,0)","v":{"$error":"#NUM!"}},{"$f":"OFFSET($IP$2,SMALL(IF($IP$2:$IP$72<>\"\",ROW($IP$2:$IP$72),\"\"),ROW(IP26))-2,0)","v":{"$error":"#NUM!"}},null,{"$f":"IF(AND(教学计划表!N42<>\"\",教学计划表!BH42<>\"\"),教学计划表!I42,\"\")","v":""},{"$f":"IF(教学计划表!BH42<>\"\",教学计划表!N42,\"\")","v":""},{"$f":"IF(教学计划表!BH42<>\"\",IF(SEARCH(\"6\",教学计划表!AB42&\"6\",1)<=LEN(教学计划表!AB42),\"考试\",\"考查\"),\"\")","v":""},{"$f":"IF(教学计划表!BH42<>0,教学计划表!HG42,\"\")","v":""},{"$f":"IF(教学计划表!BH42<>0,教学计划表!HL42,\"\")","v":""},{"$f":"IF(教学计划表!BH42<>0,教学计划表!HM42,\"\")","v":""},{"$f":"IF(教学计划表!BH42<>0,教学计划表!QL42,\"\")","v":""},{"$f":"OFFSET($IY$2,SMALL(IF($IY$2:$IY$72<>\"\",ROW($IY$2:$IY$72),\"\"),ROW(IY26))-2,0)","v":{"$error":"#NUM!"}},{"$f":"OFFSET($IZ$2,SMALL(IF($IZ$2:$IZ$72<>\"\",ROW($IZ$2:$IZ$72),\"\"),ROW(IZ26))-2,0)","v":{"$error":"#NUM!"}},{"$f":"OFFSET($JA$2,SMALL(IF($JA$2:$JA$72<>\"\",ROW($JA$2:$JA$72),\"\"),ROW(JA26))-2,0)","v":{"$error":"#NUM!"}},{"$f":"OFFSET($JB$2,SMALL(IF($JB$2:$JB$72<>\"\",ROW($JB$2:$JB$72),\"\"),ROW(JB26))-2,0)","v":{"$error":"#NUM!"}},{"$f":"OFFSET($JC$2,SMALL(IF($JC$2:$JC$72<>\"\",ROW($JC$2:$JC$72),\"\"),ROW(JC26))-2,0)","v":{"$error":"#NUM!"}},{"$f":"OFFSET($JD$2,SMALL(IF($JD$2:$JD$72<>\"\",ROW($JD$2:$JD$72),\"\"),ROW(JD26))-2,0)","v":{"$error":"#NUM!"}},{"$f":"OFFSET($JE$2,SMALL(IF($JE$2:$JE$72<>\"\",ROW($JE$2:$JE$72),\"\"),ROW(JE26))-2,0)","v":{"$error":"#NUM!"}}]
["","","","","","","",null,"","","",{"$f":"IF(ISERROR(自动生成的开课信息!HB28),\"\",自动生成的开课信息!HB28)","v":""},{"$f":"IF(ISERROR(自动生成的开课信息!HC28),\"\",自动生成的开课信息!HC28)","v":""},{"$f":"IF(ISERROR(自动生成的开课信息!HD28),\"\",自动生成的开课信息!HD28)","v":""},{"$f":"IF(ISERROR(自动生成的开课信息!HE28),\"\",自动生成的开课信息!HE28)","v":""},null,"","","","","","","",null,"","","","","","","",null,"","","","","","","",null,"","","","","","","",null,null,null,null,null,null,null,null,null,null,null,null,null,null,null,null,null,null,null,null,null,null,null,null,null,null,null,null,null,null,null,null,null,null,null,null,null,null,null,null,null,null,null,null,null,null,null,null,null,null,null,null,null,null,null,null,null,null,null,null,null,null,null,null,null,null,null,null,null,null,null,null,null,null,null,null,null,null,null,null,null,null,null,null,null,null,null,null,null,null,null,null,null,null,null,null,null,null,null,null,null,null,null,null,null,null,null,null,null,null,null,null,null,null,null,null,null,null,null,null,null,null,null,null,null,null,null,null,null,null,null,null,null,null,null,null,null,null,{"$f":"IF(AND(教学计划表!N43<>\"\",教学计划表!AS43<>\"\"),教学计划表!I43,\"\")","v":""},{"$f":"IF(教学计划表!AS43<>\"\",教学计划表!N43,\"\")","v":""},{"$f":"IF(GE28<>\"\",IF(SEARCH(\"1\",教学计划表!AB43&\"1\",1)<=LEN(教学计划表!AB43),\"考试\",\"考查\"),\"\")","v":""},{"$f":"IF(教学计划表!DG43<>0,教学计划表!DG43,\"\")","v":""},{"$f":"IF(教学计划表!DG43<>0,教学计划表!DL43,\"\")","v":""},{"$f":"IF(教学计划表!DG43<>0,教学计划表!DM43,\"\")","v":""},{"$f":"IF(教学计划表!DG43<>0,教学计划表!OE43,\"\")","v":""},{"$f":"OFFSET($GD$2,SMALL(IF($GD$2:$GD$72<>\"\",ROW($2:$72),\"\"),ROW(GD27))-2,0)","v":{"$error":"#NUM!"}},{"$f":"OFFSET($GE$2,SMALL(IF($GE$2:$GE$72<>\"\",ROW($2:$72),\"\"),ROW(GE27))-2,0)","v":{"$error":"#NUM!"}},{"$f":"OFFSET($GF$2,SMALL(IF($GF$2:$GF$72<>\"\",ROW($2:$72),\"\"),ROW(GF27))-2,0)","v":{"$error":"#NUM!"}},{"$f":"OFFSET($GG$2,SMALL(IF($GG$2:$GG$72<>\"\",ROW($2:$72),\"\"),ROW(GG27))-2,0)","v":{"$error":"#NUM!"}},{"$f":"OFFSET($GH$2,SMALL(IF($GH$2:$GH$72<>\"\",ROW($2:$72),\"\"),ROW(GH27))-2,0)","v":{"$error":"#NUM!"}},{"$error":"#NUM!"},{"$f":"OFFSET($GJ$2,SMALL(IF($GJ$2:$GJ$72<>\"\",ROW($2:$72),\"\"),ROW(GJ27))-2,0)","v":{"$error":"#NUM!"}},{"$f":"IF(AND(教学计划表!N43<>\"\",教学计划表!AV43<>\"\"),教学计划表!I43,\"\")","v":""},{"$f":"IF(教学计划表!AV43<>\"\",教学计划表!N43,\"\")","v":""},{"$f":"IF(GS28<>\"\",IF(SEARCH(\"2\",教学计划表!AB43&\"2\",1)<=LEN(教学计划表!AB43),\"考试\",\"考查\"),\"\")","v":""},{"$f":"IF(教学计划表!EA43<>0,教学计划表!EA43,\"\")","v":""},{"$f":"IF(教学计划表!EA43<>0,教学计划表!EF43,\"\")","v":""},{"$f":"IF(教学计划表!EA43<>0,教学计划表!EG43,\"\")","v":""},{"$f":"IF(教学计划表!EA43<>0,教学计划表!OQ43,\"\")","v":""},{"$f":"OFFSET($GR$2,SMALL(IF($GR$2:$GR$72<>\"\",ROW($I$2:$K$72),\"\"),ROW(GR27))-2,0)","v":{"$error":"#NUM!"}},{"$f":"OFFSET($GS$2,SMALL(IF($GS$2:$GS$72<>\"\",ROW($I$2:$K$72),\"\"),ROW(GS27))-2,0)","v":{"$error":"#NUM!"}},{"$f":"OFFSET($GT$2,SMALL(IF($GT$2:$GT$72<>\"\",ROW($I$2:$K$72),\"\"),ROW(GT27))-2,0)","v":{"$error":"#NUM!"}},{"$f":"OFFSET($GU$2,SMALL(IF($GU$2:$GU$72<>\"\",ROW($I$2:$K$72),\"\"),ROW(GU27))-2,0)","v":{"$error":"#NUM!"}},{"$f":"OFFSET($GV$2,SMALL(IF($GV$2:$GV$72<>\"\",ROW($GV$2:$GV$72),\"\"),ROW(GV27))-2,0)","v":{"$error":"#NUM!"}},{"$f":"OFFSET($GW$2,SMALL(IF($GW$2:$GW$72<>\"\",ROW($GW$2:$GW$72),\"\"),ROW(GW27))-2,0)","v":{"$error":"#NUM!"}},{"$f":"OFFSET($GX$2,SMALL(IF($GX$2:$GX$72<>\"\",ROW($GX$2:$GX$72),\"\"),ROW(GX27))-2,0)","v":{"$error":"#NUM!"}},{"$f":"IF(AND(教学计划表!N43<>\"\",教学计划表!AY43<>\"\"),教学计划表!I43,\"\")","v":""},{"$f":"IF(教学计划表!AY43<>\"\",教学计划表!N43,\"\")","v":""},{"$f":"IF(HG28<>\"\",IF(SEARCH(\"3\",教学计划表!AB43&\"3\",1)<=LEN(教学计划表!AB43),\"考试\",\"考查\"),\"\")","v":""},{"$f":"IF(教学计划表!EV43<>0,教学计划表!EV43,\"\")","v":""},{"$f":"IF(教学计划表!EV43<>0,教学计划表!FA43,\"\")","v":""},{"$f":"IF(教学计划表!EV43<>0,教学计划表!FB43,\"\")","v":""},{"$f":"IF(教学计划表!EV43<>0,教学计划表!PC43,\"\")","v":""},{"$f":"OFFSET($HF$2,SMALL(IF($HF$2:$HF$72<>\"\",ROW($HF$2:$HF$72),\"\"),ROW(HF27))-2,0)","v":{"$error":"#NUM!"}},{"$f":"OFFSET($HG$2,SMALL(IF($HG$2:$HG$72<>\"\",ROW($HG$2:$HG$72),\"\"),ROW(HG27))-2,0)","v":{"$error":"#NUM!"}},{"$f":"OFFSET($HH$2,SMALL(IF($HH$2:$HH$72<>\"\",ROW($HH$2:$HH$72),\"\"),ROW(HH27))-2,0)","v":{"$error":"#NUM!"}},{"$f":"OFFSET($HI$2,SMALL(IF($HI$2:$HI$72<>\"\",ROW($HI$2:$HI$72),\"\"),ROW(HI27))-2,0)","v":{"$error":"#NUM!"}},{"$f":"OFFSET($HJ$2,SMALL(IF($HJ$2:$HJ$72<>\"\",ROW($HJ$2:$HJ$72),\"\"),ROW(HJ27))-2,0)","v":{"$error":"#NUM!"}},{"$f":"OFFSET($HK$2,SMALL(IF($HK$2:$HK$72<>\"\",ROW($HK$2:$HK$72),\"\"),ROW(HK27))-2,0)","v":{"$error":"#NUM!"}},{"$f":"OFFSET($HL$2,SMALL(IF($HL$2:$HL$72<>\"\",ROW($HL$2:$HL$72),\"\"),ROW(HL27))-2,0)","v":{"$error":"#NUM!"}},{"$f":"IF(AND(教学计划表!N43<>\"\",教学计划表!BB43<>\"\"),教学计划表!I43,\"\")","v":""},{"$f":"IF(教学计划表!BB43<>\"\",教学计划表!N43,\"\")","v":""},{"$f":"IF(HU28<>\"\",IF(SEARCH(\"4\",教学计划表!AB43&\"4\",1)<=LEN(教学计划表!AB43),\"考试\",\"考查\"),\"\")","v":""},{"$f":"IF(教学计划表!FQ43<>0,教学计划表!FQ43,\"\")","v":""},{"$f":"IF(教学计划表!FQ43<>0,教学计划表!FV43,\"\")","v":""},{"$f":"IF(教学计划表!FQ43<>0,教学计划表!FW43,\"\")","v":""},{"$f":"IF(教学计划表!FQ43<>0,教学计划表!PO43,\"\")","v":""},{"$f":"OFFSET($HT$2,SMALL(IF($HT$2:$HT$72<>\"\",ROW($HT$2:$HT$72),\"\"),ROW(HT27))-2,0)","v":{"$error":"#NUM!"}},{"$f":"OFFSET($HU$2,SMALL(IF($HU$2:$HU$72<>\"\",ROW($HU$2:$HU$72),\"\"),ROW(HU27))-2,0)","v":{"$error":"#NUM!"}},{"$f":"OFFSET($HV$2,SMALL(IF($HV$2:$HV$72<>\"\",ROW($HV$2:$HV$72),\"\"),ROW(HV27))-2,0)","v":{"$error":"#NUM!"}},{"$f":"OFFSET($HW$2,SMALL(IF($HW$2:$HW$72<>\"\",ROW($HW$2:$HW$72),\"\"),ROW(HW27))-2,0)","v":{"$error":"#NUM!"}},{"$f":"OFFSET($HX$2,SMALL(IF($HX$2:$HX$72<>\"\",ROW($HX$2:$HX$72),\"\"),ROW(HX27))-2,0)","v":{"$error":"#NUM!"}},{"$f":"OFFSET($HY$2,SMALL(IF($HY$2:$HY$72<>\"\",ROW($HY$2:$HY$72),\"\"),ROW(HY27))-2,0)","v":{"$error":"#NUM!"}},{"$f":"OFFSET($HZ$2,SMALL(IF($HZ$2:$HZ$72<>\"\",ROW($HZ$2:$HZ$72),\"\"),ROW(HZ27))-2,0)","v":{"$error":"#NUM!"}},null,null,{"$f":"IF(AND(教学计划表!N43<>\"\",教学计划表!BE43<>\"\"),教学计划表!I43,\"\")","v":""},{"$f":"IF(教学计划表!BE43<>\"\",教学计划表!N43,\"\")","v":""},{"$f":"IF(IK28<>\"\",IF(SEARCH(\"5\",教学计划表!AB43&\"5\",1)<=LEN(教学计划表!AB43),\"考试\",\"考查\"),\"\")","v":""},{"$f":"IF(教学计划表!GL43<>0,教学计划表!GL43,\"\")","v":""},{"$f":"IF(教学计划表!GL43<>0,教学计划表!GQ43,\"\")","v":""},{"$f":"IF(教学计划表!GL43<>0,教学计划表!GR43,\"\")","v":""},{"$f":"IF(教学计划表!GL43<>0,教学计划表!PZ43,\"\")","v":""},{"$f":"OFFSET($IJ$2,SMALL(IF($IJ$2:$IJ$72<>\"\",ROW($IJ$2:$IJ$72),\"\"),ROW(IJ27))-2,0)","v":{"$error":"#NUM!"}},{"$f":"OFFSET($IK$2,SMALL(IF($IK$2:$IK$72<>\"\",ROW($IK$2:$IK$72),\"\"),ROW(IK27))-2,0)","v":{"$error":"#NUM!"}},{"$f":"OFFSET($IL$2,SMALL(IF($IL$2:$IL$72<>\"\",ROW($IL$2:$IL$72),\"\"),ROW(IL27))-2,0)","v":{"$error":"#NUM!"}},{"$f":"OFFSET($IM$2,SMALL(IF($IM$2:$IM$72<>\"\",ROW($IM$2:$IM$72),\"\"),ROW(IM27))-2,0)","v":{"$error":"#NUM!"}},{"$f":"OFFSET($IN$2,SMALL(IF($IN$2:$IN$72<>\"\",ROW($IN$2:$IN$72),\"\"),ROW(IN27))-2,0)","v":{"$error":"#NUM!"}},{"$f":"OFFSET($IO$2,SMALL(IF($IO$2:$IO$72<>\"\",ROW($IO$2:$IO$72),\"\"),ROW(IO27))-2,0)","v":{"$error":"#NUM!"}},{"$f":"OFFSET($IP$2,SMALL(IF($IP$2:$IP$72<>\"\",ROW($IP$2:$IP$72),\"\"),ROW(IP27))-2,0)","v":{"$error":"#NUM!"}},null,{"$f":"IF(AND(教学计划表!N43<>\"\",教学计划表!BH43<>\"\"),教学计划表!I43,\"\")","v":""},{"$f":"IF(教学计划表!BH43<>\"\",教学计划表!N43,\"\")","v":""},{"$f":"IF(教学计划表!BH43<>\"\",IF(SEARCH(\"6\",教学计划表!AB43&\"6\",1)<=LEN(教学计划表!AB43),\"考试\",\"考查\"),\"\")","v":""},{"$f":"IF(教学计划表!BH43<>0,教学计划表!HG43,\"\")","v":""},{"$f":"IF(教学计划表!BH43<>0,教学计划表!HL43,\"\")","v":""},{"$f":"IF(教学计划表!BH43<>0,教学计划表!HM43,\"\")","v":""},{"$f":"IF(教学计划表!BH43<>0,教学计划表!QL43,\"\")","v":""},{"$f":"OFFSET($IY$2,SMALL(IF($IY$2:$IY$72<>\"\",ROW($IY$2:$IY$72),\"\"),ROW(IY27))-2,0)","v":{"$error":"#NUM!"}},{"$f":"OFFSET($IZ$2,SMALL(IF($IZ$2:$IZ$72<>\"\",ROW($IZ$2:$IZ$72),\"\"),ROW(IZ27))-2,0)","v":{"$error":"#NUM!"}},{"$f":"OFFSET($JA$2,SMALL(IF($JA$2:$JA$72<>\"\",ROW($JA$2:$JA$72),\"\"),ROW(JA27))-2,0)","v":{"$error":"#NUM!"}},{"$f":"OFFSET($JB$2,SMALL(IF($JB$2:$JB$72<>\"\",ROW($JB$2:$JB$72),\"\"),ROW(JB27))-2,0)","v":{"$error":"#NUM!"}},{"$f":"OFFSET($JC$2,SMALL(IF($JC$2:$JC$72<>\"\",ROW($JC$2:$JC$72),\"\"),ROW(JC27))-2,0)","v":{"$error":"#NUM!"}},{"$f":"OFFSET($JD$2,SMALL(IF($JD$2:$JD$72<>\"\",ROW($JD$2:$JD$72),\"\"),ROW(JD27))-2,0)","v":{"$error":"#NUM!"}},{"$f":"OFFSET($JE$2,SMALL(IF($JE$2:$JE$72<>\"\",ROW($JE$2:$JE$72),\"\"),ROW(JE27))-2,0)","v":{"$error":"#NUM!"}}]
["","","","","","","",null,"","","",{"$f":"IF(ISERROR(自动生成的开课信息!HB29),\"\",自动生成的开课信息!HB29)","v":""},{"$f":"IF(ISERROR(自动生成的开课信息!HC29),\"\",自动生成的开课信息!HC29)","v":""},{"$f":"IF(ISERROR(自动生成的开课信息!HD29),\"\",自动生成的开课信息!HD29)","v":""},{"$f":"IF(ISERROR(自动生成的开课信息!HE29),\"\",自动生成的开课信息!HE29)","v":""},null,"","","","","","","",null,"","","","","","","",null,"","","","","","","",null,"","","","","","","",null,null,null,null,null,null,null,null,null,null,null,null,null,null,null,null,null,null,null,null,null,null,null,null,null,null,null,null,null,null,null,null,null,null,null,null,null,null,null,null,null,null,null,null,null,null,null,null,null,null,null,null,null,null,null,null,null,null,null,null,null,null,null,null,null,null,null,null,null,null,null,null,null,null,null,null,null,null,null,null,null,null,null,null,null,null,null,null,null,null,null,null,null,null,null,null,null,null,null,null,null,null,null,null,null,null,null,null,null,null,null,null,null,null,null,null,null,null,null,null,null,null,null,null,null,null,null,null,null,null,null,null,null,null,null,null,null,null,{"$f":"IF(AND(教学计划表!N44<>\"\",教学计划表!AS44<>\"\"),教学计划表!I44,\"\")","v":""},{"$f":"IF(教学计划表!AS44<>\"\",教学计划表!N44,\"\")","v":""},{"$f":"IF(GE29<>\"\",IF(SEARCH(\"1\",教学计划表!AB44&\"1\",1)<=LEN(教学计划表!AB44),\"考试\",\"考查\"),\"\")","v":""},{"$f":"IF(教学计划表!DG44<>0,教学计划表!DG44,\"\")","v":""},{"$f":"IF(教学计划表!DG44<>0,教学计划表!DL44,\"\")","v":""},{"$f":"IF(教学计划表!DG44<>0,教学计划表!DM44,\"\")","v":""},{"$f":"IF(教学计划表!DG44<>0,教学计划表!OE44,\"\")","v":""},{"$f":"OFFSET($GD$2,SMALL(IF($GD$2:$GD$72<>\"\",ROW($2:$72),\"\"),ROW(GD28))-2,0)","v":{"$error":"#NUM!"}},{"$f":"OFFSET($GE$2,SMALL(IF($GE$2:$GE$72<>\"\",ROW($2:$72),\"\"),ROW(GE28))-2,0)","v":{"$error":"#NUM!"}},{"$f":"OFFSET($GF$2,SMALL(IF($GF$2:$GF$72<>\"\",ROW($2:$72),\"\"),ROW(GF28))-2,0)","v":{"$error":"#NUM!"}},{"$f":"OFFSET($GG$2,SMALL(IF($GG$2:$GG$72<>\"\",ROW($2:$72),\"\"),ROW(GG28))-2,0)","v":{"$error":"#NUM!"}},{"$f":"OFFSET($GH$2,SMALL(IF($GH$2:$GH$72<>\"\",ROW($2:$72),\"\"),ROW(GH28))-2,0)","v":{"$error":"#NUM!"}},{"$error":"#NUM!"},{"$f":"OFFSET($GJ$2,SMALL(IF($GJ$2:$GJ$72<>\"\",ROW($2:$72),\"\"),ROW(GJ28))-2,0)","v":{"$error":"#NUM!"}},{"$f":"IF(AND(教学计划表!N44<>\"\",教学计划表!AV44<>\"\"),教学计划表!I44,\"\")","v":""},{"$f":"IF(教学计划表!AV44<>\"\",教学计划表!N44,\"\")","v":""},{"$f":"IF(GS29<>\"\",IF(SEARCH(\"2\",教学计划表!AB44&\"2\",1)<=LEN(教学计划表!AB44),\"考试\",\"考查\"),\"\")","v":""},{"$f":"IF(教学计划表!EA44<>0,教学计划表!EA44,\"\")","v":""},{"$f":"IF(教学计划表!EA44<>0,教学计划表!EF44,\"\")","v":""},{"$f":"IF(教学计划表!EA44<>0,教学计划表!EG44,\"\")","v":""},{"$f":"IF(教学计划表!EA44<>0,教学计划表!OQ44,\"\")","v":""},{"$f":"OFFSET($GR$2,SMALL(IF($GR$2:$GR$72<>\"\",ROW($I$2:$K$72),\"\"),ROW(GR28))-2,0)","v":{"$error":"#NUM!"}},{"$f":"OFFSET($GS$2,SMALL(IF($GS$2:$GS$72<>\"\",ROW($I$2:$K$72),\"\"),ROW(GS28))-2,0)","v":{"$error":"#NUM!"}},{"$f":"OFFSET($GT$2,SMALL(IF($GT$2:$GT$72<>\"\",ROW($I$2:$K$72),\"\"),ROW(GT28))-2,0)","v":{"$error":"#NUM!"}},{"$f":"OFFSET($GU$2,SMALL(IF($GU$2:$GU$72<>\"\",ROW($I$2:$K$72),\"\"),ROW(GU28))-2,0)","v":{"$error":"#NUM!"}},{"$f":"OFFSET($GV$2,SMALL(IF($GV$2:$GV$72<>\"\",ROW($GV$2:$GV$72),\"\"),ROW(GV28))-2,0)","v":{"$error":"#NUM!"}},{"$f":"OFFSET($GW$2,SMALL(IF($GW$2:$GW$72<>\"\",ROW($GW$2:$GW$72),\"\"),ROW(GW28))-2,0)","v":{"$error":"#NUM!"}},{"$f":"OFFSET($GX$2,SMALL(IF($GX$2:$GX$72<>\"\",ROW($GX$2:$GX$72),\"\"),ROW(GX28))-2,0)","v":{"$error":"#NUM!"}},{"$f":"IF(AND(教学计划表!N44<>\"\",教学计划表!AY44<>\"\"),教学计划表!I44,\"\")","v":""},{"$f":"IF(教学计划表!AY44<>\"\",教学计划表!N44,\"\")","v":""},{"$f":"IF(HG29<>\"\",IF(SEARCH(\"3\",教学计划表!AB44&\"3\",1)<=LEN(教学计划表!AB44),\"考试\",\"考查\"),\"\")","v":""},{"$f":"IF(教学计划表!EV44<>0,教学计划表!EV44,\"\")","v":""},{"$f":"IF(教学计划表!EV44<>0,教学计划表!FA44,\"\")","v":""},{"$f":"IF(教学计划表!EV44<>0,教学计划表!FB44,\"\")","v":""},{"$f":"IF(教学计划表!EV44<>0,教学计划表!PC44,\"\")","v":""},{"$f":"OFFSET($HF$2,SMALL(IF($HF$2:$HF$72<>\"\",ROW($HF$2:$HF$72),\"\"),ROW(HF28))-2,0)","v":{"$error":"#NUM!"}},{"$f":"OFFSET($HG$2,SMALL(IF($HG$2:$HG$72<>\"\",ROW($HG$2:$HG$72),\"\"),ROW(HG28))-2,0)","v":{"$error":"#NUM!"}},{"$f":"OFFSET($HH$2,SMALL(IF($HH$2:$HH$72<>\"\",ROW($HH$2:$HH$72),\"\"),ROW(HH28))-2,0)","v":{"$error":"#NUM!"}},{"$f":"OFFSET($HI$2,SMALL(IF($HI$2:$HI$72<>\"\",ROW($HI$2:$HI$72),\"\"),ROW(HI28))-2,0)","v":{"$error":"#NUM!"}},{"$f":"OFFSET($HJ$2,SMALL(IF($HJ$2:$HJ$72<>\"\",ROW($HJ$2:$HJ$72),\"\"),ROW(HJ28))-2,0)","v":{"$error":"#NUM!"}},{"$f":"OFFSET($HK$2,SMALL(IF($HK$2:$HK$72<>\"\",ROW($HK$2:$HK$72),\"\"),ROW(HK28))-2,0)","v":{"$error":"#NUM!"}},{"$f":"OFFSET($HL$2,SMALL(IF($HL$2:$HL$72<>\"\",ROW($HL$2:$HL$72),\"\"),ROW(HL28))-2,0)","v":{"$error":"#NUM!"}},{"$f":"IF(AND(教学计划表!N44<>\"\",教学计划表!BB44<>\"\"),教学计划表!I44,\"\")","v":""},{"$f":"IF(教学计划表!BB44<>\"\",教学计划表!N44,\"\")","v":""},{"$f":"IF(HU29<>\"\",IF(SEARCH(\"4\",教学计划表!AB44&\"4\",1)<=LEN(教学计划表!AB44),\"考试\",\"考查\"),\"\")","v":""},{"$f":"IF(教学计划表!FQ44<>0,教学计划表!FQ44,\"\")","v":""},{"$f":"IF(教学计划表!FQ44<>0,教学计划表!FV44,\"\")","v":""},{"$f":"IF(教学计划表!FQ44<>0,教学计划表!FW44,\"\")","v":""},{"$f":"IF(教学计划表!FQ44<>0,教学计划表!PO44,\"\")","v":""},{"$f":"OFFSET($HT$2,SMALL(IF($HT$2:$HT$72<>\"\",ROW($HT$2:$HT$72),\"\"),ROW(HT28))-2,0)","v":{"$error":"#NUM!"}},{"$f":"OFFSET($HU$2,SMALL(IF($HU$2:$HU$72<>\"\",ROW($HU$2:$HU$72),\"\"),ROW(HU28))-2,0)","v":{"$error":"#NUM!"}},{"$f":"OFFSET($HV$2,SMALL(IF($HV$2:$HV$72<>\"\",ROW($HV$2:$HV$72),\"\"),ROW(HV28))-2,0)","v":{"$error":"#NUM!"}},{"$f":"OFFSET($HW$2,SMALL(IF($HW$2:$HW$72<>\"\",ROW($HW$2:$HW$72),\"\"),ROW(HW28))-2,0)","v":{"$error":"#NUM!"}},{"$f":"OFFSET($HX$2,SMALL(IF($HX$2:$HX$72<>\"\",ROW($HX$2:$HX$72),\"\"),ROW(HX28))-2,0)","v":{"$error":"#NUM!"}},{"$f":"OFFSET($HY$2,SMALL(IF($HY$2:$HY$72<>\"\",ROW($HY$2:$HY$72),\"\"),ROW(HY28))-2,0)","v":{"$error":"#NUM!"}},{"$f":"OFFSET($HZ$2,SMALL(IF($HZ$2:$HZ$72<>\"\",ROW($HZ$2:$HZ$72),\"\"),ROW(HZ28))-2,0)","v":{"$error":"#NUM!"}},null,null,{"$f":"IF(AND(教学计划表!N44<>\"\",教学计划表!BE44<>\"\"),教学计划表!I44,\"\")","v":""},{"$f":"IF(教学计划表!BE44<>\"\",教学计划表!N44,\"\")","v":""},{"$f":"IF(IK29<>\"\",IF(SEARCH(\"5\",教学计划表!AB44&\"5\",1)<=LEN(教学计划表!AB44),\"考试\",\"考查\"),\"\")","v":""},{"$f":"IF(教学计划表!GL44<>0,教学计划表!GL44,\"\")","v":""},{"$f":"IF(教学计划表!GL44<>0,教学计划表!GQ44,\"\")","v":""},{"$f":"IF(教学计划表!GL44<>0,教学计划表!GR44,\"\")","v":""},{"$f":"IF(教学计划表!GL44<>0,教学计划表!PZ44,\"\")","v":""},{"$f":"OFFSET($IJ$2,SMALL(IF($IJ$2:$IJ$72<>\"\",ROW($IJ$2:$IJ$72),\"\"),ROW(IJ28))-2,0)","v":{"$error":"#NUM!"}},{"$f":"OFFSET($IK$2,SMALL(IF($IK$2:$IK$72<>\"\",ROW($IK$2:$IK$72),\"\"),ROW(IK28))-2,0)","v":{"$error":"#NUM!"}},{"$f":"OFFSET($IL$2,SMALL(IF($IL$2:$IL$72<>\"\",ROW($IL$2:$IL$72),\"\"),ROW(IL28))-2,0)","v":{"$error":"#NUM!"}},{"$f":"OFFSET($IM$2,SMALL(IF($IM$2:$IM$72<>\"\",ROW($IM$2:$IM$72),\"\"),ROW(IM28))-2,0)","v":{"$error":"#NUM!"}},{"$f":"OFFSET($IN$2,SMALL(IF($IN$2:$IN$72<>\"\",ROW($IN$2:$IN$72),\"\"),ROW(IN28))-2,0)","v":{"$error":"#NUM!"}},{"$f":"OFFSET($IO$2,SMALL(IF($IO$2:$IO$72<>\"\",ROW($IO$2:$IO$72),\"\"),ROW(IO28))-2,0)","v":{"$error":"#NUM!"}},{"$f":"OFFSET($IP$2,SMALL(IF($IP$2:$IP$72<>\"\",ROW($IP$2:$IP$72),\"\"),ROW(IP28))-2,0)","v":{"$error":"#NUM!"}},null,{"$f":"IF(AND(教学计划表!N44<>\"\",教学计划表!BH44<>\"\"),教学计划表!I44,\"\")","v":""},{"$f":"IF(教学计划表!BH44<>\"\",教学计划表!N44,\"\")","v":""},{"$f":"IF(教学计划表!BH44<>\"\",IF(SEARCH(\"6\",教学计划表!AB44&\"6\",1)<=LEN(教学计划表!AB44),\"考试\",\"考查\"),\"\")","v":""},{"$f":"IF(教学计划表!BH44<>0,教学计划表!HG44,\"\")","v":""},{"$f":"IF(教学计划表!BH44<>0,教学计划表!HL44,\"\")","v":""},{"$f":"IF(教学计划表!BH44<>0,教学计划表!HM44,\"\")","v":""},{"$f":"IF(教学计划表!BH44<>0,教学计划表!QL44,\"\")","v":""},{"$f":"OFFSET($IY$2,SMALL(IF($IY$2:$IY$72<>\"\",ROW($IY$2:$IY$72),\"\"),ROW(IY28))-2,0)","v":{"$error":"#NUM!"}},{"$f":"OFFSET($IZ$2,SMALL(IF($IZ$2:$IZ$72<>\"\",ROW($IZ$2:$IZ$72),\"\"),ROW(IZ28))-2,0)","v":{"$error":"#NUM!"}},{"$f":"OFFSET($JA$2,SMALL(IF($JA$2:$JA$72<>\"\",ROW($JA$2:$JA$72),\"\"),ROW(JA28))-2,0)","v":{"$error":"#NUM!"}},{"$f":"OFFSET($JB$2,SMALL(IF($JB$2:$JB$72<>\"\",ROW($JB$2:$JB$72),\"\"),ROW(JB28))-2,0)","v":{"$error":"#NUM!"}},{"$f":"OFFSET($JC$2,SMALL(IF($JC$2:$JC$72<>\"\",ROW($JC$2:$JC$72),\"\"),ROW(JC28))-2,0)","v":{"$error":"#NUM!"}},{"$f":"OFFSET($JD$2,SMALL(IF($JD$2:$JD$72<>\"\",ROW($JD$2:$JD$72),\"\"),ROW(JD28))-2,0)","v":{"$error":"#NUM!"}},{"$f":"OFFSET($JE$2,SMALL(IF($JE$2:$JE$72<>\"\",ROW($JE$2:$JE$72),\"\"),ROW(JE28))-2,0)","v":{"$error":"#NUM!"}}]
["","","","","","","",null,"","","",{"$f":"IF(ISERROR(自动生成的开课信息!HB30),\"\",自动生成的开课信息!HB30)","v":""},{"$f":"IF(ISERROR(自动生成的开课信息!HC30),\"\",自动生成的开课信息!HC30)","v":""},{"$f":"IF(ISERROR(自动生成的开课信息!HD30),\"\",自动生成的开课信息!HD30)","v":""},{"$f":"IF(ISERROR(自动生成的开课信息!HE30),\"\",自动生成的开课信息!HE30)","v":""},null,"","","","","","","",null,"","","","","","","",null,"","","","","","","",null,"","","","","","","",null,null,null,null,null,null,null,null,null,null,null,null,null,null,null,null,null,null,null,null,null,null,null,null,null,null,null,null,null,null,null,null,null,null,null,null,null,null,null,null,null,null,null,null,null,null,null,null,null,null,null,null,null,null,null,null,null,null,null,null,null,null,null,null,null,null,null,null,null,null,null,null,null,null,null,null,null,null,null,null,null,null,null,null,null,null,null,null,null,null,null,null,null,null,null,null,null,null,null,null,null,null,null,null,null,null,null,null,null,null,null,null,null,null,null,null,null,null,null,null,null,null,null,null,null,null,null,null,null,null,null,null,null,null,null,null,null,null,{"$f":"IF(AND(教学计划表!N45<>\"\",教学计划表!AS45<>\"\"),教学计划表!I45,\"\")","v":""},{"$f":"IF(教学计划表!AS45<>\"\",教学计划表!N45,\"\")","v":""},{"$f":"IF(GE30<>\"\",IF(SEARCH(\"1\",教学计划表!AB45&\"1\",1)<=LEN(教学计划表!AB45),\"考试\",\"考查\"),\"\")","v":""},{"$f":"IF(教学计划表!DG45<>0,教学计划表!DG45,\"\")","v":""},{"$f":"IF(教学计划表!DG45<>0,教学计划表!DL45,\"\")","v":""},{"$f":"IF(教学计划表!DG45<>0,教学计划表!DM45,\"\")","v":""},{"$f":"IF(教学计划表!DG45<>0,教学计划表!OE45,\"\")","v":""},{"$f":"OFFSET($GD$2,SMALL(IF($GD$2:$GD$72<>\"\",ROW($2:$72),\"\"),ROW(GD29))-2,0)","v":{"$error":"#NUM!"}},{"$f":"OFFSET($GE$2,SMALL(IF($GE$2:$GE$72<>\"\",ROW($2:$72),\"\"),ROW(GE29))-2,0)","v":{"$error":"#NUM!"}},{"$f":"OFFSET($GF$2,SMALL(IF($GF$2:$GF$72<>\"\",ROW($2:$72),\"\"),ROW(GF29))-2,0)","v":{"$error":"#NUM!"}},{"$f":"OFFSET($GG$2,SMALL(IF($GG$2:$GG$72<>\"\",ROW($2:$72),\"\"),ROW(GG29))-2,0)","v":{"$error":"#NUM!"}},{"$f":"OFFSET($GH$2,SMALL(IF($GH$2:$GH$72<>\"\",ROW($2:$72),\"\"),ROW(GH29))-2,0)","v":{"$error":"#NUM!"}},{"$error":"#NUM!"},{"$f":"OFFSET($GJ$2,SMALL(IF($GJ$2:$GJ$72<>\"\",ROW($2:$72),\"\"),ROW(GJ29))-2,0)","v":{"$error":"#NUM!"}},{"$f":"IF(AND(教学计划表!N45<>\"\",教学计划表!AV45<>\"\"),教学计划表!I45,\"\")","v":""},{"$f":"IF(教学计划表!AV45<>\"\",教学计划表!N45,\"\")","v":""},{"$f":"IF(GS30<>\"\",IF(SEARCH(\"2\",教学计划表!AB45&\"2\",1)<=LEN(教学计划表!AB45),\"考试\",\"考查\"),\"\")","v":""},{"$f":"IF(教学计划表!EA45<>0,教学计划表!EA45,\"\")","v":""},{"$f":"IF(教学计划表!EA45<>0,教学计划表!EF45,\"\")","v":""},{"$f":"IF(教学计划表!EA45<>0,教学计划表!EG45,\"\")","v":""},{"$f":"IF(教学计划表!EA45<>0,教学计划表!OQ45,\"\")","v":""},{"$f":"OFFSET($GR$2,SMALL(IF($GR$2:$GR$72<>\"\",ROW($I$2:$K$72),\"\"),ROW(GR29))-2,0)","v":{"$error":"#NUM!"}},{"$f":"OFFSET($GS$2,SMALL(IF($GS$2:$GS$72<>\"\",ROW($I$2:$K$72),\"\"),ROW(GS29))-2,0)","v":{"$error":"#NUM!"}},{"$f":"OFFSET($GT$2,SMALL(IF($GT$2:$GT$72<>\"\",ROW($I$2:$K$72),\"\"),ROW(GT29))-2,0)","v":{"$error":"#NUM!"}},{"$f":"OFFSET($GU$2,SMALL(IF($GU$2:$GU$72<>\"\",ROW($I$2:$K$72),\"\"),ROW(GU29))-2,0)","v":{"$error":"#NUM!"}},{"$f":"OFFSET($GV$2,SMALL(IF($GV$2:$GV$72<>\"\",ROW($GV$2:$GV$72),\"\"),ROW(GV29))-2,0)","v":{"$error":"#NUM!"}},{"$f":"OFFSET($GW$2,SMALL(IF($GW$2:$GW$72<>\"\",ROW($GW$2:$GW$72),\"\"),ROW(GW29))-2,0)","v":{"$error":"#NUM!"}},{"$f":"OFFSET($GX$2,SMALL(IF($GX$2:$GX$72<>\"\",ROW($GX$2:$GX$72),\"\"),ROW(GX29))-2,0)","v":{"$error":"#NUM!"}},{"$f":"IF(AND(教学计划表!N45<>\"\",教学计划表!AY45<>\"\"),教学计划表!I45,\"\")","v":""},{"$f":"IF(教学计划表!AY45<>\"\",教学计划表!N45,\"\")","v":""},{"$f":"IF(HG30<>\"\",IF(SEARCH(\"3\",教学计划表!AB45&\"3\",1)<=LEN(教学计划表!AB45),\"考试\",\"考查\"),\"\")","v":""},{"$f":"IF(教学计划表!EV45<>0,教学计划表!EV45,\"\")","v":""},{"$f":"IF(教学计划表!EV45<>0,教学计划表!FA45,\"\")","v":""},{"$f":"IF(教学计划表!EV45<>0,教学计划表!FB45,\"\")","v":""},{"$f":"IF(教学计划表!EV45<>0,教学计划表!PC45,\"\")","v":""},{"$f":"OFFSET($HF$2,SMALL(IF($HF$2:$HF$72<>\"\",ROW($HF$2:$HF$72),\"\"),ROW(HF29))-2,0)","v":{"$error":"#NUM!"}},{"$f":"OFFSET($HG$2,SMALL(IF($HG$2:$HG$72<>\"\",ROW($HG$2:$HG$72),\"\"),ROW(HG29))-2,0)","v":{"$error":"#NUM!"}},{"$f":"OFFSET($HH$2,SMALL(IF($HH$2:$HH$72<>\"\",ROW($HH$2:$HH$72),\"\"),ROW(HH29))-2,0)","v":{"$error":"#NUM!"}},{"$f":"OFFSET($HI$2,SMALL(IF($HI$2:$HI$72<>\"\",ROW($HI$2:$HI$72),\"\"),ROW(HI29))-2,0)","v":{"$error":"#NUM!"}},{"$f":"OFFSET($HJ$2,SMALL(IF($HJ$2:$HJ$72<>\"\",ROW($HJ$2:$HJ$72),\"\"),ROW(HJ29))-2,0)","v":{"$error":"#NUM!"}},{"$f":"OFFSET($HK$2,SMALL(IF($HK$2:$HK$72<>\"\",ROW($HK$2:$HK$72),\"\"),ROW(HK29))-2,0)","v":{"$error":"#NUM!"}},{"$f":"OFFSET($HL$2,SMALL(IF($HL$2:$HL$72<>\"\",ROW($HL$2:$HL$72),\"\"),ROW(HL29))-2,0)","v":{"$error":"#NUM!"}},{"$f":"IF(AND(教学计划表!N45<>\"\",教学计划表!BB45<>\"\"),教学计划表!I45,\"\")","v":""},{"$f":"IF(教学计划表!BB45<>\"\",教学计划表!N45,\"\")","v":""},{"$f":"IF(HU30<>\"\",IF(SEARCH(\"4\",教学计划表!AB45&\"4\",1)<=LEN(教学计划表!AB45),\"考试\",\"考查\"),\"\")","v":""},{"$f":"IF(教学计划表!FQ45<>0,教学计划表!FQ45,\"\")","v":""},{"$f":"IF(教学计划表!FQ45<>0,教学计划表!FV45,\"\")","v":""},{"$f":"IF(教学计划表!FQ45<>0,教学计划表!FW45,\"\")","v":""},{"$f":"IF(教学计划表!FQ45<>0,教学计划表!PO45,\"\")","v":""},{"$f":"OFFSET($HT$2,SMALL(IF($HT$2:$HT$72<>\"\",ROW($HT$2:$HT$72),\"\"),ROW(HT29))-2,0)","v":{"$error":"#NUM!"}},{"$f":"OFFSET($HU$2,SMALL(IF($HU$2:$HU$72<>\"\",ROW($HU$2:$HU$72),\"\"),ROW(HU29))-2,0)","v":{"$error":"#NUM!"}},{"$f":"OFFSET($HV$2,SMALL(IF($HV$2:$HV$72<>\"\",ROW($HV$2:$HV$72),\"\"),ROW(HV29))-2,0)","v":{"$error":"#NUM!"}},{"$f":"OFFSET($HW$2,SMALL(IF($HW$2:$HW$72<>\"\",ROW($HW$2:$HW$72),\"\"),ROW(HW29))-2,0)","v":{"$error":"#NUM!"}},{"$f":"OFFSET($HX$2,SMALL(IF($HX$2:$HX$72<>\"\",ROW($HX$2:$HX$72),\"\"),ROW(HX29))-2,0)","v":{"$error":"#NUM!"}},{"$f":"OFFSET($HY$2,SMALL(IF($HY$2:$HY$72<>\"\",ROW($HY$2:$HY$72),\"\"),ROW(HY29))-2,0)","v":{"$error":"#NUM!"}},{"$f":"OFFSET($HZ$2,SMALL(IF($HZ$2:$HZ$72<>\"\",ROW($HZ$2:$HZ$72),\"\"),ROW(HZ29))-2,0)","v":{"$error":"#NUM!"}},null,null,{"$f":"IF(AND(教学计划表!N45<>\"\",教学计划表!BE45<>\"\"),教学计划表!I45,\"\")","v":""},{"$f":"IF(教学计划表!BE45<>\"\",教学计划表!N45,\"\")","v":""},{"$f":"IF(IK30<>\"\",IF(SEARCH(\"5\",教学计划表!AB45&\"5\",1)<=LEN(教学计划表!AB45),\"考试\",\"考查\"),\"\")","v":""},{"$f":"IF(教学计划表!GL45<>0,教学计划表!GL45,\"\")","v":""},{"$f":"IF(教学计划表!GL45<>0,教学计划表!GQ45,\"\")","v":""},{"$f":"IF(教学计划表!GL45<>0,教学计划表!GR45,\"\")","v":""},{"$f":"IF(教学计划表!GL45<>0,教学计划表!PZ45,\"\")","v":""},{"$f":"OFFSET($IJ$2,SMALL(IF($IJ$2:$IJ$72<>\"\",ROW($IJ$2:$IJ$72),\"\"),ROW(IJ29))-2,0)","v":{"$error":"#NUM!"}},{"$f":"OFFSET($IK$2,SMALL(IF($IK$2:$IK$72<>\"\",ROW($IK$2:$IK$72),\"\"),ROW(IK29))-2,0)","v":{"$error":"#NUM!"}},{"$f":"OFFSET($IL$2,SMALL(IF($IL$2:$IL$72<>\"\",ROW($IL$2:$IL$72),\"\"),ROW(IL29))-2,0)","v":{"$error":"#NUM!"}},{"$f":"OFFSET($IM$2,SMALL(IF($IM$2:$IM$72<>\"\",ROW($IM$2:$IM$72),\"\"),ROW(IM29))-2,0)","v":{"$error":"#NUM!"}},{"$f":"OFFSET($IN$2,SMALL(IF($IN$2:$IN$72<>\"\",ROW($IN$2:$IN$72),\"\"),ROW(IN29))-2,0)","v":{"$error":"#NUM!"}},{"$f":"OFFSET($IO$2,SMALL(IF($IO$2:$IO$72<>\"\",ROW($IO$2:$IO$72),\"\"),ROW(IO29))-2,0)","v":{"$error":"#NUM!"}},{"$f":"OFFSET($IP$2,SMALL(IF($IP$2:$IP$72<>\"\",ROW($IP$2:$IP$72),\"\"),ROW(IP29))-2,0)","v":{"$error":"#NUM!"}},null,{"$f":"IF(AND(教学计划表!N45<>\"\",教学计划表!BH45<>\"\"),教学计划表!I45,\"\")","v":""},{"$f":"IF(教学计划表!BH45<>\"\",教学计划表!N45,\"\")","v":""},{"$f":"IF(教学计划表!BH45<>\"\",IF(SEARCH(\"6\",教学计划表!AB45&\"6\",1)<=LEN(教学计划表!AB45),\"考试\",\"考查\"),\"\")","v":""},{"$f":"IF(教学计划表!BH45<>0,教学计划表!HG45,\"\")","v":""},{"$f":"IF(教学计划表!BH45<>0,教学计划表!HL45,\"\")","v":""},{"$f":"IF(教学计划表!BH45<>0,教学计划表!HM45,\"\")","v":""},{"$f":"IF(教学计划表!BH45<>0,教学计划表!QL45,\"\")","v":""},{"$f":"OFFSET($IY$2,SMALL(IF($IY$2:$IY$72<>\"\",ROW($IY$2:$IY$72),\"\"),ROW(IY29))-2,0)","v":{"$error":"#NUM!"}},{"$f":"OFFSET($IZ$2,SMALL(IF($IZ$2:$IZ$72<>\"\",ROW($IZ$2:$IZ$72),\"\"),ROW(IZ29))-2,0)","v":{"$error":"#NUM!"}},{"$f":"OFFSET($JA$2,SMALL(IF($JA$2:$JA$72<>\"\",ROW($JA$2:$JA$72),\"\"),ROW(JA29))-2,0)","v":{"$error":"#NUM!"}},{"$f":"OFFSET($JB$2,SMALL(IF($JB$2:$JB$72<>\"\",ROW($JB$2:$JB$72),\"\"),ROW(JB29))-2,0)","v":{"$error":"#NUM!"}},{"$f":"OFFSET($JC$2,SMALL(IF($JC$2:$JC$72<>\"\",ROW($JC$2:$JC$72),\"\"),ROW(JC29))-2,0)","v":{"$error":"#NUM!"}},{"$f":"OFFSET($JD$2,SMALL(IF($JD$2:$JD$72<>\"\",ROW($JD$2:$JD$72),\"\"),ROW(JD29))-2,0)","v":{"$error":"#NUM!"}},{"$f":"OFFSET($JE$2,SMALL(IF($JE$2:$JE$72<>\"\",ROW($JE$2:$JE$72),\"\"),ROW(JE29))-2,0)","v":{"$error":"#NUM!"}}]
["","","","","","","",null,"","","",{"$f":"IF(ISERROR(自动生成的开课信息!HB31),\"\",自动生成的开课信息!HB31)","v":""},{"$f":"IF(ISERROR(自动生成的开课信息!HC31),\"\",自动生成的开课信息!HC31)","v":""},{"$f":"IF(ISERROR(自动生成的开课信息!HD31),\"\",自动生成的开课信息!HD31)","v":""},{"$f":"IF(ISERROR(自动生成的开课信息!HE31),\"\",自动生成的开课信息!HE31)","v":""},null,"","","","","","","",null,"","","","","","","",null,"","","","","","","",null,"","","","","","","",null,null,null,null,null,null,null,null,null,null,null,null,null,null,null,null,null,null,null,null,null,null,null,null,null,null,null,null,null,null,null,null,null,null,null,null,null,null,null,null,null,null,null,null,null,null,null,null,null,null,null,null,null,null,null,null,null,null,null,null,null,null,null,null,null,null,null,null,null,null,null,null,null,null,null,null,null,null,null,null,null,null,null,null,null,null,null,null,null,null,null,null,null,null,null,null,null,null,null,null,null,null,null,null,null,null,null,null,null,null,null,null,null,null,null,null,null,null,null,null,null,null,null,null,null,null,null,null,null,null,null,null,null,null,null,null,null,null,{"$f":"IF(AND(教学计划表!N46<>\"\",教学计划表!AS46<>\"\"),教学计划表!I46,\"\")","v":""},{"$f":"IF(教学计划表!AS46<>\"\",教学计划表!N46,\"\")","v":""},{"$f":"IF(GE31<>\"\",IF(SEARCH(\"1\",教学计划表!AB46&\"1\",1)<=LEN(教学计划表!AB46),\"考试\",\"考查\"),\"\")","v":""},{"$f":"IF(教学计划表!DG46<>0,教学计划表!DG46,\"\")","v":""},{"$f":"IF(教学计划表!DG46<>0,教学计划表!DL46,\"\")","v":""},{"$f":"IF(教学计划表!DG46<>0,教学计划表!DM46,\"\")","v":""},{"$f":"IF(教学计划表!DG46<>0,教学计划表!OE46,\"\")","v":""},{"$f":"OFFSET($GD$2,SMALL(IF($GD$2:$GD$72<>\"\",ROW($2:$72),\"\"),ROW(GD30))-2,0)","v":{"$error":"#NUM!"}},{"$f":"OFFSET($GE$2,SMALL(IF($GE$2:$GE$72<>\"\",ROW($2:$72),\"\"),ROW(GE30))-2,0)","v":{"$error":"#NUM!"}},{"$f":"OFFSET($GF$2,SMALL(IF($GF$2:$GF$72<>\"\",ROW($2:$72),\"\"),ROW(GF30))-2,0)","v":{"$error":"#NUM!"}},{"$f":"OFFSET($GG$2,SMALL(IF($GG$2:$GG$72<>\"\",ROW($2:$72),\"\"),ROW(GG30))-2,0)","v":{"$error":"#NUM!"}},{"$f":"OFFSET($GH$2,SMALL(IF($GH$2:$GH$72<>\"\",ROW($2:$72),\"\"),ROW(GH30))-2,0)","v":{"$error":"#NUM!"}},{"$error":"#NUM!"},{"$f":"OFFSET($GJ$2,SMALL(IF($GJ$2:$GJ$72<>\"\",ROW($2:$72),\"\"),ROW(GJ30))-2,0)","v":{"$error":"#NUM!"}},{"$f":"IF(AND(教学计划表!N46<>\"\",教学计划表!AV46<>\"\"),教学计划表!I46,\"\")","v":""},{"$f":"IF(教学计划表!AV46<>\"\",教学计划表!N46,\"\")","v":""},{"$f":"IF(GS31<>\"\",IF(SEARCH(\"2\",教学计划表!AB46&\"2\",1)<=LEN(教学计划表!AB46),\"考试\",\"考查\"),\"\")","v":""},{"$f":"IF(教学计划表!EA46<>0,教学计划表!EA46,\"\")","v":""},{"$f":"IF(教学计划表!EA46<>0,教学计划表!EF46,\"\")","v":""},{"$f":"IF(教学计划表!EA46<>0,教学计划表!EG46,\"\")","v":""},{"$f":"IF(教学计划表!EA46<>0,教学计划表!OQ46,\"\")","v":""},{"$f":"OFFSET($GR$2,SMALL(IF($GR$2:$GR$72<>\"\",ROW($I$2:$K$72),\"\"),ROW(GR30))-2,0)","v":{"$error":"#NUM!"}},{"$f":"OFFSET($GS$2,SMALL(IF($GS$2:$GS$72<>\"\",ROW($I$2:$K$72),\"\"),ROW(GS30))-2,0)","v":{"$error":"#NUM!"}},{"$f":"OFFSET($GT$2,SMALL(IF($GT$2:$GT$72<>\"\",ROW($I$2:$K$72),\"\"),ROW(GT30))-2,0)","v":{"$error":"#NUM!"}},{"$f":"OFFSET($GU$2,SMALL(IF($GU$2:$GU$72<>\"\",ROW($I$2:$K$72),\"\"),ROW(GU30))-2,0)","v":{"$error":"#NUM!"}},{"$f":"OFFSET($GV$2,SMALL(IF($GV$2:$GV$72<>\"\",ROW($GV$2:$GV$72),\"\"),ROW(GV30))-2,0)","v":{"$error":"#NUM!"}},{"$f":"OFFSET($GW$2,SMALL(IF($GW$2:$GW$72<>\"\",ROW($GW$2:$GW$72),\"\"),ROW(GW30))-2,0)","v":{"$error":"#NUM!"}},{"$f":"OFFSET($GX$2,SMALL(IF($GX$2:$GX$72<>\"\",ROW($GX$2:$GX$72),\"\"),ROW(GX30))-2,0)","v":{"$error":"#NUM!"}},{"$f":"IF(AND(教学计划表!N46<>\"\",教学计划表!AY46<>\"\"),教学计划表!I46,\"\")","v":""},{"$f":"IF(教学计划表!AY46<>\"\",教学计划表!N46,\"\")","v":""},{"$f":"IF(HG31<>\"\",IF(SEARCH(\"3\",教学计划表!AB46&\"3\",1)<=LEN(教学计划表!AB46),\"考试\",\"考查\"),\"\")","v":""},{"$f":"IF(教学计划表!EV46<>0,教学计划表!EV46,\"\")","v":""},{"$f":"IF(教学计划表!EV46<>0,教学计划表!FA46,\"\")","v":""},{"$f":"IF(教学计划表!EV46<>0,教学计划表!FB46,\"\")","v":""},{"$f":"IF(教学计划表!EV46<>0,教学计划表!PC46,\"\")","v":""},{"$f":"OFFSET($HF$2,SMALL(IF($HF$2:$HF$72<>\"\",ROW($HF$2:$HF$72),\"\"),ROW(HF30))-2,0)","v":{"$error":"#NUM!"}},{"$f":"OFFSET($HG$2,SMALL(IF($HG$2:$HG$72<>\"\",ROW($HG$2:$HG$72),\"\"),ROW(HG30))-2,0)","v":{"$error":"#NUM!"}},{"$f":"OFFSET($HH$2,SMALL(IF($HH$2:$HH$72<>\"\",ROW($HH$2:$HH$72),\"\"),ROW(HH30))-2,0)","v":{"$error":"#NUM!"}},{"$f":"OFFSET($HI$2,SMALL(IF($HI$2:$HI$72<>\"\",ROW($HI$2:$HI$72),\"\"),ROW(HI30))-2,0)","v":{"$error":"#NUM!"}},{"$f":"OFFSET($HJ$2,SMALL(IF($HJ$2:$HJ$72<>\"\",ROW($HJ$2:$HJ$72),\"\"),ROW(HJ30))-2,0)","v":{"$error":"#NUM!"}},{"$f":"OFFSET($HK$2,SMALL(IF($HK$2:$HK$72<>\"\",ROW($HK$2:$HK$72),\"\"),ROW(HK30))-2,0)","v":{"$error":"#NUM!"}},{"$f":"OFFSET($HL$2,SMALL(IF($HL$2:$HL$72<>\"\",ROW($HL$2:$HL$72),\"\"),ROW(HL30))-2,0)","v":{"$error":"#NUM!"}},{"$f":"IF(AND(教学计划表!N46<>\"\",教学计划表!BB46<>\"\"),教学计划表!I46,\"\")","v":""},{"$f":"IF(教学计划表!BB46<>\"\",教学计划表!N46,\"\")","v":""},{"$f":"IF(HU31<>\"\",IF(SEARCH(\"4\",教学计划表!AB46&\"4\",1)<=LEN(教学计划表!AB46),\"考试\",\"考查\"),\"\")","v":""},{"$f":"IF(教学计划表!FQ46<>0,教学计划表!FQ46,\"\")","v":""},{"$f":"IF(教学计划表!FQ46<>0,教学计划表!FV46,\"\")","v":""},{"$f":"IF(教学计划表!FQ46<>0,教学计划表!FW46,\"\")","v":""},{"$f":"IF(教学计划表!FQ46<>0,教学计划表!PO46,\"\")","v":""},{"$f":"OFFSET($HT$2,SMALL(IF($HT$2:$HT$72<>\"\",ROW($HT$2:$HT$72),\"\"),ROW(HT30))-2,0)","v":{"$error":"#NUM!"}},{"$f":"OFFSET($HU$2,SMALL(IF($HU$2:$HU$72<>\"\",ROW($HU$2:$HU$72),\"\"),ROW(HU30))-2,0)","v":{"$error":"#NUM!"}},{"$f":"OFFSET($HV$2,SMALL(IF($HV$2:$HV$72<>\"\",ROW($HV$2:$HV$72),\"\"),ROW(HV30))-2,0)","v":{"$error":"#NUM!"}},{"$f":"OFFSET($HW$2,SMALL(IF($HW$2:$HW$72<>\"\",ROW($HW$2:$HW$72),\"\"),ROW(HW30))-2,0)","v":{"$error":"#NUM!"}},{"$f":"OFFSET($HX$2,SMALL(IF($HX$2:$HX$72<>\"\",ROW($HX$2:$HX$72),\"\"),ROW(HX30))-2,0)","v":{"$error":"#NUM!"}},{"$f":"OFFSET($HY$2,SMALL(IF($HY$2:$HY$72<>\"\",ROW($HY$2:$HY$72),\"\"),ROW(HY30))-2,0)","v":{"$error":"#NUM!"}},{"$f":"OFFSET($HZ$2,SMALL(IF($HZ$2:$HZ$72<>\"\",ROW($HZ$2:$HZ$72),\"\"),ROW(HZ30))-2,0)","v":{"$error":"#NUM!"}},null,null,{"$f":"IF(AND(教学计划表!N46<>\"\",教学计划表!BE46<>\"\"),教学计划表!I46,\"\")","v":""},{"$f":"IF(教学计划表!BE46<>\"\",教学计划表!N46,\"\")","v":""},{"$f":"IF(IK31<>\"\",IF(SEARCH(\"5\",教学计划表!AB46&\"5\",1)<=LEN(教学计划表!AB46),\"考试\",\"考查\"),\"\")","v":""},{"$f":"IF(教学计划表!GL46<>0,教学计划表!GL46,\"\")","v":""},{"$f":"IF(教学计划表!GL46<>0,教学计划表!GQ46,\"\")","v":""},{"$f":"IF(教学计划表!GL46<>0,教学计划表!GR46,\"\")","v":""},{"$f":"IF(教学计划表!GL46<>0,教学计划表!PZ46,\"\")","v":""},{"$f":"OFFSET($IJ$2,SMALL(IF($IJ$2:$IJ$72<>\"\",ROW($IJ$2:$IJ$72),\"\"),ROW(IJ30))-2,0)","v":{"$error":"#NUM!"}},{"$f":"OFFSET($IK$2,SMALL(IF($IK$2:$IK$72<>\"\",ROW($IK$2:$IK$72),\"\"),ROW(IK30))-2,0)","v":{"$error":"#NUM!"}},{"$f":"OFFSET($IL$2,SMALL(IF($IL$2:$IL$72<>\"\",ROW($IL$2:$IL$72),\"\"),ROW(IL30))-2,0)","v":{"$error":"#NUM!"}},{"$f":"OFFSET($IM$2,SMALL(IF($IM$2:$IM$72<>\"\",ROW($IM$2:$IM$72),\"\"),ROW(IM30))-2,0)","v":{"$error":"#NUM!"}},{"$f":"OFFSET($IN$2,SMALL(IF($IN$2:$IN$72<>\"\",ROW($IN$2:$IN$72),\"\"),ROW(IN30))-2,0)","v":{"$error":"#NUM!"}},{"$f":"OFFSET($IO$2,SMALL(IF($IO$2:$IO$72<>\"\",ROW($IO$2:$IO$72),\"\"),ROW(IO30))-2,0)","v":{"$error":"#NUM!"}},{"$f":"OFFSET($IP$2,SMALL(IF($IP$2:$IP$72<>\"\",ROW($IP$2:$IP$72),\"\"),ROW(IP30))-2,0)","v":{"$error":"#NUM!"}},null,{"$f":"IF(AND(教学计划表!N46<>\"\",教学计划表!BH46<>\"\"),教学计划表!I46,\"\")","v":""},{"$f":"IF(教学计划表!BH46<>\"\",教学计划表!N46,\"\")","v":""},{"$f":"IF(教学计划表!BH46<>\"\",IF(SEARCH(\"6\",教学计划表!AB46&\"6\",1)<=LEN(教学计划表!AB46),\"考试\",\"考查\"),\"\")","v":""},{"$f":"IF(教学计划表!BH46<>0,教学计划表!HG46,\"\")","v":""},{"$f":"IF(教学计划表!BH46<>0,教学计划表!HL46,\"\")","v":""},{"$f":"IF(教学计划表!BH46<>0,教学计划表!HM46,\"\")","v":""},{"$f":"IF(教学计划表!BH46<>0,教学计划表!QL46,\"\")","v":""},{"$f":"OFFSET($IY$2,SMALL(IF($IY$2:$IY$72<>\"\",ROW($IY$2:$IY$72),\"\"),ROW(IY30))-2,0)","v":{"$error":"#NUM!"}},{"$f":"OFFSET($IZ$2,SMALL(IF($IZ$2:$IZ$72<>\"\",ROW($IZ$2:$IZ$72),\"\"),ROW(IZ30))-2,0)","v":{"$error":"#NUM!"}},{"$f":"OFFSET($JA$2,SMALL(IF($JA$2:$JA$72<>\"\",ROW($JA$2:$JA$72),\"\"),ROW(JA30))-2,0)","v":{"$error":"#NUM!"}},{"$f":"OFFSET($JB$2,SMALL(IF($JB$2:$JB$72<>\"\",ROW($JB$2:$JB$72),\"\"),ROW(JB30))-2,0)","v":{"$error":"#NUM!"}},{"$f":"OFFSET($JC$2,SMALL(IF($JC$2:$JC$72<>\"\",ROW($JC$2:$JC$72),\"\"),ROW(JC30))-2,0)","v":{"$error":"#NUM!"}},{"$f":"OFFSET($JD$2,SMALL(IF($JD$2:$JD$72<>\"\",ROW($JD$2:$JD$72),\"\"),ROW(JD30))-2,0)","v":{"$error":"#NUM!"}},{"$f":"OFFSET($JE$2,SMALL(IF($JE$2:$JE$72<>\"\",ROW($JE$2:$JE$72),\"\"),ROW(JE30))-2,0)","v":{"$error":"#NUM!"}}]
["","","","","","","",null,"","","",{"$f":"IF(ISERROR(自动生成的开课信息!HB32),\"\",自动生成的开课信息!HB32)","v":""},{"$f":"IF(ISERROR(自动生成的开课信息!HC32),\"\",自动生成的开课信息!HC32)","v":""},{"$f":"IF(ISERROR(自动生成的开课信息!HD32),\"\",自动生成的开课信息!HD32)","v":""},{"$f":"IF(ISERROR(自动生成的开课信息!HE32),\"\",自动生成的开课信息!HE32)","v":""},null,"","","","","","","",null,"","","","","","","",null,"","","","","","","",null,"","","","","","","",null,null,null,null,null,null,null,null,null,null,null,null,null,null,null,null,null,null,null,null,null,null,null,null,null,null,null,null,null,null,null,null,null,null,null,null,null,null,null,null,null,null,null,null,null,null,null,null,null,null,null,null,null,null,null,null,null,null,null,null,null,null,null,null,null,null,null,null,null,null,null,null,null,null,null,null,null,null,null,null,null,null,null,null,null,null,null,null,null,null,null,null,null,null,null,null,null,null,null,null,null,null,null,null,null,null,null,null,null,null,null,null,null,null,null,null,null,null,null,null,null,null,null,null,null,null,null,null,null,null,null,null,null,null,null,null,null,null,{"$f":"IF(AND(教学计划表!N47<>\"\",教学计划表!AS47<>\"\"),教学计划表!I47,\"\")","v":""},{"$f":"IF(教学计划表!AS47<>\"\",教学计划表!N47,\"\")","v":""},{"$f":"IF(GE32<>\"\",IF(SEARCH(\"1\",教学计划表!AB47&\"1\",1)<=LEN(教学计划表!AB47),\"考试\",\"考查\"),\"\")","v":""},{"$f":"IF(教学计划表!DG47<>0,教学计划表!DG47,\"\")","v":""},{"$f":"IF(教学计划表!DG47<>0,教学计划表!DL47,\"\")","v":""},{"$f":"IF(教学计划表!DG47<>0,教学计划表!DM47,\"\")","v":""},{"$f":"IF(教学计划表!DG47<>0,教学计划表!OE47,\"\")","v":""},{"$f":"OFFSET($GD$2,SMALL(IF($GD$2:$GD$72<>\"\",ROW($2:$72),\"\"),ROW(GD31))-2,0)","v":{"$error":"#NUM!"}},{"$f":"OFFSET($GE$2,SMALL(IF($GE$2:$GE$72<>\"\",ROW($2:$72),\"\"),ROW(GE31))-2,0)","v":{"$error":"#NUM!"}},{"$f":"OFFSET($GF$2,SMALL(IF($GF$2:$GF$72<>\"\",ROW($2:$72),\"\"),ROW(GF31))-2,0)","v":{"$error":"#NUM!"}},{"$f":"OFFSET($GG$2,SMALL(IF($GG$2:$GG$72<>\"\",ROW($2:$72),\"\"),ROW(GG31))-2,0)","v":{"$error":"#NUM!"}},{"$f":"OFFSET($GH$2,SMALL(IF($GH$2:$GH$72<>\"\",ROW($2:$72),\"\"),ROW(GH31))-2,0)","v":{"$error":"#NUM!"}},{"$error":"#NUM!"},{"$f":"OFFSET($GJ$2,SMALL(IF($GJ$2:$GJ$72<>\"\",ROW($2:$72),\"\"),ROW(GJ31))-2,0)","v":{"$error":"#NUM!"}},{"$f":"IF(AND(教学计划表!N47<>\"\",教学计划表!AV47<>\"\"),教学计划表!I47,\"\")","v":""},{"$f":"IF(教学计划表!AV47<>\"\",教学计划表!N47,\"\")","v":""},{"$f":"IF(GS32<>\"\",IF(SEARCH(\"2\",教学计划表!AB47&\"2\",1)<=LEN(教学计划表!AB47),\"考试\",\"考查\"),\"\")","v":""},{"$f":"IF(教学计划表!EA47<>0,教学计划表!EA47,\"\")","v":""},{"$f":"IF(教学计划表!EA47<>0,教学计划表!EF47,\"\")","v":""},{"$f":"IF(教学计划表!EA47<>0,教学计划表!EG47,\"\")","v":""},{"$f":"IF(教学计划表!EA47<>0,教学计划表!OQ47,\"\")","v":""},{"$f":"OFFSET($GR$2,SMALL(IF($GR$2:$GR$72<>\"\",ROW($I$2:$K$72),\"\"),ROW(GR31))-2,0)","v":{"$error":"#NUM!"}},{"$f":"OFFSET($GS$2,SMALL(IF($GS$2:$GS$72<>\"\",ROW($I$2:$K$72),\"\"),ROW(GS31))-2,0)","v":{"$error":"#NUM!"}},{"$f":"OFFSET($GT$2,SMALL(IF($GT$2:$GT$72<>\"\",ROW($I$2:$K$72),\"\"),ROW(GT31))-2,0)","v":{"$error":"#NUM!"}},{"$f":"OFFSET($GU$2,SMALL(IF($GU$2:$GU$72<>\"\",ROW($I$2:$K$72),\"\"),ROW(GU31))-2,0)","v":{"$error":"#NUM!"}},{"$f":"OFFSET($GV$2,SMALL(IF($GV$2:$GV$72<>\"\",ROW($GV$2:$GV$72),\"\"),ROW(GV31))-2,0)","v":{"$error":"#NUM!"}},{"$f":"OFFSET($GW$2,SMALL(IF($GW$2:$GW$72<>\"\",ROW($GW$2:$GW$72),\"\"),ROW(GW31))-2,0)","v":{"$error":"#NUM!"}},{"$f":"OFFSET($GX$2,SMALL(IF($GX$2:$GX$72<>\"\",ROW($GX$2:$GX$72),\"\"),ROW(GX31))-2,0)","v":{"$error":"#NUM!"}},{"$f":"IF(AND(教学计划表!N47<>\"\",教学计划表!AY47<>\"\"),教学计划表!I47,\"\")","v":""},{"$f":"IF(教学计划表!AY47<>\"\",教学计划表!N47,\"\")","v":""},{"$f":"IF(HG32<>\"\",IF(SEARCH(\"3\",教学计划表!AB47&\"3\",1)<=LEN(教学计划表!AB47),\"考试\",\"考查\"),\"\")","v":""},{"$f":"IF(教学计划表!EV47<>0,教学计划表!EV47,\"\")","v":""},{"$f":"IF(教学计划表!EV47<>0,教学计划表!FA47,\"\")","v":""},{"$f":"IF(教学计划表!EV47<>0,教学计划表!FB47,\"\")","v":""},{"$f":"IF(教学计划表!EV47<>0,教学计划表!PC47,\"\")","v":""},{"$f":"OFFSET($HF$2,SMALL(IF($HF$2:$HF$72<>\"\",ROW($HF$2:$HF$72),\"\"),ROW(HF31))-2,0)","v":{"$error":"#NUM!"}},{"$f":"OFFSET($HG$2,SMALL(IF($HG$2:$HG$72<>\"\",ROW($HG$2:$HG$72),\"\"),ROW(HG31))-2,0)","v":{"$error":"#NUM!"}},{"$f":"OFFSET($HH$2,SMALL(IF($HH$2:$HH$72<>\"\",ROW($HH$2:$HH$72),\"\"),ROW(HH31))-2,0)","v":{"$error":"#NUM!"}},{"$f":"OFFSET($HI$2,SMALL(IF($HI$2:$HI$72<>\"\",ROW($HI$2:$HI$72),\"\"),ROW(HI31))-2,0)","v":{"$error":"#NUM!"}},{"$f":"OFFSET($HJ$2,SMALL(IF($HJ$2:$HJ$72<>\"\",ROW($HJ$2:$HJ$72),\"\"),ROW(HJ31))-2,0)","v":{"$error":"#NUM!"}},{"$f":"OFFSET($HK$2,SMALL(IF($HK$2:$HK$72<>\"\",ROW($HK$2:$HK$72),\"\"),ROW(HK31))-2,0)","v":{"$error":"#NUM!"}},{"$f":"OFFSET($HL$2,SMALL(IF($HL$2:$HL$72<>\"\",ROW($HL$2:$HL$72),\"\"),ROW(HL31))-2,0)","v":{"$error":"#NUM!"}},{"$f":"IF(AND(教学计划表!N47<>\"\",教学计划表!BB47<>\"\"),教学计划表!I47,\"\")","v":""},{"$f":"IF(教学计划表!BB47<>\"\",教学计划表!N47,\"\")","v":""},{"$f":"IF(HU32<>\"\",IF(SEARCH(\"4\",教学计划表!AB47&\"4\",1)<=LEN(教学计划表!AB47),\"考试\",\"考查\"),\"\")","v":""},{"$f":"IF(教学计划表!FQ47<>0,教学计划表!FQ47,\"\")","v":""},{"$f":"IF(教学计划表!FQ47<>0,教学计划表!FV47,\"\")","v":""},{"$f":"IF(教学计划表!FQ47<>0,教学计划表!FW47,\"\")","v":""},{"$f":"IF(教学计划表!FQ47<>0,教学计划表!PO47,\"\")","v":""},{"$f":"OFFSET($HT$2,SMALL(IF($HT$2:$HT$72<>\"\",ROW($HT$2:$HT$72),\"\"),ROW(HT31))-2,0)","v":{"$error":"#NUM!"}},{"$f":"OFFSET($HU$2,SMALL(IF($HU$2:$HU$72<>\"\",ROW($HU$2:$HU$72),\"\"),ROW(HU31))-2,0)","v":{"$error":"#NUM!"}},{"$f":"OFFSET($HV$2,SMALL(IF($HV$2:$HV$72<>\"\",ROW($HV$2:$HV$72),\"\"),ROW(HV31))-2,0)","v":{"$error":"#NUM!"}},{"$f":"OFFSET($HW$2,SMALL(IF($HW$2:$HW$72<>\"\",ROW($HW$2:$HW$72),\"\"),ROW(HW31))-2,0)","v":{"$error":"#NUM!"}},{"$f":"OFFSET($HX$2,SMALL(IF($HX$2:$HX$72<>\"\",ROW($HX$2:$HX$72),\"\"),ROW(HX31))-2,0)","v":{"$error":"#NUM!"}},{"$f":"OFFSET($HY$2,SMALL(IF($HY$2:$HY$72<>\"\",ROW($HY$2:$HY$72),\"\"),ROW(HY31))-2,0)","v":{"$error":"#NUM!"}},{"$f":"OFFSET($HZ$2,SMALL(IF($HZ$2:$HZ$72<>\"\",ROW($HZ$2:$HZ$72),\"\"),ROW(HZ31))-2,0)","v":{"$error":"#NUM!"}},null,null,{"$f":"IF(AND(教学计划表!N47<>\"\",教学计划表!BE47<>\"\"),教学计划表!I47,\"\")","v":""},{"$f":"IF(教学计划表!BE47<>\"\",教学计划表!N47,\"\")","v":""},{"$f":"IF(IK32<>\"\",IF(SEARCH(\"5\",教学计划表!AB47&\"5\",1)<=LEN(教学计划表!AB47),\"考试\",\"考查\"),\"\")","v":""},{"$f":"IF(教学计划表!GL47<>0,教学计划表!GL47,\"\")","v":""},{"$f":"IF(教学计划表!GL47<>0,教学计划表!GQ47,\"\")","v":""},{"$f":"IF(教学计划表!GL47<>0,教学计划表!GR47,\"\")","v":""},{"$f":"IF(教学计划表!GL47<>0,教学计划表!PZ47,\"\")","v":""},{"$f":"OFFSET($IJ$2,SMALL(IF($IJ$2:$IJ$72<>\"\",ROW($IJ$2:$IJ$72),\"\"),ROW(IJ31))-2,0)","v":{"$error":"#NUM!"}},{"$f":"OFFSET($IK$2,SMALL(IF($IK$2:$IK$72<>\"\",ROW($IK$2:$IK$72),\"\"),ROW(IK31))-2,0)","v":{"$error":"#NUM!"}},{"$f":"OFFSET($IL$2,SMALL(IF($IL$2:$IL$72<>\"\",ROW($IL$2:$IL$72),\"\"),ROW(IL31))-2,0)","v":{"$error":"#NUM!"}},{"$f":"OFFSET($IM$2,SMALL(IF($IM$2:$IM$72<>\"\",ROW($IM$2:$IM$72),\"\"),ROW(IM31))-2,0)","v":{"$error":"#NUM!"}},{"$f":"OFFSET($IN$2,SMALL(IF($IN$2:$IN$72<>\"\",ROW($IN$2:$IN$72),\"\"),ROW(IN31))-2,0)","v":{"$error":"#NUM!"}},{"$f":"OFFSET($IO$2,SMALL(IF($IO$2:$IO$72<>\"\",ROW($IO$2:$IO$72),\"\"),ROW(IO31))-2,0)","v":{"$error":"#NUM!"}},{"$f":"OFFSET($IP$2,SMALL(IF($IP$2:$IP$72<>\"\",ROW($IP$2:$IP$72),\"\"),ROW(IP31))-2,0)","v":{"$error":"#NUM!"}},null,{"$f":"IF(AND(教学计划表!N47<>\"\",教学计划表!BH47<>\"\"),教学计划表!I47,\"\")","v":""},{"$f":"IF(教学计划表!BH47<>\"\",教学计划表!N47,\"\")","v":""},{"$f":"IF(教学计划表!BH47<>\"\",IF(SEARCH(\"6\",教学计划表!AB47&\"6\",1)<=LEN(教学计划表!AB47),\"考试\",\"考查\"),\"\")","v":""},{"$f":"IF(教学计划表!BH47<>0,教学计划表!HG47,\"\")","v":""},{"$f":"IF(教学计划表!BH47<>0,教学计划表!HL47,\"\")","v":""},{"$f":"IF(教学计划表!BH47<>0,教学计划表!HM47,\"\")","v":""},{"$f":"IF(教学计划表!BH47<>0,教学计划表!QL47,\"\")","v":""},{"$f":"OFFSET($IY$2,SMALL(IF($IY$2:$IY$72<>\"\",ROW($IY$2:$IY$72),\"\"),ROW(IY31))-2,0)","v":{"$error":"#NUM!"}},{"$f":"OFFSET($IZ$2,SMALL(IF($IZ$2:$IZ$72<>\"\",ROW($IZ$2:$IZ$72),\"\"),ROW(IZ31))-2,0)","v":{"$error":"#NUM!"}},{"$f":"OFFSET($JA$2,SMALL(IF($JA$2:$JA$72<>\"\",ROW($JA$2:$JA$72),\"\"),ROW(JA31))-2,0)","v":{"$error":"#NUM!"}},{"$f":"OFFSET($JB$2,SMALL(IF($JB$2:$JB$72<>\"\",ROW($JB$2:$JB$72),\"\"),ROW(JB31))-2,0)","v":{"$error":"#NUM!"}},{"$f":"OFFSET($JC$2,SMALL(IF($JC$2:$JC$72<>\"\",ROW($JC$2:$JC$72),\"\"),ROW(JC31))-2,0)","v":{"$error":"#NUM!"}},{"$f":"OFFSET($JD$2,SMALL(IF($JD$2:$JD$72<>\"\",ROW($JD$2:$JD$72),\"\"),ROW(JD31))-2,0)","v":{"$error":"#NUM!"}},{"$f":"OFFSET($JE$2,SMALL(IF($JE$2:$JE$72<>\"\",ROW($JE$2:$JE$72),\"\"),ROW(JE31))-2,0)","v":{"$error":"#NUM!"}}]
["","","","","","","",null,"","","",{"$f":"IF(ISERROR(自动生成的开课信息!HB33),\"\",自动生成的开课信息!HB33)","v":""},{"$f":"IF(ISERROR(自动生成的开课信息!HC33),\"\",自动生成的开课信息!HC33)","v":""},{"$f":"IF(ISERROR(自动生成的开课信息!HD33),\"\",自动生成的开课信息!HD33)","v":""},{"$f":"IF(ISERROR(自动生成的开课信息!HE33),\"\",自动生成的开课信息!HE33)","v":""},null,"","","","","","","",null,"","","","","","","",null,"","","","","","","",null,"","","","","","","",null,null,null,null,null,null,null,null,null,null,null,null,null,null,null,null,null,null,null,null,null,null,null,null,null,null,null,null,null,null,null,null,null,null,null,null,null,null,null,null,null,null,null,null,null,null,null,null,null,null,null,null,null,null,null,null,null,null,null,null,null,null,null,null,null,null,null,null,null,null,null,null,null,null,null,null,null,null,null,null,null,null,null,null,null,null,null,null,null,null,null,null,null,null,null,null,null,null,null,null,null,null,null,null,null,null,null,null,null,null,null,null,null,null,null,null,null,null,null,null,null,null,null,null,null,null,null,null,null,null,null,null,null,null,null,null,null,null,{"$f":"IF(AND(教学计划表!N48<>\"\",教学计划表!AS48<>\"\"),教学计划表!I48,\"\")","v":""},{"$f":"IF(教学计划表!AS48<>\"\",教学计划表!N48,\"\")","v":""},{"$f":"IF(GE33<>\"\",IF(SEARCH(\"1\",教学计划表!AB48&\"1\",1)<=LEN(教学计划表!AB48),\"考试\",\"考查\"),\"\")","v":""},{"$f":"IF(教学计划表!DG48<>0,教学计划表!DG48,\"\")","v":""},{"$f":"IF(教学计划表!DG48<>0,教学计划表!DL48,\"\")","v":""},{"$f":"IF(教学计划表!DG48<>0,教学计划表!DM48,\"\")","v":""},{"$f":"IF(教学计划表!DG48<>0,教学计划表!OE48,\"\")","v":""},{"$f":"OFFSET($GD$2,SMALL(IF($GD$2:$GD$72<>\"\",ROW($2:$72),\"\"),ROW(GD32))-2,0)","v":{"$error":"#NUM!"}},{"$f":"OFFSET($GE$2,SMALL(IF($GE$2:$GE$72<>\"\",ROW($2:$72),\"\"),ROW(GE32))-2,0)","v":{"$error":"#NUM!"}},{"$f":"OFFSET($GF$2,SMALL(IF($GF$2:$GF$72<>\"\",ROW($2:$72),\"\"),ROW(GF32))-2,0)","v":{"$error":"#NUM!"}},{"$f":"OFFSET($GG$2,SMALL(IF($GG$2:$GG$72<>\"\",ROW($2:$72),\"\"),ROW(GG32))-2,0)","v":{"$error":"#NUM!"}},{"$f":"OFFSET($GH$2,SMALL(IF($GH$2:$GH$72<>\"\",ROW($2:$72),\"\"),ROW(GH32))-2,0)","v":{"$error":"#NUM!"}},{"$error":"#NUM!"},{"$f":"OFFSET($GJ$2,SMALL(IF($GJ$2:$GJ$72<>\"\",ROW($2:$72),\"\"),ROW(GJ32))-2,0)","v":{"$error":"#NUM!"}},{"$f":"IF(AND(教学计划表!N48<>\"\",教学计划表!AV48<>\"\"),教学计划表!I48,\"\")","v":""},{"$f":"IF(教学计划表!AV48<>\"\",教学计划表!N48,\"\")","v":""},{"$f":"IF(GS33<>\"\",IF(SEARCH(\"2\",教学计划表!AB48&\"2\",1)<=LEN(教学计划表!AB48),\"考试\",\"考查\"),\"\")","v":""},{"$f":"IF(教学计划表!EA48<>0,教学计划表!EA48,\"\")","v":""},{"$f":"IF(教学计划表!EA48<>0,教学计划表!EF48,\"\")","v":""},{"$f":"IF(教学计划表!EA48<>0,教学计划表!EG48,\"\")","v":""},{"$f":"IF(教学计划表!EA48<>0,教学计划表!OQ48,\"\")","v":""},{"$f":"OFFSET($GR$2,SMALL(IF($GR$2:$GR$72<>\"\",ROW($I$2:$K$72),\"\"),ROW(GR32))-2,0)","v":{"$error":"#NUM!"}},{"$f":"OFFSET($GS$2,SMALL(IF($GS$2:$GS$72<>\"\",ROW($I$2:$K$72),\"\"),ROW(GS32))-2,0)","v":{"$error":"#NUM!"}},{"$f":"OFFSET($GT$2,SMALL(IF($GT$2:$GT$72<>\"\",ROW($I$2:$K$72),\"\"),ROW(GT32))-2,0)","v":{"$error":"#NUM!"}},{"$f":"OFFSET($GU$2,SMALL(IF($GU$2:$GU$72<>\"\",ROW($I$2:$K$72),\"\"),ROW(GU32))-2,0)","v":{"$error":"#NUM!"}},{"$f":"OFFSET($GV$2,SMALL(IF($GV$2:$GV$72<>\"\",ROW($GV$2:$GV$72),\"\"),ROW(GV32))-2,0)","v":{"$error":"#NUM!"}},{"$f":"OFFSET($GW$2,SMALL(IF($GW$2:$GW$72<>\"\",ROW($GW$2:$GW$72),\"\"),ROW(GW32))-2,0)","v":{"$error":"#NUM!"}},{"$f":"OFFSET($GX$2,SMALL(IF($GX$2:$GX$72<>\"\",ROW($GX$2:$GX$72),\"\"),ROW(GX32))-2,0)","v":{"$error":"#NUM!"}},{"$f":"IF(AND(教学计划表!N48<>\"\",教学计划表!AY48<>\"\"),教学计划表!I48,\"\")","v":""},{"$f":"IF(教学计划表!AY48<>\"\",教学计划表!N48,\"\")","v":""},{"$f":"IF(HG33<>\"\",IF(SEARCH(\"3\",教学计划表!AB48&\"3\",1)<=LEN(教学计划表!AB48),\"考试\",\"考查\"),\"\")","v":""},{"$f":"IF(教学计划表!EV48<>0,教学计划表!EV48,\"\")","v":""},{"$f":"IF(教学计划表!EV48<>0,教学计划表!FA48,\"\")","v":""},{"$f":"IF(教学计划表!EV48<>0,教学计划表!FB48,\"\")","v":""},{"$f":"IF(教学计划表!EV48<>0,教学计划表!PC48,\"\")","v":""},{"$f":"OFFSET($HF$2,SMALL(IF($HF$2:$HF$72<>\"\",ROW($HF$2:$HF$72),\"\"),ROW(HF32))-2,0)","v":{"$error":"#NUM!"}},{"$f":"OFFSET($HG$2,SMALL(IF($HG$2:$HG$72<>\"\",ROW($HG$2:$HG$72),\"\"),ROW(HG32))-2,0)","v":{"$error":"#NUM!"}},{"$f":"OFFSET($HH$2,SMALL(IF($HH$2:$HH$72<>\"\",ROW($HH$2:$HH$72),\"\"),ROW(HH32))-2,0)","v":{"$error":"#NUM!"}},{"$f":"OFFSET($HI$2,SMALL(IF($HI$2:$HI$72<>\"\",ROW($HI$2:$HI$72),\"\"),ROW(HI32))-2,0)","v":{"$error":"#NUM!"}},{"$f":"OFFSET($HJ$2,SMALL(IF($HJ$2:$HJ$72<>\"\",ROW($HJ$2:$HJ$72),\"\"),ROW(HJ32))-2,0)","v":{"$error":"#NUM!"}},{"$f":"OFFSET($HK$2,SMALL(IF($HK$2:$HK$72<>\"\",ROW($HK$2:$HK$72),\"\"),ROW(HK32))-2,0)","v":{"$error":"#NUM!"}},{"$f":"OFFSET($HL$2,SMALL(IF($HL$2:$HL$72<>\"\",ROW($HL$2:$HL$72),\"\"),ROW(HL32))-2,0)","v":{"$error":"#NUM!"}},{"$f":"IF(AND(教学计划表!N48<>\"\",教学计划表!BB48<>\"\"),教学计划表!I48,\"\")","v":""},{"$f":"IF(教学计划表!BB48<>\"\",教学计划表!N48,\"\")","v":""},{"$f":"IF(HU33<>\"\",IF(SEARCH(\"4\",教学计划表!AB48&\"4\",1)<=LEN(教学计划表!AB48),\"考试\",\"考查\"),\"\")","v":""},{"$f":"IF(教学计划表!FQ48<>0,教学计划表!FQ48,\"\")","v":""},{"$f":"IF(教学计划表!FQ48<>0,教学计划表!FV48,\"\")","v":""},{"$f":"IF(教学计划表!FQ48<>0,教学计划表!FW48,\"\")","v":""},{"$f":"IF(教学计划表!FQ48<>0,教学计划表!PO48,\"\")","v":""},{"$f":"OFFSET($HT$2,SMALL(IF($HT$2:$HT$72<>\"\",ROW($HT$2:$HT$72),\"\"),ROW(HT32))-2,0)","v":{"$error":"#NUM!"}},{"$f":"OFFSET($HU$2,SMALL(IF($HU$2:$HU$72<>\"\",ROW($HU$2:$HU$72),\"\"),ROW(HU32))-2,0)","v":{"$error":"#NUM!"}},{"$f":"OFFSET($HV$2,SMALL(IF($HV$2:$HV$72<>\"\",ROW($HV$2:$HV$72),\"\"),ROW(HV32))-2,0)","v":{"$error":"#NUM!"}},{"$f":"OFFSET($HW$2,SMALL(IF($HW$2:$HW$72<>\"\",ROW($HW$2:$HW$72),\"\"),ROW(HW32))-2,0)","v":{"$error":"#NUM!"}},{"$f":"OFFSET($HX$2,SMALL(IF($HX$2:$HX$72<>\"\",ROW($HX$2:$HX$72),\"\"),ROW(HX32))-2,0)","v":{"$error":"#NUM!"}},{"$f":"OFFSET($HY$2,SMALL(IF($HY$2:$HY$72<>\"\",ROW($HY$2:$HY$72),\"\"),ROW(HY32))-2,0)","v":{"$error":"#NUM!"}},{"$f":"OFFSET($HZ$2,SMALL(IF($HZ$2:$HZ$72<>\"\",ROW($HZ$2:$HZ$72),\"\"),ROW(HZ32))-2,0)","v":{"$error":"#NUM!"}},null,null,{"$f":"IF(AND(教学计划表!N48<>\"\",教学计划表!BE48<>\"\"),教学计划表!I48,\"\")","v":""},{"$f":"IF(教学计划表!BE48<>\"\",教学计划表!N48,\"\")","v":""},{"$f":"IF(IK33<>\"\",IF(SEARCH(\"5\",教学计划表!AB48&\"5\",1)<=LEN(教学计划表!AB48),\"考试\",\"考查\"),\"\")","v":""},{"$f":"IF(教学计划表!GL48<>0,教学计划表!GL48,\"\")","v":""},{"$f":"IF(教学计划表!GL48<>0,教学计划表!GQ48,\"\")","v":""},{"$f":"IF(教学计划表!GL48<>0,教学计划表!GR48,\"\")","v":""},{"$f":"IF(教学计划表!GL48<>0,教学计划表!PZ48,\"\")","v":""},{"$f":"OFFSET($IJ$2,SMALL(IF($IJ$2:$IJ$72<>\"\",ROW($IJ$2:$IJ$72),\"\"),ROW(IJ32))-2,0)","v":{"$error":"#NUM!"}},{"$f":"OFFSET($IK$2,SMALL(IF($IK$2:$IK$72<>\"\",ROW($IK$2:$IK$72),\"\"),ROW(IK32))-2,0)","v":{"$error":"#NUM!"}},{"$f":"OFFSET($IL$2,SMALL(IF($IL$2:$IL$72<>\"\",ROW($IL$2:$IL$72),\"\"),ROW(IL32))-2,0)","v":{"$error":"#NUM!"}},{"$f":"OFFSET($IM$2,SMALL(IF($IM$2:$IM$72<>\"\",ROW($IM$2:$IM$72),\"\"),ROW(IM32))-2,0)","v":{"$error":"#NUM!"}},{"$f":"OFFSET($IN$2,SMALL(IF($IN$2:$IN$72<>\"\",ROW($IN$2:$IN$72),\"\"),ROW(IN32))-2,0)","v":{"$error":"#NUM!"}},{"$f":"OFFSET($IO$2,SMALL(IF($IO$2:$IO$72<>\"\",ROW($IO$2:$IO$72),\"\"),ROW(IO32))-2,0)","v":{"$error":"#NUM!"}},{"$f":"OFFSET($IP$2,SMALL(IF($IP$2:$IP$72<>\"\",ROW($IP$2:$IP$72),\"\"),ROW(IP32))-2,0)","v":{"$error":"#NUM!"}},null,{"$f":"IF(AND(教学计划表!N48<>\"\",教学计划表!BH48<>\"\"),教学计划表!I48,\"\")","v":""},{"$f":"IF(教学计划表!BH48<>\"\",教学计划表!N48,\"\")","v":""},{"$f":"IF(教学计划表!BH48<>\"\",IF(SEARCH(\"6\",教学计划表!AB48&\"6\",1)<=LEN(教学计划表!AB48),\"考试\",\"考查\"),\"\")","v":""},{"$f":"IF(教学计划表!BH48<>0,教学计划表!HG48,\"\")","v":""},{"$f":"IF(教学计划表!BH48<>0,教学计划表!HL48,\"\")","v":""},{"$f":"IF(教学计划表!BH48<>0,教学计划表!HM48,\"\")","v":""},{"$f":"IF(教学计划表!BH48<>0,教学计划表!QL48,\"\")","v":""},{"$f":"OFFSET($IY$2,SMALL(IF($IY$2:$IY$72<>\"\",ROW($IY$2:$IY$72),\"\"),ROW(IY32))-2,0)","v":{"$error":"#NUM!"}},{"$f":"OFFSET($IZ$2,SMALL(IF($IZ$2:$IZ$72<>\"\",ROW($IZ$2:$IZ$72),\"\"),ROW(IZ32))-2,0)","v":{"$error":"#NUM!"}},{"$f":"OFFSET($JA$2,SMALL(IF($JA$2:$JA$72<>\"\",ROW($JA$2:$JA$72),\"\"),ROW(JA32))-2,0)","v":{"$error":"#NUM!"}},{"$f":"OFFSET($JB$2,SMALL(IF($JB$2:$JB$72<>\"\",ROW($JB$2:$JB$72),\"\"),ROW(JB32))-2,0)","v":{"$error":"#NUM!"}},{"$f":"OFFSET($JC$2,SMALL(IF($JC$2:$JC$72<>\"\",ROW($JC$2:$JC$72),\"\"),ROW(JC32))-2,0)","v":{"$error":"#NUM!"}},{"$f":"OFFSET($JD$2,SMALL(IF($JD$2:$JD$72<>\"\",ROW($JD$2:$JD$72),\"\"),ROW(JD32))-2,0)","v":{"$error":"#NUM!"}},{"$f":"OFFSET($JE$2,SMALL(IF($JE$2:$JE$72<>\"\",ROW($JE$2:$JE$72),\"\"),ROW(JE32))-2,0)","v":{"$error":"#NUM!"}}]
["","","","","","","",null,"","","",{"$f":"IF(ISERROR(自动生成的开课信息!HB34),\"\",自动生成的开课信息!HB34)","v":""},{"$f":"IF(ISERROR(自动生成的开课信息!HC34),\"\",自动生成的开课信息!HC34)","v":""},{"$f":"IF(ISERROR(自动生成的开课信息!HD34),\"\",自动生成的开课信息!HD34)","v":""},{"$f":"IF(ISERROR(自动生成的开课信息!HE34),\"\",自动生成的开课信息!HE34)","v":""},null,"","","","","","","",null,"","","","","","","",null,"","","","","","","",null,"","","","","","","",null,null,null,null,null,null,null,null,null,null,null,null,null,null,null,null,null,null,null,null,null,null,null,null,null,null,null,null,null,null,null,null,null,null,null,null,null,null,null,null,null,null,null,null,null,null,null,null,null,null,null,null,null,null,null,null,null,null,null,null,null,null,null,null,null,null,null,null,null,null,null,null,null,null,null,null,null,null,null,null,null,null,null,null,null,null,null,null,null,null,null,null,null,null,null,null,null,null,null,null,null,null,null,null,null,null,null,null,null,null,null,null,null,null,null,null,null,null,null,null,null,null,null,null,null,null,null,null,null,null,null,null,null,null,null,null,null,null,{"$f":"IF(AND(教学计划表!N49<>\"\",教学计划表!AS49<>\"\"),教学计划表!I49,\"\")","v":""},{"$f":"IF(教学计划表!AS49<>\"\",教学计划表!N49,\"\")","v":""},{"$f":"IF(GE34<>\"\",IF(SEARCH(\"1\",教学计划表!AB49&\"1\",1)<=LEN(教学计划表!AB49),\"考试\",\"考查\"),\"\")","v":""},{"$f":"IF(教学计划表!DG49<>0,教学计划表!DG49,\"\")","v":""},{"$f":"IF(教学计划表!DG49<>0,教学计划表!DL49,\"\")","v":""},{"$f":"IF(教学计划表!DG49<>0,教学计划表!DM49,\"\")","v":""},{"$f":"IF(教学计划表!DG49<>0,教学计划表!OE49,\"\")","v":""},{"$f":"OFFSET($GD$2,SMALL(IF($GD$2:$GD$72<>\"\",ROW($2:$72),\"\"),ROW(GD33))-2,0)","v":{"$error":"#NUM!"}},{"$f":"OFFSET($GE$2,SMALL(IF($GE$2:$GE$72<>\"\",ROW($2:$72),\"\"),ROW(GE33))-2,0)","v":{"$error":"#NUM!"}},{"$f":"OFFSET($GF$2,SMALL(IF($GF$2:$GF$72<>\"\",ROW($2:$72),\"\"),ROW(GF33))-2,0)","v":{"$error":"#NUM!"}},{"$f":"OFFSET($GG$2,SMALL(IF($GG$2:$GG$72<>\"\",ROW($2:$72),\"\"),ROW(GG33))-2,0)","v":{"$error":"#NUM!"}},{"$f":"OFFSET($GH$2,SMALL(IF($GH$2:$GH$72<>\"\",ROW($2:$72),\"\"),ROW(GH33))-2,0)","v":{"$error":"#NUM!"}},{"$error":"#NUM!"},{"$f":"OFFSET($GJ$2,SMALL(IF($GJ$2:$GJ$72<>\"\",ROW($2:$72),\"\"),ROW(GJ33))-2,0)","v":{"$error":"#NUM!"}},{"$f":"IF(AND(教学计划表!N49<>\"\",教学计划表!AV49<>\"\"),教学计划表!I49,\"\")","v":""},{"$f":"IF(教学计划表!AV49<>\"\",教学计划表!N49,\"\")","v":""},{"$f":"IF(GS34<>\"\",IF(SEARCH(\"2\",教学计划表!AB49&\"2\",1)<=LEN(教学计划表!AB49),\"考试\",\"考查\"),\"\")","v":""},{"$f":"IF(教学计划表!EA49<>0,教学计划表!EA49,\"\")","v":""},{"$f":"IF(教学计划表!EA49<>0,教学计划表!EF49,\"\")","v":""},{"$f":"IF(教学计划表!EA49<>0,教学计划表!EG49,\"\")","v":""},{"$f":"IF(教学计划表!EA49<>0,教学计划表!OQ49,\"\")","v":""},{"$f":"OFFSET($GR$2,SMALL(IF($GR$2:$GR$72<>\"\",ROW($I$2:$K$72),\"\"),ROW(GR33))-2,0)","v":{"$error":"#NUM!"}},{"$f":"OFFSET($GS$2,SMALL(IF($GS$2:$GS$72<>\"\",ROW($I$2:$K$72),\"\"),ROW(GS33))-2,0)","v":{"$error":"#NUM!"}},{"$f":"OFFSET($GT$2,SMALL(IF($GT$2:$GT$72<>\"\",ROW($I$2:$K$72),\"\"),ROW(GT33))-2,0)","v":{"$error":"#NUM!"}},{"$f":"OFFSET($GU$2,SMALL(IF($GU$2:$GU$72<>\"\",ROW($I$2:$K$72),\"\"),ROW(GU33))-2,0)","v":{"$error":"#NUM!"}},{"$f":"OFFSET($GV$2,SMALL(IF($GV$2:$GV$72<>\"\",ROW($GV$2:$GV$72),\"\"),ROW(GV33))-2,0)","v":{"$error":"#NUM!"}},{"$f":"OFFSET($GW$2,SMALL(IF($GW$2:$GW$72<>\"\",ROW($GW$2:$GW$72),\"\"),ROW(GW33))-2,0)","v":{"$error":"#NUM!"}},{"$f":"OFFSET($GX$2,SMALL(IF($GX$2:$GX$72<>\"\",ROW($GX$2:$GX$72),\"\"),ROW(GX33))-2,0)","v":{"$error":"#NUM!"}},{"$f":"IF(AND(教学计划表!N49<>\"\",教学计划表!AY49<>\"\"),教学计划表!I49,\"\")","v":""},{"$f":"IF(教学计划表!AY49<>\"\",教学计划表!N49,\"\")","v":""},{"$f":"IF(HG34<>\"\",IF(SEARCH(\"3\",教学计划表!AB49&\"3\",1)<=LEN(教学计划表!AB49),\"考试\",\"考查\"),\"\")","v":""},{"$f":"IF(教学计划表!EV49<>0,教学计划表!EV49,\"\")","v":""},{"$f":"IF(教学计划表!EV49<>0,教学计划表!FA49,\"\")","v":""},{"$f":"IF(教学计划表!EV49<>0,教学计划表!FB49,\"\")","v":""},{"$f":"IF(教学计划表!EV49<>0,教学计划表!PC49,\"\")","v":""},{"$f":"OFFSET($HF$2,SMALL(IF($HF$2:$HF$72<>\"\",ROW($HF$2:$HF$72),\"\"),ROW(HF33))-2,0)","v":{"$error":"#NUM!"}},{"$f":"OFFSET($HG$2,SMALL(IF($HG$2:$HG$72<>\"\",ROW($HG$2:$HG$72),\"\"),ROW(HG33))-2,0)","v":{"$error":"#NUM!"}},{"$f":"OFFSET($HH$2,SMALL(IF($HH$2:$HH$72<>\"\",ROW($HH$2:$HH$72),\"\"),ROW(HH33))-2,0)","v":{"$error":"#NUM!"}},{"$f":"OFFSET($HI$2,SMALL(IF($HI$2:$HI$72<>\"\",ROW($HI$2:$HI$72),\"\"),ROW(HI33))-2,0)","v":{"$error":"#NUM!"}},{"$f":"OFFSET($HJ$2,SMALL(IF($HJ$2:$HJ$72<>\"\",ROW($HJ$2:$HJ$72),\"\"),ROW(HJ33))-2,0)","v":{"$error":"#NUM!"}},{"$f":"OFFSET($HK$2,SMALL(IF($HK$2:$HK$72<>\"\",ROW($HK$2:$HK$72),\"\"),ROW(HK33))-2,0)","v":{"$error":"#NUM!"}},{"$f":"OFFSET($HL$2,SMALL(IF($HL$2:$HL$72<>\"\",ROW($HL$2:$HL$72),\"\"),ROW(HL33))-2,0)","v":{"$error":"#NUM!"}},{"$f":"IF(AND(教学计划表!N49<>\"\",教学计划表!BB49<>\"\"),教学计划表!I49,\"\")","v":""},{"$f":"IF(教学计划表!BB49<>\"\",教学计划表!N49,\"\")","v":""},{"$f":"IF(HU34<>\"\",IF(SEARCH(\"4\",教学计划表!AB49&\"4\",1)<=LEN(教学计划表!AB49),\"考试\",\"考查\"),\"\")","v":""},{"$f":"IF(教学计划表!FQ49<>0,教学计划表!FQ49,\"\")","v":""},{"$f":"IF(教学计划表!FQ49<>0,教学计划表!FV49,\"\")","v":""},{"$f":"IF(教学计划表!FQ49<>0,教学计划表!FW49,\"\")","v":""},{"$f":"IF(教学计划表!FQ49<>0,教学计划表!PO49,\"\")","v":""},{"$f":"OFFSET($HT$2,SMALL(IF($HT$2:$HT$72<>\"\",ROW($HT$2:$HT$72),\"\"),ROW(HT33))-2,0)","v":{"$error":"#NUM!"}},{"$f":"OFFSET($HU$2,SMALL(IF($HU$2:$HU$72<>\"\",ROW($HU$2:$HU$72),\"\"),ROW(HU33))-2,0)","v":{"$error":"#NUM!"}},{"$f":"OFFSET($HV$2,SMALL(IF($HV$2:$HV$72<>\"\",ROW($HV$2:$HV$72),\"\"),ROW(HV33))-2,0)","v":{"$error":"#NUM!"}},{"$f":"OFFSET($HW$2,SMALL(IF($HW$2:$HW$72<>\"\",ROW($HW$2:$HW$72),\"\"),ROW(HW33))-2,0)","v":{"$error":"#NUM!"}},{"$f":"OFFSET($HX$2,SMALL(IF($HX$2:$HX$72<>\"\",ROW($HX$2:$HX$72),\"\"),ROW(HX33))-2,0)","v":{"$error":"#NUM!"}},{"$f":"OFFSET($HY$2,SMALL(IF($HY$2:$HY$72<>\"\",ROW($HY$2:$HY$72),\"\"),ROW(HY33))-2,0)","v":{"$error":"#NUM!"}},{"$f":"OFFSET($HZ$2,SMALL(IF($HZ$2:$HZ$72<>\"\",ROW($HZ$2:$HZ$72),\"\"),ROW(HZ33))-2,0)","v":{"$error":"#NUM!"}},null,null,{"$f":"IF(AND(教学计划表!N49<>\"\",教学计划表!BE49<>\"\"),教学计划表!I49,\"\")","v":""},{"$f":"IF(教学计划表!BE49<>\"\",教学计划表!N49,\"\")","v":""},{"$f":"IF(IK34<>\"\",IF(SEARCH(\"5\",教学计划表!AB49&\"5\",1)<=LEN(教学计划表!AB49),\"考试\",\"考查\"),\"\")","v":""},{"$f":"IF(教学计划表!GL49<>0,教学计划表!GL49,\"\")","v":""},{"$f":"IF(教学计划表!GL49<>0,教学计划表!GQ49,\"\")","v":""},{"$f":"IF(教学计划表!GL49<>0,教学计划表!GR49,\"\")","v":""},{"$f":"IF(教学计划表!GL49<>0,教学计划表!PZ49,\"\")","v":""},{"$f":"OFFSET($IJ$2,SMALL(IF($IJ$2:$IJ$72<>\"\",ROW($IJ$2:$IJ$72),\"\"),ROW(IJ33))-2,0)","v":{"$error":"#NUM!"}},{"$f":"OFFSET($IK$2,SMALL(IF($IK$2:$IK$72<>\"\",ROW($IK$2:$IK$72),\"\"),ROW(IK33))-2,0)","v":{"$error":"#NUM!"}},{"$f":"OFFSET($IL$2,SMALL(IF($IL$2:$IL$72<>\"\",ROW($IL$2:$IL$72),\"\"),ROW(IL33))-2,0)","v":{"$error":"#NUM!"}},{"$f":"OFFSET($IM$2,SMALL(IF($IM$2:$IM$72<>\"\",ROW($IM$2:$IM$72),\"\"),ROW(IM33))-2,0)","v":{"$error":"#NUM!"}},{"$f":"OFFSET($IN$2,SMALL(IF($IN$2:$IN$72<>\"\",ROW($IN$2:$IN$72),\"\"),ROW(IN33))-2,0)","v":{"$error":"#NUM!"}},{"$f":"OFFSET($IO$2,SMALL(IF($IO$2:$IO$72<>\"\",ROW($IO$2:$IO$72),\"\"),ROW(IO33))-2,0)","v":{"$error":"#NUM!"}},{"$f":"OFFSET($IP$2,SMALL(IF($IP$2:$IP$72<>\"\",ROW($IP$2:$IP$72),\"\"),ROW(IP33))-2,0)","v":{"$error":"#NUM!"}},null,{"$f":"IF(AND(教学计划表!N49<>\"\",教学计划表!BH49<>\"\"),教学计划表!I49,\"\")","v":""},{"$f":"IF(教学计划表!BH49<>\"\",教学计划表!N49,\"\")","v":""},{"$f":"IF(教学计划表!BH49<>\"\",IF(SEARCH(\"6\",教学计划表!AB49&\"6\",1)<=LEN(教学计划表!AB49),\"考试\",\"考查\"),\"\")","v":""},{"$f":"IF(教学计划表!BH49<>0,教学计划表!HG49,\"\")","v":""},{"$f":"IF(教学计划表!BH49<>0,教学计划表!HL49,\"\")","v":""},{"$f":"IF(教学计划表!BH49<>0,教学计划表!HM49,\"\")","v":""},{"$f":"IF(教学计划表!BH49<>0,教学计划表!QL49,\"\")","v":""},{"$f":"OFFSET($IY$2,SMALL(IF($IY$2:$IY$72<>\"\",ROW($IY$2:$IY$72),\"\"),ROW(IY33))-2,0)","v":{"$error":"#NUM!"}},{"$f":"OFFSET($IZ$2,SMALL(IF($IZ$2:$IZ$72<>\"\",ROW($IZ$2:$IZ$72),\"\"),ROW(IZ33))-2,0)","v":{"$error":"#NUM!"}},{"$f":"OFFSET($JA$2,SMALL(IF($JA$2:$JA$72<>\"\",ROW($JA$2:$JA$72),\"\"),ROW(JA33))-2,0)","v":{"$error":"#NUM!"}},{"$f":"OFFSET($JB$2,SMALL(IF($JB$2:$JB$72<>\"\",ROW($JB$2:$JB$72),\"\"),ROW(JB33))-2,0)","v":{"$error":"#NUM!"}},{"$f":"OFFSET($JC$2,SMALL(IF($JC$2:$JC$72<>\"\",ROW($JC$2:$JC$72),\"\"),ROW(JC33))-2,0)","v":{"$error":"#NUM!"}},{"$f":"OFFSET($JD$2,SMALL(IF($JD$2:$JD$72<>\"\",ROW($JD$2:$JD$72),\"\"),ROW(JD33))-2,0)","v":{"$error":"#NUM!"}},{"$f":"OFFSET($JE$2,SMALL(IF($JE$2:$JE$72<>\"\",ROW($JE$2:$JE$72),\"\"),ROW(JE33))-2,0)","v":{"$error":"#NUM!"}}]
["","","","","","","",null,"","","",{"$f":"IF(ISERROR(自动生成的开课信息!HB35),\"\",自动生成的开课信息!HB35)","v":""},{"$f":"IF(ISERROR(自动生成的开课信息!HC35),\"\",自动生成的开课信息!HC35)","v":""},{"$f":"IF(ISERROR(自动生成的开课信息!HD35),\"\",自动生成的开课信息!HD35)","v":""},{"$f":"IF(ISERROR(自动生成的开课信息!HE35),\"\",自动生成的开课信息!HE35)","v":""},null,"","","","","","","",null,"","","","","","","",null,"","","","","","","",null,"","","","","","","",null,null,null,null,null,null,null,null,null,null,null,null,null,null,null,null,null,null,null,null,null,null,null,null,null,null,null,null,null,null,null,null,null,null,null,null,null,null,null,null,null,null,null,null,null,null,null,null,null,null,null,null,null,null,null,null,null,null,null,null,null,null,null,null,null,null,null,null,null,null,null,null,null,null,null,null,null,null,null,null,null,null,null,null,null,null,null,null,null,null,null,null,null,null,null,null,null,null,null,null,null,null,null,null,null,null,null,null,null,null,null,null,null,null,null,null,null,null,null,null,null,null,null,null,null,null,null,null,null,null,null,null,null,null,null,null,null,null,{"$f":"IF(AND(教学计划表!N50<>\"\",教学计划表!AS50<>\"\"),教学计划表!I50,\"\")","v":""},{"$f":"IF(教学计划表!AS50<>\"\",教学计划表!N50,\"\")","v":""},{"$f":"IF(GE35<>\"\",IF(SEARCH(\"1\",教学计划表!AB50&\"1\",1)<=LEN(教学计划表!AB50),\"考试\",\"考查\"),\"\")","v":""},{"$f":"IF(教学计划表!DG50<>0,教学计划表!DG50,\"\")","v":""},{"$f":"IF(教学计划表!DG50<>0,教学计划表!DL50,\"\")","v":""},{"$f":"IF(教学计划表!DG50<>0,教学计划表!DM50,\"\")","v":""},{"$f":"IF(教学计划表!DG50<>0,教学计划表!OE50,\"\")","v":""},{"$f":"OFFSET($GD$2,SMALL(IF($GD$2:$GD$72<>\"\",ROW($2:$72),\"\"),ROW(GD34))-2,0)","v":{"$error":"#NUM!"}},{"$f":"OFFSET($GE$2,SMALL(IF($GE$2:$GE$72<>\"\",ROW($2:$72),\"\"),ROW(GE34))-2,0)","v":{"$error":"#NUM!"}},{"$f":"OFFSET($GF$2,SMALL(IF($GF$2:$GF$72<>\"\",ROW($2:$72),\"\"),ROW(GF34))-2,0)","v":{"$error":"#NUM!"}},{"$f":"OFFSET($GG$2,SMALL(IF($GG$2:$GG$72<>\"\",ROW($2:$72),\"\"),ROW(GG34))-2,0)","v":{"$error":"#NUM!"}},{"$f":"OFFSET($GH$2,SMALL(IF($GH$2:$GH$72<>\"\",ROW($2:$72),\"\"),ROW(GH34))-2,0)","v":{"$error":"#NUM!"}},{"$error":"#NUM!"},{"$f":"OFFSET($GJ$2,SMALL(IF($GJ$2:$GJ$72<>\"\",ROW($2:$72),\"\"),ROW(GJ34))-2,0)","v":{"$error":"#NUM!"}},{"$f":"IF(AND(教学计划表!N50<>\"\",教学计划表!AV50<>\"\"),教学计划表!I50,\"\")","v":""},{"$f":"IF(教学计划表!AV50<>\"\",教学计划表!N50,\"\")","v":""},{"$f":"IF(GS35<>\"\",IF(SEARCH(\"2\",教学计划表!AB50&\"2\",1)<=LEN(教学计划表!AB50),\"考试\",\"考查\"),\"\")","v":""},{"$f":"IF(教学计划表!EA50<>0,教学计划表!EA50,\"\")","v":""},{"$f":"IF(教学计划表!EA50<>0,教学计划表!EF50,\"\")","v":""},{"$f":"IF(教学计划表!EA50<>0,教学计划表!EG50,\"\")","v":""},{"$f":"IF(教学计划表!EA50<>0,教学计划表!OQ50,\"\")","v":""},{"$f":"OFFSET($GR$2,SMALL(IF($GR$2:$GR$72<>\"\",ROW($I$2:$K$72),\"\"),ROW(GR34))-2,0)","v":{"$error":"#NUM!"}},{"$f":"OFFSET($GS$2,SMALL(IF($GS$2:$GS$72<>\"\",ROW($I$2:$K$72),\"\"),ROW(GS34))-2,0)","v":{"$error":"#NUM!"}},{"$f":"OFFSET($GT$2,SMALL(IF($GT$2:$GT$72<>\"\",ROW($I$2:$K$72),\"\"),ROW(GT34))-2,0)","v":{"$error":"#NUM!"}},{"$f":"OFFSET($GU$2,SMALL(IF($GU$2:$GU$72<>\"\",ROW($I$2:$K$72),\"\"),ROW(GU34))-2,0)","v":{"$error":"#NUM!"}},{"$f":"OFFSET($GV$2,SMALL(IF($GV$2:$GV$72<>\"\",ROW($GV$2:$GV$72),\"\"),ROW(GV34))-2,0)","v":{"$error":"#NUM!"}},{"$f":"OFFSET($GW$2,SMALL(IF($GW$2:$GW$72<>\"\",ROW($GW$2:$GW$72),\"\"),ROW(GW34))-2,0)","v":{"$error":"#NUM!"}},{"$f":"OFFSET($GX$2,SMALL(IF($GX$2:$GX$72<>\"\",ROW($GX$2:$GX$72),\"\"),ROW(GX34))-2,0)","v":{"$error":"#NUM!"}},{"$f":"IF(AND(教学计划表!N50<>\"\",教学计划表!AY50<>\"\"),教学计划表!I50,\"\")","v":""},{"$f":"IF(教学计划表!AY50<>\"\",教学计划表!N50,\"\")","v":""},{"$f":"IF(HG35<>\"\",IF(SEARCH(\"3\",教学计划表!AB50&\"3\",1)<=LEN(教学计划表!AB50),\"考试\",\"考查\"),\"\")","v":""},{"$f":"IF(教学计划表!EV50<>0,教学计划表!EV50,\"\")","v":""},{"$f":"IF(教学计划表!EV50<>0,教学计划表!FA50,\"\")","v":""},{"$f":"IF(教学计划表!EV50<>0,教学计划表!FB50,\"\")","v":""},{"$f":"IF(教学计划表!EV50<>0,教学计划表!PC50,\"\")","v":""},{"$f":"OFFSET($HF$2,SMALL(IF($HF$2:$HF$72<>\"\",ROW($HF$2:$HF$72),\"\"),ROW(HF34))-2,0)","v":{"$error":"#NUM!"}},{"$f":"OFFSET($HG$2,SMALL(IF($HG$2:$HG$72<>\"\",ROW($HG$2:$HG$72),\"\"),ROW(HG34))-2,0)","v":{"$error":"#NUM!"}},{"$f":"OFFSET($HH$2,SMALL(IF($HH$2:$HH$72<>\"\",ROW($HH$2:$HH$72),\"\"),ROW(HH34))-2,0)","v":{"$error":"#NUM!"}},{"$f":"OFFSET($HI$2,SMALL(IF($HI$2:$HI$72<>\"\",ROW($HI$2:$HI$72),\"\"),ROW(HI34))-2,0)","v":{"$error":"#NUM!"}},{"$f":"OFFSET($HJ$2,SMALL(IF($HJ$2:$HJ$72<>\"\",ROW($HJ$2:$HJ$72),\"\"),ROW(HJ34))-2,0)","v":{"$error":"#NUM!"}},{"$f":"OFFSET($HK$2,SMALL(IF($HK$2:$HK$72<>\"\",ROW($HK$2:$HK$72),\"\"),ROW(HK34))-2,0)","v":{"$error":"#NUM!"}},{"$f":"OFFSET($HL$2,SMALL(IF($HL$2:$HL$72<>\"\",ROW($HL$2:$HL$72),\"\"),ROW(HL34))-2,0)","v":{"$error":"#NUM!"}},{"$f":"IF(AND(教学计划表!N50<>\"\",教学计划表!BB50<>\"\"),教学计划表!I50,\"\")","v":""},{"$f":"IF(教学计划表!BB50<>\"\",教学计划表!N50,\"\")","v":""},{"$f":"IF(HU35<>\"\",IF(SEARCH(\"4\",教学计划表!AB50&\"4\",1)<=LEN(教学计划表!AB50),\"考试\",\"考查\"),\"\")","v":""},{"$f":"IF(教学计划表!FQ50<>0,教学计划表!FQ50,\"\")","v":""},{"$f":"IF(教学计划表!FQ50<>0,教学计划表!FV50,\"\")","v":""},{"$f":"IF(教学计划表!FQ50<>0,教学计划表!FW50,\"\")","v":""},{"$f":"IF(教学计划表!FQ50<>0,教学计划表!PO50,\"\")","v":""},{"$f":"OFFSET($HT$2,SMALL(IF($HT$2:$HT$72<>\"\",ROW($HT$2:$HT$72),\"\"),ROW(HT34))-2,0)","v":{"$error":"#NUM!"}},{"$f":"OFFSET($HU$2,SMALL(IF($HU$2:$HU$72<>\"\",ROW($HU$2:$HU$72),\"\"),ROW(HU34))-2,0)","v":{"$error":"#NUM!"}},{"$f":"OFFSET($HV$2,SMALL(IF($HV$2:$HV$72<>\"\",ROW($HV$2:$HV$72),\"\"),ROW(HV34))-2,0)","v":{"$error":"#NUM!"}},{"$f":"OFFSET($HW$2,SMALL(IF($HW$2:$HW$72<>\"\",ROW($HW$2:$HW$72),\"\"),ROW(HW34))-2,0)","v":{"$error":"#NUM!"}},{"$f":"OFFSET($HX$2,SMALL(IF($HX$2:$HX$72<>\"\",ROW($HX$2:$HX$72),\"\"),ROW(HX34))-2,0)","v":{"$error":"#NUM!"}},{"$f":"OFFSET($HY$2,SMALL(IF($HY$2:$HY$72<>\"\",ROW($HY$2:$HY$72),\"\"),ROW(HY34))-2,0)","v":{"$error":"#NUM!"}},{"$f":"OFFSET($HZ$2,SMALL(IF($HZ$2:$HZ$72<>\"\",ROW($HZ$2:$HZ$72),\"\"),ROW(HZ34))-2,0)","v":{"$error":"#NUM!"}},null,null,{"$f":"IF(AND(教学计划表!N50<>\"\",教学计划表!BE50<>\"\"),教学计划表!I50,\"\")","v":""},{"$f":"IF(教学计划表!BE50<>\"\",教学计划表!N50,\"\")","v":""},{"$f":"IF(IK35<>\"\",IF(SEARCH(\"5\",教学计划表!AB50&\"5\",1)<=LEN(教学计划表!AB50),\"考试\",\"考查\"),\"\")","v":""},{"$f":"IF(教学计划表!GL50<>0,教学计划表!GL50,\"\")","v":""},{"$f":"IF(教学计划表!GL50<>0,教学计划表!GQ50,\"\")","v":""},{"$f":"IF(教学计划表!GL50<>0,教学计划表!GR50,\"\")","v":""},{"$f":"IF(教学计划表!GL50<>0,教学计划表!PZ50,\"\")","v":""},{"$f":"OFFSET($IJ$2,SMALL(IF($IJ$2:$IJ$72<>\"\",ROW($IJ$2:$IJ$72),\"\"),ROW(IJ34))-2,0)","v":{"$error":"#NUM!"}},{"$f":"OFFSET($IK$2,SMALL(IF($IK$2:$IK$72<>\"\",ROW($IK$2:$IK$72),\"\"),ROW(IK34))-2,0)","v":{"$error":"#NUM!"}},{"$f":"OFFSET($IL$2,SMALL(IF($IL$2:$IL$72<>\"\",ROW($IL$2:$IL$72),\"\"),ROW(IL34))-2,0)","v":{"$error":"#NUM!"}},{"$f":"OFFSET($IM$2,SMALL(IF($IM$2:$IM$72<>\"\",ROW($IM$2:$IM$72),\"\"),ROW(IM34))-2,0)","v":{"$error":"#NUM!"}},{"$f":"OFFSET($IN$2,SMALL(IF($IN$2:$IN$72<>\"\",ROW($IN$2:$IN$72),\"\"),ROW(IN34))-2,0)","v":{"$error":"#NUM!"}},{"$f":"OFFSET($IO$2,SMALL(IF($IO$2:$IO$72<>\"\",ROW($IO$2:$IO$72),\"\"),ROW(IO34))-2,0)","v":{"$error":"#NUM!"}},{"$f":"OFFSET($IP$2,SMALL(IF($IP$2:$IP$72<>\"\",ROW($IP$2:$IP$72),\"\"),ROW(IP34))-2,0)","v":{"$error":"#NUM!"}},null,{"$f":"IF(AND(教学计划表!N50<>\"\",教学计划表!BH50<>\"\"),教学计划表!I50,\"\")","v":""},{"$f":"IF(教学计划表!BH50<>\"\",教学计划表!N50,\"\")","v":""},{"$f":"IF(教学计划表!BH50<>\"\",IF(SEARCH(\"6\",教学计划表!AB50&\"6\",1)<=LEN(教学计划表!AB50),\"考试\",\"考查\"),\"\")","v":""},{"$f":"IF(教学计划表!BH50<>0,教学计划表!HG50,\"\")","v":""},{"$f":"IF(教学计划表!BH50<>0,教学计划表!HL50,\"\")","v":""},{"$f":"IF(教学计划表!BH50<>0,教学计划表!HM50,\"\")","v":""},{"$f":"IF(教学计划表!BH50<>0,教学计划表!QL50,\"\")","v":""},{"$f":"OFFSET($IY$2,SMALL(IF($IY$2:$IY$72<>\"\",ROW($IY$2:$IY$72),\"\"),ROW(IY34))-2,0)","v":{"$error":"#NUM!"}},{"$f":"OFFSET($IZ$2,SMALL(IF($IZ$2:$IZ$72<>\"\",ROW($IZ$2:$IZ$72),\"\"),ROW(IZ34))-2,0)","v":{"$error":"#NUM!"}},{"$f":"OFFSET($JA$2,SMALL(IF($JA$2:$JA$72<>\"\",ROW($JA$2:$JA$72),\"\"),ROW(JA34))-2,0)","v":{"$error":"#NUM!"}},{"$f":"OFFSET($JB$2,SMALL(IF($JB$2:$JB$72<>\"\",ROW($JB$2:$JB$72),\"\"),ROW(JB34))-2,0)","v":{"$error":"#NUM!"}},{"$f":"OFFSET($JC$2,SMALL(IF($JC$2:$JC$72<>\"\",ROW($JC$2:$JC$72),\"\"),ROW(JC34))-2,0)","v":{"$error":"#NUM!"}},{"$f":"OFFSET($JD$2,SMALL(IF($JD$2:$JD$72<>\"\",ROW($JD$2:$JD$72),\"\"),ROW(JD34))-2,0)","v":{"$error":"#NUM!"}},{"$f":"OFFSET($JE$2,SMALL(IF($JE$2:$JE$72<>\"\",ROW($JE$2:$JE$72),\"\"),ROW(JE34))-2,0)","v":{"$error":"#NUM!"}}]
["","","","","","","",null,"","","",{"$f":"IF(ISERROR(自动生成的开课信息!HB36),\"\",自动生成的开课信息!HB36)","v":""},{"$f":"IF(ISERROR(自动生成的开课信息!HC36),\"\",自动生成的开课信息!HC36)","v":""},{"$f":"IF(ISERROR(自动生成的开课信息!HD36),\"\",自动生成的开课信息!HD36)","v":""},{"$f":"IF(ISERROR(自动生成的开课信息!HE36),\"\",自动生成的开课信息!HE36)","v":""},null,"","","","","","","",null,"","","","","","","",null,"","","","","","","",null,"","","","","","","",null,null,null,null,null,null,null,null,null,null,null,null,null,null,null,null,null,null,null,null,null,null,null,null,null,null,null,null,null,null,null,null,null,null,null,null,null,null,null,null,null,null,null,null,null,null,null,null,null,null,null,null,null,null,null,null,null,null,null,null,null,null,null,null,null,null,null,null,null,null,null,null,null,null,null,null,null,null,null,null,null,null,null,null,null,null,null,null,null,null,null,null,null,null,null,null,null,null,null,null,null,null,null,null,null,null,null,null,null,null,null,null,null,null,null,null,null,null,null,null,null,null,null,null,null,null,null,null,null,null,null,null,null,null,null,null,null,null,{"$f":"IF(AND(教学计划表!N51<>\"\",教学计划表!AS51<>\"\"),教学计划表!I51,\"\")","v":""},{"$f":"IF(教学计划表!AS51<>\"\",教学计划表!N51,\"\")","v":""},{"$f":"IF(GE36<>\"\",IF(SEARCH(\"1\",教学计划表!AB51&\"1\",1)<=LEN(教学计划表!AB51),\"考试\",\"考查\"),\"\")","v":""},{"$f":"IF(教学计划表!DG51<>0,教学计划表!DG51,\"\")","v":""},{"$f":"IF(教学计划表!DG51<>0,教学计划表!DL51,\"\")","v":""},{"$f":"IF(教学计划表!DG51<>0,教学计划表!DM51,\"\")","v":""},{"$f":"IF(教学计划表!DG51<>0,教学计划表!OE51,\"\")","v":""},{"$f":"OFFSET($GD$2,SMALL(IF($GD$2:$GD$72<>\"\",ROW($2:$72),\"\"),ROW(GD35))-2,0)","v":{"$error":"#NUM!"}},{"$f":"OFFSET($GE$2,SMALL(IF($GE$2:$GE$72<>\"\",ROW($2:$72),\"\"),ROW(GE35))-2,0)","v":{"$error":"#NUM!"}},{"$f":"OFFSET($GF$2,SMALL(IF($GF$2:$GF$72<>\"\",ROW($2:$72),\"\"),ROW(GF35))-2,0)","v":{"$error":"#NUM!"}},{"$f":"OFFSET($GG$2,SMALL(IF($GG$2:$GG$72<>\"\",ROW($2:$72),\"\"),ROW(GG35))-2,0)","v":{"$error":"#NUM!"}},{"$f":"OFFSET($GH$2,SMALL(IF($GH$2:$GH$72<>\"\",ROW($2:$72),\"\"),ROW(GH35))-2,0)","v":{"$error":"#NUM!"}},{"$error":"#NUM!"},{"$f":"OFFSET($GJ$2,SMALL(IF($GJ$2:$GJ$72<>\"\",ROW($2:$72),\"\"),ROW(GJ35))-2,0)","v":{"$error":"#NUM!"}},{"$f":"IF(AND(教学计划表!N51<>\"\",教学计划表!AV51<>\"\"),教学计划表!I51,\"\")","v":""},{"$f":"IF(教学计划表!AV51<>\"\",教学计划表!N51,\"\")","v":""},{"$f":"IF(GS36<>\"\",IF(SEARCH(\"2\",教学计划表!AB51&\"2\",1)<=LEN(教学计划表!AB51),\"考试\",\"考查\"),\"\")","v":""},{"$f":"IF(教学计划表!EA51<>0,教学计划表!EA51,\"\")","v":""},{"$f":"IF(教学计划表!EA51<>0,教学计划表!EF51,\"\")","v":""},{"$f":"IF(教学计划表!EA51<>0,教学计划表!EG51,\"\")","v":""},{"$f":"IF(教学计划表!EA51<>0,教学计划表!OQ51,\"\")","v":""},{"$f":"OFFSET($GR$2,SMALL(IF($GR$2:$GR$72<>\"\",ROW($I$2:$K$72),\"\"),ROW(GR35))-2,0)","v":{"$error":"#NUM!"}},{"$f":"OFFSET($GS$2,SMALL(IF($GS$2:$GS$72<>\"\",ROW($I$2:$K$72),\"\"),ROW(GS35))-2,0)","v":{"$error":"#NUM!"}},{"$f":"OFFSET($GT$2,SMALL(IF($GT$2:$GT$72<>\"\",ROW($I$2:$K$72),\"\"),ROW(GT35))-2,0)","v":{"$error":"#NUM!"}},{"$f":"OFFSET($GU$2,SMALL(IF($GU$2:$GU$72<>\"\",ROW($I$2:$K$72),\"\"),ROW(GU35))-2,0)","v":{"$error":"#NUM!"}},{"$f":"OFFSET($GV$2,SMALL(IF($GV$2:$GV$72<>\"\",ROW($GV$2:$GV$72),\"\"),ROW(GV35))-2,0)","v":{"$error":"#NUM!"}},{"$f":"OFFSET($GW$2,SMALL(IF($GW$2:$GW$72<>\"\",ROW($GW$2:$GW$72),\"\"),ROW(GW35))-2,0)","v":{"$error":"#NUM!"}},{"$f":"OFFSET($GX$2,SMALL(IF($GX$2:$GX$72<>\"\",ROW($GX$2:$GX$72),\"\"),ROW(GX35))-2,0)","v":{"$error":"#NUM!"}},{"$f":"IF(AND(教学计划表!N51<>\"\",教学计划表!AY51<>\"\"),教学计划表!I51,\"\")","v":""},{"$f":"IF(教学计划表!AY51<>\"\",教学计划表!N51,\"\")","v":""},{"$f":"IF(HG36<>\"\",IF(SEARCH(\"3\",教学计划表!AB51&\"3\",1)<=LEN(教学计划表!AB51),\"考试\",\"考查\"),\"\")","v":""},{"$f":"IF(教学计划表!EV51<>0,教学计划表!EV51,\"\")","v":""},{"$f":"IF(教学计划表!EV51<>0,教学计划表!FA51,\"\")","v":""},{"$f":"IF(教学计划表!EV51<>0,教学计划表!FB51,\"\")","v":""},{"$f":"IF(教学计划表!EV51<>0,教学计划表!PC51,\"\")","v":""},{"$f":"OFFSET($HF$2,SMALL(IF($HF$2:$HF$72<>\"\",ROW($HF$2:$HF$72),\"\"),ROW(HF35))-2,0)","v":{"$error":"#NUM!"}},{"$f":"OFFSET($HG$2,SMALL(IF($HG$2:$HG$72<>\"\",ROW($HG$2:$HG$72),\"\"),ROW(HG35))-2,0)","v":{"$error":"#NUM!"}},{"$f":"OFFSET($HH$2,SMALL(IF($HH$2:$HH$72<>\"\",ROW($HH$2:$HH$72),\"\"),ROW(HH35))-2,0)","v":{"$error":"#NUM!"}},{"$f":"OFFSET($HI$2,SMALL(IF($HI$2:$HI$72<>\"\",ROW($HI$2:$HI$72),\"\"),ROW(HI35))-2,0)","v":{"$error":"#NUM!"}},{"$f":"OFFSET($HJ$2,SMALL(IF($HJ$2:$HJ$72<>\"\",ROW($HJ$2:$HJ$72),\"\"),ROW(HJ35))-2,0)","v":{"$error":"#NUM!"}},{"$f":"OFFSET($HK$2,SMALL(IF($HK$2:$HK$72<>\"\",ROW($HK$2:$HK$72),\"\"),ROW(HK35))-2,0)","v":{"$error":"#NUM!"}},{"$f":"OFFSET($HL$2,SMALL(IF($HL$2:$HL$72<>\"\",ROW($HL$2:$HL$72),\"\"),ROW(HL35))-2,0)","v":{"$error":"#NUM!"}},{"$f":"IF(AND(教学计划表!N51<>\"\",教学计划表!BB51<>\"\"),教学计划表!I51,\"\")","v":""},{"$f":"IF(教学计划表!BB51<>\"\",教学计划表!N51,\"\")","v":""},{"$f":"IF(HU36<>\"\",IF(SEARCH(\"4\",教学计划表!AB51&\"4\",1)<=LEN(教学计划表!AB51),\"考试\",\"考查\"),\"\")","v":""},{"$f":"IF(教学计划表!FQ51<>0,教学计划表!FQ51,\"\")","v":""},{"$f":"IF(教学计划表!FQ51<>0,教学计划表!FV51,\"\")","v":""},{"$f":"IF(教学计划表!FQ51<>0,教学计划表!FW51,\"\")","v":""},{"$f":"IF(教学计划表!FQ51<>0,教学计划表!PO51,\"\")","v":""},{"$f":"OFFSET($HT$2,SMALL(IF($HT$2:$HT$72<>\"\",ROW($HT$2:$HT$72),\"\"),ROW(HT35))-2,0)","v":{"$error":"#NUM!"}},{"$f":"OFFSET($HU$2,SMALL(IF($HU$2:$HU$72<>\"\",ROW($HU$2:$HU$72),\"\"),ROW(HU35))-2,0)","v":{"$error":"#NUM!"}},{"$f":"OFFSET($HV$2,SMALL(IF($HV$2:$HV$72<>\"\",ROW($HV$2:$HV$72),\"\"),ROW(HV35))-2,0)","v":{"$error":"#NUM!"}},{"$f":"OFFSET($HW$2,SMALL(IF($HW$2:$HW$72<>\"\",ROW($HW$2:$HW$72),\"\"),ROW(HW35))-2,0)","v":{"$error":"#NUM!"}},{"$f":"OFFSET($HX$2,SMALL(IF($HX$2:$HX$72<>\"\",ROW($HX$2:$HX$72),\"\"),ROW(HX35))-2,0)","v":{"$error":"#NUM!"}},{"$f":"OFFSET($HY$2,SMALL(IF($HY$2:$HY$72<>\"\",ROW($HY$2:$HY$72),\"\"),ROW(HY35))-2,0)","v":{"$error":"#NUM!"}},{"$f":"OFFSET($HZ$2,SMALL(IF($HZ$2:$HZ$72<>\"\",ROW($HZ$2:$HZ$72),\"\"),ROW(HZ35))-2,0)","v":{"$error":"#NUM!"}},null,null,{"$f":"IF(AND(教学计划表!N51<>\"\",教学计划表!BE51<>\"\"),教学计划表!I51,\"\")","v":""},{"$f":"IF(教学计划表!BE51<>\"\",教学计划表!N51,\"\")","v":""},{"$f":"IF(IK36<>\"\",IF(SEARCH(\"5\",教学计划表!AB51&\"5\",1)<=LEN(教学计划表!AB51),\"考试\",\"考查\"),\"\")","v":""},{"$f":"IF(教学计划表!GL51<>0,教学计划表!GL51,\"\")","v":""},{"$f":"IF(教学计划表!GL51<>0,教学计划表!GQ51,\"\")","v":""},{"$f":"IF(教学计划表!GL51<>0,教学计划表!GR51,\"\")","v":""},{"$f":"IF(教学计划表!GL51<>0,教学计划表!PZ51,\"\")","v":""},{"$f":"OFFSET($IJ$2,SMALL(IF($IJ$2:$IJ$72<>\"\",ROW($IJ$2:$IJ$72),\"\"),ROW(IJ35))-2,0)","v":{"$error":"#NUM!"}},{"$f":"OFFSET($IK$2,SMALL(IF($IK$2:$IK$72<>\"\",ROW($IK$2:$IK$72),\"\"),ROW(IK35))-2,0)","v":{"$error":"#NUM!"}},{"$f":"OFFSET($IL$2,SMALL(IF($IL$2:$IL$72<>\"\",ROW($IL$2:$IL$72),\"\"),ROW(IL35))-2,0)","v":{"$error":"#NUM!"}},{"$f":"OFFSET($IM$2,SMALL(IF($IM$2:$IM$72<>\"\",ROW($IM$2:$IM$72),\"\"),ROW(IM35))-2,0)","v":{"$error":"#NUM!"}},{"$f":"OFFSET($IN$2,SMALL(IF($IN$2:$IN$72<>\"\",ROW($IN$2:$IN$72),\"\"),ROW(IN35))-2,0)","v":{"$error":"#NUM!"}},{"$f":"OFFSET($IO$2,SMALL(IF($IO$2:$IO$72<>\"\",ROW($IO$2:$IO$72),\"\"),ROW(IO35))-2,0)","v":{"$error":"#NUM!"}},{"$f":"OFFSET($IP$2,SMALL(IF($IP$2:$IP$72<>\"\",ROW($IP$2:$IP$72),\"\"),ROW(IP35))-2,0)","v":{"$error":"#NUM!"}},null,{"$f":"IF(AND(教学计划表!N51<>\"\",教学计划表!BH51<>\"\"),教学计划表!I51,\"\")","v":""},{"$f":"IF(教学计划表!BH51<>\"\",教学计划表!N51,\"\")","v":""},{"$f":"IF(教学计划表!BH51<>\"\",IF(SEARCH(\"6\",教学计划表!AB51&\"6\",1)<=LEN(教学计划表!AB51),\"考试\",\"考查\"),\"\")","v":""},{"$f":"IF(教学计划表!BH51<>0,教学计划表!HG51,\"\")","v":""},{"$f":"IF(教学计划表!BH51<>0,教学计划表!HL51,\"\")","v":""},{"$f":"IF(教学计划表!BH51<>0,教学计划表!HM51,\"\")","v":""},{"$f":"IF(教学计划表!BH51<>0,教学计划表!QL51,\"\")","v":""},{"$f":"OFFSET($IY$2,SMALL(IF($IY$2:$IY$72<>\"\",ROW($IY$2:$IY$72),\"\"),ROW(IY35))-2,0)","v":{"$error":"#NUM!"}},{"$f":"OFFSET($IZ$2,SMALL(IF($IZ$2:$IZ$72<>\"\",ROW($IZ$2:$IZ$72),\"\"),ROW(IZ35))-2,0)","v":{"$error":"#NUM!"}},{"$f":"OFFSET($JA$2,SMALL(IF($JA$2:$JA$72<>\"\",ROW($JA$2:$JA$72),\"\"),ROW(JA35))-2,0)","v":{"$error":"#NUM!"}},{"$f":"OFFSET($JB$2,SMALL(IF($JB$2:$JB$72<>\"\",ROW($JB$2:$JB$72),\"\"),ROW(JB35))-2,0)","v":{"$error":"#NUM!"}},{"$f":"OFFSET($JC$2,SMALL(IF($JC$2:$JC$72<>\"\",ROW($JC$2:$JC$72),\"\"),ROW(JC35))-2,0)","v":{"$error":"#NUM!"}},{"$f":"OFFSET($JD$2,SMALL(IF($JD$2:$JD$72<>\"\",ROW($JD$2:$JD$72),\"\"),ROW(JD35))-2,0)","v":{"$error":"#NUM!"}},{"$f":"OFFSET($JE$2,SMALL(IF($JE$2:$JE$72<>\"\",ROW($JE$2:$JE$72),\"\"),ROW(JE35))-2,0)","v":{"$error":"#NUM!"}}]
["","","","","","","",null,"","","",{"$f":"IF(ISERROR(自动生成的开课信息!HB37),\"\",自动生成的开课信息!HB37)","v":""},{"$f":"IF(ISERROR(自动生成的开课信息!HC37),\"\",自动生成的开课信息!HC37)","v":""},{"$f":"IF(ISERROR(自动生成的开课信息!HD37),\"\",自动生成的开课信息!HD37)","v":""},{"$f":"IF(ISERROR(自动生成的开课信息!HE37),\"\",自动生成的开课信息!HE37)","v":""},null,"","","","","","","",null,"","","","","","","",null,"","","","","","","",null,"","","","","","","",null,null,null,null,null,null,null,null,null,null,null,null,null,null,null,null,null,null,null,null,null,null,null,null,null,null,null,null,null,null,null,null,null,null,null,null,null,null,null,null,null,null,null,null,null,null,null,null,null,null,null,null,null,null,null,null,null,null,null,null,null,null,null,null,null,null,null,null,null,null,null,null,null,null,null,null,null,null,null,null,null,null,null,null,null,null,null,null,null,null,null,null,null,null,null,null,null,null,null,null,null,null,null,null,null,null,null,null,null,null,null,null,null,null,null,null,null,null,null,null,null,null,null,null,null,null,null,null,null,null,null,null,null,null,null,null,null,null,{"$f":"IF(AND(教学计划表!N52<>\"\",教学计划表!AS52<>\"\"),教学计划表!I52,\"\")","v":""},{"$f":"IF(教学计划表!AS52<>\"\",教学计划表!N52,\"\")","v":""},{"$f":"IF(GE37<>\"\",IF(SEARCH(\"1\",教学计划表!AB52&\"1\",1)<=LEN(教学计划表!AB52),\"考试\",\"考查\"),\"\")","v":""},{"$f":"IF(教学计划表!DG52<>0,教学计划表!DG52,\"\")","v":""},{"$f":"IF(教学计划表!DG52<>0,教学计划表!DL52,\"\")","v":""},{"$f":"IF(教学计划表!DG52<>0,教学计划表!DM52,\"\")","v":""},{"$f":"IF(教学计划表!DG52<>0,教学计划表!OE52,\"\")","v":""},{"$f":"OFFSET($GD$2,SMALL(IF($GD$2:$GD$72<>\"\",ROW($2:$72),\"\"),ROW(GD36))-2,0)","v":{"$error":"#NUM!"}},{"$f":"OFFSET($GE$2,SMALL(IF($GE$2:$GE$72<>\"\",ROW($2:$72),\"\"),ROW(GE36))-2,0)","v":{"$error":"#NUM!"}},{"$f":"OFFSET($GF$2,SMALL(IF($GF$2:$GF$72<>\"\",ROW($2:$72),\"\"),ROW(GF36))-2,0)","v":{"$error":"#NUM!"}},{"$f":"OFFSET($GG$2,SMALL(IF($GG$2:$GG$72<>\"\",ROW($2:$72),\"\"),ROW(GG36))-2,0)","v":{"$error":"#NUM!"}},{"$f":"OFFSET($GH$2,SMALL(IF($GH$2:$GH$72<>\"\",ROW($2:$72),\"\"),ROW(GH36))-2,0)","v":{"$error":"#NUM!"}},{"$error":"#NUM!"},{"$f":"OFFSET($GJ$2,SMALL(IF($GJ$2:$GJ$72<>\"\",ROW($2:$72),\"\"),ROW(GJ36))-2,0)","v":{"$error":"#NUM!"}},{"$f":"IF(AND(教学计划表!N52<>\"\",教学计划表!AV52<>\"\"),教学计划表!I52,\"\")","v":""},{"$f":"IF(教学计划表!AV52<>\"\",教学计划表!N52,\"\")","v":""},{"$f":"IF(GS37<>\"\",IF(SEARCH(\"2\",教学计划表!AB52&\"2\",1)<=LEN(教学计划表!AB52),\"考试\",\"考查\"),\"\")","v":""},{"$f":"IF(教学计划表!EA52<>0,教学计划表!EA52,\"\")","v":""},{"$f":"IF(教学计划表!EA52<>0,教学计划表!EF52,\"\")","v":""},{"$f":"IF(教学计划表!EA52<>0,教学计划表!EG52,\"\")","v":""},{"$f":"IF(教学计划表!EA52<>0,教学计划表!OQ52,\"\")","v":""},{"$f":"OFFSET($GR$2,SMALL(IF($GR$2:$GR$72<>\"\",ROW($I$2:$K$72),\"\"),ROW(GR36))-2,0)","v":{"$error":"#NUM!"}},{"$f":"OFFSET($GS$2,SMALL(IF($GS$2:$GS$72<>\"\",ROW($I$2:$K$72),\"\"),ROW(GS36))-2,0)","v":{"$error":"#NUM!"}},{"$f":"OFFSET($GT$2,SMALL(IF($GT$2:$GT$72<>\"\",ROW($I$2:$K$72),\"\"),ROW(GT36))-2,0)","v":{"$error":"#NUM!"}},{"$f":"OFFSET($GU$2,SMALL(IF($GU$2:$GU$72<>\"\",ROW($I$2:$K$72),\"\"),ROW(GU36))-2,0)","v":{"$error":"#NUM!"}},{"$f":"OFFSET($GV$2,SMALL(IF($GV$2:$GV$72<>\"\",ROW($GV$2:$GV$72),\"\"),ROW(GV36))-2,0)","v":{"$error":"#NUM!"}},{"$f":"OFFSET($GW$2,SMALL(IF($GW$2:$GW$72<>\"\",ROW($GW$2:$GW$72),\"\"),ROW(GW36))-2,0)","v":{"$error":"#NUM!"}},{"$f":"OFFSET($GX$2,SMALL(IF($GX$2:$GX$72<>\"\",ROW($GX$2:$GX$72),\"\"),ROW(GX36))-2,0)","v":{"$error":"#NUM!"}},{"$f":"IF(AND(教学计划表!N52<>\"\",教学计划表!AY52<>\"\"),教学计划表!I52,\"\")","v":""},{"$f":"IF(教学计划表!AY52<>\"\",教学计划表!N52,\"\")","v":""},{"$f":"IF(HG37<>\"\",IF(SEARCH(\"3\",教学计划表!AB52&\"3\",1)<=LEN(教学计划表!AB52),\"考试\",\"考查\"),\"\")","v":""},{"$f":"IF(教学计划表!EV52<>0,教学计划表!EV52,\"\")","v":""},{"$f":"IF(教学计划表!EV52<>0,教学计划表!FA52,\"\")","v":""},{"$f":"IF(教学计划表!EV52<>0,教学计划表!FB52,\"\")","v":""},{"$f":"IF(教学计划表!EV52<>0,教学计划表!PC52,\"\")","v":""},{"$f":"OFFSET($HF$2,SMALL(IF($HF$2:$HF$72<>\"\",ROW($HF$2:$HF$72),\"\"),ROW(HF36))-2,0)","v":{"$error":"#NUM!"}},{"$f":"OFFSET($HG$2,SMALL(IF($HG$2:$HG$72<>\"\",ROW($HG$2:$HG$72),\"\"),ROW(HG36))-2,0)","v":{"$error":"#NUM!"}},{"$f":"OFFSET($HH$2,SMALL(IF($HH$2:$HH$72<>\"\",ROW($HH$2:$HH$72),\"\"),ROW(HH36))-2,0)","v":{"$error":"#NUM!"}},{"$f":"OFFSET($HI$2,SMALL(IF($HI$2:$HI$72<>\"\",ROW($HI$2:$HI$72),\"\"),ROW(HI36))-2,0)","v":{"$error":"#NUM!"}},{"$f":"OFFSET($HJ$2,SMALL(IF($HJ$2:$HJ$72<>\"\",ROW($HJ$2:$HJ$72),\"\"),ROW(HJ36))-2,0)","v":{"$error":"#NUM!"}},{"$f":"OFFSET($HK$2,SMALL(IF($HK$2:$HK$72<>\"\",ROW($HK$2:$HK$72),\"\"),ROW(HK36))-2,0)","v":{"$error":"#NUM!"}},{"$f":"OFFSET($HL$2,SMALL(IF($HL$2:$HL$72<>\"\",ROW($HL$2:$HL$72),\"\"),ROW(HL36))-2,0)","v":{"$error":"#NUM!"}},{"$f":"IF(AND(教学计划表!N52<>\"\",教学计划表!BB52<>\"\"),教学计划表!I52,\"\")","v":""},{"$f":"IF(教学计划表!BB52<>\"\",教学计划表!N52,\"\")","v":""},{"$f":"IF(HU37<>\"\",IF(SEARCH(\"4\",教学计划表!AB52&\"4\",1)<=LEN(教学计划表!AB52),\"考试\",\"考查\"),\"\")","v":""},{"$f":"IF(教学计划表!FQ52<>0,教学计划表!FQ52,\"\")","v":""},{"$f":"IF(教学计划表!FQ52<>0,教学计划表!FV52,\"\")","v":""},{"$f":"IF(教学计划表!FQ52<>0,教学计划表!FW52,\"\")","v":""},{"$f":"IF(教学计划表!FQ52<>0,教学计划表!PO52,\"\")","v":""},{"$f":"OFFSET($HT$2,SMALL(IF($HT$2:$HT$72<>\"\",ROW($HT$2:$HT$72),\"\"),ROW(HT36))-2,0)","v":{"$error":"#NUM!"}},{"$f":"OFFSET($HU$2,SMALL(IF($HU$2:$HU$72<>\"\",ROW($HU$2:$HU$72),\"\"),ROW(HU36))-2,0)","v":{"$error":"#NUM!"}},{"$f":"OFFSET($HV$2,SMALL(IF($HV$2:$HV$72<>\"\",ROW($HV$2:$HV$72),\"\"),ROW(HV36))-2,0)","v":{"$error":"#NUM!"}},{"$f":"OFFSET($HW$2,SMALL(IF($HW$2:$HW$72<>\"\",ROW($HW$2:$HW$72),\"\"),ROW(HW36))-2,0)","v":{"$error":"#NUM!"}},{"$f":"OFFSET($HX$2,SMALL(IF($HX$2:$HX$72<>\"\",ROW($HX$2:$HX$72),\"\"),ROW(HX36))-2,0)","v":{"$error":"#NUM!"}},{"$f":"OFFSET($HY$2,SMALL(IF($HY$2:$HY$72<>\"\",ROW($HY$2:$HY$72),\"\"),ROW(HY36))-2,0)","v":{"$error":"#NUM!"}},{"$f":"OFFSET($HZ$2,SMALL(IF($HZ$2:$HZ$72<>\"\",ROW($HZ$2:$HZ$72),\"\"),ROW(HZ36))-2,0)","v":{"$error":"#NUM!"}},null,null,{"$f":"IF(AND(教学计划表!N52<>\"\",教学计划表!BE52<>\"\"),教学计划表!I52,\"\")","v":""},{"$f":"IF(教学计划表!BE52<>\"\",教学计划表!N52,\"\")","v":""},{"$f":"IF(IK37<>\"\",IF(SEARCH(\"5\",教学计划表!AB52&\"5\",1)<=LEN(教学计划表!AB52),\"考试\",\"考查\"),\"\")","v":""},{"$f":"IF(教学计划表!GL52<>0,教学计划表!GL52,\"\")","v":""},{"$f":"IF(教学计划表!GL52<>0,教学计划表!GQ52,\"\")","v":""},{"$f":"IF(教学计划表!GL52<>0,教学计划表!GR52,\"\")","v":""},{"$f":"IF(教学计划表!GL52<>0,教学计划表!PZ52,\"\")","v":""},{"$f":"OFFSET($IJ$2,SMALL(IF($IJ$2:$IJ$72<>\"\",ROW($IJ$2:$IJ$72),\"\"),ROW(IJ36))-2,0)","v":{"$error":"#NUM!"}},{"$f":"OFFSET($IK$2,SMALL(IF($IK$2:$IK$72<>\"\",ROW($IK$2:$IK$72),\"\"),ROW(IK36))-2,0)","v":{"$error":"#NUM!"}},{"$f":"OFFSET($IL$2,SMALL(IF($IL$2:$IL$72<>\"\",ROW($IL$2:$IL$72),\"\"),ROW(IL36))-2,0)","v":{"$error":"#NUM!"}},{"$f":"OFFSET($IM$2,SMALL(IF($IM$2:$IM$72<>\"\",ROW($IM$2:$IM$72),\"\"),ROW(IM36))-2,0)","v":{"$error":"#NUM!"}},{"$f":"OFFSET($IN$2,SMALL(IF($IN$2:$IN$72<>\"\",ROW($IN$2:$IN$72),\"\"),ROW(IN36))-2,0)","v":{"$error":"#NUM!"}},{"$f":"OFFSET($IO$2,SMALL(IF($IO$2:$IO$72<>\"\",ROW($IO$2:$IO$72),\"\"),ROW(IO36))-2,0)","v":{"$error":"#NUM!"}},{"$f":"OFFSET($IP$2,SMALL(IF($IP$2:$IP$72<>\"\",ROW($IP$2:$IP$72),\"\"),ROW(IP36))-2,0)","v":{"$error":"#NUM!"}},null,{"$f":"IF(AND(教学计划表!N52<>\"\",教学计划表!BH52<>\"\"),教学计划表!I52,\"\")","v":""},{"$f":"IF(教学计划表!BH52<>\"\",教学计划表!N52,\"\")","v":""},{"$f":"IF(教学计划表!BH52<>\"\",IF(SEARCH(\"6\",教学计划表!AB52&\"6\",1)<=LEN(教学计划表!AB52),\"考试\",\"考查\"),\"\")","v":""},{"$f":"IF(教学计划表!BH52<>0,教学计划表!HG52,\"\")","v":""},{"$f":"IF(教学计划表!BH52<>0,教学计划表!HL52,\"\")","v":""},{"$f":"IF(教学计划表!BH52<>0,教学计划表!HM52,\"\")","v":""},{"$f":"IF(教学计划表!BH52<>0,教学计划表!QL52,\"\")","v":""},{"$f":"OFFSET($IY$2,SMALL(IF($IY$2:$IY$72<>\"\",ROW($IY$2:$IY$72),\"\"),ROW(IY36))-2,0)","v":{"$error":"#NUM!"}},{"$f":"OFFSET($IZ$2,SMALL(IF($IZ$2:$IZ$72<>\"\",ROW($IZ$2:$IZ$72),\"\"),ROW(IZ36))-2,0)","v":{"$error":"#NUM!"}},{"$f":"OFFSET($JA$2,SMALL(IF($JA$2:$JA$72<>\"\",ROW($JA$2:$JA$72),\"\"),ROW(JA36))-2,0)","v":{"$error":"#NUM!"}},{"$f":"OFFSET($JB$2,SMALL(IF($JB$2:$JB$72<>\"\",ROW($JB$2:$JB$72),\"\"),ROW(JB36))-2,0)","v":{"$error":"#NUM!"}},{"$f":"OFFSET($JC$2,SMALL(IF($JC$2:$JC$72<>\"\",ROW($JC$2:$JC$72),\"\"),ROW(JC36))-2,0)","v":{"$error":"#NUM!"}},{"$f":"OFFSET($JD$2,SMALL(IF($JD$2:$JD$72<>\"\",ROW($JD$2:$JD$72),\"\"),ROW(JD36))-2,0)","v":{"$error":"#NUM!"}},{"$f":"OFFSET($JE$2,SMALL(IF($JE$2:$JE$72<>\"\",ROW($JE$2:$JE$72),\"\"),ROW(JE36))-2,0)","v":{"$error":"#NUM!"}}]
["","","","","","","",null,"","","",{"$f":"IF(ISERROR(自动生成的开课信息!HB38),\"\",自动生成的开课信息!HB38)","v":""},{"$f":"IF(ISERROR(自动生成的开课信息!HC38),\"\",自动生成的开课信息!HC38)","v":""},{"$f":"IF(ISERROR(自动生成的开课信息!HD38),\"\",自动生成的开课信息!HD38)","v":""},{"$f":"IF(ISERROR(自动生成的开课信息!HE38),\"\",自动生成的开课信息!HE38)","v":""},null,"","","","","","","",null,"","","","","","","",null,"","","","","","","",null,"","","","","","","",null,null,null,null,null,null,null,null,null,null,null,null,null,null,null,null,null,null,null,null,null,null,null,null,null,null,null,null,null,null,null,null,null,null,null,null,null,null,null,null,null,null,null,null,null,null,null,null,null,null,null,null,null,null,null,null,null,null,null,null,null,null,null,null,null,null,null,null,null,null,null,null,null,null,null,null,null,null,null,null,null,null,null,null,null,null,null,null,null,null,null,null,null,null,null,null,null,null,null,null,null,null,null,null,null,null,null,null,null,null,null,null,null,null,null,null,null,null,null,null,null,null,null,null,null,null,null,null,null,null,null,null,null,null,null,null,null,null,{"$f":"IF(AND(教学计划表!N53<>\"\",教学计划表!AS53<>\"\"),教学计划表!I53,\"\")","v":""},{"$f":"IF(教学计划表!AS53<>\"\",教学计划表!N53,\"\")","v":""},{"$f":"IF(GE38<>\"\",IF(SEARCH(\"1\",教学计划表!AB53&\"1\",1)<=LEN(教学计划表!AB53),\"考试\",\"考查\"),\"\")","v":""},{"$f":"IF(教学计划表!DG53<>0,教学计划表!DG53,\"\")","v":""},{"$f":"IF(教学计划表!DG53<>0,教学计划表!DL53,\"\")","v":""},{"$f":"IF(教学计划表!DG53<>0,教学计划表!DM53,\"\")","v":""},{"$f":"IF(教学计划表!DG53<>0,教学计划表!OE53,\"\")","v":""},{"$f":"OFFSET($GD$2,SMALL(IF($GD$2:$GD$72<>\"\",ROW($2:$72),\"\"),ROW(GD37))-2,0)","v":{"$error":"#NUM!"}},{"$f":"OFFSET($GE$2,SMALL(IF($GE$2:$GE$72<>\"\",ROW($2:$72),\"\"),ROW(GE37))-2,0)","v":{"$error":"#NUM!"}},{"$f":"OFFSET($GF$2,SMALL(IF($GF$2:$GF$72<>\"\",ROW($2:$72),\"\"),ROW(GF37))-2,0)","v":{"$error":"#NUM!"}},{"$f":"OFFSET($GG$2,SMALL(IF($GG$2:$GG$72<>\"\",ROW($2:$72),\"\"),ROW(GG37))-2,0)","v":{"$error":"#NUM!"}},{"$f":"OFFSET($GH$2,SMALL(IF($GH$2:$GH$72<>\"\",ROW($2:$72),\"\"),ROW(GH37))-2,0)","v":{"$error":"#NUM!"}},{"$error":"#NUM!"},{"$f":"OFFSET($GJ$2,SMALL(IF($GJ$2:$GJ$72<>\"\",ROW($2:$72),\"\"),ROW(GJ37))-2,0)","v":{"$error":"#NUM!"}},{"$f":"IF(AND(教学计划表!N53<>\"\",教学计划表!AV53<>\"\"),教学计划表!I53,\"\")","v":""},{"$f":"IF(教学计划表!AV53<>\"\",教学计划表!N53,\"\")","v":""},{"$f":"IF(GS38<>\"\",IF(SEARCH(\"2\",教学计划表!AB53&\"2\",1)<=LEN(教学计划表!AB53),\"考试\",\"考查\"),\"\")","v":""},{"$f":"IF(教学计划表!EA53<>0,教学计划表!EA53,\"\")","v":""},{"$f":"IF(教学计划表!EA53<>0,教学计划表!EF53,\"\")","v":""},{"$f":"IF(教学计划表!EA53<>0,教学计划表!EG53,\"\")","v":""},{"$f":"IF(教学计划表!EA53<>0,教学计划表!OQ53,\"\")","v":""},{"$f":"OFFSET($GR$2,SMALL(IF($GR$2:$GR$72<>\"\",ROW($I$2:$K$72),\"\"),ROW(GR37))-2,0)","v":{"$error":"#NUM!"}},{"$f":"OFFSET($GS$2,SMALL(IF($GS$2:$GS$72<>\"\",ROW($I$2:$K$72),\"\"),ROW(GS37))-2,0)","v":{"$error":"#NUM!"}},{"$f":"OFFSET($GT$2,SMALL(IF($GT$2:$GT$72<>\"\",ROW($I$2:$K$72),\"\"),ROW(GT37))-2,0)","v":{"$error":"#NUM!"}},{"$f":"OFFSET($GU$2,SMALL(IF($GU$2:$GU$72<>\"\",ROW($I$2:$K$72),\"\"),ROW(GU37))-2,0)","v":{"$error":"#NUM!"}},{"$f":"OFFSET($GV$2,SMALL(IF($GV$2:$GV$72<>\"\",ROW($GV$2:$GV$72),\"\"),ROW(GV37))-2,0)","v":{"$error":"#NUM!"}},{"$f":"OFFSET($GW$2,SMALL(IF($GW$2:$GW$72<>\"\",ROW($GW$2:$GW$72),\"\"),ROW(GW37))-2,0)","v":{"$error":"#NUM!"}},{"$f":"OFFSET($GX$2,SMALL(IF($GX$2:$GX$72<>\"\",ROW($GX$2:$GX$72),\"\"),ROW(GX37))-2,0)","v":{"$error":"#NUM!"}},{"$f":"IF(AND(教学计划表!N53<>\"\",教学计划表!AY53<>\"\"),教学计划表!I53,\"\")","v":""},{"$f":"IF(教学计划表!AY53<>\"\",教学计划表!N53,\"\")","v":""},{"$f":"IF(HG38<>\"\",IF(SEARCH(\"3\",教学计划表!AB53&\"3\",1)<=LEN(教学计划表!AB53),\"考试\",\"考查\"),\"\")","v":""},{"$f":"IF(教学计划表!EV53<>0,教学计划表!EV53,\"\")","v":""},{"$f":"IF(教学计划表!EV53<>0,教学计划表!FA53,\"\")","v":""},{"$f":"IF(教学计划表!EV53<>0,教学计划表!FB53,\"\")","v":""},{"$f":"IF(教学计划表!EV53<>0,教学计划表!PC53,\"\")","v":""},{"$f":"OFFSET($HF$2,SMALL(IF($HF$2:$HF$72<>\"\",ROW($HF$2:$HF$72),\"\"),ROW(HF37))-2,0)","v":{"$error":"#NUM!"}},{"$f":"OFFSET($HG$2,SMALL(IF($HG$2:$HG$72<>\"\",ROW($HG$2:$HG$72),\"\"),ROW(HG37))-2,0)","v":{"$error":"#NUM!"}},{"$f":"OFFSET($HH$2,SMALL(IF($HH$2:$HH$72<>\"\",ROW($HH$2:$HH$72),\"\"),ROW(HH37))-2,0)","v":{"$error":"#NUM!"}},{"$f":"OFFSET($HI$2,SMALL(IF($HI$2:$HI$72<>\"\",ROW($HI$2:$HI$72),\"\"),ROW(HI37))-2,0)","v":{"$error":"#NUM!"}},{"$f":"OFFSET($HJ$2,SMALL(IF($HJ$2:$HJ$72<>\"\",ROW($HJ$2:$HJ$72),\"\"),ROW(HJ37))-2,0)","v":{"$error":"#NUM!"}},{"$f":"OFFSET($HK$2,SMALL(IF($HK$2:$HK$72<>\"\",ROW($HK$2:$HK$72),\"\"),ROW(HK37))-2,0)","v":{"$error":"#NUM!"}},{"$f":"OFFSET($HL$2,SMALL(IF($HL$2:$HL$72<>\"\",ROW($HL$2:$HL$72),\"\"),ROW(HL37))-2,0)","v":{"$error":"#NUM!"}},{"$f":"IF(AND(教学计划表!N53<>\"\",教学计划表!BB53<>\"\"),教学计划表!I53,\"\")","v":""},{"$f":"IF(教学计划表!BB53<>\"\",教学计划表!N53,\"\")","v":""},{"$f":"IF(HU38<>\"\",IF(SEARCH(\"4\",教学计划表!AB53&\"4\",1)<=LEN(教学计划表!AB53),\"考试\",\"考查\"),\"\")","v":""},{"$f":"IF(教学计划表!FQ53<>0,教学计划表!FQ53,\"\")","v":""},{"$f":"IF(教学计划表!FQ53<>0,教学计划表!FV53,\"\")","v":""},{"$f":"IF(教学计划表!FQ53<>0,教学计划表!FW53,\"\")","v":""},{"$f":"IF(教学计划表!FQ53<>0,教学计划表!PO53,\"\")","v":""},{"$f":"OFFSET($HT$2,SMALL(IF($HT$2:$HT$72<>\"\",ROW($HT$2:$HT$72),\"\"),ROW(HT37))-2,0)","v":{"$error":"#NUM!"}},{"$f":"OFFSET($HU$2,SMALL(IF($HU$2:$HU$72<>\"\",ROW($HU$2:$HU$72),\"\"),ROW(HU37))-2,0)","v":{"$error":"#NUM!"}},{"$f":"OFFSET($HV$2,SMALL(IF($HV$2:$HV$72<>\"\",ROW($HV$2:$HV$72),\"\"),ROW(HV37))-2,0)","v":{"$error":"#NUM!"}},{"$f":"OFFSET($HW$2,SMALL(IF($HW$2:$HW$72<>\"\",ROW($HW$2:$HW$72),\"\"),ROW(HW37))-2,0)","v":{"$error":"#NUM!"}},{"$f":"OFFSET($HX$2,SMALL(IF($HX$2:$HX$72<>\"\",ROW($HX$2:$HX$72),\"\"),ROW(HX37))-2,0)","v":{"$error":"#NUM!"}},{"$f":"OFFSET($HY$2,SMALL(IF($HY$2:$HY$72<>\"\",ROW($HY$2:$HY$72),\"\"),ROW(HY37))-2,0)","v":{"$error":"#NUM!"}},{"$f":"OFFSET($HZ$2,SMALL(IF($HZ$2:$HZ$72<>\"\",ROW($HZ$2:$HZ$72),\"\"),ROW(HZ37))-2,0)","v":{"$error":"#NUM!"}},null,null,{"$f":"IF(AND(教学计划表!N53<>\"\",教学计划表!BE53<>\"\"),教学计划表!I53,\"\")","v":""},{"$f":"IF(教学计划表!BE53<>\"\",教学计划表!N53,\"\")","v":""},{"$f":"IF(IK38<>\"\",IF(SEARCH(\"5\",教学计划表!AB53&\"5\",1)<=LEN(教学计划表!AB53),\"考试\",\"考查\"),\"\")","v":""},{"$f":"IF(教学计划表!GL53<>0,教学计划表!GL53,\"\")","v":""},{"$f":"IF(教学计划表!GL53<>0,教学计划表!GQ53,\"\")","v":""},{"$f":"IF(教学计划表!GL53<>0,教学计划表!GR53,\"\")","v":""},{"$f":"IF(教学计划表!GL53<>0,教学计划表!PZ53,\"\")","v":""},{"$f":"OFFSET($IJ$2,SMALL(IF($IJ$2:$IJ$72<>\"\",ROW($IJ$2:$IJ$72),\"\"),ROW(IJ37))-2,0)","v":{"$error":"#NUM!"}},{"$f":"OFFSET($IK$2,SMALL(IF($IK$2:$IK$72<>\"\",ROW($IK$2:$IK$72),\"\"),ROW(IK37))-2,0)","v":{"$error":"#NUM!"}},{"$f":"OFFSET($IL$2,SMALL(IF($IL$2:$IL$72<>\"\",ROW($IL$2:$IL$72),\"\"),ROW(IL37))-2,0)","v":{"$error":"#NUM!"}},{"$f":"OFFSET($IM$2,SMALL(IF($IM$2:$IM$72<>\"\",ROW($IM$2:$IM$72),\"\"),ROW(IM37))-2,0)","v":{"$error":"#NUM!"}},{"$f":"OFFSET($IN$2,SMALL(IF($IN$2:$IN$72<>\"\",ROW($IN$2:$IN$72),\"\"),ROW(IN37))-2,0)","v":{"$error":"#NUM!"}},{"$f":"OFFSET($IO$2,SMALL(IF($IO$2:$IO$72<>\"\",ROW($IO$2:$IO$72),\"\"),ROW(IO37))-2,0)","v":{"$error":"#NUM!"}},{"$f":"OFFSET($IP$2,SMALL(IF($IP$2:$IP$72<>\"\",ROW($IP$2:$IP$72),\"\"),ROW(IP37))-2,0)","v":{"$error":"#NUM!"}},null,{"$f":"IF(AND(教学计划表!N53<>\"\",教学计划表!BH53<>\"\"),教学计划表!I53,\"\")","v":""},{"$f":"IF(教学计划表!BH53<>\"\",教学计划表!N53,\"\")","v":""},{"$f":"IF(教学计划表!BH53<>\"\",IF(SEARCH(\"6\",教学计划表!AB53&\"6\",1)<=LEN(教学计划表!AB53),\"考试\",\"考查\"),\"\")","v":""},{"$f":"IF(教学计划表!BH53<>0,教学计划表!HG53,\"\")","v":""},{"$f":"IF(教学计划表!BH53<>0,教学计划表!HL53,\"\")","v":""},{"$f":"IF(教学计划表!BH53<>0,教学计划表!HM53,\"\")","v":""},{"$f":"IF(教学计划表!BH53<>0,教学计划表!QL53,\"\")","v":""},{"$f":"OFFSET($IY$2,SMALL(IF($IY$2:$IY$72<>\"\",ROW($IY$2:$IY$72),\"\"),ROW(IY37))-2,0)","v":{"$error":"#NUM!"}},{"$f":"OFFSET($IZ$2,SMALL(IF($IZ$2:$IZ$72<>\"\",ROW($IZ$2:$IZ$72),\"\"),ROW(IZ37))-2,0)","v":{"$error":"#NUM!"}},{"$f":"OFFSET($JA$2,SMALL(IF($JA$2:$JA$72<>\"\",ROW($JA$2:$JA$72),\"\"),ROW(JA37))-2,0)","v":{"$error":"#NUM!"}},{"$f":"OFFSET($JB$2,SMALL(IF($JB$2:$JB$72<>\"\",ROW($JB$2:$JB$72),\"\"),ROW(JB37))-2,0)","v":{"$error":"#NUM!"}},{"$f":"OFFSET($JC$2,SMALL(IF($JC$2:$JC$72<>\"\",ROW($JC$2:$JC$72),\"\"),ROW(JC37))-2,0)","v":{"$error":"#NUM!"}},{"$f":"OFFSET($JD$2,SMALL(IF($JD$2:$JD$72<>\"\",ROW($JD$2:$JD$72),\"\"),ROW(JD37))-2,0)","v":{"$error":"#NUM!"}},{"$f":"OFFSET($JE$2,SMALL(IF($JE$2:$JE$72<>\"\",ROW($JE$2:$JE$72),\"\"),ROW(JE37))-2,0)","v":{"$error":"#NUM!"}}]
["","","","","","","",null,"","","",{"$f":"IF(ISERROR(自动生成的开课信息!HB39),\"\",自动生成的开课信息!HB39)","v":""},{"$f":"IF(ISERROR(自动生成的开课信息!HC39),\"\",自动生成的开课信息!HC39)","v":""},{"$f":"IF(ISERROR(自动生成的开课信息!HD39),\"\",自动生成的开课信息!HD39)","v":""},{"$f":"IF(ISERROR(自动生成的开课信息!HE39),\"\",自动生成的开课信息!HE39)","v":""},null,"","","","","","","",null,"","","","","","","",null,"","","","","","","",null,"","","","","","","",null,null,null,null,null,null,null,null,null,null,null,null,null,null,null,null,null,null,null,null,null,null,null,null,null,null,null,null,null,null,null,null,null,null,null,null,null,null,null,null,null,null,null,null,null,null,null,null,null,null,null,null,null,null,null,null,null,null,null,null,null,null,null,null,null,null,null,null,null,null,null,null,null,null,null,null,null,null,null,null,null,null,null,null,null,null,null,null,null,null,null,null,null,null,null,null,null,null,null,null,null,null,null,null,null,null,null,null,null,null,null,null,null,null,null,null,null,null,null,null,null,null,null,null,null,null,null,null,null,null,null,null,null,null,null,null,null,null,{"$f":"IF(AND(教学计划表!N54<>\"\",教学计划表!AS54<>\"\"),教学计划表!I54,\"\")","v":""},{"$f":"IF(教学计划表!AS54<>\"\",教学计划表!N54,\"\")","v":""},{"$f":"IF(GE39<>\"\",IF(SEARCH(\"1\",教学计划表!AB54&\"1\",1)<=LEN(教学计划表!AB54),\"考试\",\"考查\"),\"\")","v":""},{"$f":"IF(教学计划表!DG54<>0,教学计划表!DG54,\"\")","v":""},{"$f":"IF(教学计划表!DG54<>0,教学计划表!DL54,\"\")","v":""},{"$f":"IF(教学计划表!DG54<>0,教学计划表!DM54,\"\")","v":""},{"$f":"IF(教学计划表!DG54<>0,教学计划表!OE54,\"\")","v":""},{"$f":"OFFSET($GD$2,SMALL(IF($GD$2:$GD$72<>\"\",ROW($2:$72),\"\"),ROW(GD38))-2,0)","v":{"$error":"#NUM!"}},{"$f":"OFFSET($GE$2,SMALL(IF($GE$2:$GE$72<>\"\",ROW($2:$72),\"\"),ROW(GE38))-2,0)","v":{"$error":"#NUM!"}},{"$f":"OFFSET($GF$2,SMALL(IF($GF$2:$GF$72<>\"\",ROW($2:$72),\"\"),ROW(GF38))-2,0)","v":{"$error":"#NUM!"}},{"$f":"OFFSET($GG$2,SMALL(IF($GG$2:$GG$72<>\"\",ROW($2:$72),\"\"),ROW(GG38))-2,0)","v":{"$error":"#NUM!"}},{"$f":"OFFSET($GH$2,SMALL(IF($GH$2:$GH$72<>\"\",ROW($2:$72),\"\"),ROW(GH38))-2,0)","v":{"$error":"#NUM!"}},{"$error":"#NUM!"},{"$f":"OFFSET($GJ$2,SMALL(IF($GJ$2:$GJ$72<>\"\",ROW($2:$72),\"\"),ROW(GJ38))-2,0)","v":{"$error":"#NUM!"}},{"$f":"IF(AND(教学计划表!N54<>\"\",教学计划表!AV54<>\"\"),教学计划表!I54,\"\")","v":""},{"$f":"IF(教学计划表!AV54<>\"\",教学计划表!N54,\"\")","v":""},{"$f":"IF(GS39<>\"\",IF(SEARCH(\"2\",教学计划表!AB54&\"2\",1)<=LEN(教学计划表!AB54),\"考试\",\"考查\"),\"\")","v":""},{"$f":"IF(教学计划表!EA54<>0,教学计划表!EA54,\"\")","v":""},{"$f":"IF(教学计划表!EA54<>0,教学计划表!EF54,\"\")","v":""},{"$f":"IF(教学计划表!EA54<>0,教学计划表!EG54,\"\")","v":""},{"$f":"IF(教学计划表!EA54<>0,教学计划表!OQ54,\"\")","v":""},{"$f":"OFFSET($GR$2,SMALL(IF($GR$2:$GR$72<>\"\",ROW($I$2:$K$72),\"\"),ROW(GR38))-2,0)","v":{"$error":"#NUM!"}},{"$f":"OFFSET($GS$2,SMALL(IF($GS$2:$GS$72<>\"\",ROW($I$2:$K$72),\"\"),ROW(GS38))-2,0)","v":{"$error":"#NUM!"}},{"$f":"OFFSET($GT$2,SMALL(IF($GT$2:$GT$72<>\"\",ROW($I$2:$K$72),\"\"),ROW(GT38))-2,0)","v":{"$error":"#NUM!"}},{"$f":"OFFSET($GU$2,SMALL(IF($GU$2:$GU$72<>\"\",ROW($I$2:$K$72),\"\"),ROW(GU38))-2,0)","v":{"$error":"#NUM!"}},{"$f":"OFFSET($GV$2,SMALL(IF($GV$2:$GV$72<>\"\",ROW($GV$2:$GV$72),\"\"),ROW(GV38))-2,0)","v":{"$error":"#NUM!"}},{"$f":"OFFSET($GW$2,SMALL(IF($GW$2:$GW$72<>\"\",ROW($GW$2:$GW$72),\"\"),ROW(GW38))-2,0)","v":{"$error":"#NUM!"}},{"$f":"OFFSET($GX$2,SMALL(IF($GX$2:$GX$72<>\"\",ROW($GX$2:$GX$72),\"\"),ROW(GX38))-2,0)","v":{"$error":"#NUM!"}},{"$f":"IF(AND(教学计划表!N54<>\"\",教学计划表!AY54<>\"\"),教学计划表!I54,\"\")","v":""},{"$f":"IF(教学计划表!AY54<>\"\",教学计划表!N54,\"\")","v":""},{"$f":"IF(HG39<>\"\",IF(SEARCH(\"3\",教学计划表!AB54&\"3\",1)<=LEN(教学计划表!AB54),\"考试\",\"考查\"),\"\")","v":""},{"$f":"IF(教学计划表!EV54<>0,教学计划表!EV54,\"\")","v":""},{"$f":"IF(教学计划表!EV54<>0,教学计划表!FA54,\"\")","v":""},{"$f":"IF(教学计划表!EV54<>0,教学计划表!FB54,\"\")","v":""},{"$f":"IF(教学计划表!EV54<>0,教学计划表!PC54,\"\")","v":""},{"$f":"OFFSET($HF$2,SMALL(IF($HF$2:$HF$72<>\"\",ROW($HF$2:$HF$72),\"\"),ROW(HF38))-2,0)","v":{"$error":"#NUM!"}},{"$f":"OFFSET($HG$2,SMALL(IF($HG$2:$HG$72<>\"\",ROW($HG$2:$HG$72),\"\"),ROW(HG38))-2,0)","v":{"$error":"#NUM!"}},{"$f":"OFFSET($HH$2,SMALL(IF($HH$2:$HH$72<>\"\",ROW($HH$2:$HH$72),\"\"),ROW(HH38))-2,0)","v":{"$error":"#NUM!"}},{"$f":"OFFSET($HI$2,SMALL(IF($HI$2:$HI$72<>\"\",ROW($HI$2:$HI$72),\"\"),ROW(HI38))-2,0)","v":{"$error":"#NUM!"}},{"$f":"OFFSET($HJ$2,SMALL(IF($HJ$2:$HJ$72<>\"\",ROW($HJ$2:$HJ$72),\"\"),ROW(HJ38))-2,0)","v":{"$error":"#NUM!"}},{"$f":"OFFSET($HK$2,SMALL(IF($HK$2:$HK$72<>\"\",ROW($HK$2:$HK$72),\"\"),ROW(HK38))-2,0)","v":{"$error":"#NUM!"}},{"$f":"OFFSET($HL$2,SMALL(IF($HL$2:$HL$72<>\"\",ROW($HL$2:$HL$72),\"\"),ROW(HL38))-2,0)","v":{"$error":"#NUM!"}},{"$f":"IF(AND(教学计划表!N54<>\"\",教学计划表!BB54<>\"\"),教学计划表!I54,\"\")","v":""},{"$f":"IF(教学计划表!BB54<>\"\",教学计划表!N54,\"\")","v":""},{"$f":"IF(HU39<>\"\",IF(SEARCH(\"4\",教学计划表!AB54&\"4\",1)<=LEN(教学计划表!AB54),\"考试\",\"考查\"),\"\")","v":""},{"$f":"IF(教学计划表!FQ54<>0,教学计划表!FQ54,\"\")","v":""},{"$f":"IF(教学计划表!FQ54<>0,教学计划表!FV54,\"\")","v":""},{"$f":"IF(教学计划表!FQ54<>0,教学计划表!FW54,\"\")","v":""},{"$f":"IF(教学计划表!FQ54<>0,教学计划表!PO54,\"\")","v":""},{"$f":"OFFSET($HT$2,SMALL(IF($HT$2:$HT$72<>\"\",ROW($HT$2:$HT$72),\"\"),ROW(HT38))-2,0)","v":{"$error":"#NUM!"}},{"$f":"OFFSET($HU$2,SMALL(IF($HU$2:$HU$72<>\"\",ROW($HU$2:$HU$72),\"\"),ROW(HU38))-2,0)","v":{"$error":"#NUM!"}},{"$f":"OFFSET($HV$2,SMALL(IF($HV$2:$HV$72<>\"\",ROW($HV$2:$HV$72),\"\"),ROW(HV38))-2,0)","v":{"$error":"#NUM!"}},{"$f":"OFFSET($HW$2,SMALL(IF($HW$2:$HW$72<>\"\",ROW($HW$2:$HW$72),\"\"),ROW(HW38))-2,0)","v":{"$error":"#NUM!"}},{"$f":"OFFSET($HX$2,SMALL(IF($HX$2:$HX$72<>\"\",ROW($HX$2:$HX$72),\"\"),ROW(HX38))-2,0)","v":{"$error":"#NUM!"}},{"$f":"OFFSET($HY$2,SMALL(IF($HY$2:$HY$72<>\"\",ROW($HY$2:$HY$72),\"\"),ROW(HY38))-2,0)","v":{"$error":"#NUM!"}},{"$f":"OFFSET($HZ$2,SMALL(IF($HZ$2:$HZ$72<>\"\",ROW($HZ$2:$HZ$72),\"\"),ROW(HZ38))-2,0)","v":{"$error":"#NUM!"}},null,null,{"$f":"IF(AND(教学计划表!N54<>\"\",教学计划表!BE54<>\"\"),教学计划表!I54,\"\")","v":""},{"$f":"IF(教学计划表!BE54<>\"\",教学计划表!N54,\"\")","v":""},{"$f":"IF(IK39<>\"\",IF(SEARCH(\"5\",教学计划表!AB54&\"5\",1)<=LEN(教学计划表!AB54),\"考试\",\"考查\"),\"\")","v":""},{"$f":"IF(教学计划表!GL54<>0,教学计划表!GL54,\"\")","v":""},{"$f":"IF(教学计划表!GL54<>0,教学计划表!GQ54,\"\")","v":""},{"$f":"IF(教学计划表!GL54<>0,教学计划表!GR54,\"\")","v":""},{"$f":"IF(教学计划表!GL54<>0,教学计划表!PZ54,\"\")","v":""},{"$f":"OFFSET($IJ$2,SMALL(IF($IJ$2:$IJ$72<>\"\",ROW($IJ$2:$IJ$72),\"\"),ROW(IJ38))-2,0)","v":{"$error":"#NUM!"}},{"$f":"OFFSET($IK$2,SMALL(IF($IK$2:$IK$72<>\"\",ROW($IK$2:$IK$72),\"\"),ROW(IK38))-2,0)","v":{"$error":"#NUM!"}},{"$f":"OFFSET($IL$2,SMALL(IF($IL$2:$IL$72<>\"\",ROW($IL$2:$IL$72),\"\"),ROW(IL38))-2,0)","v":{"$error":"#NUM!"}},{"$f":"OFFSET($IM$2,SMALL(IF($IM$2:$IM$72<>\"\",ROW($IM$2:$IM$72),\"\"),ROW(IM38))-2,0)","v":{"$error":"#NUM!"}},{"$f":"OFFSET($IN$2,SMALL(IF($IN$2:$IN$72<>\"\",ROW($IN$2:$IN$72),\"\"),ROW(IN38))-2,0)","v":{"$error":"#NUM!"}},{"$f":"OFFSET($IO$2,SMALL(IF($IO$2:$IO$72<>\"\",ROW($IO$2:$IO$72),\"\"),ROW(IO38))-2,0)","v":{"$error":"#NUM!"}},{"$f":"OFFSET($IP$2,SMALL(IF($IP$2:$IP$72<>\"\",ROW($IP$2:$IP$72),\"\"),ROW(IP38))-2,0)","v":{"$error":"#NUM!"}},null,{"$f":"IF(AND(教学计划表!N54<>\"\",教学计划表!BH54<>\"\"),教学计划表!I54,\"\")","v":""},{"$f":"IF(教学计划表!BH54<>\"\",教学计划表!N54,\"\")","v":""},{"$f":"IF(教学计划表!BH54<>\"\",IF(SEARCH(\"6\",教学计划表!AB54&\"6\",1)<=LEN(教学计划表!AB54),\"考试\",\"考查\"),\"\")","v":""},{"$f":"IF(教学计划表!BH54<>0,教学计划表!HG54,\"\")","v":""},{"$f":"IF(教学计划表!BH54<>0,教学计划表!HL54,\"\")","v":""},{"$f":"IF(教学计划表!BH54<>0,教学计划表!HM54,\"\")","v":""},{"$f":"IF(教学计划表!BH54<>0,教学计划表!QL54,\"\")","v":""},{"$f":"OFFSET($IY$2,SMALL(IF($IY$2:$IY$72<>\"\",ROW($IY$2:$IY$72),\"\"),ROW(IY38))-2,0)","v":{"$error":"#NUM!"}},{"$f":"OFFSET($IZ$2,SMALL(IF($IZ$2:$IZ$72<>\"\",ROW($IZ$2:$IZ$72),\"\"),ROW(IZ38))-2,0)","v":{"$error":"#NUM!"}},{"$f":"OFFSET($JA$2,SMALL(IF($JA$2:$JA$72<>\"\",ROW($JA$2:$JA$72),\"\"),ROW(JA38))-2,0)","v":{"$error":"#NUM!"}},{"$f":"OFFSET($JB$2,SMALL(IF($JB$2:$JB$72<>\"\",ROW($JB$2:$JB$72),\"\"),ROW(JB38))-2,0)","v":{"$error":"#NUM!"}},{"$f":"OFFSET($JC$2,SMALL(IF($JC$2:$JC$72<>\"\",ROW($JC$2:$JC$72),\"\"),ROW(JC38))-2,0)","v":{"$error":"#NUM!"}},{"$f":"OFFSET($JD$2,SMALL(IF($JD$2:$JD$72<>\"\",ROW($JD$2:$JD$72),\"\"),ROW(JD38))-2,0)","v":{"$error":"#NUM!"}},{"$f":"OFFSET($JE$2,SMALL(IF($JE$2:$JE$72<>\"\",ROW($JE$2:$JE$72),\"\"),ROW(JE38))-2,0)","v":{"$error":"#NUM!"}}]
["","","","","","","",null,"","","",{"$f":"IF(ISERROR(自动生成的开课信息!HB40),\"\",自动生成的开课信息!HB40)","v":""},{"$f":"IF(ISERROR(自动生成的开课信息!HC40),\"\",自动生成的开课信息!HC40)","v":""},{"$f":"IF(ISERROR(自动生成的开课信息!HD40),\"\",自动生成的开课信息!HD40)","v":""},{"$f":"IF(ISERROR(自动生成的开课信息!HE40),\"\",自动生成的开课信息!HE40)","v":""},null,"","","","","","","",null,"","","","","","","",null,"","","","","","","",null,"","","","","","","",null,null,null,null,null,null,null,null,null,null,null,null,null,null,null,null,null,null,null,null,null,null,null,null,null,null,null,null,null,null,null,null,null,null,null,null,null,null,null,null,null,null,null,null,null,null,null,null,null,null,null,null,null,null,null,null,null,null,null,null,null,null,null,null,null,null,null,null,null,null,null,null,null,null,null,null,null,null,null,null,null,null,null,null,null,null,null,null,null,null,null,null,null,null,null,null,null,null,null,null,null,null,null,null,null,null,null,null,null,null,null,null,null,null,null,null,null,null,null,null,null,null,null,null,null,null,null,null,null,null,null,null,null,null,null,null,null,null,{"$f":"IF(AND(教学计划表!N55<>\"\",教学计划表!AS55<>\"\"),教学计划表!I55,\"\")","v":""},{"$f":"IF(教学计划表!AS55<>\"\",教学计划表!N55,\"\")","v":""},{"$f":"IF(GE40<>\"\",IF(SEARCH(\"1\",教学计划表!AB55&\"1\",1)<=LEN(教学计划表!AB55),\"考试\",\"考查\"),\"\")","v":""},{"$f":"IF(教学计划表!DG55<>0,教学计划表!DG55,\"\")","v":""},{"$f":"IF(教学计划表!DG55<>0,教学计划表!DL55,\"\")","v":""},{"$f":"IF(教学计划表!DG55<>0,教学计划表!DM55,\"\")","v":""},{"$f":"IF(教学计划表!DG55<>0,教学计划表!OE55,\"\")","v":""},{"$f":"OFFSET($GD$2,SMALL(IF($GD$2:$GD$72<>\"\",ROW($2:$72),\"\"),ROW(GD39))-2,0)","v":{"$error":"#NUM!"}},{"$f":"OFFSET($GE$2,SMALL(IF($GE$2:$GE$72<>\"\",ROW($2:$72),\"\"),ROW(GE39))-2,0)","v":{"$error":"#NUM!"}},{"$f":"OFFSET($GF$2,SMALL(IF($GF$2:$GF$72<>\"\",ROW($2:$72),\"\"),ROW(GF39))-2,0)","v":{"$error":"#NUM!"}},{"$f":"OFFSET($GG$2,SMALL(IF($GG$2:$GG$72<>\"\",ROW($2:$72),\"\"),ROW(GG39))-2,0)","v":{"$error":"#NUM!"}},{"$f":"OFFSET($GH$2,SMALL(IF($GH$2:$GH$72<>\"\",ROW($2:$72),\"\"),ROW(GH39))-2,0)","v":{"$error":"#NUM!"}},{"$error":"#NUM!"},{"$f":"OFFSET($GJ$2,SMALL(IF($GJ$2:$GJ$72<>\"\",ROW($2:$72),\"\"),ROW(GJ39))-2,0)","v":{"$error":"#NUM!"}},{"$f":"IF(AND(教学计划表!N55<>\"\",教学计划表!AV55<>\"\"),教学计划表!I55,\"\")","v":""},{"$f":"IF(教学计划表!AV55<>\"\",教学计划表!N55,\"\")","v":""},{"$f":"IF(GS40<>\"\",IF(SEARCH(\"2\",教学计划表!AB55&\"2\",1)<=LEN(教学计划表!AB55),\"考试\",\"考查\"),\"\")","v":""},{"$f":"IF(教学计划表!EA55<>0,教学计划表!EA55,\"\")","v":""},{"$f":"IF(教学计划表!EA55<>0,教学计划表!EF55,\"\")","v":""},{"$f":"IF(教学计划表!EA55<>0,教学计划表!EG55,\"\")","v":""},{"$f":"IF(教学计划表!EA55<>0,教学计划表!OQ55,\"\")","v":""},{"$f":"OFFSET($GR$2,SMALL(IF($GR$2:$GR$72<>\"\",ROW($I$2:$K$72),\"\"),ROW(GR39))-2,0)","v":{"$error":"#NUM!"}},{"$f":"OFFSET($GS$2,SMALL(IF($GS$2:$GS$72<>\"\",ROW($I$2:$K$72),\"\"),ROW(GS39))-2,0)","v":{"$error":"#NUM!"}},{"$f":"OFFSET($GT$2,SMALL(IF($GT$2:$GT$72<>\"\",ROW($I$2:$K$72),\"\"),ROW(GT39))-2,0)","v":{"$error":"#NUM!"}},{"$f":"OFFSET($GU$2,SMALL(IF($GU$2:$GU$72<>\"\",ROW($I$2:$K$72),\"\"),ROW(GU39))-2,0)","v":{"$error":"#NUM!"}},{"$f":"OFFSET($GV$2,SMALL(IF($GV$2:$GV$72<>\"\",ROW($GV$2:$GV$72),\"\"),ROW(GV39))-2,0)","v":{"$error":"#NUM!"}},{"$f":"OFFSET($GW$2,SMALL(IF($GW$2:$GW$72<>\"\",ROW($GW$2:$GW$72),\"\"),ROW(GW39))-2,0)","v":{"$error":"#NUM!"}},{"$f":"OFFSET($GX$2,SMALL(IF($GX$2:$GX$72<>\"\",ROW($GX$2:$GX$72),\"\"),ROW(GX39))-2,0)","v":{"$error":"#NUM!"}},{"$f":"IF(AND(教学计划表!N55<>\"\",教学计划表!AY55<>\"\"),教学计划表!I55,\"\")","v":""},{"$f":"IF(教学计划表!AY55<>\"\",教学计划表!N55,\"\")","v":""},{"$f":"IF(HG40<>\"\",IF(SEARCH(\"3\",教学计划表!AB55&\"3\",1)<=LEN(教学计划表!AB55),\"考试\",\"考查\"),\"\")","v":""},{"$f":"IF(教学计划表!EV55<>0,教学计划表!EV55,\"\")","v":""},{"$f":"IF(教学计划表!EV55<>0,教学计划表!FA55,\"\")","v":""},{"$f":"IF(教学计划表!EV55<>0,教学计划表!FB55,\"\")","v":""},{"$f":"IF(教学计划表!EV55<>0,教学计划表!PC55,\"\")","v":""},{"$f":"OFFSET($HF$2,SMALL(IF($HF$2:$HF$72<>\"\",ROW($HF$2:$HF$72),\"\"),ROW(HF39))-2,0)","v":{"$error":"#NUM!"}},{"$f":"OFFSET($HG$2,SMALL(IF($HG$2:$HG$72<>\"\",ROW($HG$2:$HG$72),\"\"),ROW(HG39))-2,0)","v":{"$error":"#NUM!"}},{"$f":"OFFSET($HH$2,SMALL(IF($HH$2:$HH$72<>\"\",ROW($HH$2:$HH$72),\"\"),ROW(HH39))-2,0)","v":{"$error":"#NUM!"}},{"$f":"OFFSET($HI$2,SMALL(IF($HI$2:$HI$72<>\"\",ROW($HI$2:$HI$72),\"\"),ROW(HI39))-2,0)","v":{"$error":"#NUM!"}},{"$f":"OFFSET($HJ$2,SMALL(IF($HJ$2:$HJ$72<>\"\",ROW($HJ$2:$HJ$72),\"\"),ROW(HJ39))-2,0)","v":{"$error":"#NUM!"}},{"$f":"OFFSET($HK$2,SMALL(IF($HK$2:$HK$72<>\"\",ROW($HK$2:$HK$72),\"\"),ROW(HK39))-2,0)","v":{"$error":"#NUM!"}},{"$f":"OFFSET($HL$2,SMALL(IF($HL$2:$HL$72<>\"\",ROW($HL$2:$HL$72),\"\"),ROW(HL39))-2,0)","v":{"$error":"#NUM!"}},{"$f":"IF(AND(教学计划表!N55<>\"\",教学计划表!BB55<>\"\"),教学计划表!I55,\"\")","v":""},{"$f":"IF(教学计划表!BB55<>\"\",教学计划表!N55,\"\")","v":""},{"$f":"IF(HU40<>\"\",IF(SEARCH(\"4\",教学计划表!AB55&\"4\",1)<=LEN(教学计划表!AB55),\"考试\",\"考查\"),\"\")","v":""},{"$f":"IF(教学计划表!FQ55<>0,教学计划表!FQ55,\"\")","v":""},{"$f":"IF(教学计划表!FQ55<>0,教学计划表!FV55,\"\")","v":""},{"$f":"IF(教学计划表!FQ55<>0,教学计划表!FW55,\"\")","v":""},{"$f":"IF(教学计划表!FQ55<>0,教学计划表!PO55,\"\")","v":""},{"$f":"OFFSET($HT$2,SMALL(IF($HT$2:$HT$72<>\"\",ROW($HT$2:$HT$72),\"\"),ROW(HT39))-2,0)","v":{"$error":"#NUM!"}},{"$f":"OFFSET($HU$2,SMALL(IF($HU$2:$HU$72<>\"\",ROW($HU$2:$HU$72),\"\"),ROW(HU39))-2,0)","v":{"$error":"#NUM!"}},{"$f":"OFFSET($HV$2,SMALL(IF($HV$2:$HV$72<>\"\",ROW($HV$2:$HV$72),\"\"),ROW(HV39))-2,0)","v":{"$error":"#NUM!"}},{"$f":"OFFSET($HW$2,SMALL(IF($HW$2:$HW$72<>\"\",ROW($HW$2:$HW$72),\"\"),ROW(HW39))-2,0)","v":{"$error":"#NUM!"}},{"$f":"OFFSET($HX$2,SMALL(IF($HX$2:$HX$72<>\"\",ROW($HX$2:$HX$72),\"\"),ROW(HX39))-2,0)","v":{"$error":"#NUM!"}},{"$f":"OFFSET($HY$2,SMALL(IF($HY$2:$HY$72<>\"\",ROW($HY$2:$HY$72),\"\"),ROW(HY39))-2,0)","v":{"$error":"#NUM!"}},{"$f":"OFFSET($HZ$2,SMALL(IF($HZ$2:$HZ$72<>\"\",ROW($HZ$2:$HZ$72),\"\"),ROW(HZ39))-2,0)","v":{"$error":"#NUM!"}},null,null,{"$f":"IF(AND(教学计划表!N55<>\"\",教学计划表!BE55<>\"\"),教学计划表!I55,\"\")","v":""},{"$f":"IF(教学计划表!BE55<>\"\",教学计划表!N55,\"\")","v":""},{"$f":"IF(IK40<>\"\",IF(SEARCH(\"5\",教学计划表!AB55&\"5\",1)<=LEN(教学计划表!AB55),\"考试\",\"考查\"),\"\")","v":""},{"$f":"IF(教学计划表!GL55<>0,教学计划表!GL55,\"\")","v":""},{"$f":"IF(教学计划表!GL55<>0,教学计划表!GQ55,\"\")","v":""},{"$f":"IF(教学计划表!GL55<>0,教学计划表!GR55,\"\")","v":""},{"$f":"IF(教学计划表!GL55<>0,教学计划表!PZ55,\"\")","v":""},{"$f":"OFFSET($IJ$2,SMALL(IF($IJ$2:$IJ$72<>\"\",ROW($IJ$2:$IJ$72),\"\"),ROW(IJ39))-2,0)","v":{"$error":"#NUM!"}},{"$f":"OFFSET($IK$2,SMALL(IF($IK$2:$IK$72<>\"\",ROW($IK$2:$IK$72),\"\"),ROW(IK39))-2,0)","v":{"$error":"#NUM!"}},{"$f":"OFFSET($IL$2,SMALL(IF($IL$2:$IL$72<>\"\",ROW($IL$2:$IL$72),\"\"),ROW(IL39))-2,0)","v":{"$error":"#NUM!"}},{"$f":"OFFSET($IM$2,SMALL(IF($IM$2:$IM$72<>\"\",ROW($IM$2:$IM$72),\"\"),ROW(IM39))-2,0)","v":{"$error":"#NUM!"}},{"$f":"OFFSET($IN$2,SMALL(IF($IN$2:$IN$72<>\"\",ROW($IN$2:$IN$72),\"\"),ROW(IN39))-2,0)","v":{"$error":"#NUM!"}},{"$f":"OFFSET($IO$2,SMALL(IF($IO$2:$IO$72<>\"\",ROW($IO$2:$IO$72),\"\"),ROW(IO39))-2,0)","v":{"$error":"#NUM!"}},{"$f":"OFFSET($IP$2,SMALL(IF($IP$2:$IP$72<>\"\",ROW($IP$2:$IP$72),\"\"),ROW(IP39))-2,0)","v":{"$error":"#NUM!"}},null,{"$f":"IF(AND(教学计划表!N55<>\"\",教学计划表!BH55<>\"\"),教学计划表!I55,\"\")","v":""},{"$f":"IF(教学计划表!BH55<>\"\",教学计划表!N55,\"\")","v":""},{"$f":"IF(教学计划表!BH55<>\"\",IF(SEARCH(\"6\",教学计划表!AB55&\"6\",1)<=LEN(教学计划表!AB55),\"考试\",\"考查\"),\"\")","v":""},{"$f":"IF(教学计划表!BH55<>0,教学计划表!HG55,\"\")","v":""},{"$f":"IF(教学计划表!BH55<>0,教学计划表!HL55,\"\")","v":""},{"$f":"IF(教学计划表!BH55<>0,教学计划表!HM55,\"\")","v":""},{"$f":"IF(教学计划表!BH55<>0,教学计划表!QL55,\"\")","v":""},{"$f":"OFFSET($IY$2,SMALL(IF($IY$2:$IY$72<>\"\",ROW($IY$2:$IY$72),\"\"),ROW(IY39))-2,0)","v":{"$error":"#NUM!"}},{"$f":"OFFSET($IZ$2,SMALL(IF($IZ$2:$IZ$72<>\"\",ROW($IZ$2:$IZ$72),\"\"),ROW(IZ39))-2,0)","v":{"$error":"#NUM!"}},{"$f":"OFFSET($JA$2,SMALL(IF($JA$2:$JA$72<>\"\",ROW($JA$2:$JA$72),\"\"),ROW(JA39))-2,0)","v":{"$error":"#NUM!"}},{"$f":"OFFSET($JB$2,SMALL(IF($JB$2:$JB$72<>\"\",ROW($JB$2:$JB$72),\"\"),ROW(JB39))-2,0)","v":{"$error":"#NUM!"}},{"$f":"OFFSET($JC$2,SMALL(IF($JC$2:$JC$72<>\"\",ROW($JC$2:$JC$72),\"\"),ROW(JC39))-2,0)","v":{"$error":"#NUM!"}},{"$f":"OFFSET($JD$2,SMALL(IF($JD$2:$JD$72<>\"\",ROW($JD$2:$JD$72),\"\"),ROW(JD39))-2,0)","v":{"$error":"#NUM!"}},{"$f":"OFFSET($JE$2,SMALL(IF($JE$2:$JE$72<>\"\",ROW($JE$2:$JE$72),\"\"),ROW(JE39))-2,0)","v":{"$error":"#NUM!"}}]
["","","","","","","",null,"","","",{"$f":"IF(ISERROR(自动生成的开课信息!HB41),\"\",自动生成的开课信息!HB41)","v":""},{"$f":"IF(ISERROR(自动生成的开课信息!HC41),\"\",自动生成的开课信息!HC41)","v":""},{"$f":"IF(ISERROR(自动生成的开课信息!HD41),\"\",自动生成的开课信息!HD41)","v":""},{"$f":"IF(ISERROR(自动生成的开课信息!HE41),\"\",自动生成的开课信息!HE41)","v":""},null,"","","","","","","",null,"","","","","","","",null,"","","","","","","",null,"","","","","","","",null,null,null,null,null,null,null,null,null,null,null,null,null,null,null,null,null,null,null,null,null,null,null,null,null,null,null,null,null,null,null,null,null,null,null,null,null,null,null,null,null,null,null,null,null,null,null,null,null,null,null,null,null,null,null,null,null,null,null,null,null,null,null,null,null,null,null,null,null,null,null,null,null,null,null,null,null,null,null,null,null,null,null,null,null,null,null,null,null,null,null,null,null,null,null,null,null,null,null,null,null,null,null,null,null,null,null,null,null,null,null,null,null,null,null,null,null,null,null,null,null,null,null,null,null,null,null,null,null,null,null,null,null,null,null,null,null,null,{"$f":"IF(AND(教学计划表!N56<>\"\",教学计划表!AS56<>\"\"),教学计划表!I56,\"\")","v":""},{"$f":"IF(教学计划表!AS56<>\"\",教学计划表!N56,\"\")","v":""},{"$f":"IF(GE41<>\"\",IF(SEARCH(\"1\",教学计划表!AB56&\"1\",1)<=LEN(教学计划表!AB56),\"考试\",\"考查\"),\"\")","v":""},{"$f":"IF(教学计划表!DG56<>0,教学计划表!DG56,\"\")","v":""},{"$f":"IF(教学计划表!DG56<>0,教学计划表!DL56,\"\")","v":""},{"$f":"IF(教学计划表!DG56<>0,教学计划表!DM56,\"\")","v":""},{"$f":"IF(教学计划表!DG56<>0,教学计划表!OE56,\"\")","v":""},{"$f":"OFFSET($GD$2,SMALL(IF($GD$2:$GD$72<>\"\",ROW($2:$72),\"\"),ROW(GD40))-2,0)","v":{"$error":"#NUM!"}},{"$f":"OFFSET($GE$2,SMALL(IF($GE$2:$GE$72<>\"\",ROW($2:$72),\"\"),ROW(GE40))-2,0)","v":{"$error":"#NUM!"}},{"$f":"OFFSET($GF$2,SMALL(IF($GF$2:$GF$72<>\"\",ROW($2:$72),\"\"),ROW(GF40))-2,0)","v":{"$error":"#NUM!"}},{"$f":"OFFSET($GG$2,SMALL(IF($GG$2:$GG$72<>\"\",ROW($2:$72),\"\"),ROW(GG40))-2,0)","v":{"$error":"#NUM!"}},{"$f":"OFFSET($GH$2,SMALL(IF($GH$2:$GH$72<>\"\",ROW($2:$72),\"\"),ROW(GH40))-2,0)","v":{"$error":"#NUM!"}},{"$error":"#NUM!"},{"$f":"OFFSET($GJ$2,SMALL(IF($GJ$2:$GJ$72<>\"\",ROW($2:$72),\"\"),ROW(GJ40))-2,0)","v":{"$error":"#NUM!"}},{"$f":"IF(AND(教学计划表!N56<>\"\",教学计划表!AV56<>\"\"),教学计划表!I56,\"\")","v":""},{"$f":"IF(教学计划表!AV56<>\"\",教学计划表!N56,\"\")","v":""},{"$f":"IF(GS41<>\"\",IF(SEARCH(\"2\",教学计划表!AB56&\"2\",1)<=LEN(教学计划表!AB56),\"考试\",\"考查\"),\"\")","v":""},{"$f":"IF(教学计划表!EA56<>0,教学计划表!EA56,\"\")","v":""},{"$f":"IF(教学计划表!EA56<>0,教学计划表!EF56,\"\")","v":""},{"$f":"IF(教学计划表!EA56<>0,教学计划表!EG56,\"\")","v":""},{"$f":"IF(教学计划表!EA56<>0,教学计划表!OQ56,\"\")","v":""},{"$f":"OFFSET($GR$2,SMALL(IF($GR$2:$GR$72<>\"\",ROW($I$2:$K$72),\"\"),ROW(GR40))-2,0)","v":{"$error":"#NUM!"}},{"$f":"OFFSET($GS$2,SMALL(IF($GS$2:$GS$72<>\"\",ROW($I$2:$K$72),\"\"),ROW(GS40))-2,0)","v":{"$error":"#NUM!"}},{"$f":"OFFSET($GT$2,SMALL(IF($GT$2:$GT$72<>\"\",ROW($I$2:$K$72),\"\"),ROW(GT40))-2,0)","v":{"$error":"#NUM!"}},{"$f":"OFFSET($GU$2,SMALL(IF($GU$2:$GU$72<>\"\",ROW($I$2:$K$72),\"\"),ROW(GU40))-2,0)","v":{"$error":"#NUM!"}},{"$f":"OFFSET($GV$2,SMALL(IF($GV$2:$GV$72<>\"\",ROW($GV$2:$GV$72),\"\"),ROW(GV40))-2,0)","v":{"$error":"#NUM!"}},{"$f":"OFFSET($GW$2,SMALL(IF($GW$2:$GW$72<>\"\",ROW($GW$2:$GW$72),\"\"),ROW(GW40))-2,0)","v":{"$error":"#NUM!"}},{"$f":"OFFSET($GX$2,SMALL(IF($GX$2:$GX$72<>\"\",ROW($GX$2:$GX$72),\"\"),ROW(GX40))-2,0)","v":{"$error":"#NUM!"}},{"$f":"IF(AND(教学计划表!N56<>\"\",教学计划表!AY56<>\"\"),教学计划表!I56,\"\")","v":""},{"$f":"IF(教学计划表!AY56<>\"\",教学计划表!N56,\"\")","v":""},{"$f":"IF(HG41<>\"\",IF(SEARCH(\"3\",教学计划表!AB56&\"3\",1)<=LEN(教学计划表!AB56),\"考试\",\"考查\"),\"\")","v":""},{"$f":"IF(教学计划表!EV56<>0,教学计划表!EV56,\"\")","v":""},{"$f":"IF(教学计划表!EV56<>0,教学计划表!FA56,\"\")","v":""},{"$f":"IF(教学计划表!EV56<>0,教学计划表!FB56,\"\")","v":""},{"$f":"IF(教学计划表!EV56<>0,教学计划表!PC56,\"\")","v":""},{"$f":"OFFSET($HF$2,SMALL(IF($HF$2:$HF$72<>\"\",ROW($HF$2:$HF$72),\"\"),ROW(HF40))-2,0)","v":{"$error":"#NUM!"}},{"$f":"OFFSET($HG$2,SMALL(IF($HG$2:$HG$72<>\"\",ROW($HG$2:$HG$72),\"\"),ROW(HG40))-2,0)","v":{"$error":"#NUM!"}},{"$f":"OFFSET($HH$2,SMALL(IF($HH$2:$HH$72<>\"\",ROW($HH$2:$HH$72),\"\"),ROW(HH40))-2,0)","v":{"$error":"#NUM!"}},{"$f":"OFFSET($HI$2,SMALL(IF($HI$2:$HI$72<>\"\",ROW($HI$2:$HI$72),\"\"),ROW(HI40))-2,0)","v":{"$error":"#NUM!"}},{"$f":"OFFSET($HJ$2,SMALL(IF($HJ$2:$HJ$72<>\"\",ROW($HJ$2:$HJ$72),\"\"),ROW(HJ40))-2,0)","v":{"$error":"#NUM!"}},{"$f":"OFFSET($HK$2,SMALL(IF($HK$2:$HK$72<>\"\",ROW($HK$2:$HK$72),\"\"),ROW(HK40))-2,0)","v":{"$error":"#NUM!"}},{"$f":"OFFSET($HL$2,SMALL(IF($HL$2:$HL$72<>\"\",ROW($HL$2:$HL$72),\"\"),ROW(HL40))-2,0)","v":{"$error":"#NUM!"}},{"$f":"IF(AND(教学计划表!N56<>\"\",教学计划表!BB56<>\"\"),教学计划表!I56,\"\")","v":""},{"$f":"IF(教学计划表!BB56<>\"\",教学计划表!N56,\"\")","v":""},{"$f":"IF(HU41<>\"\",IF(SEARCH(\"4\",教学计划表!AB56&\"4\",1)<=LEN(教学计划表!AB56),\"考试\",\"考查\"),\"\")","v":""},{"$f":"IF(教学计划表!FQ56<>0,教学计划表!FQ56,\"\")","v":""},{"$f":"IF(教学计划表!FQ56<>0,教学计划表!FV56,\"\")","v":""},{"$f":"IF(教学计划表!FQ56<>0,教学计划表!FW56,\"\")","v":""},{"$f":"IF(教学计划表!FQ56<>0,教学计划表!PO56,\"\")","v":""},{"$f":"OFFSET($HT$2,SMALL(IF($HT$2:$HT$72<>\"\",ROW($HT$2:$HT$72),\"\"),ROW(HT40))-2,0)","v":{"$error":"#NUM!"}},{"$f":"OFFSET($HU$2,SMALL(IF($HU$2:$HU$72<>\"\",ROW($HU$2:$HU$72),\"\"),ROW(HU40))-2,0)","v":{"$error":"#NUM!"}},{"$f":"OFFSET($HV$2,SMALL(IF($HV$2:$HV$72<>\"\",ROW($HV$2:$HV$72),\"\"),ROW(HV40))-2,0)","v":{"$error":"#NUM!"}},{"$f":"OFFSET($HW$2,SMALL(IF($HW$2:$HW$72<>\"\",ROW($HW$2:$HW$72),\"\"),ROW(HW40))-2,0)","v":{"$error":"#NUM!"}},{"$f":"OFFSET($HX$2,SMALL(IF($HX$2:$HX$72<>\"\",ROW($HX$2:$HX$72),\"\"),ROW(HX40))-2,0)","v":{"$error":"#NUM!"}},{"$f":"OFFSET($HY$2,SMALL(IF($HY$2:$HY$72<>\"\",ROW($HY$2:$HY$72),\"\"),ROW(HY40))-2,0)","v":{"$error":"#NUM!"}},{"$f":"OFFSET($HZ$2,SMALL(IF($HZ$2:$HZ$72<>\"\",ROW($HZ$2:$HZ$72),\"\"),ROW(HZ40))-2,0)","v":{"$error":"#NUM!"}},null,null,{"$f":"IF(AND(教学计划表!N56<>\"\",教学计划表!BE56<>\"\"),教学计划表!I56,\"\")","v":""},{"$f":"IF(教学计划表!BE56<>\"\",教学计划表!N56,\"\")","v":""},{"$f":"IF(IK41<>\"\",IF(SEARCH(\"5\",教学计划表!AB56&\"5\",1)<=LEN(教学计划表!AB56),\"考试\",\"考查\"),\"\")","v":""},{"$f":"IF(教学计划表!GL56<>0,教学计划表!GL56,\"\")","v":""},{"$f":"IF(教学计划表!GL56<>0,教学计划表!GQ56,\"\")","v":""},{"$f":"IF(教学计划表!GL56<>0,教学计划表!GR56,\"\")","v":""},{"$f":"IF(教学计划表!GL56<>0,教学计划表!PZ56,\"\")","v":""},{"$f":"OFFSET($IJ$2,SMALL(IF($IJ$2:$IJ$72<>\"\",ROW($IJ$2:$IJ$72),\"\"),ROW(IJ40))-2,0)","v":{"$error":"#NUM!"}},{"$f":"OFFSET($IK$2,SMALL(IF($IK$2:$IK$72<>\"\",ROW($IK$2:$IK$72),\"\"),ROW(IK40))-2,0)","v":{"$error":"#NUM!"}},{"$f":"OFFSET($IL$2,SMALL(IF($IL$2:$IL$72<>\"\",ROW($IL$2:$IL$72),\"\"),ROW(IL40))-2,0)","v":{"$error":"#NUM!"}},{"$f":"OFFSET($IM$2,SMALL(IF($IM$2:$IM$72<>\"\",ROW($IM$2:$IM$72),\"\"),ROW(IM40))-2,0)","v":{"$error":"#NUM!"}},{"$f":"OFFSET($IN$2,SMALL(IF($IN$2:$IN$72<>\"\",ROW($IN$2:$IN$72),\"\"),ROW(IN40))-2,0)","v":{"$error":"#NUM!"}},{"$f":"OFFSET($IO$2,SMALL(IF($IO$2:$IO$72<>\"\",ROW($IO$2:$IO$72),\"\"),ROW(IO40))-2,0)","v":{"$error":"#NUM!"}},{"$f":"OFFSET($IP$2,SMALL(IF($IP$2:$IP$72<>\"\",ROW($IP$2:$IP$72),\"\"),ROW(IP40))-2,0)","v":{"$error":"#NUM!"}},null,{"$f":"IF(AND(教学计划表!N56<>\"\",教学计划表!BH56<>\"\"),教学计划表!I56,\"\")","v":""},{"$f":"IF(教学计划表!BH56<>\"\",教学计划表!N56,\"\")","v":""},{"$f":"IF(教学计划表!BH56<>\"\",IF(SEARCH(\"6\",教学计划表!AB56&\"6\",1)<=LEN(教学计划表!AB56),\"考试\",\"考查\"),\"\")","v":""},{"$f":"IF(教学计划表!BH56<>0,教学计划表!HG56,\"\")","v":""},{"$f":"IF(教学计划表!BH56<>0,教学计划表!HL56,\"\")","v":""},{"$f":"IF(教学计划表!BH56<>0,教学计划表!HM56,\"\")","v":""},{"$f":"IF(教学计划表!BH56<>0,教学计划表!QL56,\"\")","v":""},{"$f":"OFFSET($IY$2,SMALL(IF($IY$2:$IY$72<>\"\",ROW($IY$2:$IY$72),\"\"),ROW(IY40))-2,0)","v":{"$error":"#NUM!"}},{"$f":"OFFSET($IZ$2,SMALL(IF($IZ$2:$IZ$72<>\"\",ROW($IZ$2:$IZ$72),\"\"),ROW(IZ40))-2,0)","v":{"$error":"#NUM!"}},{"$f":"OFFSET($JA$2,SMALL(IF($JA$2:$JA$72<>\"\",ROW($JA$2:$JA$72),\"\"),ROW(JA40))-2,0)","v":{"$error":"#NUM!"}},{"$f":"OFFSET($JB$2,SMALL(IF($JB$2:$JB$72<>\"\",ROW($JB$2:$JB$72),\"\"),ROW(JB40))-2,0)","v":{"$error":"#NUM!"}},{"$f":"OFFSET($JC$2,SMALL(IF($JC$2:$JC$72<>\"\",ROW($JC$2:$JC$72),\"\"),ROW(JC40))-2,0)","v":{"$error":"#NUM!"}},{"$f":"OFFSET($JD$2,SMALL(IF($JD$2:$JD$72<>\"\",ROW($JD$2:$JD$72),\"\"),ROW(JD40))-2,0)","v":{"$error":"#NUM!"}},{"$f":"OFFSET($JE$2,SMALL(IF($JE$2:$JE$72<>\"\",ROW($JE$2:$JE$72),\"\"),ROW(JE40))-2,0)","v":{"$error":"#NUM!"}}]
["","","","","","","",null,"","","",{"$f":"IF(ISERROR(自动生成的开课信息!HB42),\"\",自动生成的开课信息!HB42)","v":""},{"$f":"IF(ISERROR(自动生成的开课信息!HC42),\"\",自动生成的开课信息!HC42)","v":""},{"$f":"IF(ISERROR(自动生成的开课信息!HD42),\"\",自动生成的开课信息!HD42)","v":""},{"$f":"IF(ISERROR(自动生成的开课信息!HE42),\"\",自动生成的开课信息!HE42)","v":""},null,"","","","","","","",null,"","","","","","","",null,"","","","","","","",null,"","","","","","","",null,null,null,null,null,null,null,null,null,null,null,null,null,null,null,null,null,null,null,null,null,null,null,null,null,null,null,null,null,null,null,null,null,null,null,null,null,null,null,null,null,null,null,null,null,null,null,null,null,null,null,null,null,null,null,null,null,null,null,null,null,null,null,null,null,null,null,null,null,null,null,null,null,null,null,null,null,null,null,null,null,null,null,null,null,null,null,null,null,null,null,null,null,null,null,null,null,null,null,null,null,null,null,null,null,null,null,null,null,null,null,null,null,null,null,null,null,null,null,null,null,null,null,null,null,null,null,null,null,null,null,null,null,null,null,null,null,null,{"$f":"IF(AND(教学计划表!N57<>\"\",教学计划表!AS57<>\"\"),教学计划表!I57,\"\")","v":""},{"$f":"IF(教学计划表!AS57<>\"\",教学计划表!N57,\"\")","v":""},{"$f":"IF(GE42<>\"\",IF(SEARCH(\"1\",教学计划表!AB57&\"1\",1)<=LEN(教学计划表!AB57),\"考试\",\"考查\"),\"\")","v":""},{"$f":"IF(教学计划表!DG57<>0,教学计划表!DG57,\"\")","v":""},{"$f":"IF(教学计划表!DG57<>0,教学计划表!DL57,\"\")","v":""},{"$f":"IF(教学计划表!DG57<>0,教学计划表!DM57,\"\")","v":""},{"$f":"IF(教学计划表!DG57<>0,教学计划表!OE57,\"\")","v":""},{"$f":"OFFSET($GD$2,SMALL(IF($GD$2:$GD$72<>\"\",ROW($2:$72),\"\"),ROW(GD41))-2,0)","v":{"$error":"#NUM!"}},{"$f":"OFFSET($GE$2,SMALL(IF($GE$2:$GE$72<>\"\",ROW($2:$72),\"\"),ROW(GE41))-2,0)","v":{"$error":"#NUM!"}},{"$f":"OFFSET($GF$2,SMALL(IF($GF$2:$GF$72<>\"\",ROW($2:$72),\"\"),ROW(GF41))-2,0)","v":{"$error":"#NUM!"}},{"$f":"OFFSET($GG$2,SMALL(IF($GG$2:$GG$72<>\"\",ROW($2:$72),\"\"),ROW(GG41))-2,0)","v":{"$error":"#NUM!"}},{"$f":"OFFSET($GH$2,SMALL(IF($GH$2:$GH$72<>\"\",ROW($2:$72),\"\"),ROW(GH41))-2,0)","v":{"$error":"#NUM!"}},{"$error":"#NUM!"},{"$f":"OFFSET($GJ$2,SMALL(IF($GJ$2:$GJ$72<>\"\",ROW($2:$72),\"\"),ROW(GJ41))-2,0)","v":{"$error":"#NUM!"}},{"$f":"IF(AND(教学计划表!N57<>\"\",教学计划表!AV57<>\"\"),教学计划表!I57,\"\")","v":""},{"$f":"IF(教学计划表!AV57<>\"\",教学计划表!N57,\"\")","v":""},{"$f":"IF(GS42<>\"\",IF(SEARCH(\"2\",教学计划表!AB57&\"2\",1)<=LEN(教学计划表!AB57),\"考试\",\"考查\"),\"\")","v":""},{"$f":"IF(教学计划表!EA57<>0,教学计划表!EA57,\"\")","v":""},{"$f":"IF(教学计划表!EA57<>0,教学计划表!EF57,\"\")","v":""},{"$f":"IF(教学计划表!EA57<>0,教学计划表!EG57,\"\")","v":""},{"$f":"IF(教学计划表!EA57<>0,教学计划表!OQ57,\"\")","v":""},{"$f":"OFFSET($GR$2,SMALL(IF($GR$2:$GR$72<>\"\",ROW($I$2:$K$72),\"\"),ROW(GR41))-2,0)","v":{"$error":"#NUM!"}},{"$f":"OFFSET($GS$2,SMALL(IF($GS$2:$GS$72<>\"\",ROW($I$2:$K$72),\"\"),ROW(GS41))-2,0)","v":{"$error":"#NUM!"}},{"$f":"OFFSET($GT$2,SMALL(IF($GT$2:$GT$72<>\"\",ROW($I$2:$K$72),\"\"),ROW(GT41))-2,0)","v":{"$error":"#NUM!"}},{"$f":"OFFSET($GU$2,SMALL(IF($GU$2:$GU$72<>\"\",ROW($I$2:$K$72),\"\"),ROW(GU41))-2,0)","v":{"$error":"#NUM!"}},{"$f":"OFFSET($GV$2,SMALL(IF($GV$2:$GV$72<>\"\",ROW($GV$2:$GV$72),\"\"),ROW(GV41))-2,0)","v":{"$error":"#NUM!"}},{"$f":"OFFSET($GW$2,SMALL(IF($GW$2:$GW$72<>\"\",ROW($GW$2:$GW$72),\"\"),ROW(GW41))-2,0)","v":{"$error":"#NUM!"}},{"$f":"OFFSET($GX$2,SMALL(IF($GX$2:$GX$72<>\"\",ROW($GX$2:$GX$72),\"\"),ROW(GX41))-2,0)","v":{"$error":"#NUM!"}},{"$f":"IF(AND(教学计划表!N57<>\"\",教学计划表!AY57<>\"\"),教学计划表!I57,\"\")","v":""},{"$f":"IF(教学计划表!AY57<>\"\",教学计划表!N57,\"\")","v":""},{"$f":"IF(HG42<>\"\",IF(SEARCH(\"3\",教学计划表!AB57&\"3\",1)<=LEN(教学计划表!AB57),\"考试\",\"考查\"),\"\")","v":""},{"$f":"IF(教学计划表!EV57<>0,教学计划表!EV57,\"\")","v":""},{"$f":"IF(教学计划表!EV57<>0,教学计划表!FA57,\"\")","v":""},{"$f":"IF(教学计划表!EV57<>0,教学计划表!FB57,\"\")","v":""},{"$f":"IF(教学计划表!EV57<>0,教学计划表!PC57,\"\")","v":""},{"$f":"OFFSET($HF$2,SMALL(IF($HF$2:$HF$72<>\"\",ROW($HF$2:$HF$72),\"\"),ROW(HF41))-2,0)","v":{"$error":"#NUM!"}},{"$f":"OFFSET($HG$2,SMALL(IF($HG$2:$HG$72<>\"\",ROW($HG$2:$HG$72),\"\"),ROW(HG41))-2,0)","v":{"$error":"#NUM!"}},{"$f":"OFFSET($HH$2,SMALL(IF($HH$2:$HH$72<>\"\",ROW($HH$2:$HH$72),\"\"),ROW(HH41))-2,0)","v":{"$error":"#NUM!"}},{"$f":"OFFSET($HI$2,SMALL(IF($HI$2:$HI$72<>\"\",ROW($HI$2:$HI$72),\"\"),ROW(HI41))-2,0)","v":{"$error":"#NUM!"}},{"$f":"OFFSET($HJ$2,SMALL(IF($HJ$2:$HJ$72<>\"\",ROW($HJ$2:$HJ$72),\"\"),ROW(HJ41))-2,0)","v":{"$error":"#NUM!"}},{"$f":"OFFSET($HK$2,SMALL(IF($HK$2:$HK$72<>\"\",ROW($HK$2:$HK$72),\"\"),ROW(HK41))-2,0)","v":{"$error":"#NUM!"}},{"$f":"OFFSET($HL$2,SMALL(IF($HL$2:$HL$72<>\"\",ROW($HL$2:$HL$72),\"\"),ROW(HL41))-2,0)","v":{"$error":"#NUM!"}},{"$f":"IF(AND(教学计划表!N57<>\"\",教学计划表!BB57<>\"\"),教学计划表!I57,\"\")","v":""},{"$f":"IF(教学计划表!BB57<>\"\",教学计划表!N57,\"\")","v":""},{"$f":"IF(HU42<>\"\",IF(SEARCH(\"4\",教学计划表!AB57&\"4\",1)<=LEN(教学计划表!AB57),\"考试\",\"考查\"),\"\")","v":""},{"$f":"IF(教学计划表!FQ57<>0,教学计划表!FQ57,\"\")","v":""},{"$f":"IF(教学计划表!FQ57<>0,教学计划表!FV57,\"\")","v":""},{"$f":"IF(教学计划表!FQ57<>0,教学计划表!FW57,\"\")","v":""},{"$f":"IF(教学计划表!FQ57<>0,教学计划表!PO57,\"\")","v":""},{"$f":"OFFSET($HT$2,SMALL(IF($HT$2:$HT$72<>\"\",ROW($HT$2:$HT$72),\"\"),ROW(HT41))-2,0)","v":{"$error":"#NUM!"}},{"$f":"OFFSET($HU$2,SMALL(IF($HU$2:$HU$72<>\"\",ROW($HU$2:$HU$72),\"\"),ROW(HU41))-2,0)","v":{"$error":"#NUM!"}},{"$f":"OFFSET($HV$2,SMALL(IF($HV$2:$HV$72<>\"\",ROW($HV$2:$HV$72),\"\"),ROW(HV41))-2,0)","v":{"$error":"#NUM!"}},{"$f":"OFFSET($HW$2,SMALL(IF($HW$2:$HW$72<>\"\",ROW($HW$2:$HW$72),\"\"),ROW(HW41))-2,0)","v":{"$error":"#NUM!"}},{"$f":"OFFSET($HX$2,SMALL(IF($HX$2:$HX$72<>\"\",ROW($HX$2:$HX$72),\"\"),ROW(HX41))-2,0)","v":{"$error":"#NUM!"}},{"$f":"OFFSET($HY$2,SMALL(IF($HY$2:$HY$72<>\"\",ROW($HY$2:$HY$72),\"\"),ROW(HY41))-2,0)","v":{"$error":"#NUM!"}},{"$f":"OFFSET($HZ$2,SMALL(IF($HZ$2:$HZ$72<>\"\",ROW($HZ$2:$HZ$72),\"\"),ROW(HZ41))-2,0)","v":{"$error":"#NUM!"}},null,null,{"$f":"IF(AND(教学计划表!N57<>\"\",教学计划表!BE57<>\"\"),教学计划表!I57,\"\")","v":""},{"$f":"IF(教学计划表!BE57<>\"\",教学计划表!N57,\"\")","v":""},{"$f":"IF(IK42<>\"\",IF(SEARCH(\"5\",教学计划表!AB57&\"5\",1)<=LEN(教学计划表!AB57),\"考试\",\"考查\"),\"\")","v":""},{"$f":"IF(教学计划表!GL57<>0,教学计划表!GL57,\"\")","v":""},{"$f":"IF(教学计划表!GL57<>0,教学计划表!GQ57,\"\")","v":""},{"$f":"IF(教学计划表!GL57<>0,教学计划表!GR57,\"\")","v":""},{"$f":"IF(教学计划表!GL57<>0,教学计划表!PZ57,\"\")","v":""},{"$f":"OFFSET($IJ$2,SMALL(IF($IJ$2:$IJ$72<>\"\",ROW($IJ$2:$IJ$72),\"\"),ROW(IJ41))-2,0)","v":{"$error":"#NUM!"}},{"$f":"OFFSET($IK$2,SMALL(IF($IK$2:$IK$72<>\"\",ROW($IK$2:$IK$72),\"\"),ROW(IK41))-2,0)","v":{"$error":"#NUM!"}},{"$f":"OFFSET($IL$2,SMALL(IF($IL$2:$IL$72<>\"\",ROW($IL$2:$IL$72),\"\"),ROW(IL41))-2,0)","v":{"$error":"#NUM!"}},{"$f":"OFFSET($IM$2,SMALL(IF($IM$2:$IM$72<>\"\",ROW($IM$2:$IM$72),\"\"),ROW(IM41))-2,0)","v":{"$error":"#NUM!"}},{"$f":"OFFSET($IN$2,SMALL(IF($IN$2:$IN$72<>\"\",ROW($IN$2:$IN$72),\"\"),ROW(IN41))-2,0)","v":{"$error":"#NUM!"}},{"$f":"OFFSET($IO$2,SMALL(IF($IO$2:$IO$72<>\"\",ROW($IO$2:$IO$72),\"\"),ROW(IO41))-2,0)","v":{"$error":"#NUM!"}},{"$f":"OFFSET($IP$2,SMALL(IF($IP$2:$IP$72<>\"\",ROW($IP$2:$IP$72),\"\"),ROW(IP41))-2,0)","v":{"$error":"#NUM!"}},null,{"$f":"IF(AND(教学计划表!N57<>\"\",教学计划表!BH57<>\"\"),教学计划表!I57,\"\")","v":""},{"$f":"IF(教学计划表!BH57<>\"\",教学计划表!N57,\"\")","v":""},{"$f":"IF(教学计划表!BH57<>\"\",IF(SEARCH(\"6\",教学计划表!AB57&\"6\",1)<=LEN(教学计划表!AB57),\"考试\",\"考查\"),\"\")","v":""},{"$f":"IF(教学计划表!BH57<>0,教学计划表!HG57,\"\")","v":""},{"$f":"IF(教学计划表!BH57<>0,教学计划表!HL57,\"\")","v":""},{"$f":"IF(教学计划表!BH57<>0,教学计划表!HM57,\"\")","v":""},{"$f":"IF(教学计划表!BH57<>0,教学计划表!QL57,\"\")","v":""},{"$f":"OFFSET($IY$2,SMALL(IF($IY$2:$IY$72<>\"\",ROW($IY$2:$IY$72),\"\"),ROW(IY41))-2,0)","v":{"$error":"#NUM!"}},{"$f":"OFFSET($IZ$2,SMALL(IF($IZ$2:$IZ$72<>\"\",ROW($IZ$2:$IZ$72),\"\"),ROW(IZ41))-2,0)","v":{"$error":"#NUM!"}},{"$f":"OFFSET($JA$2,SMALL(IF($JA$2:$JA$72<>\"\",ROW($JA$2:$JA$72),\"\"),ROW(JA41))-2,0)","v":{"$error":"#NUM!"}},{"$f":"OFFSET($JB$2,SMALL(IF($JB$2:$JB$72<>\"\",ROW($JB$2:$JB$72),\"\"),ROW(JB41))-2,0)","v":{"$error":"#NUM!"}},{"$f":"OFFSET($JC$2,SMALL(IF($JC$2:$JC$72<>\"\",ROW($JC$2:$JC$72),\"\"),ROW(JC41))-2,0)","v":{"$error":"#NUM!"}},{"$f":"OFFSET($JD$2,SMALL(IF($JD$2:$JD$72<>\"\",ROW($JD$2:$JD$72),\"\"),ROW(JD41))-2,0)","v":{"$error":"#NUM!"}},{"$f":"OFFSET($JE$2,SMALL(IF($JE$2:$JE$72<>\"\",ROW($JE$2:$JE$72),\"\"),ROW(JE41))-2,0)","v":{"$error":"#NUM!"}}]
["","","","","","","",null,"","","",{"$f":"IF(ISERROR(自动生成的开课信息!HB43),\"\",自动生成的开课信息!HB43)","v":""},{"$f":"IF(ISERROR(自动生成的开课信息!HC43),\"\",自动生成的开课信息!HC43)","v":""},{"$f":"IF(ISERROR(自动生成的开课信息!HD43),\"\",自动生成的开课信息!HD43)","v":""},{"$f":"IF(ISERROR(自动生成的开课信息!HE43),\"\",自动生成的开课信息!HE43)","v":""},null,"","","","","","","",null,"","","","","","","",null,"","","","","","","",null,"","","","","","","",null,null,null,null,null,null,null,null,null,null,null,null,null,null,null,null,null,null,null,null,null,null,null,null,null,null,null,null,null,null,null,null,null,null,null,null,null,null,null,null,null,null,null,null,null,null,null,null,null,null,null,null,null,null,null,null,null,null,null,null,null,null,null,null,null,null,null,null,null,null,null,null,null,null,null,null,null,null,null,null,null,null,null,null,null,null,null,null,null,null,null,null,null,null,null,null,null,null,null,null,null,null,null,null,null,null,null,null,null,null,null,null,null,null,null,null,null,null,null,null,null,null,null,null,null,null,null,null,null,null,null,null,null,null,null,null,null,null,{"$f":"IF(AND(教学计划表!N58<>\"\",教学计划表!AS58<>\"\"),教学计划表!I58,\"\")","v":""},{"$f":"IF(教学计划表!AS58<>\"\",教学计划表!N58,\"\")","v":""},{"$f":"IF(GE43<>\"\",IF(SEARCH(\"1\",教学计划表!AB58&\"1\",1)<=LEN(教学计划表!AB58),\"考试\",\"考查\"),\"\")","v":""},{"$f":"IF(教学计划表!DG58<>0,教学计划表!DG58,\"\")","v":""},{"$f":"IF(教学计划表!DG58<>0,教学计划表!DL58,\"\")","v":""},{"$f":"IF(教学计划表!DG58<>0,教学计划表!DM58,\"\")","v":""},{"$f":"IF(教学计划表!DG58<>0,教学计划表!OE58,\"\")","v":""},{"$f":"OFFSET($GD$2,SMALL(IF($GD$2:$GD$72<>\"\",ROW($2:$72),\"\"),ROW(GD42))-2,0)","v":{"$error":"#NUM!"}},{"$f":"OFFSET($GE$2,SMALL(IF($GE$2:$GE$72<>\"\",ROW($2:$72),\"\"),ROW(GE42))-2,0)","v":{"$error":"#NUM!"}},{"$f":"OFFSET($GF$2,SMALL(IF($GF$2:$GF$72<>\"\",ROW($2:$72),\"\"),ROW(GF42))-2,0)","v":{"$error":"#NUM!"}},{"$f":"OFFSET($GG$2,SMALL(IF($GG$2:$GG$72<>\"\",ROW($2:$72),\"\"),ROW(GG42))-2,0)","v":{"$error":"#NUM!"}},{"$f":"OFFSET($GH$2,SMALL(IF($GH$2:$GH$72<>\"\",ROW($2:$72),\"\"),ROW(GH42))-2,0)","v":{"$error":"#NUM!"}},{"$error":"#NUM!"},{"$f":"OFFSET($GJ$2,SMALL(IF($GJ$2:$GJ$72<>\"\",ROW($2:$72),\"\"),ROW(GJ42))-2,0)","v":{"$error":"#NUM!"}},{"$f":"IF(AND(教学计划表!N58<>\"\",教学计划表!AV58<>\"\"),教学计划表!I58,\"\")","v":""},{"$f":"IF(教学计划表!AV58<>\"\",教学计划表!N58,\"\")","v":""},{"$f":"IF(GS43<>\"\",IF(SEARCH(\"2\",教学计划表!AB58&\"2\",1)<=LEN(教学计划表!AB58),\"考试\",\"考查\"),\"\")","v":""},{"$f":"IF(教学计划表!EA58<>0,教学计划表!EA58,\"\")","v":""},{"$f":"IF(教学计划表!EA58<>0,教学计划表!EF58,\"\")","v":""},{"$f":"IF(教学计划表!EA58<>0,教学计划表!EG58,\"\")","v":""},{"$f":"IF(教学计划表!EA58<>0,教学计划表!OQ58,\"\")","v":""},{"$f":"OFFSET($GR$2,SMALL(IF($GR$2:$GR$72<>\"\",ROW($I$2:$K$72),\"\"),ROW(GR42))-2,0)","v":{"$error":"#NUM!"}},{"$f":"OFFSET($GS$2,SMALL(IF($GS$2:$GS$72<>\"\",ROW($I$2:$K$72),\"\"),ROW(GS42))-2,0)","v":{"$error":"#NUM!"}},{"$f":"OFFSET($GT$2,SMALL(IF($GT$2:$GT$72<>\"\",ROW($I$2:$K$72),\"\"),ROW(GT42))-2,0)","v":{"$error":"#NUM!"}},{"$f":"OFFSET($GU$2,SMALL(IF($GU$2:$GU$72<>\"\",ROW($I$2:$K$72),\"\"),ROW(GU42))-2,0)","v":{"$error":"#NUM!"}},{"$f":"OFFSET($GV$2,SMALL(IF($GV$2:$GV$72<>\"\",ROW($GV$2:$GV$72),\"\"),ROW(GV42))-2,0)","v":{"$error":"#NUM!"}},{"$f":"OFFSET($GW$2,SMALL(IF($GW$2:$GW$72<>\"\",ROW($GW$2:$GW$72),\"\"),ROW(GW42))-2,0)","v":{"$error":"#NUM!"}},{"$f":"OFFSET($GX$2,SMALL(IF($GX$2:$GX$72<>\"\",ROW($GX$2:$GX$72),\"\"),ROW(GX42))-2,0)","v":{"$error":"#NUM!"}},{"$f":"IF(AND(教学计划表!N58<>\"\",教学计划表!AY58<>\"\"),教学计划表!I58,\"\")","v":""},{"$f":"IF(教学计划表!AY58<>\"\",教学计划表!N58,\"\")","v":""},{"$f":"IF(HG43<>\"\",IF(SEARCH(\"3\",教学计划表!AB58&\"3\",1)<=LEN(教学计划表!AB58),\"考试\",\"考查\"),\"\")","v":""},{"$f":"IF(教学计划表!EV58<>0,教学计划表!EV58,\"\")","v":""},{"$f":"IF(教学计划表!EV58<>0,教学计划表!FA58,\"\")","v":""},{"$f":"IF(教学计划表!EV58<>0,教学计划表!FB58,\"\")","v":""},{"$f":"IF(教学计划表!EV58<>0,教学计划表!PC58,\"\")","v":""},{"$f":"OFFSET($HF$2,SMALL(IF($HF$2:$HF$72<>\"\",ROW($HF$2:$HF$72),\"\"),ROW(HF42))-2,0)","v":{"$error":"#NUM!"}},{"$f":"OFFSET($HG$2,SMALL(IF($HG$2:$HG$72<>\"\",ROW($HG$2:$HG$72),\"\"),ROW(HG42))-2,0)","v":{"$error":"#NUM!"}},{"$f":"OFFSET($HH$2,SMALL(IF($HH$2:$HH$72<>\"\",ROW($HH$2:$HH$72),\"\"),ROW(HH42))-2,0)","v":{"$error":"#NUM!"}},{"$f":"OFFSET($HI$2,SMALL(IF($HI$2:$HI$72<>\"\",ROW($HI$2:$HI$72),\"\"),ROW(HI42))-2,0)","v":{"$error":"#NUM!"}},{"$f":"OFFSET($HJ$2,SMALL(IF($HJ$2:$HJ$72<>\"\",ROW($HJ$2:$HJ$72),\"\"),ROW(HJ42))-2,0)","v":{"$error":"#NUM!"}},{"$f":"OFFSET($HK$2,SMALL(IF($HK$2:$HK$72<>\"\",ROW($HK$2:$HK$72),\"\"),ROW(HK42))-2,0)","v":{"$error":"#NUM!"}},{"$f":"OFFSET($HL$2,SMALL(IF($HL$2:$HL$72<>\"\",ROW($HL$2:$HL$72),\"\"),ROW(HL42))-2,0)","v":{"$error":"#NUM!"}},{"$f":"IF(AND(教学计划表!N58<>\"\",教学计划表!BB58<>\"\"),教学计划表!I58,\"\")","v":""},{"$f":"IF(教学计划表!BB58<>\"\",教学计划表!N58,\"\")","v":""},{"$f":"IF(HU43<>\"\",IF(SEARCH(\"4\",教学计划表!AB58&\"4\",1)<=LEN(教学计划表!AB58),\"考试\",\"考查\"),\"\")","v":""},{"$f":"IF(教学计划表!FQ58<>0,教学计划表!FQ58,\"\")","v":""},{"$f":"IF(教学计划表!FQ58<>0,教学计划表!FV58,\"\")","v":""},{"$f":"IF(教学计划表!FQ58<>0,教学计划表!FW58,\"\")","v":""},{"$f":"IF(教学计划表!FQ58<>0,教学计划表!PO58,\"\")","v":""},{"$f":"OFFSET($HT$2,SMALL(IF($HT$2:$HT$72<>\"\",ROW($HT$2:$HT$72),\"\"),ROW(HT42))-2,0)","v":{"$error":"#NUM!"}},{"$f":"OFFSET($HU$2,SMALL(IF($HU$2:$HU$72<>\"\",ROW($HU$2:$HU$72),\"\"),ROW(HU42))-2,0)","v":{"$error":"#NUM!"}},{"$f":"OFFSET($HV$2,SMALL(IF($HV$2:$HV$72<>\"\",ROW($HV$2:$HV$72),\"\"),ROW(HV42))-2,0)","v":{"$error":"#NUM!"}},{"$f":"OFFSET($HW$2,SMALL(IF($HW$2:$HW$72<>\"\",ROW($HW$2:$HW$72),\"\"),ROW(HW42))-2,0)","v":{"$error":"#NUM!"}},{"$f":"OFFSET($HX$2,SMALL(IF($HX$2:$HX$72<>\"\",ROW($HX$2:$HX$72),\"\"),ROW(HX42))-2,0)","v":{"$error":"#NUM!"}},{"$f":"OFFSET($HY$2,SMALL(IF($HY$2:$HY$72<>\"\",ROW($HY$2:$HY$72),\"\"),ROW(HY42))-2,0)","v":{"$error":"#NUM!"}},{"$f":"OFFSET($HZ$2,SMALL(IF($HZ$2:$HZ$72<>\"\",ROW($HZ$2:$HZ$72),\"\"),ROW(HZ42))-2,0)","v":{"$error":"#NUM!"}},null,null,{"$f":"IF(AND(教学计划表!N58<>\"\",教学计划表!BE58<>\"\"),教学计划表!I58,\"\")","v":""},{"$f":"IF(教学计划表!BE58<>\"\",教学计划表!N58,\"\")","v":""},{"$f":"IF(IK43<>\"\",IF(SEARCH(\"5\",教学计划表!AB58&\"5\",1)<=LEN(教学计划表!AB58),\"考试\",\"考查\"),\"\")","v":""},{"$f":"IF(教学计划表!GL58<>0,教学计划表!GL58,\"\")","v":""},{"$f":"IF(教学计划表!GL58<>0,教学计划表!GQ58,\"\")","v":""},{"$f":"IF(教学计划表!GL58<>0,教学计划表!GR58,\"\")","v":""},{"$f":"IF(教学计划表!GL58<>0,教学计划表!PZ58,\"\")","v":""},{"$f":"OFFSET($IJ$2,SMALL(IF($IJ$2:$IJ$72<>\"\",ROW($IJ$2:$IJ$72),\"\"),ROW(IJ42))-2,0)","v":{"$error":"#NUM!"}},{"$f":"OFFSET($IK$2,SMALL(IF($IK$2:$IK$72<>\"\",ROW($IK$2:$IK$72),\"\"),ROW(IK42))-2,0)","v":{"$error":"#NUM!"}},{"$f":"OFFSET($IL$2,SMALL(IF($IL$2:$IL$72<>\"\",ROW($IL$2:$IL$72),\"\"),ROW(IL42))-2,0)","v":{"$error":"#NUM!"}},{"$f":"OFFSET($IM$2,SMALL(IF($IM$2:$IM$72<>\"\",ROW($IM$2:$IM$72),\"\"),ROW(IM42))-2,0)","v":{"$error":"#NUM!"}},{"$f":"OFFSET($IN$2,SMALL(IF($IN$2:$IN$72<>\"\",ROW($IN$2:$IN$72),\"\"),ROW(IN42))-2,0)","v":{"$error":"#NUM!"}},{"$f":"OFFSET($IO$2,SMALL(IF($IO$2:$IO$72<>\"\",ROW($IO$2:$IO$72),\"\"),ROW(IO42))-2,0)","v":{"$error":"#NUM!"}},{"$f":"OFFSET($IP$2,SMALL(IF($IP$2:$IP$72<>\"\",ROW($IP$2:$IP$72),\"\"),ROW(IP42))-2,0)","v":{"$error":"#NUM!"}},null,{"$f":"IF(AND(教学计划表!N58<>\"\",教学计划表!BH58<>\"\"),教学计划表!I58,\"\")","v":""},{"$f":"IF(教学计划表!BH58<>\"\",教学计划表!N58,\"\")","v":""},{"$f":"IF(教学计划表!BH58<>\"\",IF(SEARCH(\"6\",教学计划表!AB58&\"6\",1)<=LEN(教学计划表!AB58),\"考试\",\"考查\"),\"\")","v":""},{"$f":"IF(教学计划表!BH58<>0,教学计划表!HG58,\"\")","v":""},{"$f":"IF(教学计划表!BH58<>0,教学计划表!HL58,\"\")","v":""},{"$f":"IF(教学计划表!BH58<>0,教学计划表!HM58,\"\")","v":""},{"$f":"IF(教学计划表!BH58<>0,教学计划表!QL58,\"\")","v":""},{"$f":"OFFSET($IY$2,SMALL(IF($IY$2:$IY$72<>\"\",ROW($IY$2:$IY$72),\"\"),ROW(IY42))-2,0)","v":{"$error":"#NUM!"}},{"$f":"OFFSET($IZ$2,SMALL(IF($IZ$2:$IZ$72<>\"\",ROW($IZ$2:$IZ$72),\"\"),ROW(IZ42))-2,0)","v":{"$error":"#NUM!"}},{"$f":"OFFSET($JA$2,SMALL(IF($JA$2:$JA$72<>\"\",ROW($JA$2:$JA$72),\"\"),ROW(JA42))-2,0)","v":{"$error":"#NUM!"}},{"$f":"OFFSET($JB$2,SMALL(IF($JB$2:$JB$72<>\"\",ROW($JB$2:$JB$72),\"\"),ROW(JB42))-2,0)","v":{"$error":"#NUM!"}},{"$f":"OFFSET($JC$2,SMALL(IF($JC$2:$JC$72<>\"\",ROW($JC$2:$JC$72),\"\"),ROW(JC42))-2,0)","v":{"$error":"#NUM!"}},{"$f":"OFFSET($JD$2,SMALL(IF($JD$2:$JD$72<>\"\",ROW($JD$2:$JD$72),\"\"),ROW(JD42))-2,0)","v":{"$error":"#NUM!"}},{"$f":"OFFSET($JE$2,SMALL(IF($JE$2:$JE$72<>\"\",ROW($JE$2:$JE$72),\"\"),ROW(JE42))-2,0)","v":{"$error":"#NUM!"}}]
["","","","","","","",null,"","","",{"$f":"IF(ISERROR(自动生成的开课信息!HB44),\"\",自动生成的开课信息!HB44)","v":""},{"$f":"IF(ISERROR(自动生成的开课信息!HC44),\"\",自动生成的开课信息!HC44)","v":""},{"$f":"IF(ISERROR(自动生成的开课信息!HD44),\"\",自动生成的开课信息!HD44)","v":""},{"$f":"IF(ISERROR(自动生成的开课信息!HE44),\"\",自动生成的开课信息!HE44)","v":""},null,"","","","","","","",null,"","","","","","","",null,"","","","","","","",null,"","","","","","","",null,null,null,null,null,null,null,null,null,null,null,null,null,null,null,null,null,null,null,null,null,null,null,null,null,null,null,null,null,null,null,null,null,null,null,null,null,null,null,null,null,null,null,null,null,null,null,null,null,null,null,null,null,null,null,null,null,null,null,null,null,null,null,null,null,null,null,null,null,null,null,null,null,null,null,null,null,null,null,null,null,null,null,null,null,null,null,null,null,null,null,null,null,null,null,null,null,null,null,null,null,null,null,null,null,null,null,null,null,null,null,null,null,null,null,null,null,null,null,null,null,null,null,null,null,null,null,null,null,null,null,null,null,null,null,null,null,null,{"$f":"IF(AND(教学计划表!N59<>\"\",教学计划表!AS59<>\"\"),教学计划表!I59,\"\")","v":""},{"$f":"IF(教学计划表!AS59<>\"\",教学计划表!N59,\"\")","v":""},{"$f":"IF(GE44<>\"\",IF(SEARCH(\"1\",教学计划表!AB59&\"1\",1)<=LEN(教学计划表!AB59),\"考试\",\"考查\"),\"\")","v":""},{"$f":"IF(教学计划表!DG59<>0,教学计划表!DG59,\"\")","v":""},{"$f":"IF(教学计划表!DG59<>0,教学计划表!DL59,\"\")","v":""},{"$f":"IF(教学计划表!DG59<>0,教学计划表!DM59,\"\")","v":""},{"$f":"IF(教学计划表!DG59<>0,教学计划表!OE59,\"\")","v":""},{"$f":"OFFSET($GD$2,SMALL(IF($GD$2:$GD$72<>\"\",ROW($2:$72),\"\"),ROW(GD43))-2,0)","v":{"$error":"#NUM!"}},{"$f":"OFFSET($GE$2,SMALL(IF($GE$2:$GE$72<>\"\",ROW($2:$72),\"\"),ROW(GE43))-2,0)","v":{"$error":"#NUM!"}},{"$f":"OFFSET($GF$2,SMALL(IF($GF$2:$GF$72<>\"\",ROW($2:$72),\"\"),ROW(GF43))-2,0)","v":{"$error":"#NUM!"}},{"$f":"OFFSET($GG$2,SMALL(IF($GG$2:$GG$72<>\"\",ROW($2:$72),\"\"),ROW(GG43))-2,0)","v":{"$error":"#NUM!"}},{"$f":"OFFSET($GH$2,SMALL(IF($GH$2:$GH$72<>\"\",ROW($2:$72),\"\"),ROW(GH43))-2,0)","v":{"$error":"#NUM!"}},{"$error":"#NUM!"},{"$f":"OFFSET($GJ$2,SMALL(IF($GJ$2:$GJ$72<>\"\",ROW($2:$72),\"\"),ROW(GJ43))-2,0)","v":{"$error":"#NUM!"}},{"$f":"IF(AND(教学计划表!N59<>\"\",教学计划表!AV59<>\"\"),教学计划表!I59,\"\")","v":""},{"$f":"IF(教学计划表!AV59<>\"\",教学计划表!N59,\"\")","v":""},{"$f":"IF(GS44<>\"\",IF(SEARCH(\"2\",教学计划表!AB59&\"2\",1)<=LEN(教学计划表!AB59),\"考试\",\"考查\"),\"\")","v":""},{"$f":"IF(教学计划表!EA59<>0,教学计划表!EA59,\"\")","v":""},{"$f":"IF(教学计划表!EA59<>0,教学计划表!EF59,\"\")","v":""},{"$f":"IF(教学计划表!EA59<>0,教学计划表!EG59,\"\")","v":""},{"$f":"IF(教学计划表!EA59<>0,教学计划表!OQ59,\"\")","v":""},{"$f":"OFFSET($GR$2,SMALL(IF($GR$2:$GR$72<>\"\",ROW($I$2:$K$72),\"\"),ROW(GR43))-2,0)","v":{"$error":"#NUM!"}},{"$f":"OFFSET($GS$2,SMALL(IF($GS$2:$GS$72<>\"\",ROW($I$2:$K$72),\"\"),ROW(GS43))-2,0)","v":{"$error":"#NUM!"}},{"$f":"OFFSET($GT$2,SMALL(IF($GT$2:$GT$72<>\"\",ROW($I$2:$K$72),\"\"),ROW(GT43))-2,0)","v":{"$error":"#NUM!"}},{"$f":"OFFSET($GU$2,SMALL(IF($GU$2:$GU$72<>\"\",ROW($I$2:$K$72),\"\"),ROW(GU43))-2,0)","v":{"$error":"#NUM!"}},{"$f":"OFFSET($GV$2,SMALL(IF($GV$2:$GV$72<>\"\",ROW($GV$2:$GV$72),\"\"),ROW(GV43))-2,0)","v":{"$error":"#NUM!"}},{"$f":"OFFSET($GW$2,SMALL(IF($GW$2:$GW$72<>\"\",ROW($GW$2:$GW$72),\"\"),ROW(GW43))-2,0)","v":{"$error":"#NUM!"}},{"$f":"OFFSET($GX$2,SMALL(IF($GX$2:$GX$72<>\"\",ROW($GX$2:$GX$72),\"\"),ROW(GX43))-2,0)","v":{"$error":"#NUM!"}},{"$f":"IF(AND(教学计划表!N59<>\"\",教学计划表!AY59<>\"\"),教学计划表!I59,\"\")","v":""},{"$f":"IF(教学计划表!AY59<>\"\",教学计划表!N59,\"\")","v":""},{"$f":"IF(HG44<>\"\",IF(SEARCH(\"3\",教学计划表!AB59&\"3\",1)<=LEN(教学计划表!AB59),\"考试\",\"考查\"),\"\")","v":""},{"$f":"IF(教学计划表!EV59<>0,教学计划表!EV59,\"\")","v":""},{"$f":"IF(教学计划表!EV59<>0,教学计划表!FA59,\"\")","v":""},{"$f":"IF(教学计划表!EV59<>0,教学计划表!FB59,\"\")","v":""},{"$f":"IF(教学计划表!EV59<>0,教学计划表!PC59,\"\")","v":""},{"$f":"OFFSET($HF$2,SMALL(IF($HF$2:$HF$72<>\"\",ROW($HF$2:$HF$72),\"\"),ROW(HF43))-2,0)","v":{"$error":"#NUM!"}},{"$f":"OFFSET($HG$2,SMALL(IF($HG$2:$HG$72<>\"\",ROW($HG$2:$HG$72),\"\"),ROW(HG43))-2,0)","v":{"$error":"#NUM!"}},{"$f":"OFFSET($HH$2,SMALL(IF($HH$2:$HH$72<>\"\",ROW($HH$2:$HH$72),\"\"),ROW(HH43))-2,0)","v":{"$error":"#NUM!"}},{"$f":"OFFSET($HI$2,SMALL(IF($HI$2:$HI$72<>\"\",ROW($HI$2:$HI$72),\"\"),ROW(HI43))-2,0)","v":{"$error":"#NUM!"}},{"$f":"OFFSET($HJ$2,SMALL(IF($HJ$2:$HJ$72<>\"\",ROW($HJ$2:$HJ$72),\"\"),ROW(HJ43))-2,0)","v":{"$error":"#NUM!"}},{"$f":"OFFSET($HK$2,SMALL(IF($HK$2:$HK$72<>\"\",ROW($HK$2:$HK$72),\"\"),ROW(HK43))-2,0)","v":{"$error":"#NUM!"}},{"$f":"OFFSET($HL$2,SMALL(IF($HL$2:$HL$72<>\"\",ROW($HL$2:$HL$72),\"\"),ROW(HL43))-2,0)","v":{"$error":"#NUM!"}},{"$f":"IF(AND(教学计划表!N59<>\"\",教学计划表!BB59<>\"\"),教学计划表!I59,\"\")","v":""},{"$f":"IF(教学计划表!BB59<>\"\",教学计划表!N59,\"\")","v":""},{"$f":"IF(HU44<>\"\",IF(SEARCH(\"4\",教学计划表!AB59&\"4\",1)<=LEN(教学计划表!AB59),\"考试\",\"考查\"),\"\")","v":""},{"$f":"IF(教学计划表!FQ59<>0,教学计划表!FQ59,\"\")","v":""},{"$f":"IF(教学计划表!FQ59<>0,教学计划表!FV59,\"\")","v":""},{"$f":"IF(教学计划表!FQ59<>0,教学计划表!FW59,\"\")","v":""},{"$f":"IF(教学计划表!FQ59<>0,教学计划表!PO59,\"\")","v":""},{"$f":"OFFSET($HT$2,SMALL(IF($HT$2:$HT$72<>\"\",ROW($HT$2:$HT$72),\"\"),ROW(HT43))-2,0)","v":{"$error":"#NUM!"}},{"$f":"OFFSET($HU$2,SMALL(IF($HU$2:$HU$72<>\"\",ROW($HU$2:$HU$72),\"\"),ROW(HU43))-2,0)","v":{"$error":"#NUM!"}},{"$f":"OFFSET($HV$2,SMALL(IF($HV$2:$HV$72<>\"\",ROW($HV$2:$HV$72),\"\"),ROW(HV43))-2,0)","v":{"$error":"#NUM!"}},{"$f":"OFFSET($HW$2,SMALL(IF($HW$2:$HW$72<>\"\",ROW($HW$2:$HW$72),\"\"),ROW(HW43))-2,0)","v":{"$error":"#NUM!"}},{"$f":"OFFSET($HX$2,SMALL(IF($HX$2:$HX$72<>\"\",ROW($HX$2:$HX$72),\"\"),ROW(HX43))-2,0)","v":{"$error":"#NUM!"}},{"$f":"OFFSET($HY$2,SMALL(IF($HY$2:$HY$72<>\"\",ROW($HY$2:$HY$72),\"\"),ROW(HY43))-2,0)","v":{"$error":"#NUM!"}},{"$f":"OFFSET($HZ$2,SMALL(IF($HZ$2:$HZ$72<>\"\",ROW($HZ$2:$HZ$72),\"\"),ROW(HZ43))-2,0)","v":{"$error":"#NUM!"}},null,null,{"$f":"IF(AND(教学计划表!N59<>\"\",教学计划表!BE59<>\"\"),教学计划表!I59,\"\")","v":""},{"$f":"IF(教学计划表!BE59<>\"\",教学计划表!N59,\"\")","v":""},{"$f":"IF(IK44<>\"\",IF(SEARCH(\"5\",教学计划表!AB59&\"5\",1)<=LEN(教学计划表!AB59),\"考试\",\"考查\"),\"\")","v":""},{"$f":"IF(教学计划表!GL59<>0,教学计划表!GL59,\"\")","v":""},{"$f":"IF(教学计划表!GL59<>0,教学计划表!GQ59,\"\")","v":""},{"$f":"IF(教学计划表!GL59<>0,教学计划表!GR59,\"\")","v":""},{"$f":"IF(教学计划表!GL59<>0,教学计划表!PZ59,\"\")","v":""},{"$f":"OFFSET($IJ$2,SMALL(IF($IJ$2:$IJ$72<>\"\",ROW($IJ$2:$IJ$72),\"\"),ROW(IJ43))-2,0)","v":{"$error":"#NUM!"}},{"$f":"OFFSET($IK$2,SMALL(IF($IK$2:$IK$72<>\"\",ROW($IK$2:$IK$72),\"\"),ROW(IK43))-2,0)","v":{"$error":"#NUM!"}},{"$f":"OFFSET($IL$2,SMALL(IF($IL$2:$IL$72<>\"\",ROW($IL$2:$IL$72),\"\"),ROW(IL43))-2,0)","v":{"$error":"#NUM!"}},{"$f":"OFFSET($IM$2,SMALL(IF($IM$2:$IM$72<>\"\",ROW($IM$2:$IM$72),\"\"),ROW(IM43))-2,0)","v":{"$error":"#NUM!"}},{"$f":"OFFSET($IN$2,SMALL(IF($IN$2:$IN$72<>\"\",ROW($IN$2:$IN$72),\"\"),ROW(IN43))-2,0)","v":{"$error":"#NUM!"}},{"$f":"OFFSET($IO$2,SMALL(IF($IO$2:$IO$72<>\"\",ROW($IO$2:$IO$72),\"\"),ROW(IO43))-2,0)","v":{"$error":"#NUM!"}},{"$f":"OFFSET($IP$2,SMALL(IF($IP$2:$IP$72<>\"\",ROW($IP$2:$IP$72),\"\"),ROW(IP43))-2,0)","v":{"$error":"#NUM!"}},null,{"$f":"IF(AND(教学计划表!N59<>\"\",教学计划表!BH59<>\"\"),教学计划表!I59,\"\")","v":""},{"$f":"IF(教学计划表!BH59<>\"\",教学计划表!N59,\"\")","v":""},{"$f":"IF(教学计划表!BH59<>\"\",IF(SEARCH(\"6\",教学计划表!AB59&\"6\",1)<=LEN(教学计划表!AB59),\"考试\",\"考查\"),\"\")","v":""},{"$f":"IF(教学计划表!BH59<>0,教学计划表!HG59,\"\")","v":""},{"$f":"IF(教学计划表!BH59<>0,教学计划表!HL59,\"\")","v":""},{"$f":"IF(教学计划表!BH59<>0,教学计划表!HM59,\"\")","v":""},{"$f":"IF(教学计划表!BH59<>0,教学计划表!QL59,\"\")","v":""},{"$f":"OFFSET($IY$2,SMALL(IF($IY$2:$IY$72<>\"\",ROW($IY$2:$IY$72),\"\"),ROW(IY43))-2,0)","v":{"$error":"#NUM!"}},{"$f":"OFFSET($IZ$2,SMALL(IF($IZ$2:$IZ$72<>\"\",ROW($IZ$2:$IZ$72),\"\"),ROW(IZ43))-2,0)","v":{"$error":"#NUM!"}},{"$f":"OFFSET($JA$2,SMALL(IF($JA$2:$JA$72<>\"\",ROW($JA$2:$JA$72),\"\"),ROW(JA43))-2,0)","v":{"$error":"#NUM!"}},{"$f":"OFFSET($JB$2,SMALL(IF($JB$2:$JB$72<>\"\",ROW($JB$2:$JB$72),\"\"),ROW(JB43))-2,0)","v":{"$error":"#NUM!"}},{"$f":"OFFSET($JC$2,SMALL(IF($JC$2:$JC$72<>\"\",ROW($JC$2:$JC$72),\"\"),ROW(JC43))-2,0)","v":{"$error":"#NUM!"}},{"$f":"OFFSET($JD$2,SMALL(IF($JD$2:$JD$72<>\"\",ROW($JD$2:$JD$72),\"\"),ROW(JD43))-2,0)","v":{"$error":"#NUM!"}},{"$f":"OFFSET($JE$2,SMALL(IF($JE$2:$JE$72<>\"\",ROW($JE$2:$JE$72),\"\"),ROW(JE43))-2,0)","v":{"$error":"#NUM!"}}]
["","","","","","","",null,"","","",{"$f":"IF(ISERROR(自动生成的开课信息!HB45),\"\",自动生成的开课信息!HB45)","v":""},{"$f":"IF(ISERROR(自动生成的开课信息!HC45),\"\",自动生成的开课信息!HC45)","v":""},{"$f":"IF(ISERROR(自动生成的开课信息!HD45),\"\",自动生成的开课信息!HD45)","v":""},{"$f":"IF(ISERROR(自动生成的开课信息!HE45),\"\",自动生成的开课信息!HE45)","v":""},null,"","","","","","","",null,"","","","","","","",null,"","","","","","","",null,"","","","","","","",null,null,null,null,null,null,null,null,null,null,null,null,null,null,null,null,null,null,null,null,null,null,null,null,null,null,null,null,null,null,null,null,null,null,null,null,null,null,null,null,null,null,null,null,null,null,null,null,null,null,null,null,null,null,null,null,null,null,null,null,null,null,null,null,null,null,null,null,null,null,null,null,null,null,null,null,null,null,null,null,null,null,null,null,null,null,null,null,null,null,null,null,null,null,null,null,null,null,null,null,null,null,null,null,null,null,null,null,null,null,null,null,null,null,null,null,null,null,null,null,null,null,null,null,null,null,null,null,null,null,null,null,null,null,null,null,null,null,{"$f":"IF(AND(教学计划表!N60<>\"\",教学计划表!AS60<>\"\"),教学计划表!I60,\"\")","v":""},{"$f":"IF(教学计划表!AS60<>\"\",教学计划表!N60,\"\")","v":""},{"$f":"IF(GE45<>\"\",IF(SEARCH(\"1\",教学计划表!AB60&\"1\",1)<=LEN(教学计划表!AB60),\"考试\",\"考查\"),\"\")","v":""},{"$f":"IF(教学计划表!DG60<>0,教学计划表!DG60,\"\")","v":""},{"$f":"IF(教学计划表!DG60<>0,教学计划表!DL60,\"\")","v":""},{"$f":"IF(教学计划表!DG60<>0,教学计划表!DM60,\"\")","v":""},{"$f":"IF(教学计划表!DG60<>0,教学计划表!OE60,\"\")","v":""},{"$f":"OFFSET($GD$2,SMALL(IF($GD$2:$GD$72<>\"\",ROW($2:$72),\"\"),ROW(GD44))-2,0)","v":{"$error":"#NUM!"}},{"$f":"OFFSET($GE$2,SMALL(IF($GE$2:$GE$72<>\"\",ROW($2:$72),\"\"),ROW(GE44))-2,0)","v":{"$error":"#NUM!"}},{"$f":"OFFSET($GF$2,SMALL(IF($GF$2:$GF$72<>\"\",ROW($2:$72),\"\"),ROW(GF44))-2,0)","v":{"$error":"#NUM!"}},{"$f":"OFFSET($GG$2,SMALL(IF($GG$2:$GG$72<>\"\",ROW($2:$72),\"\"),ROW(GG44))-2,0)","v":{"$error":"#NUM!"}},{"$f":"OFFSET($GH$2,SMALL(IF($GH$2:$GH$72<>\"\",ROW($2:$72),\"\"),ROW(GH44))-2,0)","v":{"$error":"#NUM!"}},{"$error":"#NUM!"},{"$f":"OFFSET($GJ$2,SMALL(IF($GJ$2:$GJ$72<>\"\",ROW($2:$72),\"\"),ROW(GJ44))-2,0)","v":{"$error":"#NUM!"}},{"$f":"IF(AND(教学计划表!N60<>\"\",教学计划表!AV60<>\"\"),教学计划表!I60,\"\")","v":""},{"$f":"IF(教学计划表!AV60<>\"\",教学计划表!N60,\"\")","v":""},{"$f":"IF(GS45<>\"\",IF(SEARCH(\"2\",教学计划表!AB60&\"2\",1)<=LEN(教学计划表!AB60),\"考试\",\"考查\"),\"\")","v":""},{"$f":"IF(教学计划表!EA60<>0,教学计划表!EA60,\"\")","v":""},{"$f":"IF(教学计划表!EA60<>0,教学计划表!EF60,\"\")","v":""},{"$f":"IF(教学计划表!EA60<>0,教学计划表!EG60,\"\")","v":""},{"$f":"IF(教学计划表!EA60<>0,教学计划表!OQ60,\"\")","v":""},{"$f":"OFFSET($GR$2,SMALL(IF($GR$2:$GR$72<>\"\",ROW($I$2:$K$72),\"\"),ROW(GR44))-2,0)","v":{"$error":"#NUM!"}},{"$f":"OFFSET($GS$2,SMALL(IF($GS$2:$GS$72<>\"\",ROW($I$2:$K$72),\"\"),ROW(GS44))-2,0)","v":{"$error":"#NUM!"}},{"$f":"OFFSET($GT$2,SMALL(IF($GT$2:$GT$72<>\"\",ROW($I$2:$K$72),\"\"),ROW(GT44))-2,0)","v":{"$error":"#NUM!"}},{"$f":"OFFSET($GU$2,SMALL(IF($GU$2:$GU$72<>\"\",ROW($I$2:$K$72),\"\"),ROW(GU44))-2,0)","v":{"$error":"#NUM!"}},{"$f":"OFFSET($GV$2,SMALL(IF($GV$2:$GV$72<>\"\",ROW($GV$2:$GV$72),\"\"),ROW(GV44))-2,0)","v":{"$error":"#NUM!"}},{"$f":"OFFSET($GW$2,SMALL(IF($GW$2:$GW$72<>\"\",ROW($GW$2:$GW$72),\"\"),ROW(GW44))-2,0)","v":{"$error":"#NUM!"}},{"$f":"OFFSET($GX$2,SMALL(IF($GX$2:$GX$72<>\"\",ROW($GX$2:$GX$72),\"\"),ROW(GX44))-2,0)","v":{"$error":"#NUM!"}},{"$f":"IF(AND(教学计划表!N60<>\"\",教学计划表!AY60<>\"\"),教学计划表!I60,\"\")","v":""},{"$f":"IF(教学计划表!AY60<>\"\",教学计划表!N60,\"\")","v":""},{"$f":"IF(HG45<>\"\",IF(SEARCH(\"3\",教学计划表!AB60&\"3\",1)<=LEN(教学计划表!AB60),\"考试\",\"考查\"),\"\")","v":""},{"$f":"IF(教学计划表!EV60<>0,教学计划表!EV60,\"\")","v":""},{"$f":"IF(教学计划表!EV60<>0,教学计划表!FA60,\"\")","v":""},{"$f":"IF(教学计划表!EV60<>0,教学计划表!FB60,\"\")","v":""},{"$f":"IF(教学计划表!EV60<>0,教学计划表!PC60,\"\")","v":""},{"$f":"OFFSET($HF$2,SMALL(IF($HF$2:$HF$72<>\"\",ROW($HF$2:$HF$72),\"\"),ROW(HF44))-2,0)","v":{"$error":"#NUM!"}},{"$f":"OFFSET($HG$2,SMALL(IF($HG$2:$HG$72<>\"\",ROW($HG$2:$HG$72),\"\"),ROW(HG44))-2,0)","v":{"$error":"#NUM!"}},{"$f":"OFFSET($HH$2,SMALL(IF($HH$2:$HH$72<>\"\",ROW($HH$2:$HH$72),\"\"),ROW(HH44))-2,0)","v":{"$error":"#NUM!"}},{"$f":"OFFSET($HI$2,SMALL(IF($HI$2:$HI$72<>\"\",ROW($HI$2:$HI$72),\"\"),ROW(HI44))-2,0)","v":{"$error":"#NUM!"}},{"$f":"OFFSET($HJ$2,SMALL(IF($HJ$2:$HJ$72<>\"\",ROW($HJ$2:$HJ$72),\"\"),ROW(HJ44))-2,0)","v":{"$error":"#NUM!"}},{"$f":"OFFSET($HK$2,SMALL(IF($HK$2:$HK$72<>\"\",ROW($HK$2:$HK$72),\"\"),ROW(HK44))-2,0)","v":{"$error":"#NUM!"}},{"$f":"OFFSET($HL$2,SMALL(IF($HL$2:$HL$72<>\"\",ROW($HL$2:$HL$72),\"\"),ROW(HL44))-2,0)","v":{"$error":"#NUM!"}},{"$f":"IF(AND(教学计划表!N60<>\"\",教学计划表!BB60<>\"\"),教学计划表!I60,\"\")","v":""},{"$f":"IF(教学计划表!BB60<>\"\",教学计划表!N60,\"\")","v":""},{"$f":"IF(HU45<>\"\",IF(SEARCH(\"4\",教学计划表!AB60&\"4\",1)<=LEN(教学计划表!AB60),\"考试\",\"考查\"),\"\")","v":""},{"$f":"IF(教学计划表!FQ60<>0,教学计划表!FQ60,\"\")","v":""},{"$f":"IF(教学计划表!FQ60<>0,教学计划表!FV60,\"\")","v":""},{"$f":"IF(教学计划表!FQ60<>0,教学计划表!FW60,\"\")","v":""},{"$f":"IF(教学计划表!FQ60<>0,教学计划表!PO60,\"\")","v":""},{"$f":"OFFSET($HT$2,SMALL(IF($HT$2:$HT$72<>\"\",ROW($HT$2:$HT$72),\"\"),ROW(HT44))-2,0)","v":{"$error":"#NUM!"}},{"$f":"OFFSET($HU$2,SMALL(IF($HU$2:$HU$72<>\"\",ROW($HU$2:$HU$72),\"\"),ROW(HU44))-2,0)","v":{"$error":"#NUM!"}},{"$f":"OFFSET($HV$2,SMALL(IF($HV$2:$HV$72<>\"\",ROW($HV$2:$HV$72),\"\"),ROW(HV44))-2,0)","v":{"$error":"#NUM!"}},{"$f":"OFFSET($HW$2,SMALL(IF($HW$2:$HW$72<>\"\",ROW($HW$2:$HW$72),\"\"),ROW(HW44))-2,0)","v":{"$error":"#NUM!"}},{"$f":"OFFSET($HX$2,SMALL(IF($HX$2:$HX$72<>\"\",ROW($HX$2:$HX$72),\"\"),ROW(HX44))-2,0)","v":{"$error":"#NUM!"}},{"$f":"OFFSET($HY$2,SMALL(IF($HY$2:$HY$72<>\"\",ROW($HY$2:$HY$72),\"\"),ROW(HY44))-2,0)","v":{"$error":"#NUM!"}},{"$f":"OFFSET($HZ$2,SMALL(IF($HZ$2:$HZ$72<>\"\",ROW($HZ$2:$HZ$72),\"\"),ROW(HZ44))-2,0)","v":{"$error":"#NUM!"}},null,null,{"$f":"IF(AND(教学计划表!N60<>\"\",教学计划表!BE60<>\"\"),教学计划表!I60,\"\")","v":""},{"$f":"IF(教学计划表!BE60<>\"\",教学计划表!N60,\"\")","v":""},{"$f":"IF(IK45<>\"\",IF(SEARCH(\"5\",教学计划表!AB60&\"5\",1)<=LEN(教学计划表!AB60),\"考试\",\"考查\"),\"\")","v":""},{"$f":"IF(教学计划表!GL60<>0,教学计划表!GL60,\"\")","v":""},{"$f":"IF(教学计划表!GL60<>0,教学计划表!GQ60,\"\")","v":""},{"$f":"IF(教学计划表!GL60<>0,教学计划表!GR60,\"\")","v":""},{"$f":"IF(教学计划表!GL60<>0,教学计划表!PZ60,\"\")","v":""},{"$f":"OFFSET($IJ$2,SMALL(IF($IJ$2:$IJ$72<>\"\",ROW($IJ$2:$IJ$72),\"\"),ROW(IJ44))-2,0)","v":{"$error":"#NUM!"}},{"$f":"OFFSET($IK$2,SMALL(IF($IK$2:$IK$72<>\"\",ROW($IK$2:$IK$72),\"\"),ROW(IK44))-2,0)","v":{"$error":"#NUM!"}},{"$f":"OFFSET($IL$2,SMALL(IF($IL$2:$IL$72<>\"\",ROW($IL$2:$IL$72),\"\"),ROW(IL44))-2,0)","v":{"$error":"#NUM!"}},{"$f":"OFFSET($IM$2,SMALL(IF($IM$2:$IM$72<>\"\",ROW($IM$2:$IM$72),\"\"),ROW(IM44))-2,0)","v":{"$error":"#NUM!"}},{"$f":"OFFSET($IN$2,SMALL(IF($IN$2:$IN$72<>\"\",ROW($IN$2:$IN$72),\"\"),ROW(IN44))-2,0)","v":{"$error":"#NUM!"}},{"$f":"OFFSET($IO$2,SMALL(IF($IO$2:$IO$72<>\"\",ROW($IO$2:$IO$72),\"\"),ROW(IO44))-2,0)","v":{"$error":"#NUM!"}},{"$f":"OFFSET($IP$2,SMALL(IF($IP$2:$IP$72<>\"\",ROW($IP$2:$IP$72),\"\"),ROW(IP44))-2,0)","v":{"$error":"#NUM!"}},null,{"$f":"IF(AND(教学计划表!N60<>\"\",教学计划表!BH60<>\"\"),教学计划表!I60,\"\")","v":""},{"$f":"IF(教学计划表!BH60<>\"\",教学计划表!N60,\"\")","v":""},{"$f":"IF(教学计划表!BH60<>\"\",IF(SEARCH(\"6\",教学计划表!AB60&\"6\",1)<=LEN(教学计划表!AB60),\"考试\",\"考查\"),\"\")","v":""},{"$f":"IF(教学计划表!BH60<>0,教学计划表!HG60,\"\")","v":""},{"$f":"IF(教学计划表!BH60<>0,教学计划表!HL60,\"\")","v":""},{"$f":"IF(教学计划表!BH60<>0,教学计划表!HM60,\"\")","v":""},{"$f":"IF(教学计划表!BH60<>0,教学计划表!QL60,\"\")","v":""},{"$f":"OFFSET($IY$2,SMALL(IF($IY$2:$IY$72<>\"\",ROW($IY$2:$IY$72),\"\"),ROW(IY44))-2,0)","v":{"$error":"#NUM!"}},{"$f":"OFFSET($IZ$2,SMALL(IF($IZ$2:$IZ$72<>\"\",ROW($IZ$2:$IZ$72),\"\"),ROW(IZ44))-2,0)","v":{"$error":"#NUM!"}},{"$f":"OFFSET($JA$2,SMALL(IF($JA$2:$JA$72<>\"\",ROW($JA$2:$JA$72),\"\"),ROW(JA44))-2,0)","v":{"$error":"#NUM!"}},{"$f":"OFFSET($JB$2,SMALL(IF($JB$2:$JB$72<>\"\",ROW($JB$2:$JB$72),\"\"),ROW(JB44))-2,0)","v":{"$error":"#NUM!"}},{"$f":"OFFSET($JC$2,SMALL(IF($JC$2:$JC$72<>\"\",ROW($JC$2:$JC$72),\"\"),ROW(JC44))-2,0)","v":{"$error":"#NUM!"}},{"$f":"OFFSET($JD$2,SMALL(IF($JD$2:$JD$72<>\"\",ROW($JD$2:$JD$72),\"\"),ROW(JD44))-2,0)","v":{"$error":"#NUM!"}},{"$f":"OFFSET($JE$2,SMALL(IF($JE$2:$JE$72<>\"\",ROW($JE$2:$JE$72),\"\"),ROW(JE44))-2,0)","v":{"$error":"#NUM!"}}]
["","","","","","","",null,"","","",{"$f":"IF(ISERROR(自动生成的开课信息!HB46),\"\",自动生成的开课信息!HB46)","v":""},{"$f":"IF(ISERROR(自动生成的开课信息!HC46),\"\",自动生成的开课信息!HC46)","v":""},{"$f":"IF(ISERROR(自动生成的开课信息!HD46),\"\",自动生成的开课信息!HD46)","v":""},{"$f":"IF(ISERROR(自动生成的开课信息!HE46),\"\",自动生成的开课信息!HE46)","v":""},null,"","","","","","","",null,"","","","","","","",null,"","","","","","","",null,"","","","","","","",null,null,null,null,null,null,null,null,null,null,null,null,null,null,null,null,null,null,null,null,null,null,null,null,null,null,null,null,null,null,null,null,null,null,null,null,null,null,null,null,null,null,null,null,null,null,null,null,null,null,null,null,null,null,null,null,null,null,null,null,null,null,null,null,null,null,null,null,null,null,null,null,null,null,null,null,null,null,null,null,null,null,null,null,null,null,null,null,null,null,null,null,null,null,null,null,null,null,null,null,null,null,null,null,null,null,null,null,null,null,null,null,null,null,null,null,null,null,null,null,null,null,null,null,null,null,null,null,null,null,null,null,null,null,null,null,null,null,{"$f":"IF(AND(教学计划表!N61<>\"\",教学计划表!AS61<>\"\"),教学计划表!I61,\"\")","v":""},{"$f":"IF(教学计划表!AS61<>\"\",教学计划表!N61,\"\")","v":""},{"$f":"IF(GE46<>\"\",IF(SEARCH(\"1\",教学计划表!AB61&\"1\",1)<=LEN(教学计划表!AB61),\"考试\",\"考查\"),\"\")","v":""},{"$f":"IF(教学计划表!DG61<>0,教学计划表!DG61,\"\")","v":""},{"$f":"IF(教学计划表!DG61<>0,教学计划表!DL61,\"\")","v":""},{"$f":"IF(教学计划表!DG61<>0,教学计划表!DM61,\"\")","v":""},{"$f":"IF(教学计划表!DG61<>0,教学计划表!OE61,\"\")","v":""},{"$f":"OFFSET($GD$2,SMALL(IF($GD$2:$GD$72<>\"\",ROW($2:$72),\"\"),ROW(GD45))-2,0)","v":{"$error":"#NUM!"}},{"$f":"OFFSET($GE$2,SMALL(IF($GE$2:$GE$72<>\"\",ROW($2:$72),\"\"),ROW(GE45))-2,0)","v":{"$error":"#NUM!"}},{"$f":"OFFSET($GF$2,SMALL(IF($GF$2:$GF$72<>\"\",ROW($2:$72),\"\"),ROW(GF45))-2,0)","v":{"$error":"#NUM!"}},{"$f":"OFFSET($GG$2,SMALL(IF($GG$2:$GG$72<>\"\",ROW($2:$72),\"\"),ROW(GG45))-2,0)","v":{"$error":"#NUM!"}},{"$f":"OFFSET($GH$2,SMALL(IF($GH$2:$GH$72<>\"\",ROW($2:$72),\"\"),ROW(GH45))-2,0)","v":{"$error":"#NUM!"}},{"$error":"#NUM!"},{"$f":"OFFSET($GJ$2,SMALL(IF($GJ$2:$GJ$72<>\"\",ROW($2:$72),\"\"),ROW(GJ45))-2,0)","v":{"$error":"#NUM!"}},{"$f":"IF(AND(教学计划表!N61<>\"\",教学计划表!AV61<>\"\"),教学计划表!I61,\"\")","v":""},{"$f":"IF(教学计划表!AV61<>\"\",教学计划表!N61,\"\")","v":""},{"$f":"IF(GS46<>\"\",IF(SEARCH(\"2\",教学计划表!AB61&\"2\",1)<=LEN(教学计划表!AB61),\"考试\",\"考查\"),\"\")","v":""},{"$f":"IF(教学计划表!EA61<>0,教学计划表!EA61,\"\")","v":""},{"$f":"IF(教学计划表!EA61<>0,教学计划表!EF61,\"\")","v":""},{"$f":"IF(教学计划表!EA61<>0,教学计划表!EG61,\"\")","v":""},{"$f":"IF(教学计划表!EA61<>0,教学计划表!OQ61,\"\")","v":""},{"$f":"OFFSET($GR$2,SMALL(IF($GR$2:$GR$72<>\"\",ROW($I$2:$K$72),\"\"),ROW(GR45))-2,0)","v":{"$error":"#NUM!"}},{"$f":"OFFSET($GS$2,SMALL(IF($GS$2:$GS$72<>\"\",ROW($I$2:$K$72),\"\"),ROW(GS45))-2,0)","v":{"$error":"#NUM!"}},{"$f":"OFFSET($GT$2,SMALL(IF($GT$2:$GT$72<>\"\",ROW($I$2:$K$72),\"\"),ROW(GT45))-2,0)","v":{"$error":"#NUM!"}},{"$f":"OFFSET($GU$2,SMALL(IF($GU$2:$GU$72<>\"\",ROW($I$2:$K$72),\"\"),ROW(GU45))-2,0)","v":{"$error":"#NUM!"}},{"$f":"OFFSET($GV$2,SMALL(IF($GV$2:$GV$72<>\"\",ROW($GV$2:$GV$72),\"\"),ROW(GV45))-2,0)","v":{"$error":"#NUM!"}},{"$f":"OFFSET($GW$2,SMALL(IF($GW$2:$GW$72<>\"\",ROW($GW$2:$GW$72),\"\"),ROW(GW45))-2,0)","v":{"$error":"#NUM!"}},{"$f":"OFFSET($GX$2,SMALL(IF($GX$2:$GX$72<>\"\",ROW($GX$2:$GX$72),\"\"),ROW(GX45))-2,0)","v":{"$error":"#NUM!"}},{"$f":"IF(AND(教学计划表!N61<>\"\",教学计划表!AY61<>\"\"),教学计划表!I61,\"\")","v":""},{"$f":"IF(教学计划表!AY61<>\"\",教学计划表!N61,\"\")","v":""},{"$f":"IF(HG46<>\"\",IF(SEARCH(\"3\",教学计划表!AB61&\"3\",1)<=LEN(教学计划表!AB61),\"考试\",\"考查\"),\"\")","v":""},{"$f":"IF(教学计划表!EV61<>0,教学计划表!EV61,\"\")","v":""},{"$f":"IF(教学计划表!EV61<>0,教学计划表!FA61,\"\")","v":""},{"$f":"IF(教学计划表!EV61<>0,教学计划表!FB61,\"\")","v":""},{"$f":"IF(教学计划表!EV61<>0,教学计划表!PC61,\"\")","v":""},{"$f":"OFFSET($HF$2,SMALL(IF($HF$2:$HF$72<>\"\",ROW($HF$2:$HF$72),\"\"),ROW(HF45))-2,0)","v":{"$error":"#NUM!"}},{"$f":"OFFSET($HG$2,SMALL(IF($HG$2:$HG$72<>\"\",ROW($HG$2:$HG$72),\"\"),ROW(HG45))-2,0)","v":{"$error":"#NUM!"}},{"$f":"OFFSET($HH$2,SMALL(IF($HH$2:$HH$72<>\"\",ROW($HH$2:$HH$72),\"\"),ROW(HH45))-2,0)","v":{"$error":"#NUM!"}},{"$f":"OFFSET($HI$2,SMALL(IF($HI$2:$HI$72<>\"\",ROW($HI$2:$HI$72),\"\"),ROW(HI45))-2,0)","v":{"$error":"#NUM!"}},{"$f":"OFFSET($HJ$2,SMALL(IF($HJ$2:$HJ$72<>\"\",ROW($HJ$2:$HJ$72),\"\"),ROW(HJ45))-2,0)","v":{"$error":"#NUM!"}},{"$f":"OFFSET($HK$2,SMALL(IF($HK$2:$HK$72<>\"\",ROW($HK$2:$HK$72),\"\"),ROW(HK45))-2,0)","v":{"$error":"#NUM!"}},{"$f":"OFFSET($HL$2,SMALL(IF($HL$2:$HL$72<>\"\",ROW($HL$2:$HL$72),\"\"),ROW(HL45))-2,0)","v":{"$error":"#NUM!"}},{"$f":"IF(AND(教学计划表!N61<>\"\",教学计划表!BB61<>\"\"),教学计划表!I61,\"\")","v":""},{"$f":"IF(教学计划表!BB61<>\"\",教学计划表!N61,\"\")","v":""},{"$f":"IF(HU46<>\"\",IF(SEARCH(\"4\",教学计划表!AB61&\"4\",1)<=LEN(教学计划表!AB61),\"考试\",\"考查\"),\"\")","v":""},{"$f":"IF(教学计划表!FQ61<>0,教学计划表!FQ61,\"\")","v":""},{"$f":"IF(教学计划表!FQ61<>0,教学计划表!FV61,\"\")","v":""},{"$f":"IF(教学计划表!FQ61<>0,教学计划表!FW61,\"\")","v":""},{"$f":"IF(教学计划表!FQ61<>0,教学计划表!PO61,\"\")","v":""},{"$f":"OFFSET($HT$2,SMALL(IF($HT$2:$HT$72<>\"\",ROW($HT$2:$HT$72),\"\"),ROW(HT45))-2,0)","v":{"$error":"#NUM!"}},{"$f":"OFFSET($HU$2,SMALL(IF($HU$2:$HU$72<>\"\",ROW($HU$2:$HU$72),\"\"),ROW(HU45))-2,0)","v":{"$error":"#NUM!"}},{"$f":"OFFSET($HV$2,SMALL(IF($HV$2:$HV$72<>\"\",ROW($HV$2:$HV$72),\"\"),ROW(HV45))-2,0)","v":{"$error":"#NUM!"}},{"$f":"OFFSET($HW$2,SMALL(IF($HW$2:$HW$72<>\"\",ROW($HW$2:$HW$72),\"\"),ROW(HW45))-2,0)","v":{"$error":"#NUM!"}},{"$f":"OFFSET($HX$2,SMALL(IF($HX$2:$HX$72<>\"\",ROW($HX$2:$HX$72),\"\"),ROW(HX45))-2,0)","v":{"$error":"#NUM!"}},{"$f":"OFFSET($HY$2,SMALL(IF($HY$2:$HY$72<>\"\",ROW($HY$2:$HY$72),\"\"),ROW(HY45))-2,0)","v":{"$error":"#NUM!"}},{"$f":"OFFSET($HZ$2,SMALL(IF($HZ$2:$HZ$72<>\"\",ROW($HZ$2:$HZ$72),\"\"),ROW(HZ45))-2,0)","v":{"$error":"#NUM!"}},null,null,{"$f":"IF(AND(教学计划表!N61<>\"\",教学计划表!BE61<>\"\"),教学计划表!I61,\"\")","v":""},{"$f":"IF(教学计划表!BE61<>\"\",教学计划表!N61,\"\")","v":""},{"$f":"IF(IK46<>\"\",IF(SEARCH(\"5\",教学计划表!AB61&\"5\",1)<=LEN(教学计划表!AB61),\"考试\",\"考查\"),\"\")","v":""},{"$f":"IF(教学计划表!GL61<>0,教学计划表!GL61,\"\")","v":""},{"$f":"IF(教学计划表!GL61<>0,教学计划表!GQ61,\"\")","v":""},{"$f":"IF(教学计划表!GL61<>0,教学计划表!GR61,\"\")","v":""},{"$f":"IF(教学计划表!GL61<>0,教学计划表!PZ61,\"\")","v":""},{"$f":"OFFSET($IJ$2,SMALL(IF($IJ$2:$IJ$72<>\"\",ROW($IJ$2:$IJ$72),\"\"),ROW(IJ45))-2,0)","v":{"$error":"#NUM!"}},{"$f":"OFFSET($IK$2,SMALL(IF($IK$2:$IK$72<>\"\",ROW($IK$2:$IK$72),\"\"),ROW(IK45))-2,0)","v":{"$error":"#NUM!"}},{"$f":"OFFSET($IL$2,SMALL(IF($IL$2:$IL$72<>\"\",ROW($IL$2:$IL$72),\"\"),ROW(IL45))-2,0)","v":{"$error":"#NUM!"}},{"$f":"OFFSET($IM$2,SMALL(IF($IM$2:$IM$72<>\"\",ROW($IM$2:$IM$72),\"\"),ROW(IM45))-2,0)","v":{"$error":"#NUM!"}},{"$f":"OFFSET($IN$2,SMALL(IF($IN$2:$IN$72<>\"\",ROW($IN$2:$IN$72),\"\"),ROW(IN45))-2,0)","v":{"$error":"#NUM!"}},{"$f":"OFFSET($IO$2,SMALL(IF($IO$2:$IO$72<>\"\",ROW($IO$2:$IO$72),\"\"),ROW(IO45))-2,0)","v":{"$error":"#NUM!"}},{"$f":"OFFSET($IP$2,SMALL(IF($IP$2:$IP$72<>\"\",ROW($IP$2:$IP$72),\"\"),ROW(IP45))-2,0)","v":{"$error":"#NUM!"}},null,{"$f":"IF(AND(教学计划表!N61<>\"\",教学计划表!BH61<>\"\"),教学计划表!I61,\"\")","v":""},{"$f":"IF(教学计划表!BH61<>\"\",教学计划表!N61,\"\")","v":""},{"$f":"IF(教学计划表!BH61<>\"\",IF(SEARCH(\"6\",教学计划表!AB61&\"6\",1)<=LEN(教学计划表!AB61),\"考试\",\"考查\"),\"\")","v":""},{"$f":"IF(教学计划表!BH61<>0,教学计划表!HG61,\"\")","v":""},{"$f":"IF(教学计划表!BH61<>0,教学计划表!HL61,\"\")","v":""},{"$f":"IF(教学计划表!BH61<>0,教学计划表!HM61,\"\")","v":""},{"$f":"IF(教学计划表!BH61<>0,教学计划表!QL61,\"\")","v":""},{"$f":"OFFSET($IY$2,SMALL(IF($IY$2:$IY$72<>\"\",ROW($IY$2:$IY$72),\"\"),ROW(IY45))-2,0)","v":{"$error":"#NUM!"}},{"$f":"OFFSET($IZ$2,SMALL(IF($IZ$2:$IZ$72<>\"\",ROW($IZ$2:$IZ$72),\"\"),ROW(IZ45))-2,0)","v":{"$error":"#NUM!"}},{"$f":"OFFSET($JA$2,SMALL(IF($JA$2:$JA$72<>\"\",ROW($JA$2:$JA$72),\"\"),ROW(JA45))-2,0)","v":{"$error":"#NUM!"}},{"$f":"OFFSET($JB$2,SMALL(IF($JB$2:$JB$72<>\"\",ROW($JB$2:$JB$72),\"\"),ROW(JB45))-2,0)","v":{"$error":"#NUM!"}},{"$f":"OFFSET($JC$2,SMALL(IF($JC$2:$JC$72<>\"\",ROW($JC$2:$JC$72),\"\"),ROW(JC45))-2,0)","v":{"$error":"#NUM!"}},{"$f":"OFFSET($JD$2,SMALL(IF($JD$2:$JD$72<>\"\",ROW($JD$2:$JD$72),\"\"),ROW(JD45))-2,0)","v":{"$error":"#NUM!"}},{"$f":"OFFSET($JE$2,SMALL(IF($JE$2:$JE$72<>\"\",ROW($JE$2:$JE$72),\"\"),ROW(JE45))-2,0)","v":{"$error":"#NUM!"}}]
["","","","","","","",null,"","","",{"$f":"IF(ISERROR(自动生成的开课信息!HB47),\"\",自动生成的开课信息!HB47)","v":""},{"$f":"IF(ISERROR(自动生成的开课信息!HC47),\"\",自动生成的开课信息!HC47)","v":""},{"$f":"IF(ISERROR(自动生成的开课信息!HD47),\"\",自动生成的开课信息!HD47)","v":""},{"$f":"IF(ISERROR(自动生成的开课信息!HE47),\"\",自动生成的开课信息!HE47)","v":""},null,"","","","","","","",null,"","","","","","","",null,"","","","","","","",null,"","","","","","","",null,null,null,null,null,null,null,null,null,null,null,null,null,null,null,null,null,null,null,null,null,null,null,null,null,null,null,null,null,null,null,null,null,null,null,null,null,null,null,null,null,null,null,null,null,null,null,null,null,null,null,null,null,null,null,null,null,null,null,null,null,null,null,null,null,null,null,null,null,null,null,null,null,null,null,null,null,null,null,null,null,null,null,null,null,null,null,null,null,null,null,null,null,null,null,null,null,null,null,null,null,null,null,null,null,null,null,null,null,null,null,null,null,null,null,null,null,null,null,null,null,null,null,null,null,null,null,null,null,null,null,null,null,null,null,null,null,null,{"$f":"IF(AND(教学计划表!N62<>\"\",教学计划表!AS62<>\"\"),教学计划表!I62,\"\")","v":""},{"$f":"IF(教学计划表!AS62<>\"\",教学计划表!N62,\"\")","v":""},{"$f":"IF(GE47<>\"\",IF(SEARCH(\"1\",教学计划表!AB62&\"1\",1)<=LEN(教学计划表!AB62),\"考试\",\"考查\"),\"\")","v":""},{"$f":"IF(教学计划表!DG62<>0,教学计划表!DG62,\"\")","v":""},{"$f":"IF(教学计划表!DG62<>0,教学计划表!DL62,\"\")","v":""},{"$f":"IF(教学计划表!DG62<>0,教学计划表!DM62,\"\")","v":""},{"$f":"IF(教学计划表!DG62<>0,教学计划表!OE62,\"\")","v":""},{"$f":"OFFSET($GD$2,SMALL(IF($GD$2:$GD$72<>\"\",ROW($2:$72),\"\"),ROW(GD46))-2,0)","v":{"$error":"#NUM!"}},{"$f":"OFFSET($GE$2,SMALL(IF($GE$2:$GE$72<>\"\",ROW($2:$72),\"\"),ROW(GE46))-2,0)","v":{"$error":"#NUM!"}},{"$f":"OFFSET($GF$2,SMALL(IF($GF$2:$GF$72<>\"\",ROW($2:$72),\"\"),ROW(GF46))-2,0)","v":{"$error":"#NUM!"}},{"$f":"OFFSET($GG$2,SMALL(IF($GG$2:$GG$72<>\"\",ROW($2:$72),\"\"),ROW(GG46))-2,0)","v":{"$error":"#NUM!"}},{"$f":"OFFSET($GH$2,SMALL(IF($GH$2:$GH$72<>\"\",ROW($2:$72),\"\"),ROW(GH46))-2,0)","v":{"$error":"#NUM!"}},{"$error":"#NUM!"},{"$f":"OFFSET($GJ$2,SMALL(IF($GJ$2:$GJ$72<>\"\",ROW($2:$72),\"\"),ROW(GJ46))-2,0)","v":{"$error":"#NUM!"}},{"$f":"IF(AND(教学计划表!N62<>\"\",教学计划表!AV62<>\"\"),教学计划表!I62,\"\")","v":""},{"$f":"IF(教学计划表!AV62<>\"\",教学计划表!N62,\"\")","v":""},{"$f":"IF(GS47<>\"\",IF(SEARCH(\"2\",教学计划表!AB62&\"2\",1)<=LEN(教学计划表!AB62),\"考试\",\"考查\"),\"\")","v":""},{"$f":"IF(教学计划表!EA62<>0,教学计划表!EA62,\"\")","v":""},{"$f":"IF(教学计划表!EA62<>0,教学计划表!EF62,\"\")","v":""},{"$f":"IF(教学计划表!EA62<>0,教学计划表!EG62,\"\")","v":""},{"$f":"IF(教学计划表!EA62<>0,教学计划表!OQ62,\"\")","v":""},{"$f":"OFFSET($GR$2,SMALL(IF($GR$2:$GR$72<>\"\",ROW($I$2:$K$72),\"\"),ROW(GR46))-2,0)","v":{"$error":"#NUM!"}},{"$f":"OFFSET($GS$2,SMALL(IF($GS$2:$GS$72<>\"\",ROW($I$2:$K$72),\"\"),ROW(GS46))-2,0)","v":{"$error":"#NUM!"}},{"$f":"OFFSET($GT$2,SMALL(IF($GT$2:$GT$72<>\"\",ROW($I$2:$K$72),\"\"),ROW(GT46))-2,0)","v":{"$error":"#NUM!"}},{"$f":"OFFSET($GU$2,SMALL(IF($GU$2:$GU$72<>\"\",ROW($I$2:$K$72),\"\"),ROW(GU46))-2,0)","v":{"$error":"#NUM!"}},{"$f":"OFFSET($GV$2,SMALL(IF($GV$2:$GV$72<>\"\",ROW($GV$2:$GV$72),\"\"),ROW(GV46))-2,0)","v":{"$error":"#NUM!"}},{"$f":"OFFSET($GW$2,SMALL(IF($GW$2:$GW$72<>\"\",ROW($GW$2:$GW$72),\"\"),ROW(GW46))-2,0)","v":{"$error":"#NUM!"}},{"$f":"OFFSET($GX$2,SMALL(IF($GX$2:$GX$72<>\"\",ROW($GX$2:$GX$72),\"\"),ROW(GX46))-2,0)","v":{"$error":"#NUM!"}},{"$f":"IF(AND(教学计划表!N62<>\"\",教学计划表!AY62<>\"\"),教学计划表!I62,\"\")","v":""},{"$f":"IF(教学计划表!AY62<>\"\",教学计划表!N62,\"\")","v":""},{"$f":"IF(HG47<>\"\",IF(SEARCH(\"3\",教学计划表!AB62&\"3\",1)<=LEN(教学计划表!AB62),\"考试\",\"考查\"),\"\")","v":""},{"$f":"IF(教学计划表!EV62<>0,教学计划表!EV62,\"\")","v":""},{"$f":"IF(教学计划表!EV62<>0,教学计划表!FA62,\"\")","v":""},{"$f":"IF(教学计划表!EV62<>0,教学计划表!FB62,\"\")","v":""},{"$f":"IF(教学计划表!EV62<>0,教学计划表!PC62,\"\")","v":""},{"$f":"OFFSET($HF$2,SMALL(IF($HF$2:$HF$72<>\"\",ROW($HF$2:$HF$72),\"\"),ROW(HF46))-2,0)","v":{"$error":"#NUM!"}},{"$f":"OFFSET($HG$2,SMALL(IF($HG$2:$HG$72<>\"\",ROW($HG$2:$HG$72),\"\"),ROW(HG46))-2,0)","v":{"$error":"#NUM!"}},{"$f":"OFFSET($HH$2,SMALL(IF($HH$2:$HH$72<>\"\",ROW($HH$2:$HH$72),\"\"),ROW(HH46))-2,0)","v":{"$error":"#NUM!"}},{"$f":"OFFSET($HI$2,SMALL(IF($HI$2:$HI$72<>\"\",ROW($HI$2:$HI$72),\"\"),ROW(HI46))-2,0)","v":{"$error":"#NUM!"}},{"$f":"OFFSET($HJ$2,SMALL(IF($HJ$2:$HJ$72<>\"\",ROW($HJ$2:$HJ$72),\"\"),ROW(HJ46))-2,0)","v":{"$error":"#NUM!"}},{"$f":"OFFSET($HK$2,SMALL(IF($HK$2:$HK$72<>\"\",ROW($HK$2:$HK$72),\"\"),ROW(HK46))-2,0)","v":{"$error":"#NUM!"}},{"$f":"OFFSET($HL$2,SMALL(IF($HL$2:$HL$72<>\"\",ROW($HL$2:$HL$72),\"\"),ROW(HL46))-2,0)","v":{"$error":"#NUM!"}},{"$f":"IF(AND(教学计划表!N62<>\"\",教学计划表!BB62<>\"\"),教学计划表!I62,\"\")","v":""},{"$f":"IF(教学计划表!BB62<>\"\",教学计划表!N62,\"\")","v":""},{"$f":"IF(HU47<>\"\",IF(SEARCH(\"4\",教学计划表!AB62&\"4\",1)<=LEN(教学计划表!AB62),\"考试\",\"考查\"),\"\")","v":""},{"$f":"IF(教学计划表!FQ62<>0,教学计划表!FQ62,\"\")","v":""},{"$f":"IF(教学计划表!FQ62<>0,教学计划表!FV62,\"\")","v":""},{"$f":"IF(教学计划表!FQ62<>0,教学计划表!FW62,\"\")","v":""},{"$f":"IF(教学计划表!FQ62<>0,教学计划表!PO62,\"\")","v":""},{"$f":"OFFSET($HT$2,SMALL(IF($HT$2:$HT$72<>\"\",ROW($HT$2:$HT$72),\"\"),ROW(HT46))-2,0)","v":{"$error":"#NUM!"}},{"$f":"OFFSET($HU$2,SMALL(IF($HU$2:$HU$72<>\"\",ROW($HU$2:$HU$72),\"\"),ROW(HU46))-2,0)","v":{"$error":"#NUM!"}},{"$f":"OFFSET($HV$2,SMALL(IF($HV$2:$HV$72<>\"\",ROW($HV$2:$HV$72),\"\"),ROW(HV46))-2,0)","v":{"$error":"#NUM!"}},{"$f":"OFFSET($HW$2,SMALL(IF($HW$2:$HW$72<>\"\",ROW($HW$2:$HW$72),\"\"),ROW(HW46))-2,0)","v":{"$error":"#NUM!"}},{"$f":"OFFSET($HX$2,SMALL(IF($HX$2:$HX$72<>\"\",ROW($HX$2:$HX$72),\"\"),ROW(HX46))-2,0)","v":{"$error":"#NUM!"}},{"$f":"OFFSET($HY$2,SMALL(IF($HY$2:$HY$72<>\"\",ROW($HY$2:$HY$72),\"\"),ROW(HY46))-2,0)","v":{"$error":"#NUM!"}},{"$f":"OFFSET($HZ$2,SMALL(IF($HZ$2:$HZ$72<>\"\",ROW($HZ$2:$HZ$72),\"\"),ROW(HZ46))-2,0)","v":{"$error":"#NUM!"}},null,null,{"$f":"IF(AND(教学计划表!N62<>\"\",教学计划表!BE62<>\"\"),教学计划表!I62,\"\")","v":""},{"$f":"IF(教学计划表!BE62<>\"\",教学计划表!N62,\"\")","v":""},{"$f":"IF(IK47<>\"\",IF(SEARCH(\"5\",教学计划表!AB62&\"5\",1)<=LEN(教学计划表!AB62),\"考试\",\"考查\"),\"\")","v":""},{"$f":"IF(教学计划表!GL62<>0,教学计划表!GL62,\"\")","v":""},{"$f":"IF(教学计划表!GL62<>0,教学计划表!GQ62,\"\")","v":""},{"$f":"IF(教学计划表!GL62<>0,教学计划表!GR62,\"\")","v":""},{"$f":"IF(教学计划表!GL62<>0,教学计划表!PZ62,\"\")","v":""},{"$f":"OFFSET($IJ$2,SMALL(IF($IJ$2:$IJ$72<>\"\",ROW($IJ$2:$IJ$72),\"\"),ROW(IJ46))-2,0)","v":{"$error":"#NUM!"}},{"$f":"OFFSET($IK$2,SMALL(IF($IK$2:$IK$72<>\"\",ROW($IK$2:$IK$72),\"\"),ROW(IK46))-2,0)","v":{"$error":"#NUM!"}},{"$f":"OFFSET($IL$2,SMALL(IF($IL$2:$IL$72<>\"\",ROW($IL$2:$IL$72),\"\"),ROW(IL46))-2,0)","v":{"$error":"#NUM!"}},{"$f":"OFFSET($IM$2,SMALL(IF($IM$2:$IM$72<>\"\",ROW($IM$2:$IM$72),\"\"),ROW(IM46))-2,0)","v":{"$error":"#NUM!"}},{"$f":"OFFSET($IN$2,SMALL(IF($IN$2:$IN$72<>\"\",ROW($IN$2:$IN$72),\"\"),ROW(IN46))-2,0)","v":{"$error":"#NUM!"}},{"$f":"OFFSET($IO$2,SMALL(IF($IO$2:$IO$72<>\"\",ROW($IO$2:$IO$72),\"\"),ROW(IO46))-2,0)","v":{"$error":"#NUM!"}},{"$f":"OFFSET($IP$2,SMALL(IF($IP$2:$IP$72<>\"\",ROW($IP$2:$IP$72),\"\"),ROW(IP46))-2,0)","v":{"$error":"#NUM!"}},null,{"$f":"IF(AND(教学计划表!N62<>\"\",教学计划表!BH62<>\"\"),教学计划表!I62,\"\")","v":""},{"$f":"IF(教学计划表!BH62<>\"\",教学计划表!N62,\"\")","v":""},{"$f":"IF(教学计划表!BH62<>\"\",IF(SEARCH(\"6\",教学计划表!AB62&\"6\",1)<=LEN(教学计划表!AB62),\"考试\",\"考查\"),\"\")","v":""},{"$f":"IF(教学计划表!BH62<>0,教学计划表!HG62,\"\")","v":""},{"$f":"IF(教学计划表!BH62<>0,教学计划表!HL62,\"\")","v":""},{"$f":"IF(教学计划表!BH62<>0,教学计划表!HM62,\"\")","v":""},{"$f":"IF(教学计划表!BH62<>0,教学计划表!QL62,\"\")","v":""},{"$f":"OFFSET($IY$2,SMALL(IF($IY$2:$IY$72<>\"\",ROW($IY$2:$IY$72),\"\"),ROW(IY46))-2,0)","v":{"$error":"#NUM!"}},{"$f":"OFFSET($IZ$2,SMALL(IF($IZ$2:$IZ$72<>\"\",ROW($IZ$2:$IZ$72),\"\"),ROW(IZ46))-2,0)","v":{"$error":"#NUM!"}},{"$f":"OFFSET($JA$2,SMALL(IF($JA$2:$JA$72<>\"\",ROW($JA$2:$JA$72),\"\"),ROW(JA46))-2,0)","v":{"$error":"#NUM!"}},{"$f":"OFFSET($JB$2,SMALL(IF($JB$2:$JB$72<>\"\",ROW($JB$2:$JB$72),\"\"),ROW(JB46))-2,0)","v":{"$error":"#NUM!"}},{"$f":"OFFSET($JC$2,SMALL(IF($JC$2:$JC$72<>\"\",ROW($JC$2:$JC$72),\"\"),ROW(JC46))-2,0)","v":{"$error":"#NUM!"}},{"$f":"OFFSET($JD$2,SMALL(IF($JD$2:$JD$72<>\"\",ROW($JD$2:$JD$72),\"\"),ROW(JD46))-2,0)","v":{"$error":"#NUM!"}},{"$f":"OFFSET($JE$2,SMALL(IF($JE$2:$JE$72<>\"\",ROW($JE$2:$JE$72),\"\"),ROW(JE46))-2,0)","v":{"$error":"#NUM!"}}]
["","","","","","","",null,"","","",{"$f":"IF(ISERROR(自动生成的开课信息!HB48),\"\",自动生成的开课信息!HB48)","v":""},{"$f":"IF(ISERROR(自动生成的开课信息!HC48),\"\",自动生成的开课信息!HC48)","v":""},{"$f":"IF(ISERROR(自动生成的开课信息!HD48),\"\",自动生成的开课信息!HD48)","v":""},{"$f":"IF(ISERROR(自动生成的开课信息!HE48),\"\",自动生成的开课信息!HE48)","v":""},null,"","","","","","","",null,"","","","","","","",null,"","","","","","","",null,"","","","","","","",null,null,null,null,null,null,null,null,null,null,null,null,null,null,null,null,null,null,null,null,null,null,null,null,null,null,null,null,null,null,null,null,null,null,null,null,null,null,null,null,null,null,null,null,null,null,null,null,null,null,null,null,null,null,null,null,null,null,null,null,null,null,null,null,null,null,null,null,null,null,null,null,null,null,null,null,null,null,null,null,null,null,null,null,null,null,null,null,null,null,null,null,null,null,null,null,null,null,null,null,null,null,null,null,null,null,null,null,null,null,null,null,null,null,null,null,null,null,null,null,null,null,null,null,null,null,null,null,null,null,null,null,null,null,null,null,null,null,{"$f":"IF(AND(教学计划表!N63<>\"\",教学计划表!AS63<>\"\"),教学计划表!I63,\"\")","v":""},{"$f":"IF(教学计划表!AS63<>\"\",教学计划表!N63,\"\")","v":""},{"$f":"IF(GE48<>\"\",IF(SEARCH(\"1\",教学计划表!AB63&\"1\",1)<=LEN(教学计划表!AB63),\"考试\",\"考查\"),\"\")","v":""},{"$f":"IF(教学计划表!DG63<>0,教学计划表!DG63,\"\")","v":""},{"$f":"IF(教学计划表!DG63<>0,教学计划表!DL63,\"\")","v":""},{"$f":"IF(教学计划表!DG63<>0,教学计划表!DM63,\"\")","v":""},{"$f":"IF(教学计划表!DG63<>0,教学计划表!OE63,\"\")","v":""},{"$f":"OFFSET($GD$2,SMALL(IF($GD$2:$GD$72<>\"\",ROW($2:$72),\"\"),ROW(GD47))-2,0)","v":{"$error":"#NUM!"}},{"$f":"OFFSET($GE$2,SMALL(IF($GE$2:$GE$72<>\"\",ROW($2:$72),\"\"),ROW(GE47))-2,0)","v":{"$error":"#NUM!"}},{"$f":"OFFSET($GF$2,SMALL(IF($GF$2:$GF$72<>\"\",ROW($2:$72),\"\"),ROW(GF47))-2,0)","v":{"$error":"#NUM!"}},{"$f":"OFFSET($GG$2,SMALL(IF($GG$2:$GG$72<>\"\",ROW($2:$72),\"\"),ROW(GG47))-2,0)","v":{"$error":"#NUM!"}},{"$f":"OFFSET($GH$2,SMALL(IF($GH$2:$GH$72<>\"\",ROW($2:$72),\"\"),ROW(GH47))-2,0)","v":{"$error":"#NUM!"}},{"$error":"#NUM!"},{"$f":"OFFSET($GJ$2,SMALL(IF($GJ$2:$GJ$72<>\"\",ROW($2:$72),\"\"),ROW(GJ47))-2,0)","v":{"$error":"#NUM!"}},{"$f":"IF(AND(教学计划表!N63<>\"\",教学计划表!AV63<>\"\"),教学计划表!I63,\"\")","v":""},{"$f":"IF(教学计划表!AV63<>\"\",教学计划表!N63,\"\")","v":""},{"$f":"IF(GS48<>\"\",IF(SEARCH(\"2\",教学计划表!AB63&\"2\",1)<=LEN(教学计划表!AB63),\"考试\",\"考查\"),\"\")","v":""},{"$f":"IF(教学计划表!EA63<>0,教学计划表!EA63,\"\")","v":""},{"$f":"IF(教学计划表!EA63<>0,教学计划表!EF63,\"\")","v":""},{"$f":"IF(教学计划表!EA63<>0,教学计划表!EG63,\"\")","v":""},{"$f":"IF(教学计划表!EA63<>0,教学计划表!OQ63,\"\")","v":""},{"$f":"OFFSET($GR$2,SMALL(IF($GR$2:$GR$72<>\"\",ROW($I$2:$K$72),\"\"),ROW(GR47))-2,0)","v":{"$error":"#NUM!"}},{"$f":"OFFSET($GS$2,SMALL(IF($GS$2:$GS$72<>\"\",ROW($I$2:$K$72),\"\"),ROW(GS47))-2,0)","v":{"$error":"#NUM!"}},{"$f":"OFFSET($GT$2,SMALL(IF($GT$2:$GT$72<>\"\",ROW($I$2:$K$72),\"\"),ROW(GT47))-2,0)","v":{"$error":"#NUM!"}},{"$f":"OFFSET($GU$2,SMALL(IF($GU$2:$GU$72<>\"\",ROW($I$2:$K$72),\"\"),ROW(GU47))-2,0)","v":{"$error":"#NUM!"}},{"$f":"OFFSET($GV$2,SMALL(IF($GV$2:$GV$72<>\"\",ROW($GV$2:$GV$72),\"\"),ROW(GV47))-2,0)","v":{"$error":"#NUM!"}},{"$f":"OFFSET($GW$2,SMALL(IF($GW$2:$GW$72<>\"\",ROW($GW$2:$GW$72),\"\"),ROW(GW47))-2,0)","v":{"$error":"#NUM!"}},{"$f":"OFFSET($GX$2,SMALL(IF($GX$2:$GX$72<>\"\",ROW($GX$2:$GX$72),\"\"),ROW(GX47))-2,0)","v":{"$error":"#NUM!"}},{"$f":"IF(AND(教学计划表!N63<>\"\",教学计划表!AY63<>\"\"),教学计划表!I63,\"\")","v":""},{"$f":"IF(教学计划表!AY63<>\"\",教学计划表!N63,\"\")","v":""},{"$f":"IF(HG48<>\"\",IF(SEARCH(\"3\",教学计划表!AB63&\"3\",1)<=LEN(教学计划表!AB63),\"考试\",\"考查\"),\"\")","v":""},{"$f":"IF(教学计划表!EV63<>0,教学计划表!EV63,\"\")","v":""},{"$f":"IF(教学计划表!EV63<>0,教学计划表!FA63,\"\")","v":""},{"$f":"IF(教学计划表!EV63<>0,教学计划表!FB63,\"\")","v":""},{"$f":"IF(教学计划表!EV63<>0,教学计划表!PC63,\"\")","v":""},{"$f":"OFFSET($HF$2,SMALL(IF($HF$2:$HF$72<>\"\",ROW($HF$2:$HF$72),\"\"),ROW(HF47))-2,0)","v":{"$error":"#NUM!"}},{"$f":"OFFSET($HG$2,SMALL(IF($HG$2:$HG$72<>\"\",ROW($HG$2:$HG$72),\"\"),ROW(HG47))-2,0)","v":{"$error":"#NUM!"}},{"$f":"OFFSET($HH$2,SMALL(IF($HH$2:$HH$72<>\"\",ROW($HH$2:$HH$72),\"\"),ROW(HH47))-2,0)","v":{"$error":"#NUM!"}},{"$f":"OFFSET($HI$2,SMALL(IF($HI$2:$HI$72<>\"\",ROW($HI$2:$HI$72),\"\"),ROW(HI47))-2,0)","v":{"$error":"#NUM!"}},{"$f":"OFFSET($HJ$2,SMALL(IF($HJ$2:$HJ$72<>\"\",ROW($HJ$2:$HJ$72),\"\"),ROW(HJ47))-2,0)","v":{"$error":"#NUM!"}},{"$f":"OFFSET($HK$2,SMALL(IF($HK$2:$HK$72<>\"\",ROW($HK$2:$HK$72),\"\"),ROW(HK47))-2,0)","v":{"$error":"#NUM!"}},{"$f":"OFFSET($HL$2,SMALL(IF($HL$2:$HL$72<>\"\",ROW($HL$2:$HL$72),\"\"),ROW(HL47))-2,0)","v":{"$error":"#NUM!"}},{"$f":"IF(AND(教学计划表!N63<>\"\",教学计划表!BB63<>\"\"),教学计划表!I63,\"\")","v":""},{"$f":"IF(教学计划表!BB63<>\"\",教学计划表!N63,\"\")","v":""},{"$f":"IF(HU48<>\"\",IF(SEARCH(\"4\",教学计划表!AB63&\"4\",1)<=LEN(教学计划表!AB63),\"考试\",\"考查\"),\"\")","v":""},{"$f":"IF(教学计划表!FQ63<>0,教学计划表!FQ63,\"\")","v":""},{"$f":"IF(教学计划表!FQ63<>0,教学计划表!FV63,\"\")","v":""},{"$f":"IF(教学计划表!FQ63<>0,教学计划表!FW63,\"\")","v":""},{"$f":"IF(教学计划表!FQ63<>0,教学计划表!PO63,\"\")","v":""},{"$f":"OFFSET($HT$2,SMALL(IF($HT$2:$HT$72<>\"\",ROW($HT$2:$HT$72),\"\"),ROW(HT47))-2,0)","v":{"$error":"#NUM!"}},{"$f":"OFFSET($HU$2,SMALL(IF($HU$2:$HU$72<>\"\",ROW($HU$2:$HU$72),\"\"),ROW(HU47))-2,0)","v":{"$error":"#NUM!"}},{"$f":"OFFSET($HV$2,SMALL(IF($HV$2:$HV$72<>\"\",ROW($HV$2:$HV$72),\"\"),ROW(HV47))-2,0)","v":{"$error":"#NUM!"}},{"$f":"OFFSET($HW$2,SMALL(IF($HW$2:$HW$72<>\"\",ROW($HW$2:$HW$72),\"\"),ROW(HW47))-2,0)","v":{"$error":"#NUM!"}},{"$f":"OFFSET($HX$2,SMALL(IF($HX$2:$HX$72<>\"\",ROW($HX$2:$HX$72),\"\"),ROW(HX47))-2,0)","v":{"$error":"#NUM!"}},{"$f":"OFFSET($HY$2,SMALL(IF($HY$2:$HY$72<>\"\",ROW($HY$2:$HY$72),\"\"),ROW(HY47))-2,0)","v":{"$error":"#NUM!"}},{"$f":"OFFSET($HZ$2,SMALL(IF($HZ$2:$HZ$72<>\"\",ROW($HZ$2:$HZ$72),\"\"),ROW(HZ47))-2,0)","v":{"$error":"#NUM!"}},null,null,{"$f":"IF(AND(教学计划表!N63<>\"\",教学计划表!BE63<>\"\"),教学计划表!I63,\"\")","v":""},{"$f":"IF(教学计划表!BE63<>\"\",教学计划表!N63,\"\")","v":""},{"$f":"IF(IK48<>\"\",IF(SEARCH(\"5\",教学计划表!AB63&\"5\",1)<=LEN(教学计划表!AB63),\"考试\",\"考查\"),\"\")","v":""},{"$f":"IF(教学计划表!GL63<>0,教学计划表!GL63,\"\")","v":""},{"$f":"IF(教学计划表!GL63<>0,教学计划表!GQ63,\"\")","v":""},{"$f":"IF(教学计划表!GL63<>0,教学计划表!GR63,\"\")","v":""},{"$f":"IF(教学计划表!GL63<>0,教学计划表!PZ63,\"\")","v":""},{"$f":"OFFSET($IJ$2,SMALL(IF($IJ$2:$IJ$72<>\"\",ROW($IJ$2:$IJ$72),\"\"),ROW(IJ47))-2,0)","v":{"$error":"#NUM!"}},{"$f":"OFFSET($IK$2,SMALL(IF($IK$2:$IK$72<>\"\",ROW($IK$2:$IK$72),\"\"),ROW(IK47))-2,0)","v":{"$error":"#NUM!"}},{"$f":"OFFSET($IL$2,SMALL(IF($IL$2:$IL$72<>\"\",ROW($IL$2:$IL$72),\"\"),ROW(IL47))-2,0)","v":{"$error":"#NUM!"}},{"$f":"OFFSET($IM$2,SMALL(IF($IM$2:$IM$72<>\"\",ROW($IM$2:$IM$72),\"\"),ROW(IM47))-2,0)","v":{"$error":"#NUM!"}},{"$f":"OFFSET($IN$2,SMALL(IF($IN$2:$IN$72<>\"\",ROW($IN$2:$IN$72),\"\"),ROW(IN47))-2,0)","v":{"$error":"#NUM!"}},{"$f":"OFFSET($IO$2,SMALL(IF($IO$2:$IO$72<>\"\",ROW($IO$2:$IO$72),\"\"),ROW(IO47))-2,0)","v":{"$error":"#NUM!"}},{"$f":"OFFSET($IP$2,SMALL(IF($IP$2:$IP$72<>\"\",ROW($IP$2:$IP$72),\"\"),ROW(IP47))-2,0)","v":{"$error":"#NUM!"}},null,{"$f":"IF(AND(教学计划表!N63<>\"\",教学计划表!BH63<>\"\"),教学计划表!I63,\"\")","v":""},{"$f":"IF(教学计划表!BH63<>\"\",教学计划表!N63,\"\")","v":""},{"$f":"IF(教学计划表!BH63<>\"\",IF(SEARCH(\"6\",教学计划表!AB63&\"6\",1)<=LEN(教学计划表!AB63),\"考试\",\"考查\"),\"\")","v":""},{"$f":"IF(教学计划表!BH63<>0,教学计划表!HG63,\"\")","v":""},{"$f":"IF(教学计划表!BH63<>0,教学计划表!HL63,\"\")","v":""},{"$f":"IF(教学计划表!BH63<>0,教学计划表!HM63,\"\")","v":""},{"$f":"IF(教学计划表!BH63<>0,教学计划表!QL63,\"\")","v":""},{"$f":"OFFSET($IY$2,SMALL(IF($IY$2:$IY$72<>\"\",ROW($IY$2:$IY$72),\"\"),ROW(IY47))-2,0)","v":{"$error":"#NUM!"}},{"$f":"OFFSET($IZ$2,SMALL(IF($IZ$2:$IZ$72<>\"\",ROW($IZ$2:$IZ$72),\"\"),ROW(IZ47))-2,0)","v":{"$error":"#NUM!"}},{"$f":"OFFSET($JA$2,SMALL(IF($JA$2:$JA$72<>\"\",ROW($JA$2:$JA$72),\"\"),ROW(JA47))-2,0)","v":{"$error":"#NUM!"}},{"$f":"OFFSET($JB$2,SMALL(IF($JB$2:$JB$72<>\"\",ROW($JB$2:$JB$72),\"\"),ROW(JB47))-2,0)","v":{"$error":"#NUM!"}},{"$f":"OFFSET($JC$2,SMALL(IF($JC$2:$JC$72<>\"\",ROW($JC$2:$JC$72),\"\"),ROW(JC47))-2,0)","v":{"$error":"#NUM!"}},{"$f":"OFFSET($JD$2,SMALL(IF($JD$2:$JD$72<>\"\",ROW($JD$2:$JD$72),\"\"),ROW(JD47))-2,0)","v":{"$error":"#NUM!"}},{"$f":"OFFSET($JE$2,SMALL(IF($JE$2:$JE$72<>\"\",ROW($JE$2:$JE$72),\"\"),ROW(JE47))-2,0)","v":{"$error":"#NUM!"}}]
["","","","","","","",null,"","","",{"$f":"IF(ISERROR(自动生成的开课信息!HB49),\"\",自动生成的开课信息!HB49)","v":""},{"$f":"IF(ISERROR(自动生成的开课信息!HC49),\"\",自动生成的开课信息!HC49)","v":""},{"$f":"IF(ISERROR(自动生成的开课信息!HD49),\"\",自动生成的开课信息!HD49)","v":""},{"$f":"IF(ISERROR(自动生成的开课信息!HE49),\"\",自动生成的开课信息!HE49)","v":""},null,"","","","","","","",null,"","","","","","","",null,"","","","","","","",null,"","","","","","","",null,null,null,null,null,null,null,null,null,null,null,null,null,null,null,null,null,null,null,null,null,null,null,null,null,null,null,null,null,null,null,null,null,null,null,null,null,null,null,null,null,null,null,null,null,null,null,null,null,null,null,null,null,null,null,null,null,null,null,null,null,null,null,null,null,null,null,null,null,null,null,null,null,null,null,null,null,null,null,null,null,null,null,null,null,null,null,null,null,null,null,null,null,null,null,null,null,null,null,null,null,null,null,null,null,null,null,null,null,null,null,null,null,null,null,null,null,null,null,null,null,null,null,null,null,null,null,null,null,null,null,null,null,null,null,null,null,null,{"$f":"IF(AND(教学计划表!N64<>\"\",教学计划表!AS64<>\"\"),教学计划表!I64,\"\")","v":""},{"$f":"IF(教学计划表!AS64<>\"\",教学计划表!N64,\"\")","v":""},{"$f":"IF(GE49<>\"\",IF(SEARCH(\"1\",教学计划表!AB64&\"1\",1)<=LEN(教学计划表!AB64),\"考试\",\"考查\"),\"\")","v":""},{"$f":"IF(教学计划表!DG64<>0,教学计划表!DG64,\"\")","v":""},{"$f":"IF(教学计划表!DG64<>0,教学计划表!DL64,\"\")","v":""},{"$f":"IF(教学计划表!DG64<>0,教学计划表!DM64,\"\")","v":""},{"$f":"IF(教学计划表!DG64<>0,教学计划表!OE64,\"\")","v":""},{"$f":"OFFSET($GD$2,SMALL(IF($GD$2:$GD$72<>\"\",ROW($2:$72),\"\"),ROW(GD48))-2,0)","v":{"$error":"#NUM!"}},{"$f":"OFFSET($GE$2,SMALL(IF($GE$2:$GE$72<>\"\",ROW($2:$72),\"\"),ROW(GE48))-2,0)","v":{"$error":"#NUM!"}},{"$f":"OFFSET($GF$2,SMALL(IF($GF$2:$GF$72<>\"\",ROW($2:$72),\"\"),ROW(GF48))-2,0)","v":{"$error":"#NUM!"}},{"$f":"OFFSET($GG$2,SMALL(IF($GG$2:$GG$72<>\"\",ROW($2:$72),\"\"),ROW(GG48))-2,0)","v":{"$error":"#NUM!"}},{"$f":"OFFSET($GH$2,SMALL(IF($GH$2:$GH$72<>\"\",ROW($2:$72),\"\"),ROW(GH48))-2,0)","v":{"$error":"#NUM!"}},{"$error":"#NUM!"},{"$f":"OFFSET($GJ$2,SMALL(IF($GJ$2:$GJ$72<>\"\",ROW($2:$72),\"\"),ROW(GJ48))-2,0)","v":{"$error":"#NUM!"}},{"$f":"IF(AND(教学计划表!N64<>\"\",教学计划表!AV64<>\"\"),教学计划表!I64,\"\")","v":""},{"$f":"IF(教学计划表!AV64<>\"\",教学计划表!N64,\"\")","v":""},{"$f":"IF(GS49<>\"\",IF(SEARCH(\"2\",教学计划表!AB64&\"2\",1)<=LEN(教学计划表!AB64),\"考试\",\"考查\"),\"\")","v":""},{"$f":"IF(教学计划表!EA64<>0,教学计划表!EA64,\"\")","v":""},{"$f":"IF(教学计划表!EA64<>0,教学计划表!EF64,\"\")","v":""},{"$f":"IF(教学计划表!EA64<>0,教学计划表!EG64,\"\")","v":""},{"$f":"IF(教学计划表!EA64<>0,教学计划表!OQ64,\"\")","v":""},{"$f":"OFFSET($GR$2,SMALL(IF($GR$2:$GR$72<>\"\",ROW($I$2:$K$72),\"\"),ROW(GR48))-2,0)","v":{"$error":"#NUM!"}},{"$f":"OFFSET($GS$2,SMALL(IF($GS$2:$GS$72<>\"\",ROW($I$2:$K$72),\"\"),ROW(GS48))-2,0)","v":{"$error":"#NUM!"}},{"$f":"OFFSET($GT$2,SMALL(IF($GT$2:$GT$72<>\"\",ROW($I$2:$K$72),\"\"),ROW(GT48))-2,0)","v":{"$error":"#NUM!"}},{"$f":"OFFSET($GU$2,SMALL(IF($GU$2:$GU$72<>\"\",ROW($I$2:$K$72),\"\"),ROW(GU48))-2,0)","v":{"$error":"#NUM!"}},{"$f":"OFFSET($GV$2,SMALL(IF($GV$2:$GV$72<>\"\",ROW($GV$2:$GV$72),\"\"),ROW(GV48))-2,0)","v":{"$error":"#NUM!"}},{"$f":"OFFSET($GW$2,SMALL(IF($GW$2:$GW$72<>\"\",ROW($GW$2:$GW$72),\"\"),ROW(GW48))-2,0)","v":{"$error":"#NUM!"}},{"$f":"OFFSET($GX$2,SMALL(IF($GX$2:$GX$72<>\"\",ROW($GX$2:$GX$72),\"\"),ROW(GX48))-2,0)","v":{"$error":"#NUM!"}},{"$f":"IF(AND(教学计划表!N64<>\"\",教学计划表!AY64<>\"\"),教学计划表!I64,\"\")","v":""},{"$f":"IF(教学计划表!AY64<>\"\",教学计划表!N64,\"\")","v":""},{"$f":"IF(HG49<>\"\",IF(SEARCH(\"3\",教学计划表!AB64&\"3\",1)<=LEN(教学计划表!AB64),\"考试\",\"考查\"),\"\")","v":""},{"$f":"IF(教学计划表!EV64<>0,教学计划表!EV64,\"\")","v":""},{"$f":"IF(教学计划表!EV64<>0,教学计划表!FA64,\"\")","v":""},{"$f":"IF(教学计划表!EV64<>0,教学计划表!FB64,\"\")","v":""},{"$f":"IF(教学计划表!EV64<>0,教学计划表!PC64,\"\")","v":""},{"$f":"OFFSET($HF$2,SMALL(IF($HF$2:$HF$72<>\"\",ROW($HF$2:$HF$72),\"\"),ROW(HF48))-2,0)","v":{"$error":"#NUM!"}},{"$f":"OFFSET($HG$2,SMALL(IF($HG$2:$HG$72<>\"\",ROW($HG$2:$HG$72),\"\"),ROW(HG48))-2,0)","v":{"$error":"#NUM!"}},{"$f":"OFFSET($HH$2,SMALL(IF($HH$2:$HH$72<>\"\",ROW($HH$2:$HH$72),\"\"),ROW(HH48))-2,0)","v":{"$error":"#NUM!"}},{"$f":"OFFSET($HI$2,SMALL(IF($HI$2:$HI$72<>\"\",ROW($HI$2:$HI$72),\"\"),ROW(HI48))-2,0)","v":{"$error":"#NUM!"}},{"$f":"OFFSET($HJ$2,SMALL(IF($HJ$2:$HJ$72<>\"\",ROW($HJ$2:$HJ$72),\"\"),ROW(HJ48))-2,0)","v":{"$error":"#NUM!"}},{"$f":"OFFSET($HK$2,SMALL(IF($HK$2:$HK$72<>\"\",ROW($HK$2:$HK$72),\"\"),ROW(HK48))-2,0)","v":{"$error":"#NUM!"}},{"$f":"OFFSET($HL$2,SMALL(IF($HL$2:$HL$72<>\"\",ROW($HL$2:$HL$72),\"\"),ROW(HL48))-2,0)","v":{"$error":"#NUM!"}},{"$f":"IF(AND(教学计划表!N64<>\"\",教学计划表!BB64<>\"\"),教学计划表!I64,\"\")","v":""},{"$f":"IF(教学计划表!BB64<>\"\",教学计划表!N64,\"\")","v":""},{"$f":"IF(HU49<>\"\",IF(SEARCH(\"4\",教学计划表!AB64&\"4\",1)<=LEN(教学计划表!AB64),\"考试\",\"考查\"),\"\")","v":""},{"$f":"IF(教学计划表!FQ64<>0,教学计划表!FQ64,\"\")","v":""},{"$f":"IF(教学计划表!FQ64<>0,教学计划表!FV64,\"\")","v":""},{"$f":"IF(教学计划表!FQ64<>0,教学计划表!FW64,\"\")","v":""},{"$f":"IF(教学计划表!FQ64<>0,教学计划表!PO64,\"\")","v":""},{"$f":"OFFSET($HT$2,SMALL(IF($HT$2:$HT$72<>\"\",ROW($HT$2:$HT$72),\"\"),ROW(HT48))-2,0)","v":{"$error":"#NUM!"}},{"$f":"OFFSET($HU$2,SMALL(IF($HU$2:$HU$72<>\"\",ROW($HU$2:$HU$72),\"\"),ROW(HU48))-2,0)","v":{"$error":"#NUM!"}},{"$f":"OFFSET($HV$2,SMALL(IF($HV$2:$HV$72<>\"\",ROW($HV$2:$HV$72),\"\"),ROW(HV48))-2,0)","v":{"$error":"#NUM!"}},{"$f":"OFFSET($HW$2,SMALL(IF($HW$2:$HW$72<>\"\",ROW($HW$2:$HW$72),\"\"),ROW(HW48))-2,0)","v":{"$error":"#NUM!"}},{"$f":"OFFSET($HX$2,SMALL(IF($HX$2:$HX$72<>\"\",ROW($HX$2:$HX$72),\"\"),ROW(HX48))-2,0)","v":{"$error":"#NUM!"}},{"$f":"OFFSET($HY$2,SMALL(IF($HY$2:$HY$72<>\"\",ROW($HY$2:$HY$72),\"\"),ROW(HY48))-2,0)","v":{"$error":"#NUM!"}},{"$f":"OFFSET($HZ$2,SMALL(IF($HZ$2:$HZ$72<>\"\",ROW($HZ$2:$HZ$72),\"\"),ROW(HZ48))-2,0)","v":{"$error":"#NUM!"}},null,null,{"$f":"IF(AND(教学计划表!N64<>\"\",教学计划表!BE64<>\"\"),教学计划表!I64,\"\")","v":""},{"$f":"IF(教学计划表!BE64<>\"\",教学计划表!N64,\"\")","v":""},{"$f":"IF(IK49<>\"\",IF(SEARCH(\"5\",教学计划表!AB64&\"5\",1)<=LEN(教学计划表!AB64),\"考试\",\"考查\"),\"\")","v":""},{"$f":"IF(教学计划表!GL64<>0,教学计划表!GL64,\"\")","v":""},{"$f":"IF(教学计划表!GL64<>0,教学计划表!GQ64,\"\")","v":""},{"$f":"IF(教学计划表!GL64<>0,教学计划表!GR64,\"\")","v":""},{"$f":"IF(教学计划表!GL64<>0,教学计划表!PZ64,\"\")","v":""},{"$f":"OFFSET($IJ$2,SMALL(IF($IJ$2:$IJ$72<>\"\",ROW($IJ$2:$IJ$72),\"\"),ROW(IJ48))-2,0)","v":{"$error":"#NUM!"}},{"$f":"OFFSET($IK$2,SMALL(IF($IK$2:$IK$72<>\"\",ROW($IK$2:$IK$72),\"\"),ROW(IK48))-2,0)","v":{"$error":"#NUM!"}},{"$f":"OFFSET($IL$2,SMALL(IF($IL$2:$IL$72<>\"\",ROW($IL$2:$IL$72),\"\"),ROW(IL48))-2,0)","v":{"$error":"#NUM!"}},{"$f":"OFFSET($IM$2,SMALL(IF($IM$2:$IM$72<>\"\",ROW($IM$2:$IM$72),\"\"),ROW(IM48))-2,0)","v":{"$error":"#NUM!"}},{"$f":"OFFSET($IN$2,SMALL(IF($IN$2:$IN$72<>\"\",ROW($IN$2:$IN$72),\"\"),ROW(IN48))-2,0)","v":{"$error":"#NUM!"}},{"$f":"OFFSET($IO$2,SMALL(IF($IO$2:$IO$72<>\"\",ROW($IO$2:$IO$72),\"\"),ROW(IO48))-2,0)","v":{"$error":"#NUM!"}},{"$f":"OFFSET($IP$2,SMALL(IF($IP$2:$IP$72<>\"\",ROW($IP$2:$IP$72),\"\"),ROW(IP48))-2,0)","v":{"$error":"#NUM!"}},null,{"$f":"IF(AND(教学计划表!N64<>\"\",教学计划表!BH64<>\"\"),教学计划表!I64,\"\")","v":""},{"$f":"IF(教学计划表!BH64<>\"\",教学计划表!N64,\"\")","v":""},{"$f":"IF(教学计划表!BH64<>\"\",IF(SEARCH(\"6\",教学计划表!AB64&\"6\",1)<=LEN(教学计划表!AB64),\"考试\",\"考查\"),\"\")","v":""},{"$f":"IF(教学计划表!BH64<>0,教学计划表!HG64,\"\")","v":""},{"$f":"IF(教学计划表!BH64<>0,教学计划表!HL64,\"\")","v":""},{"$f":"IF(教学计划表!BH64<>0,教学计划表!HM64,\"\")","v":""},{"$f":"IF(教学计划表!BH64<>0,教学计划表!QL64,\"\")","v":""},{"$f":"OFFSET($IY$2,SMALL(IF($IY$2:$IY$72<>\"\",ROW($IY$2:$IY$72),\"\"),ROW(IY48))-2,0)","v":{"$error":"#NUM!"}},{"$f":"OFFSET($IZ$2,SMALL(IF($IZ$2:$IZ$72<>\"\",ROW($IZ$2:$IZ$72),\"\"),ROW(IZ48))-2,0)","v":{"$error":"#NUM!"}},{"$f":"OFFSET($JA$2,SMALL(IF($JA$2:$JA$72<>\"\",ROW($JA$2:$JA$72),\"\"),ROW(JA48))-2,0)","v":{"$error":"#NUM!"}},{"$f":"OFFSET($JB$2,SMALL(IF($JB$2:$JB$72<>\"\",ROW($JB$2:$JB$72),\"\"),ROW(JB48))-2,0)","v":{"$error":"#NUM!"}},{"$f":"OFFSET($JC$2,SMALL(IF($JC$2:$JC$72<>\"\",ROW($JC$2:$JC$72),\"\"),ROW(JC48))-2,0)","v":{"$error":"#NUM!"}},{"$f":"OFFSET($JD$2,SMALL(IF($JD$2:$JD$72<>\"\",ROW($JD$2:$JD$72),\"\"),ROW(JD48))-2,0)","v":{"$error":"#NUM!"}},{"$f":"OFFSET($JE$2,SMALL(IF($JE$2:$JE$72<>\"\",ROW($JE$2:$JE$72),\"\"),ROW(JE48))-2,0)","v":{"$error":"#NUM!"}}]
["","","","","","","",null,"","","",{"$f":"IF(ISERROR(自动生成的开课信息!HB50),\"\",自动生成的开课信息!HB50)","v":""},{"$f":"IF(ISERROR(自动生成的开课信息!HC50),\"\",自动生成的开课信息!HC50)","v":""},{"$f":"IF(ISERROR(自动生成的开课信息!HD50),\"\",自动生成的开课信息!HD50)","v":""},{"$f":"IF(ISERROR(自动生成的开课信息!HE50),\"\",自动生成的开课信息!HE50)","v":""},null,"","","","","","","",null,"","","","","","","",null,"","","","","","","",null,"","","","","","","",null,null,null,null,null,null,null,null,null,null,null,null,null,null,null,null,null,null,null,null,null,null,null,null,null,null,null,null,null,null,null,null,null,null,null,null,null,null,null,null,null,null,null,null,null,null,null,null,null,null,null,null,null,null,null,null,null,null,null,null,null,null,null,null,null,null,null,null,null,null,null,null,null,null,null,null,null,null,null,null,null,null,null,null,null,null,null,null,null,null,null,null,null,null,null,null,null,null,null,null,null,null,null,null,null,null,null,null,null,null,null,null,null,null,null,null,null,null,null,null,null,null,null,null,null,null,null,null,null,null,null,null,null,null,null,null,null,null,{"$f":"IF(AND(教学计划表!N65<>\"\",教学计划表!AS65<>\"\"),教学计划表!I65,\"\")","v":""},{"$f":"IF(教学计划表!AS65<>\"\",教学计划表!N65,\"\")","v":""},{"$f":"IF(GE50<>\"\",IF(SEARCH(\"1\",教学计划表!AB65&\"1\",1)<=LEN(教学计划表!AB65),\"考试\",\"考查\"),\"\")","v":""},{"$f":"IF(教学计划表!DG65<>0,教学计划表!DG65,\"\")","v":""},{"$f":"IF(教学计划表!DG65<>0,教学计划表!DL65,\"\")","v":""},{"$f":"IF(教学计划表!DG65<>0,教学计划表!DM65,\"\")","v":""},{"$f":"IF(教学计划表!DG65<>0,教学计划表!OE65,\"\")","v":""},{"$f":"OFFSET($GD$2,SMALL(IF($GD$2:$GD$72<>\"\",ROW($2:$72),\"\"),ROW(GD49))-2,0)","v":{"$error":"#NUM!"}},{"$f":"OFFSET($GE$2,SMALL(IF($GE$2:$GE$72<>\"\",ROW($2:$72),\"\"),ROW(GE49))-2,0)","v":{"$error":"#NUM!"}},{"$f":"OFFSET($GF$2,SMALL(IF($GF$2:$GF$72<>\"\",ROW($2:$72),\"\"),ROW(GF49))-2,0)","v":{"$error":"#NUM!"}},{"$f":"OFFSET($GG$2,SMALL(IF($GG$2:$GG$72<>\"\",ROW($2:$72),\"\"),ROW(GG49))-2,0)","v":{"$error":"#NUM!"}},{"$f":"OFFSET($GH$2,SMALL(IF($GH$2:$GH$72<>\"\",ROW($2:$72),\"\"),ROW(GH49))-2,0)","v":{"$error":"#NUM!"}},{"$error":"#NUM!"},{"$f":"OFFSET($GJ$2,SMALL(IF($GJ$2:$GJ$72<>\"\",ROW($2:$72),\"\"),ROW(GJ49))-2,0)","v":{"$error":"#NUM!"}},{"$f":"IF(AND(教学计划表!N65<>\"\",教学计划表!AV65<>\"\"),教学计划表!I65,\"\")","v":""},{"$f":"IF(教学计划表!AV65<>\"\",教学计划表!N65,\"\")","v":""},{"$f":"IF(GS50<>\"\",IF(SEARCH(\"2\",教学计划表!AB65&\"2\",1)<=LEN(教学计划表!AB65),\"考试\",\"考查\"),\"\")","v":""},{"$f":"IF(教学计划表!EA65<>0,教学计划表!EA65,\"\")","v":""},{"$f":"IF(教学计划表!EA65<>0,教学计划表!EF65,\"\")","v":""},{"$f":"IF(教学计划表!EA65<>0,教学计划表!EG65,\"\")","v":""},{"$f":"IF(教学计划表!EA65<>0,教学计划表!OQ65,\"\")","v":""},{"$f":"OFFSET($GR$2,SMALL(IF($GR$2:$GR$72<>\"\",ROW($I$2:$K$72),\"\"),ROW(GR49))-2,0)","v":{"$error":"#NUM!"}},{"$f":"OFFSET($GS$2,SMALL(IF($GS$2:$GS$72<>\"\",ROW($I$2:$K$72),\"\"),ROW(GS49))-2,0)","v":{"$error":"#NUM!"}},{"$f":"OFFSET($GT$2,SMALL(IF($GT$2:$GT$72<>\"\",ROW($I$2:$K$72),\"\"),ROW(GT49))-2,0)","v":{"$error":"#NUM!"}},{"$f":"OFFSET($GU$2,SMALL(IF($GU$2:$GU$72<>\"\",ROW($I$2:$K$72),\"\"),ROW(GU49))-2,0)","v":{"$error":"#NUM!"}},{"$f":"OFFSET($GV$2,SMALL(IF($GV$2:$GV$72<>\"\",ROW($GV$2:$GV$72),\"\"),ROW(GV49))-2,0)","v":{"$error":"#NUM!"}},{"$f":"OFFSET($GW$2,SMALL(IF($GW$2:$GW$72<>\"\",ROW($GW$2:$GW$72),\"\"),ROW(GW49))-2,0)","v":{"$error":"#NUM!"}},{"$f":"OFFSET($GX$2,SMALL(IF($GX$2:$GX$72<>\"\",ROW($GX$2:$GX$72),\"\"),ROW(GX49))-2,0)","v":{"$error":"#NUM!"}},{"$f":"IF(AND(教学计划表!N65<>\"\",教学计划表!AY65<>\"\"),教学计划表!I65,\"\")","v":""},{"$f":"IF(教学计划表!AY65<>\"\",教学计划表!N65,\"\")","v":""},{"$f":"IF(HG50<>\"\",IF(SEARCH(\"3\",教学计划表!AB65&\"3\",1)<=LEN(教学计划表!AB65),\"考试\",\"考查\"),\"\")","v":""},{"$f":"IF(教学计划表!EV65<>0,教学计划表!EV65,\"\")","v":""},{"$f":"IF(教学计划表!EV65<>0,教学计划表!FA65,\"\")","v":""},{"$f":"IF(教学计划表!EV65<>0,教学计划表!FB65,\"\")","v":""},{"$f":"IF(教学计划表!EV65<>0,教学计划表!PC65,\"\")","v":""},{"$f":"OFFSET($HF$2,SMALL(IF($HF$2:$HF$72<>\"\",ROW($HF$2:$HF$72),\"\"),ROW(HF49))-2,0)","v":{"$error":"#NUM!"}},{"$f":"OFFSET($HG$2,SMALL(IF($HG$2:$HG$72<>\"\",ROW($HG$2:$HG$72),\"\"),ROW(HG49))-2,0)","v":{"$error":"#NUM!"}},{"$f":"OFFSET($HH$2,SMALL(IF($HH$2:$HH$72<>\"\",ROW($HH$2:$HH$72),\"\"),ROW(HH49))-2,0)","v":{"$error":"#NUM!"}},{"$f":"OFFSET($HI$2,SMALL(IF($HI$2:$HI$72<>\"\",ROW($HI$2:$HI$72),\"\"),ROW(HI49))-2,0)","v":{"$error":"#NUM!"}},{"$f":"OFFSET($HJ$2,SMALL(IF($HJ$2:$HJ$72<>\"\",ROW($HJ$2:$HJ$72),\"\"),ROW(HJ49))-2,0)","v":{"$error":"#NUM!"}},{"$f":"OFFSET($HK$2,SMALL(IF($HK$2:$HK$72<>\"\",ROW($HK$2:$HK$72),\"\"),ROW(HK49))-2,0)","v":{"$error":"#NUM!"}},{"$f":"OFFSET($HL$2,SMALL(IF($HL$2:$HL$72<>\"\",ROW($HL$2:$HL$72),\"\"),ROW(HL49))-2,0)","v":{"$error":"#NUM!"}},{"$f":"IF(AND(教学计划表!N65<>\"\",教学计划表!BB65<>\"\"),教学计划表!I65,\"\")","v":""},{"$f":"IF(教学计划表!BB65<>\"\",教学计划表!N65,\"\")","v":""},{"$f":"IF(HU50<>\"\",IF(SEARCH(\"4\",教学计划表!AB65&\"4\",1)<=LEN(教学计划表!AB65),\"考试\",\"考查\"),\"\")","v":""},{"$f":"IF(教学计划表!FQ65<>0,教学计划表!FQ65,\"\")","v":""},{"$f":"IF(教学计划表!FQ65<>0,教学计划表!FV65,\"\")","v":""},{"$f":"IF(教学计划表!FQ65<>0,教学计划表!FW65,\"\")","v":""},{"$f":"IF(教学计划表!FQ65<>0,教学计划表!PO65,\"\")","v":""},{"$f":"OFFSET($HT$2,SMALL(IF($HT$2:$HT$72<>\"\",ROW($HT$2:$HT$72),\"\"),ROW(HT49))-2,0)","v":{"$error":"#NUM!"}},{"$f":"OFFSET($HU$2,SMALL(IF($HU$2:$HU$72<>\"\",ROW($HU$2:$HU$72),\"\"),ROW(HU49))-2,0)","v":{"$error":"#NUM!"}},{"$f":"OFFSET($HV$2,SMALL(IF($HV$2:$HV$72<>\"\",ROW($HV$2:$HV$72),\"\"),ROW(HV49))-2,0)","v":{"$error":"#NUM!"}},{"$f":"OFFSET($HW$2,SMALL(IF($HW$2:$HW$72<>\"\",ROW($HW$2:$HW$72),\"\"),ROW(HW49))-2,0)","v":{"$error":"#NUM!"}},{"$f":"OFFSET($HX$2,SMALL(IF($HX$2:$HX$72<>\"\",ROW($HX$2:$HX$72),\"\"),ROW(HX49))-2,0)","v":{"$error":"#NUM!"}},{"$f":"OFFSET($HY$2,SMALL(IF($HY$2:$HY$72<>\"\",ROW($HY$2:$HY$72),\"\"),ROW(HY49))-2,0)","v":{"$error":"#NUM!"}},{"$f":"OFFSET($HZ$2,SMALL(IF($HZ$2:$HZ$72<>\"\",ROW($HZ$2:$HZ$72),\"\"),ROW(HZ49))-2,0)","v":{"$error":"#NUM!"}},null,null,{"$f":"IF(AND(教学计划表!N65<>\"\",教学计划表!BE65<>\"\"),教学计划表!I65,\"\")","v":""},{"$f":"IF(教学计划表!BE65<>\"\",教学计划表!N65,\"\")","v":""},{"$f":"IF(IK50<>\"\",IF(SEARCH(\"5\",教学计划表!AB65&\"5\",1)<=LEN(教学计划表!AB65),\"考试\",\"考查\"),\"\")","v":""},{"$f":"IF(教学计划表!GL65<>0,教学计划表!GL65,\"\")","v":""},{"$f":"IF(教学计划表!GL65<>0,教学计划表!GQ65,\"\")","v":""},{"$f":"IF(教学计划表!GL65<>0,教学计划表!GR65,\"\")","v":""},{"$f":"IF(教学计划表!GL65<>0,教学计划表!PZ65,\"\")","v":""},{"$f":"OFFSET($IJ$2,SMALL(IF($IJ$2:$IJ$72<>\"\",ROW($IJ$2:$IJ$72),\"\"),ROW(IJ49))-2,0)","v":{"$error":"#NUM!"}},{"$f":"OFFSET($IK$2,SMALL(IF($IK$2:$IK$72<>\"\",ROW($IK$2:$IK$72),\"\"),ROW(IK49))-2,0)","v":{"$error":"#NUM!"}},{"$f":"OFFSET($IL$2,SMALL(IF($IL$2:$IL$72<>\"\",ROW($IL$2:$IL$72),\"\"),ROW(IL49))-2,0)","v":{"$error":"#NUM!"}},{"$f":"OFFSET($IM$2,SMALL(IF($IM$2:$IM$72<>\"\",ROW($IM$2:$IM$72),\"\"),ROW(IM49))-2,0)","v":{"$error":"#NUM!"}},{"$f":"OFFSET($IN$2,SMALL(IF($IN$2:$IN$72<>\"\",ROW($IN$2:$IN$72),\"\"),ROW(IN49))-2,0)","v":{"$error":"#NUM!"}},{"$f":"OFFSET($IO$2,SMALL(IF($IO$2:$IO$72<>\"\",ROW($IO$2:$IO$72),\"\"),ROW(IO49))-2,0)","v":{"$error":"#NUM!"}},{"$f":"OFFSET($IP$2,SMALL(IF($IP$2:$IP$72<>\"\",ROW($IP$2:$IP$72),\"\"),ROW(IP49))-2,0)","v":{"$error":"#NUM!"}},null,{"$f":"IF(AND(教学计划表!N65<>\"\",教学计划表!BH65<>\"\"),教学计划表!I65,\"\")","v":""},{"$f":"IF(教学计划表!BH65<>\"\",教学计划表!N65,\"\")","v":""},{"$f":"IF(教学计划表!BH65<>\"\",IF(SEARCH(\"6\",教学计划表!AB65&\"6\",1)<=LEN(教学计划表!AB65),\"考试\",\"考查\"),\"\")","v":""},{"$f":"IF(教学计划表!BH65<>0,教学计划表!HG65,\"\")","v":""},{"$f":"IF(教学计划表!BH65<>0,教学计划表!HL65,\"\")","v":""},{"$f":"IF(教学计划表!BH65<>0,教学计划表!HM65,\"\")","v":""},{"$f":"IF(教学计划表!BH65<>0,教学计划表!QL65,\"\")","v":""},{"$f":"OFFSET($IY$2,SMALL(IF($IY$2:$IY$72<>\"\",ROW($IY$2:$IY$72),\"\"),ROW(IY49))-2,0)","v":{"$error":"#NUM!"}},{"$f":"OFFSET($IZ$2,SMALL(IF($IZ$2:$IZ$72<>\"\",ROW($IZ$2:$IZ$72),\"\"),ROW(IZ49))-2,0)","v":{"$error":"#NUM!"}},{"$f":"OFFSET($JA$2,SMALL(IF($JA$2:$JA$72<>\"\",ROW($JA$2:$JA$72),\"\"),ROW(JA49))-2,0)","v":{"$error":"#NUM!"}},{"$f":"OFFSET($JB$2,SMALL(IF($JB$2:$JB$72<>\"\",ROW($JB$2:$JB$72),\"\"),ROW(JB49))-2,0)","v":{"$error":"#NUM!"}},{"$f":"OFFSET($JC$2,SMALL(IF($JC$2:$JC$72<>\"\",ROW($JC$2:$JC$72),\"\"),ROW(JC49))-2,0)","v":{"$error":"#NUM!"}},{"$f":"OFFSET($JD$2,SMALL(IF($JD$2:$JD$72<>\"\",ROW($JD$2:$JD$72),\"\"),ROW(JD49))-2,0)","v":{"$error":"#NUM!"}},{"$f":"OFFSET($JE$2,SMALL(IF($JE$2:$JE$72<>\"\",ROW($JE$2:$JE$72),\"\"),ROW(JE49))-2,0)","v":{"$error":"#NUM!"}}]
["","","","","","","",null,"","","",{"$f":"IF(ISERROR(自动生成的开课信息!HB51),\"\",自动生成的开课信息!HB51)","v":""},{"$f":"IF(ISERROR(自动生成的开课信息!HC51),\"\",自动生成的开课信息!HC51)","v":""},{"$f":"IF(ISERROR(自动生成的开课信息!HD51),\"\",自动生成的开课信息!HD51)","v":""},{"$f":"IF(ISERROR(自动生成的开课信息!HE51),\"\",自动生成的开课信息!HE51)","v":""},null,"","","","","","","",null,"","","","","","","",null,"","","","","","","",null,"","","","","","","",null,null,null,null,null,null,null,null,null,null,null,null,null,null,null,null,null,null,null,null,null,null,null,null,null,null,null,null,null,null,null,null,null,null,null,null,null,null,null,null,null,null,null,null,null,null,null,null,null,null,null,null,null,null,null,null,null,null,null,null,null,null,null,null,null,null,null,null,null,null,null,null,null,null,null,null,null,null,null,null,null,null,null,null,null,null,null,null,null,null,null,null,null,null,null,null,null,null,null,null,null,null,null,null,null,null,null,null,null,null,null,null,null,null,null,null,null,null,null,null,null,null,null,null,null,null,null,null,null,null,null,null,null,null,null,null,null,null,{"$f":"IF(AND(教学计划表!N66<>\"\",教学计划表!AS66<>\"\"),教学计划表!I66,\"\")","v":""},{"$f":"IF(教学计划表!AS66<>\"\",教学计划表!N66,\"\")","v":""},{"$f":"IF(GE51<>\"\",IF(SEARCH(\"1\",教学计划表!AB66&\"1\",1)<=LEN(教学计划表!AB66),\"考试\",\"考查\"),\"\")","v":""},{"$f":"IF(教学计划表!DG66<>0,教学计划表!DG66,\"\")","v":""},{"$f":"IF(教学计划表!DG66<>0,教学计划表!DL66,\"\")","v":""},{"$f":"IF(教学计划表!DG66<>0,教学计划表!DM66,\"\")","v":""},{"$f":"IF(教学计划表!DG66<>0,教学计划表!OE66,\"\")","v":""},{"$f":"OFFSET($GD$2,SMALL(IF($GD$2:$GD$72<>\"\",ROW($2:$72),\"\"),ROW(GD50))-2,0)","v":{"$error":"#NUM!"}},{"$f":"OFFSET($GE$2,SMALL(IF($GE$2:$GE$72<>\"\",ROW($2:$72),\"\"),ROW(GE50))-2,0)","v":{"$error":"#NUM!"}},{"$f":"OFFSET($GF$2,SMALL(IF($GF$2:$GF$72<>\"\",ROW($2:$72),\"\"),ROW(GF50))-2,0)","v":{"$error":"#NUM!"}},{"$f":"OFFSET($GG$2,SMALL(IF($GG$2:$GG$72<>\"\",ROW($2:$72),\"\"),ROW(GG50))-2,0)","v":{"$error":"#NUM!"}},{"$f":"OFFSET($GH$2,SMALL(IF($GH$2:$GH$72<>\"\",ROW($2:$72),\"\"),ROW(GH50))-2,0)","v":{"$error":"#NUM!"}},{"$error":"#NUM!"},{"$f":"OFFSET($GJ$2,SMALL(IF($GJ$2:$GJ$72<>\"\",ROW($2:$72),\"\"),ROW(GJ50))-2,0)","v":{"$error":"#NUM!"}},{"$f":"IF(AND(教学计划表!N66<>\"\",教学计划表!AV66<>\"\"),教学计划表!I66,\"\")","v":""},{"$f":"IF(教学计划表!AV66<>\"\",教学计划表!N66,\"\")","v":""},{"$f":"IF(GS51<>\"\",IF(SEARCH(\"2\",教学计划表!AB66&\"2\",1)<=LEN(教学计划表!AB66),\"考试\",\"考查\"),\"\")","v":""},{"$f":"IF(教学计划表!EA66<>0,教学计划表!EA66,\"\")","v":""},{"$f":"IF(教学计划表!EA66<>0,教学计划表!EF66,\"\")","v":""},{"$f":"IF(教学计划表!EA66<>0,教学计划表!EG66,\"\")","v":""},{"$f":"IF(教学计划表!EA66<>0,教学计划表!OQ66,\"\")","v":""},{"$f":"OFFSET($GR$2,SMALL(IF($GR$2:$GR$72<>\"\",ROW($I$2:$K$72),\"\"),ROW(GR50))-2,0)","v":{"$error":"#NUM!"}},{"$f":"OFFSET($GS$2,SMALL(IF($GS$2:$GS$72<>\"\",ROW($I$2:$K$72),\"\"),ROW(GS50))-2,0)","v":{"$error":"#NUM!"}},{"$f":"OFFSET($GT$2,SMALL(IF($GT$2:$GT$72<>\"\",ROW($I$2:$K$72),\"\"),ROW(GT50))-2,0)","v":{"$error":"#NUM!"}},{"$f":"OFFSET($GU$2,SMALL(IF($GU$2:$GU$72<>\"\",ROW($I$2:$K$72),\"\"),ROW(GU50))-2,0)","v":{"$error":"#NUM!"}},{"$f":"OFFSET($GV$2,SMALL(IF($GV$2:$GV$72<>\"\",ROW($GV$2:$GV$72),\"\"),ROW(GV50))-2,0)","v":{"$error":"#NUM!"}},{"$f":"OFFSET($GW$2,SMALL(IF($GW$2:$GW$72<>\"\",ROW($GW$2:$GW$72),\"\"),ROW(GW50))-2,0)","v":{"$error":"#NUM!"}},{"$f":"OFFSET($GX$2,SMALL(IF($GX$2:$GX$72<>\"\",ROW($GX$2:$GX$72),\"\"),ROW(GX50))-2,0)","v":{"$error":"#NUM!"}},{"$f":"IF(AND(教学计划表!N66<>\"\",教学计划表!AY66<>\"\"),教学计划表!I66,\"\")","v":""},{"$f":"IF(教学计划表!AY66<>\"\",教学计划表!N66,\"\")","v":""},{"$f":"IF(HG51<>\"\",IF(SEARCH(\"3\",教学计划表!AB66&\"3\",1)<=LEN(教学计划表!AB66),\"考试\",\"考查\"),\"\")","v":""},{"$f":"IF(教学计划表!EV66<>0,教学计划表!EV66,\"\")","v":""},{"$f":"IF(教学计划表!EV66<>0,教学计划表!FA66,\"\")","v":""},{"$f":"IF(教学计划表!EV66<>0,教学计划表!FB66,\"\")","v":""},{"$f":"IF(教学计划表!EV66<>0,教学计划表!PC66,\"\")","v":""},{"$f":"OFFSET($HF$2,SMALL(IF($HF$2:$HF$72<>\"\",ROW($HF$2:$HF$72),\"\"),ROW(HF50))-2,0)","v":{"$error":"#NUM!"}},{"$f":"OFFSET($HG$2,SMALL(IF($HG$2:$HG$72<>\"\",ROW($HG$2:$HG$72),\"\"),ROW(HG50))-2,0)","v":{"$error":"#NUM!"}},{"$f":"OFFSET($HH$2,SMALL(IF($HH$2:$HH$72<>\"\",ROW($HH$2:$HH$72),\"\"),ROW(HH50))-2,0)","v":{"$error":"#NUM!"}},{"$f":"OFFSET($HI$2,SMALL(IF($HI$2:$HI$72<>\"\",ROW($HI$2:$HI$72),\"\"),ROW(HI50))-2,0)","v":{"$error":"#NUM!"}},{"$f":"OFFSET($HJ$2,SMALL(IF($HJ$2:$HJ$72<>\"\",ROW($HJ$2:$HJ$72),\"\"),ROW(HJ50))-2,0)","v":{"$error":"#NUM!"}},{"$f":"OFFSET($HK$2,SMALL(IF($HK$2:$HK$72<>\"\",ROW($HK$2:$HK$72),\"\"),ROW(HK50))-2,0)","v":{"$error":"#NUM!"}},{"$f":"OFFSET($HL$2,SMALL(IF($HL$2:$HL$72<>\"\",ROW($HL$2:$HL$72),\"\"),ROW(HL50))-2,0)","v":{"$error":"#NUM!"}},{"$f":"IF(AND(教学计划表!N66<>\"\",教学计划表!BB66<>\"\"),教学计划表!I66,\"\")","v":""},{"$f":"IF(教学计划表!BB66<>\"\",教学计划表!N66,\"\")","v":""},{"$f":"IF(HU51<>\"\",IF(SEARCH(\"4\",教学计划表!AB66&\"4\",1)<=LEN(教学计划表!AB66),\"考试\",\"考查\"),\"\")","v":""},{"$f":"IF(教学计划表!FQ66<>0,教学计划表!FQ66,\"\")","v":""},{"$f":"IF(教学计划表!FQ66<>0,教学计划表!FV66,\"\")","v":""},{"$f":"IF(教学计划表!FQ66<>0,教学计划表!FW66,\"\")","v":""},{"$f":"IF(教学计划表!FQ66<>0,教学计划表!PO66,\"\")","v":""},{"$f":"OFFSET($HT$2,SMALL(IF($HT$2:$HT$72<>\"\",ROW($HT$2:$HT$72),\"\"),ROW(HT50))-2,0)","v":{"$error":"#NUM!"}},{"$f":"OFFSET($HU$2,SMALL(IF($HU$2:$HU$72<>\"\",ROW($HU$2:$HU$72),\"\"),ROW(HU50))-2,0)","v":{"$error":"#NUM!"}},{"$f":"OFFSET($HV$2,SMALL(IF($HV$2:$HV$72<>\"\",ROW($HV$2:$HV$72),\"\"),ROW(HV50))-2,0)","v":{"$error":"#NUM!"}},{"$f":"OFFSET($HW$2,SMALL(IF($HW$2:$HW$72<>\"\",ROW($HW$2:$HW$72),\"\"),ROW(HW50))-2,0)","v":{"$error":"#NUM!"}},{"$f":"OFFSET($HX$2,SMALL(IF($HX$2:$HX$72<>\"\",ROW($HX$2:$HX$72),\"\"),ROW(HX50))-2,0)","v":{"$error":"#NUM!"}},{"$f":"OFFSET($HY$2,SMALL(IF($HY$2:$HY$72<>\"\",ROW($HY$2:$HY$72),\"\"),ROW(HY50))-2,0)","v":{"$error":"#NUM!"}},{"$f":"OFFSET($HZ$2,SMALL(IF($HZ$2:$HZ$72<>\"\",ROW($HZ$2:$HZ$72),\"\"),ROW(HZ50))-2,0)","v":{"$error":"#NUM!"}},null,null,{"$f":"IF(AND(教学计划表!N66<>\"\",教学计划表!BE66<>\"\"),教学计划表!I66,\"\")","v":""},{"$f":"IF(教学计划表!BE66<>\"\",教学计划表!N66,\"\")","v":""},{"$f":"IF(IK51<>\"\",IF(SEARCH(\"5\",教学计划表!AB66&\"5\",1)<=LEN(教学计划表!AB66),\"考试\",\"考查\"),\"\")","v":""},{"$f":"IF(教学计划表!GL66<>0,教学计划表!GL66,\"\")","v":""},{"$f":"IF(教学计划表!GL66<>0,教学计划表!GQ66,\"\")","v":""},{"$f":"IF(教学计划表!GL66<>0,教学计划表!GR66,\"\")","v":""},{"$f":"IF(教学计划表!GL66<>0,教学计划表!PZ66,\"\")","v":""},{"$f":"OFFSET($IJ$2,SMALL(IF($IJ$2:$IJ$72<>\"\",ROW($IJ$2:$IJ$72),\"\"),ROW(IJ50))-2,0)","v":{"$error":"#NUM!"}},{"$f":"OFFSET($IK$2,SMALL(IF($IK$2:$IK$72<>\"\",ROW($IK$2:$IK$72),\"\"),ROW(IK50))-2,0)","v":{"$error":"#NUM!"}},{"$f":"OFFSET($IL$2,SMALL(IF($IL$2:$IL$72<>\"\",ROW($IL$2:$IL$72),\"\"),ROW(IL50))-2,0)","v":{"$error":"#NUM!"}},{"$f":"OFFSET($IM$2,SMALL(IF($IM$2:$IM$72<>\"\",ROW($IM$2:$IM$72),\"\"),ROW(IM50))-2,0)","v":{"$error":"#NUM!"}},{"$f":"OFFSET($IN$2,SMALL(IF($IN$2:$IN$72<>\"\",ROW($IN$2:$IN$72),\"\"),ROW(IN50))-2,0)","v":{"$error":"#NUM!"}},{"$f":"OFFSET($IO$2,SMALL(IF($IO$2:$IO$72<>\"\",ROW($IO$2:$IO$72),\"\"),ROW(IO50))-2,0)","v":{"$error":"#NUM!"}},{"$f":"OFFSET($IP$2,SMALL(IF($IP$2:$IP$72<>\"\",ROW($IP$2:$IP$72),\"\"),ROW(IP50))-2,0)","v":{"$error":"#NUM!"}},null,{"$f":"IF(AND(教学计划表!N66<>\"\",教学计划表!BH66<>\"\"),教学计划表!I66,\"\")","v":""},{"$f":"IF(教学计划表!BH66<>\"\",教学计划表!N66,\"\")","v":""},{"$f":"IF(教学计划表!BH66<>\"\",IF(SEARCH(\"6\",教学计划表!AB66&\"6\",1)<=LEN(教学计划表!AB66),\"考试\",\"考查\"),\"\")","v":""},{"$f":"IF(教学计划表!BH66<>0,教学计划表!HG66,\"\")","v":""},{"$f":"IF(教学计划表!BH66<>0,教学计划表!HL66,\"\")","v":""},{"$f":"IF(教学计划表!BH66<>0,教学计划表!HM66,\"\")","v":""},{"$f":"IF(教学计划表!BH66<>0,教学计划表!QL66,\"\")","v":""},{"$f":"OFFSET($IY$2,SMALL(IF($IY$2:$IY$72<>\"\",ROW($IY$2:$IY$72),\"\"),ROW(IY50))-2,0)","v":{"$error":"#NUM!"}},{"$f":"OFFSET($IZ$2,SMALL(IF($IZ$2:$IZ$72<>\"\",ROW($IZ$2:$IZ$72),\"\"),ROW(IZ50))-2,0)","v":{"$error":"#NUM!"}},{"$f":"OFFSET($JA$2,SMALL(IF($JA$2:$JA$72<>\"\",ROW($JA$2:$JA$72),\"\"),ROW(JA50))-2,0)","v":{"$error":"#NUM!"}},{"$f":"OFFSET($JB$2,SMALL(IF($JB$2:$JB$72<>\"\",ROW($JB$2:$JB$72),\"\"),ROW(JB50))-2,0)","v":{"$error":"#NUM!"}},{"$f":"OFFSET($JC$2,SMALL(IF($JC$2:$JC$72<>\"\",ROW($JC$2:$JC$72),\"\"),ROW(JC50))-2,0)","v":{"$error":"#NUM!"}},{"$f":"OFFSET($JD$2,SMALL(IF($JD$2:$JD$72<>\"\",ROW($JD$2:$JD$72),\"\"),ROW(JD50))-2,0)","v":{"$error":"#NUM!"}},{"$f":"OFFSET($JE$2,SMALL(IF($JE$2:$JE$72<>\"\",ROW($JE$2:$JE$72),\"\"),ROW(JE50))-2,0)","v":{"$error":"#NUM!"}}]
["","","","","","","",null,"","","",{"$f":"IF(ISERROR(自动生成的开课信息!HB52),\"\",自动生成的开课信息!HB52)","v":""},{"$f":"IF(ISERROR(自动生成的开课信息!HC52),\"\",自动生成的开课信息!HC52)","v":""},{"$f":"IF(ISERROR(自动生成的开课信息!HD52),\"\",自动生成的开课信息!HD52)","v":""},{"$f":"IF(ISERROR(自动生成的开课信息!HE52),\"\",自动生成的开课信息!HE52)","v":""},null,"","","","","","","",null,"","","","","","","",null,"","","","","","","",null,"","","","","","","",null,null,null,null,null,null,null,null,null,null,null,null,null,null,null,null,null,null,null,null,null,null,null,null,null,null,null,null,null,null,null,null,null,null,null,null,null,null,null,null,null,null,null,null,null,null,null,null,null,null,null,null,null,null,null,null,null,null,null,null,null,null,null,null,null,null,null,null,null,null,null,null,null,null,null,null,null,null,null,null,null,null,null,null,null,null,null,null,null,null,null,null,null,null,null,null,null,null,null,null,null,null,null,null,null,null,null,null,null,null,null,null,null,null,null,null,null,null,null,null,null,null,null,null,null,null,null,null,null,null,null,null,null,null,null,null,null,null,{"$f":"IF(AND(教学计划表!N67<>\"\",教学计划表!AS67<>\"\"),教学计划表!I67,\"\")","v":""},{"$f":"IF(教学计划表!AS67<>\"\",教学计划表!N67,\"\")","v":""},{"$f":"IF(GE52<>\"\",IF(SEARCH(\"1\",教学计划表!AB67&\"1\",1)<=LEN(教学计划表!AB67),\"考试\",\"考查\"),\"\")","v":""},{"$f":"IF(教学计划表!DG67<>0,教学计划表!DG67,\"\")","v":""},{"$f":"IF(教学计划表!DG67<>0,教学计划表!DL67,\"\")","v":""},{"$f":"IF(教学计划表!DG67<>0,教学计划表!DM67,\"\")","v":""},{"$f":"IF(教学计划表!DG67<>0,教学计划表!OE67,\"\")","v":""},{"$f":"OFFSET($GD$2,SMALL(IF($GD$2:$GD$72<>\"\",ROW($2:$72),\"\"),ROW(GD51))-2,0)","v":{"$error":"#NUM!"}},{"$f":"OFFSET($GE$2,SMALL(IF($GE$2:$GE$72<>\"\",ROW($2:$72),\"\"),ROW(GE51))-2,0)","v":{"$error":"#NUM!"}},{"$f":"OFFSET($GF$2,SMALL(IF($GF$2:$GF$72<>\"\",ROW($2:$72),\"\"),ROW(GF51))-2,0)","v":{"$error":"#NUM!"}},{"$f":"OFFSET($GG$2,SMALL(IF($GG$2:$GG$72<>\"\",ROW($2:$72),\"\"),ROW(GG51))-2,0)","v":{"$error":"#NUM!"}},{"$f":"OFFSET($GH$2,SMALL(IF($GH$2:$GH$72<>\"\",ROW($2:$72),\"\"),ROW(GH51))-2,0)","v":{"$error":"#NUM!"}},{"$error":"#NUM!"},{"$f":"OFFSET($GJ$2,SMALL(IF($GJ$2:$GJ$72<>\"\",ROW($2:$72),\"\"),ROW(GJ51))-2,0)","v":{"$error":"#NUM!"}},{"$f":"IF(AND(教学计划表!N67<>\"\",教学计划表!AV67<>\"\"),教学计划表!I67,\"\")","v":""},{"$f":"IF(教学计划表!AV67<>\"\",教学计划表!N67,\"\")","v":""},{"$f":"IF(GS52<>\"\",IF(SEARCH(\"2\",教学计划表!AB67&\"2\",1)<=LEN(教学计划表!AB67),\"考试\",\"考查\"),\"\")","v":""},{"$f":"IF(教学计划表!EA67<>0,教学计划表!EA67,\"\")","v":""},{"$f":"IF(教学计划表!EA67<>0,教学计划表!EF67,\"\")","v":""},{"$f":"IF(教学计划表!EA67<>0,教学计划表!EG67,\"\")","v":""},{"$f":"IF(教学计划表!EA67<>0,教学计划表!OQ67,\"\")","v":""},{"$f":"OFFSET($GR$2,SMALL(IF($GR$2:$GR$72<>\"\",ROW($I$2:$K$72),\"\"),ROW(GR51))-2,0)","v":{"$error":"#NUM!"}},{"$f":"OFFSET($GS$2,SMALL(IF($GS$2:$GS$72<>\"\",ROW($I$2:$K$72),\"\"),ROW(GS51))-2,0)","v":{"$error":"#NUM!"}},{"$f":"OFFSET($GT$2,SMALL(IF($GT$2:$GT$72<>\"\",ROW($I$2:$K$72),\"\"),ROW(GT51))-2,0)","v":{"$error":"#NUM!"}},{"$f":"OFFSET($GU$2,SMALL(IF($GU$2:$GU$72<>\"\",ROW($I$2:$K$72),\"\"),ROW(GU51))-2,0)","v":{"$error":"#NUM!"}},{"$f":"OFFSET($GV$2,SMALL(IF($GV$2:$GV$72<>\"\",ROW($GV$2:$GV$72),\"\"),ROW(GV51))-2,0)","v":{"$error":"#NUM!"}},{"$f":"OFFSET($GW$2,SMALL(IF($GW$2:$GW$72<>\"\",ROW($GW$2:$GW$72),\"\"),ROW(GW51))-2,0)","v":{"$error":"#NUM!"}},{"$f":"OFFSET($GX$2,SMALL(IF($GX$2:$GX$72<>\"\",ROW($GX$2:$GX$72),\"\"),ROW(GX51))-2,0)","v":{"$error":"#NUM!"}},{"$f":"IF(AND(教学计划表!N67<>\"\",教学计划表!AY67<>\"\"),教学计划表!I67,\"\")","v":""},{"$f":"IF(教学计划表!AY67<>\"\",教学计划表!N67,\"\")","v":""},{"$f":"IF(HG52<>\"\",IF(SEARCH(\"3\",教学计划表!AB67&\"3\",1)<=LEN(教学计划表!AB67),\"考试\",\"考查\"),\"\")","v":""},{"$f":"IF(教学计划表!EV67<>0,教学计划表!EV67,\"\")","v":""},{"$f":"IF(教学计划表!EV67<>0,教学计划表!FA67,\"\")","v":""},{"$f":"IF(教学计划表!EV67<>0,教学计划表!FB67,\"\")","v":""},{"$f":"IF(教学计划表!EV67<>0,教学计划表!PC67,\"\")","v":""},{"$f":"OFFSET($HF$2,SMALL(IF($HF$2:$HF$72<>\"\",ROW($HF$2:$HF$72),\"\"),ROW(HF51))-2,0)","v":{"$error":"#NUM!"}},{"$f":"OFFSET($HG$2,SMALL(IF($HG$2:$HG$72<>\"\",ROW($HG$2:$HG$72),\"\"),ROW(HG51))-2,0)","v":{"$error":"#NUM!"}},{"$f":"OFFSET($HH$2,SMALL(IF($HH$2:$HH$72<>\"\",ROW($HH$2:$HH$72),\"\"),ROW(HH51))-2,0)","v":{"$error":"#NUM!"}},{"$f":"OFFSET($HI$2,SMALL(IF($HI$2:$HI$72<>\"\",ROW($HI$2:$HI$72),\"\"),ROW(HI51))-2,0)","v":{"$error":"#NUM!"}},{"$f":"OFFSET($HJ$2,SMALL(IF($HJ$2:$HJ$72<>\"\",ROW($HJ$2:$HJ$72),\"\"),ROW(HJ51))-2,0)","v":{"$error":"#NUM!"}},{"$f":"OFFSET($HK$2,SMALL(IF($HK$2:$HK$72<>\"\",ROW($HK$2:$HK$72),\"\"),ROW(HK51))-2,0)","v":{"$error":"#NUM!"}},{"$f":"OFFSET($HL$2,SMALL(IF($HL$2:$HL$72<>\"\",ROW($HL$2:$HL$72),\"\"),ROW(HL51))-2,0)","v":{"$error":"#NUM!"}},{"$f":"IF(AND(教学计划表!N67<>\"\",教学计划表!BB67<>\"\"),教学计划表!I67,\"\")","v":""},{"$f":"IF(教学计划表!BB67<>\"\",教学计划表!N67,\"\")","v":""},{"$f":"IF(HU52<>\"\",IF(SEARCH(\"4\",教学计划表!AB67&\"4\",1)<=LEN(教学计划表!AB67),\"考试\",\"考查\"),\"\")","v":""},{"$f":"IF(教学计划表!FQ67<>0,教学计划表!FQ67,\"\")","v":""},{"$f":"IF(教学计划表!FQ67<>0,教学计划表!FV67,\"\")","v":""},{"$f":"IF(教学计划表!FQ67<>0,教学计划表!FW67,\"\")","v":""},{"$f":"IF(教学计划表!FQ67<>0,教学计划表!PO67,\"\")","v":""},{"$f":"OFFSET($HT$2,SMALL(IF($HT$2:$HT$72<>\"\",ROW($HT$2:$HT$72),\"\"),ROW(HT51))-2,0)","v":{"$error":"#NUM!"}},{"$f":"OFFSET($HU$2,SMALL(IF($HU$2:$HU$72<>\"\",ROW($HU$2:$HU$72),\"\"),ROW(HU51))-2,0)","v":{"$error":"#NUM!"}},{"$f":"OFFSET($HV$2,SMALL(IF($HV$2:$HV$72<>\"\",ROW($HV$2:$HV$72),\"\"),ROW(HV51))-2,0)","v":{"$error":"#NUM!"}},{"$f":"OFFSET($HW$2,SMALL(IF($HW$2:$HW$72<>\"\",ROW($HW$2:$HW$72),\"\"),ROW(HW51))-2,0)","v":{"$error":"#NUM!"}},{"$f":"OFFSET($HX$2,SMALL(IF($HX$2:$HX$72<>\"\",ROW($HX$2:$HX$72),\"\"),ROW(HX51))-2,0)","v":{"$error":"#NUM!"}},{"$f":"OFFSET($HY$2,SMALL(IF($HY$2:$HY$72<>\"\",ROW($HY$2:$HY$72),\"\"),ROW(HY51))-2,0)","v":{"$error":"#NUM!"}},{"$f":"OFFSET($HZ$2,SMALL(IF($HZ$2:$HZ$72<>\"\",ROW($HZ$2:$HZ$72),\"\"),ROW(HZ51))-2,0)","v":{"$error":"#NUM!"}},null,null,{"$f":"IF(AND(教学计划表!N67<>\"\",教学计划表!BE67<>\"\"),教学计划表!I67,\"\")","v":""},{"$f":"IF(教学计划表!BE67<>\"\",教学计划表!N67,\"\")","v":""},{"$f":"IF(IK52<>\"\",IF(SEARCH(\"5\",教学计划表!AB67&\"5\",1)<=LEN(教学计划表!AB67),\"考试\",\"考查\"),\"\")","v":""},{"$f":"IF(教学计划表!GL67<>0,教学计划表!GL67,\"\")","v":""},{"$f":"IF(教学计划表!GL67<>0,教学计划表!GQ67,\"\")","v":""},{"$f":"IF(教学计划表!GL67<>0,教学计划表!GR67,\"\")","v":""},{"$f":"IF(教学计划表!GL67<>0,教学计划表!PZ67,\"\")","v":""},{"$f":"OFFSET($IJ$2,SMALL(IF($IJ$2:$IJ$72<>\"\",ROW($IJ$2:$IJ$72),\"\"),ROW(IJ51))-2,0)","v":{"$error":"#NUM!"}},{"$f":"OFFSET($IK$2,SMALL(IF($IK$2:$IK$72<>\"\",ROW($IK$2:$IK$72),\"\"),ROW(IK51))-2,0)","v":{"$error":"#NUM!"}},{"$f":"OFFSET($IL$2,SMALL(IF($IL$2:$IL$72<>\"\",ROW($IL$2:$IL$72),\"\"),ROW(IL51))-2,0)","v":{"$error":"#NUM!"}},{"$f":"OFFSET($IM$2,SMALL(IF($IM$2:$IM$72<>\"\",ROW($IM$2:$IM$72),\"\"),ROW(IM51))-2,0)","v":{"$error":"#NUM!"}},{"$f":"OFFSET($IN$2,SMALL(IF($IN$2:$IN$72<>\"\",ROW($IN$2:$IN$72),\"\"),ROW(IN51))-2,0)","v":{"$error":"#NUM!"}},{"$f":"OFFSET($IO$2,SMALL(IF($IO$2:$IO$72<>\"\",ROW($IO$2:$IO$72),\"\"),ROW(IO51))-2,0)","v":{"$error":"#NUM!"}},{"$f":"OFFSET($IP$2,SMALL(IF($IP$2:$IP$72<>\"\",ROW($IP$2:$IP$72),\"\"),ROW(IP51))-2,0)","v":{"$error":"#NUM!"}},null,{"$f":"IF(AND(教学计划表!N67<>\"\",教学计划表!BH67<>\"\"),教学计划表!I67,\"\")","v":""},{"$f":"IF(教学计划表!BH67<>\"\",教学计划表!N67,\"\")","v":""},{"$f":"IF(教学计划表!BH67<>\"\",IF(SEARCH(\"6\",教学计划表!AB67&\"6\",1)<=LEN(教学计划表!AB67),\"考试\",\"考查\"),\"\")","v":""},{"$f":"IF(教学计划表!BH67<>0,教学计划表!HG67,\"\")","v":""},{"$f":"IF(教学计划表!BH67<>0,教学计划表!HL67,\"\")","v":""},{"$f":"IF(教学计划表!BH67<>0,教学计划表!HM67,\"\")","v":""},{"$f":"IF(教学计划表!BH67<>0,教学计划表!QL67,\"\")","v":""},{"$f":"OFFSET($IY$2,SMALL(IF($IY$2:$IY$72<>\"\",ROW($IY$2:$IY$72),\"\"),ROW(IY51))-2,0)","v":{"$error":"#NUM!"}},{"$f":"OFFSET($IZ$2,SMALL(IF($IZ$2:$IZ$72<>\"\",ROW($IZ$2:$IZ$72),\"\"),ROW(IZ51))-2,0)","v":{"$error":"#NUM!"}},{"$f":"OFFSET($JA$2,SMALL(IF($JA$2:$JA$72<>\"\",ROW($JA$2:$JA$72),\"\"),ROW(JA51))-2,0)","v":{"$error":"#NUM!"}},{"$f":"OFFSET($JB$2,SMALL(IF($JB$2:$JB$72<>\"\",ROW($JB$2:$JB$72),\"\"),ROW(JB51))-2,0)","v":{"$error":"#NUM!"}},{"$f":"OFFSET($JC$2,SMALL(IF($JC$2:$JC$72<>\"\",ROW($JC$2:$JC$72),\"\"),ROW(JC51))-2,0)","v":{"$error":"#NUM!"}},{"$f":"OFFSET($JD$2,SMALL(IF($JD$2:$JD$72<>\"\",ROW($JD$2:$JD$72),\"\"),ROW(JD51))-2,0)","v":{"$error":"#NUM!"}},{"$f":"OFFSET($JE$2,SMALL(IF($JE$2:$JE$72<>\"\",ROW($JE$2:$JE$72),\"\"),ROW(JE51))-2,0)","v":{"$error":"#NUM!"}}]
["","","","","","","",null,"","","",{"$f":"IF(ISERROR(自动生成的开课信息!HB53),\"\",自动生成的开课信息!HB53)","v":""},{"$f":"IF(ISERROR(自动生成的开课信息!HC53),\"\",自动生成的开课信息!HC53)","v":""},{"$f":"IF(ISERROR(自动生成的开课信息!HD53),\"\",自动生成的开课信息!HD53)","v":""},{"$f":"IF(ISERROR(自动生成的开课信息!HE53),\"\",自动生成的开课信息!HE53)","v":""},null,"","","","","","","",null,"","","","","","","",null,"","","","","","","",null,"","","","","","","",null,null,null,null,null,null,null,null,null,null,null,null,null,null,null,null,null,null,null,null,null,null,null,null,null,null,null,null,null,null,null,null,null,null,null,null,null,null,null,null,null,null,null,null,null,null,null,null,null,null,null,null,null,null,null,null,null,null,null,null,null,null,null,null,null,null,null,null,null,null,null,null,null,null,null,null,null,null,null,null,null,null,null,null,null,null,null,null,null,null,null,null,null,null,null,null,null,null,null,null,null,null,null,null,null,null,null,null,null,null,null,null,null,null,null,null,null,null,null,null,null,null,null,null,null,null,null,null,null,null,null,null,null,null,null,null,null,null,{"$f":"IF(AND(教学计划表!N68<>\"\",教学计划表!AS68<>\"\"),教学计划表!I68,\"\")","v":""},{"$f":"IF(教学计划表!AS68<>\"\",教学计划表!N68,\"\")","v":""},{"$f":"IF(GE53<>\"\",IF(SEARCH(\"1\",教学计划表!AB68&\"1\",1)<=LEN(教学计划表!AB68),\"考试\",\"考查\"),\"\")","v":""},{"$f":"IF(教学计划表!DG68<>0,教学计划表!DG68,\"\")","v":""},{"$f":"IF(教学计划表!DG68<>0,教学计划表!DL68,\"\")","v":""},{"$f":"IF(教学计划表!DG68<>0,教学计划表!DM68,\"\")","v":""},{"$f":"IF(教学计划表!DG68<>0,教学计划表!OE68,\"\")","v":""},{"$f":"OFFSET($GD$2,SMALL(IF($GD$2:$GD$72<>\"\",ROW($2:$72),\"\"),ROW(GD52))-2,0)","v":{"$error":"#NUM!"}},{"$f":"OFFSET($GE$2,SMALL(IF($GE$2:$GE$72<>\"\",ROW($2:$72),\"\"),ROW(GE52))-2,0)","v":{"$error":"#NUM!"}},{"$f":"OFFSET($GF$2,SMALL(IF($GF$2:$GF$72<>\"\",ROW($2:$72),\"\"),ROW(GF52))-2,0)","v":{"$error":"#NUM!"}},{"$f":"OFFSET($GG$2,SMALL(IF($GG$2:$GG$72<>\"\",ROW($2:$72),\"\"),ROW(GG52))-2,0)","v":{"$error":"#NUM!"}},{"$f":"OFFSET($GH$2,SMALL(IF($GH$2:$GH$72<>\"\",ROW($2:$72),\"\"),ROW(GH52))-2,0)","v":{"$error":"#NUM!"}},{"$error":"#NUM!"},{"$f":"OFFSET($GJ$2,SMALL(IF($GJ$2:$GJ$72<>\"\",ROW($2:$72),\"\"),ROW(GJ52))-2,0)","v":{"$error":"#NUM!"}},{"$f":"IF(AND(教学计划表!N68<>\"\",教学计划表!AV68<>\"\"),教学计划表!I68,\"\")","v":""},{"$f":"IF(教学计划表!AV68<>\"\",教学计划表!N68,\"\")","v":""},{"$f":"IF(GS53<>\"\",IF(SEARCH(\"2\",教学计划表!AB68&\"2\",1)<=LEN(教学计划表!AB68),\"考试\",\"考查\"),\"\")","v":""},{"$f":"IF(教学计划表!EA68<>0,教学计划表!EA68,\"\")","v":""},{"$f":"IF(教学计划表!EA68<>0,教学计划表!EF68,\"\")","v":""},{"$f":"IF(教学计划表!EA68<>0,教学计划表!EG68,\"\")","v":""},{"$f":"IF(教学计划表!EA68<>0,教学计划表!OQ68,\"\")","v":""},{"$f":"OFFSET($GR$2,SMALL(IF($GR$2:$GR$72<>\"\",ROW($I$2:$K$72),\"\"),ROW(GR52))-2,0)","v":{"$error":"#NUM!"}},{"$f":"OFFSET($GS$2,SMALL(IF($GS$2:$GS$72<>\"\",ROW($I$2:$K$72),\"\"),ROW(GS52))-2,0)","v":{"$error":"#NUM!"}},{"$f":"OFFSET($GT$2,SMALL(IF($GT$2:$GT$72<>\"\",ROW($I$2:$K$72),\"\"),ROW(GT52))-2,0)","v":{"$error":"#NUM!"}},{"$f":"OFFSET($GU$2,SMALL(IF($GU$2:$GU$72<>\"\",ROW($I$2:$K$72),\"\"),ROW(GU52))-2,0)","v":{"$error":"#NUM!"}},{"$f":"OFFSET($GV$2,SMALL(IF($GV$2:$GV$72<>\"\",ROW($GV$2:$GV$72),\"\"),ROW(GV52))-2,0)","v":{"$error":"#NUM!"}},{"$f":"OFFSET($GW$2,SMALL(IF($GW$2:$GW$72<>\"\",ROW($GW$2:$GW$72),\"\"),ROW(GW52))-2,0)","v":{"$error":"#NUM!"}},{"$f":"OFFSET($GX$2,SMALL(IF($GX$2:$GX$72<>\"\",ROW($GX$2:$GX$72),\"\"),ROW(GX52))-2,0)","v":{"$error":"#NUM!"}},{"$f":"IF(AND(教学计划表!N68<>\"\",教学计划表!AY68<>\"\"),教学计划表!I68,\"\")","v":""},{"$f":"IF(教学计划表!AY68<>\"\",教学计划表!N68,\"\")","v":""},{"$f":"IF(HG53<>\"\",IF(SEARCH(\"3\",教学计划表!AB68&\"3\",1)<=LEN(教学计划表!AB68),\"考试\",\"考查\"),\"\")","v":""},{"$f":"IF(教学计划表!EV68<>0,教学计划表!EV68,\"\")","v":""},{"$f":"IF(教学计划表!EV68<>0,教学计划表!FA68,\"\")","v":""},{"$f":"IF(教学计划表!EV68<>0,教学计划表!FB68,\"\")","v":""},{"$f":"IF(教学计划表!EV68<>0,教学计划表!PC68,\"\")","v":""},{"$f":"OFFSET($HF$2,SMALL(IF($HF$2:$HF$72<>\"\",ROW($HF$2:$HF$72),\"\"),ROW(HF52))-2,0)","v":{"$error":"#NUM!"}},{"$f":"OFFSET($HG$2,SMALL(IF($HG$2:$HG$72<>\"\",ROW($HG$2:$HG$72),\"\"),ROW(HG52))-2,0)","v":{"$error":"#NUM!"}},{"$f":"OFFSET($HH$2,SMALL(IF($HH$2:$HH$72<>\"\",ROW($HH$2:$HH$72),\"\"),ROW(HH52))-2,0)","v":{"$error":"#NUM!"}},{"$f":"OFFSET($HI$2,SMALL(IF($HI$2:$HI$72<>\"\",ROW($HI$2:$HI$72),\"\"),ROW(HI52))-2,0)","v":{"$error":"#NUM!"}},{"$f":"OFFSET($HJ$2,SMALL(IF($HJ$2:$HJ$72<>\"\",ROW($HJ$2:$HJ$72),\"\"),ROW(HJ52))-2,0)","v":{"$error":"#NUM!"}},{"$f":"OFFSET($HK$2,SMALL(IF($HK$2:$HK$72<>\"\",ROW($HK$2:$HK$72),\"\"),ROW(HK52))-2,0)","v":{"$error":"#NUM!"}},{"$f":"OFFSET($HL$2,SMALL(IF($HL$2:$HL$72<>\"\",ROW($HL$2:$HL$72),\"\"),ROW(HL52))-2,0)","v":{"$error":"#NUM!"}},{"$f":"IF(AND(教学计划表!N68<>\"\",教学计划表!BB68<>\"\"),教学计划表!I68,\"\")","v":""},{"$f":"IF(教学计划表!BB68<>\"\",教学计划表!N68,\"\")","v":""},{"$f":"IF(HU53<>\"\",IF(SEARCH(\"4\",教学计划表!AB68&\"4\",1)<=LEN(教学计划表!AB68),\"考试\",\"考查\"),\"\")","v":""},{"$f":"IF(教学计划表!FQ68<>0,教学计划表!FQ68,\"\")","v":""},{"$f":"IF(教学计划表!FQ68<>0,教学计划表!FV68,\"\")","v":""},{"$f":"IF(教学计划表!FQ68<>0,教学计划表!FW68,\"\")","v":""},{"$f":"IF(教学计划表!FQ68<>0,教学计划表!PO68,\"\")","v":""},{"$f":"OFFSET($HT$2,SMALL(IF($HT$2:$HT$72<>\"\",ROW($HT$2:$HT$72),\"\"),ROW(HT52))-2,0)","v":{"$error":"#NUM!"}},{"$f":"OFFSET($HU$2,SMALL(IF($HU$2:$HU$72<>\"\",ROW($HU$2:$HU$72),\"\"),ROW(HU52))-2,0)","v":{"$error":"#NUM!"}},{"$f":"OFFSET($HV$2,SMALL(IF($HV$2:$HV$72<>\"\",ROW($HV$2:$HV$72),\"\"),ROW(HV52))-2,0)","v":{"$error":"#NUM!"}},{"$f":"OFFSET($HW$2,SMALL(IF($HW$2:$HW$72<>\"\",ROW($HW$2:$HW$72),\"\"),ROW(HW52))-2,0)","v":{"$error":"#NUM!"}},{"$f":"OFFSET($HX$2,SMALL(IF($HX$2:$HX$72<>\"\",ROW($HX$2:$HX$72),\"\"),ROW(HX52))-2,0)","v":{"$error":"#NUM!"}},{"$f":"OFFSET($HY$2,SMALL(IF($HY$2:$HY$72<>\"\",ROW($HY$2:$HY$72),\"\"),ROW(HY52))-2,0)","v":{"$error":"#NUM!"}},{"$f":"OFFSET($HZ$2,SMALL(IF($HZ$2:$HZ$72<>\"\",ROW($HZ$2:$HZ$72),\"\"),ROW(HZ52))-2,0)","v":{"$error":"#NUM!"}},null,null,{"$f":"IF(AND(教学计划表!N68<>\"\",教学计划表!BE68<>\"\"),教学计划表!I68,\"\")","v":""},{"$f":"IF(教学计划表!BE68<>\"\",教学计划表!N68,\"\")","v":""},{"$f":"IF(IK53<>\"\",IF(SEARCH(\"5\",教学计划表!AB68&\"5\",1)<=LEN(教学计划表!AB68),\"考试\",\"考查\"),\"\")","v":""},{"$f":"IF(教学计划表!GL68<>0,教学计划表!GL68,\"\")","v":""},{"$f":"IF(教学计划表!GL68<>0,教学计划表!GQ68,\"\")","v":""},{"$f":"IF(教学计划表!GL68<>0,教学计划表!GR68,\"\")","v":""},{"$f":"IF(教学计划表!GL68<>0,教学计划表!PZ68,\"\")","v":""},{"$f":"OFFSET($IJ$2,SMALL(IF($IJ$2:$IJ$72<>\"\",ROW($IJ$2:$IJ$72),\"\"),ROW(IJ52))-2,0)","v":{"$error":"#NUM!"}},{"$f":"OFFSET($IK$2,SMALL(IF($IK$2:$IK$72<>\"\",ROW($IK$2:$IK$72),\"\"),ROW(IK52))-2,0)","v":{"$error":"#NUM!"}},{"$f":"OFFSET($IL$2,SMALL(IF($IL$2:$IL$72<>\"\",ROW($IL$2:$IL$72),\"\"),ROW(IL52))-2,0)","v":{"$error":"#NUM!"}},{"$f":"OFFSET($IM$2,SMALL(IF($IM$2:$IM$72<>\"\",ROW($IM$2:$IM$72),\"\"),ROW(IM52))-2,0)","v":{"$error":"#NUM!"}},{"$f":"OFFSET($IN$2,SMALL(IF($IN$2:$IN$72<>\"\",ROW($IN$2:$IN$72),\"\"),ROW(IN52))-2,0)","v":{"$error":"#NUM!"}},{"$f":"OFFSET($IO$2,SMALL(IF($IO$2:$IO$72<>\"\",ROW($IO$2:$IO$72),\"\"),ROW(IO52))-2,0)","v":{"$error":"#NUM!"}},{"$f":"OFFSET($IP$2,SMALL(IF($IP$2:$IP$72<>\"\",ROW($IP$2:$IP$72),\"\"),ROW(IP52))-2,0)","v":{"$error":"#NUM!"}},null,{"$f":"IF(AND(教学计划表!N68<>\"\",教学计划表!BH68<>\"\"),教学计划表!I68,\"\")","v":""},{"$f":"IF(教学计划表!BH68<>\"\",教学计划表!N68,\"\")","v":""},{"$f":"IF(教学计划表!BH68<>\"\",IF(SEARCH(\"6\",教学计划表!AB68&\"6\",1)<=LEN(教学计划表!AB68),\"考试\",\"考查\"),\"\")","v":""},{"$f":"IF(教学计划表!BH68<>0,教学计划表!HG68,\"\")","v":""},{"$f":"IF(教学计划表!BH68<>0,教学计划表!HL68,\"\")","v":""},{"$f":"IF(教学计划表!BH68<>0,教学计划表!HM68,\"\")","v":""},{"$f":"IF(教学计划表!BH68<>0,教学计划表!QL68,\"\")","v":""},{"$f":"OFFSET($IY$2,SMALL(IF($IY$2:$IY$72<>\"\",ROW($IY$2:$IY$72),\"\"),ROW(IY52))-2,0)","v":{"$error":"#NUM!"}},{"$f":"OFFSET($IZ$2,SMALL(IF($IZ$2:$IZ$72<>\"\",ROW($IZ$2:$IZ$72),\"\"),ROW(IZ52))-2,0)","v":{"$error":"#NUM!"}},{"$f":"OFFSET($JA$2,SMALL(IF($JA$2:$JA$72<>\"\",ROW($JA$2:$JA$72),\"\"),ROW(JA52))-2,0)","v":{"$error":"#NUM!"}},{"$f":"OFFSET($JB$2,SMALL(IF($JB$2:$JB$72<>\"\",ROW($JB$2:$JB$72),\"\"),ROW(JB52))-2,0)","v":{"$error":"#NUM!"}},{"$f":"OFFSET($JC$2,SMALL(IF($JC$2:$JC$72<>\"\",ROW($JC$2:$JC$72),\"\"),ROW(JC52))-2,0)","v":{"$error":"#NUM!"}},{"$f":"OFFSET($JD$2,SMALL(IF($JD$2:$JD$72<>\"\",ROW($JD$2:$JD$72),\"\"),ROW(JD52))-2,0)","v":{"$error":"#NUM!"}},{"$f":"OFFSET($JE$2,SMALL(IF($JE$2:$JE$72<>\"\",ROW($JE$2:$JE$72),\"\"),ROW(JE52))-2,0)","v":{"$error":"#NUM!"}}]
["","","","","","","",null,"","","",{"$f":"IF(ISERROR(自动生成的开课信息!HB54),\"\",自动生成的开课信息!HB54)","v":""},{"$f":"IF(ISERROR(自动生成的开课信息!HC54),\"\",自动生成的开课信息!HC54)","v":""},{"$f":"IF(ISERROR(自动生成的开课信息!HD54),\"\",自动生成的开课信息!HD54)","v":""},{"$f":"IF(ISERROR(自动生成的开课信息!HE54),\"\",自动生成的开课信息!HE54)","v":""},null,"","","","","","","",null,"","","","","","","",null,"","","","","","","",null,"","","","","","","",null,null,null,null,null,null,null,null,null,null,null,null,null,null,null,null,null,null,null,null,null,null,null,null,null,null,null,null,null,null,null,null,null,null,null,null,null,null,null,null,null,null,null,null,null,null,null,null,null,null,null,null,null,null,null,null,null,null,null,null,null,null,null,null,null,null,null,null,null,null,null,null,null,null,null,null,null,null,null,null,null,null,null,null,null,null,null,null,null,null,null,null,null,null,null,null,null,null,null,null,null,null,null,null,null,null,null,null,null,null,null,null,null,null,null,null,null,null,null,null,null,null,null,null,null,null,null,null,null,null,null,null,null,null,null,null,null,null,{"$f":"IF(AND(教学计划表!N69<>\"\",教学计划表!AS69<>\"\"),教学计划表!I69,\"\")","v":""},{"$f":"IF(教学计划表!AS69<>\"\",教学计划表!N69,\"\")","v":""},{"$f":"IF(GE54<>\"\",IF(SEARCH(\"1\",教学计划表!AB69&\"1\",1)<=LEN(教学计划表!AB69),\"考试\",\"考查\"),\"\")","v":""},{"$f":"IF(教学计划表!DG69<>0,教学计划表!DG69,\"\")","v":""},{"$f":"IF(教学计划表!DG69<>0,教学计划表!DL69,\"\")","v":""},{"$f":"IF(教学计划表!DG69<>0,教学计划表!DM69,\"\")","v":""},{"$f":"IF(教学计划表!DG69<>0,教学计划表!OE69,\"\")","v":""},{"$f":"OFFSET($GD$2,SMALL(IF($GD$2:$GD$72<>\"\",ROW($2:$72),\"\"),ROW(GD53))-2,0)","v":{"$error":"#NUM!"}},{"$f":"OFFSET($GE$2,SMALL(IF($GE$2:$GE$72<>\"\",ROW($2:$72),\"\"),ROW(GE53))-2,0)","v":{"$error":"#NUM!"}},{"$f":"OFFSET($GF$2,SMALL(IF($GF$2:$GF$72<>\"\",ROW($2:$72),\"\"),ROW(GF53))-2,0)","v":{"$error":"#NUM!"}},{"$f":"OFFSET($GG$2,SMALL(IF($GG$2:$GG$72<>\"\",ROW($2:$72),\"\"),ROW(GG53))-2,0)","v":{"$error":"#NUM!"}},{"$f":"OFFSET($GH$2,SMALL(IF($GH$2:$GH$72<>\"\",ROW($2:$72),\"\"),ROW(GH53))-2,0)","v":{"$error":"#NUM!"}},{"$error":"#NUM!"},{"$f":"OFFSET($GJ$2,SMALL(IF($GJ$2:$GJ$72<>\"\",ROW($2:$72),\"\"),ROW(GJ53))-2,0)","v":{"$error":"#NUM!"}},{"$f":"IF(AND(教学计划表!N69<>\"\",教学计划表!AV69<>\"\"),教学计划表!I69,\"\")","v":""},{"$f":"IF(教学计划表!AV69<>\"\",教学计划表!N69,\"\")","v":""},{"$f":"IF(GS54<>\"\",IF(SEARCH(\"2\",教学计划表!AB69&\"2\",1)<=LEN(教学计划表!AB69),\"考试\",\"考查\"),\"\")","v":""},{"$f":"IF(教学计划表!EA69<>0,教学计划表!EA69,\"\")","v":""},{"$f":"IF(教学计划表!EA69<>0,教学计划表!EF69,\"\")","v":""},{"$f":"IF(教学计划表!EA69<>0,教学计划表!EG69,\"\")","v":""},{"$f":"IF(教学计划表!EA69<>0,教学计划表!OQ69,\"\")","v":""},{"$f":"OFFSET($GR$2,SMALL(IF($GR$2:$GR$72<>\"\",ROW($I$2:$K$72),\"\"),ROW(GR53))-2,0)","v":{"$error":"#NUM!"}},{"$f":"OFFSET($GS$2,SMALL(IF($GS$2:$GS$72<>\"\",ROW($I$2:$K$72),\"\"),ROW(GS53))-2,0)","v":{"$error":"#NUM!"}},{"$f":"OFFSET($GT$2,SMALL(IF($GT$2:$GT$72<>\"\",ROW($I$2:$K$72),\"\"),ROW(GT53))-2,0)","v":{"$error":"#NUM!"}},{"$f":"OFFSET($GU$2,SMALL(IF($GU$2:$GU$72<>\"\",ROW($I$2:$K$72),\"\"),ROW(GU53))-2,0)","v":{"$error":"#NUM!"}},{"$f":"OFFSET($GV$2,SMALL(IF($GV$2:$GV$72<>\"\",ROW($GV$2:$GV$72),\"\"),ROW(GV53))-2,0)","v":{"$error":"#NUM!"}},{"$f":"OFFSET($GW$2,SMALL(IF($GW$2:$GW$72<>\"\",ROW($GW$2:$GW$72),\"\"),ROW(GW53))-2,0)","v":{"$error":"#NUM!"}},{"$f":"OFFSET($GX$2,SMALL(IF($GX$2:$GX$72<>\"\",ROW($GX$2:$GX$72),\"\"),ROW(GX53))-2,0)","v":{"$error":"#NUM!"}},{"$f":"IF(AND(教学计划表!N69<>\"\",教学计划表!AY69<>\"\"),教学计划表!I69,\"\")","v":""},{"$f":"IF(教学计划表!AY69<>\"\",教学计划表!N69,\"\")","v":""},{"$f":"IF(HG54<>\"\",IF(SEARCH(\"3\",教学计划表!AB69&\"3\",1)<=LEN(教学计划表!AB69),\"考试\",\"考查\"),\"\")","v":""},{"$f":"IF(教学计划表!EV69<>0,教学计划表!EV69,\"\")","v":""},{"$f":"IF(教学计划表!EV69<>0,教学计划表!FA69,\"\")","v":""},{"$f":"IF(教学计划表!EV69<>0,教学计划表!FB69,\"\")","v":""},{"$f":"IF(教学计划表!EV69<>0,教学计划表!PC69,\"\")","v":""},{"$f":"OFFSET($HF$2,SMALL(IF($HF$2:$HF$72<>\"\",ROW($HF$2:$HF$72),\"\"),ROW(HF53))-2,0)","v":{"$error":"#NUM!"}},{"$f":"OFFSET($HG$2,SMALL(IF($HG$2:$HG$72<>\"\",ROW($HG$2:$HG$72),\"\"),ROW(HG53))-2,0)","v":{"$error":"#NUM!"}},{"$f":"OFFSET($HH$2,SMALL(IF($HH$2:$HH$72<>\"\",ROW($HH$2:$HH$72),\"\"),ROW(HH53))-2,0)","v":{"$error":"#NUM!"}},{"$f":"OFFSET($HI$2,SMALL(IF($HI$2:$HI$72<>\"\",ROW($HI$2:$HI$72),\"\"),ROW(HI53))-2,0)","v":{"$error":"#NUM!"}},{"$f":"OFFSET($HJ$2,SMALL(IF($HJ$2:$HJ$72<>\"\",ROW($HJ$2:$HJ$72),\"\"),ROW(HJ53))-2,0)","v":{"$error":"#NUM!"}},{"$f":"OFFSET($HK$2,SMALL(IF($HK$2:$HK$72<>\"\",ROW($HK$2:$HK$72),\"\"),ROW(HK53))-2,0)","v":{"$error":"#NUM!"}},{"$f":"OFFSET($HL$2,SMALL(IF($HL$2:$HL$72<>\"\",ROW($HL$2:$HL$72),\"\"),ROW(HL53))-2,0)","v":{"$error":"#NUM!"}},{"$f":"IF(AND(教学计划表!N69<>\"\",教学计划表!BB69<>\"\"),教学计划表!I69,\"\")","v":""},{"$f":"IF(教学计划表!BB69<>\"\",教学计划表!N69,\"\")","v":""},{"$f":"IF(HU54<>\"\",IF(SEARCH(\"4\",教学计划表!AB69&\"4\",1)<=LEN(教学计划表!AB69),\"考试\",\"考查\"),\"\")","v":""},{"$f":"IF(教学计划表!FQ69<>0,教学计划表!FQ69,\"\")","v":""},{"$f":"IF(教学计划表!FQ69<>0,教学计划表!FV69,\"\")","v":""},{"$f":"IF(教学计划表!FQ69<>0,教学计划表!FW69,\"\")","v":""},{"$f":"IF(教学计划表!FQ69<>0,教学计划表!PO69,\"\")","v":""},{"$f":"OFFSET($HT$2,SMALL(IF($HT$2:$HT$72<>\"\",ROW($HT$2:$HT$72),\"\"),ROW(HT53))-2,0)","v":{"$error":"#NUM!"}},{"$f":"OFFSET($HU$2,SMALL(IF($HU$2:$HU$72<>\"\",ROW($HU$2:$HU$72),\"\"),ROW(HU53))-2,0)","v":{"$error":"#NUM!"}},{"$f":"OFFSET($HV$2,SMALL(IF($HV$2:$HV$72<>\"\",ROW($HV$2:$HV$72),\"\"),ROW(HV53))-2,0)","v":{"$error":"#NUM!"}},{"$f":"OFFSET($HW$2,SMALL(IF($HW$2:$HW$72<>\"\",ROW($HW$2:$HW$72),\"\"),ROW(HW53))-2,0)","v":{"$error":"#NUM!"}},{"$f":"OFFSET($HX$2,SMALL(IF($HX$2:$HX$72<>\"\",ROW($HX$2:$HX$72),\"\"),ROW(HX53))-2,0)","v":{"$error":"#NUM!"}},{"$f":"OFFSET($HY$2,SMALL(IF($HY$2:$HY$72<>\"\",ROW($HY$2:$HY$72),\"\"),ROW(HY53))-2,0)","v":{"$error":"#NUM!"}},{"$f":"OFFSET($HZ$2,SMALL(IF($HZ$2:$HZ$72<>\"\",ROW($HZ$2:$HZ$72),\"\"),ROW(HZ53))-2,0)","v":{"$error":"#NUM!"}},null,null,{"$f":"IF(AND(教学计划表!N69<>\"\",教学计划表!BE69<>\"\"),教学计划表!I69,\"\")","v":""},{"$f":"IF(教学计划表!BE69<>\"\",教学计划表!N69,\"\")","v":""},{"$f":"IF(IK54<>\"\",IF(SEARCH(\"5\",教学计划表!AB69&\"5\",1)<=LEN(教学计划表!AB69),\"考试\",\"考查\"),\"\")","v":""},{"$f":"IF(教学计划表!GL69<>0,教学计划表!GL69,\"\")","v":""},{"$f":"IF(教学计划表!GL69<>0,教学计划表!GQ69,\"\")","v":""},{"$f":"IF(教学计划表!GL69<>0,教学计划表!GR69,\"\")","v":""},{"$f":"IF(教学计划表!GL69<>0,教学计划表!PZ69,\"\")","v":""},{"$f":"OFFSET($IJ$2,SMALL(IF($IJ$2:$IJ$72<>\"\",ROW($IJ$2:$IJ$72),\"\"),ROW(IJ53))-2,0)","v":{"$error":"#NUM!"}},{"$f":"OFFSET($IK$2,SMALL(IF($IK$2:$IK$72<>\"\",ROW($IK$2:$IK$72),\"\"),ROW(IK53))-2,0)","v":{"$error":"#NUM!"}},{"$f":"OFFSET($IL$2,SMALL(IF($IL$2:$IL$72<>\"\",ROW($IL$2:$IL$72),\"\"),ROW(IL53))-2,0)","v":{"$error":"#NUM!"}},{"$f":"OFFSET($IM$2,SMALL(IF($IM$2:$IM$72<>\"\",ROW($IM$2:$IM$72),\"\"),ROW(IM53))-2,0)","v":{"$error":"#NUM!"}},{"$f":"OFFSET($IN$2,SMALL(IF($IN$2:$IN$72<>\"\",ROW($IN$2:$IN$72),\"\"),ROW(IN53))-2,0)","v":{"$error":"#NUM!"}},{"$f":"OFFSET($IO$2,SMALL(IF($IO$2:$IO$72<>\"\",ROW($IO$2:$IO$72),\"\"),ROW(IO53))-2,0)","v":{"$error":"#NUM!"}},{"$f":"OFFSET($IP$2,SMALL(IF($IP$2:$IP$72<>\"\",ROW($IP$2:$IP$72),\"\"),ROW(IP53))-2,0)","v":{"$error":"#NUM!"}},null,{"$f":"IF(AND(教学计划表!N69<>\"\",教学计划表!BH69<>\"\"),教学计划表!I69,\"\")","v":""},{"$f":"IF(教学计划表!BH69<>\"\",教学计划表!N69,\"\")","v":""},{"$f":"IF(教学计划表!BH69<>\"\",IF(SEARCH(\"6\",教学计划表!AB69&\"6\",1)<=LEN(教学计划表!AB69),\"考试\",\"考查\"),\"\")","v":""},{"$f":"IF(教学计划表!BH69<>0,教学计划表!HG69,\"\")","v":""},{"$f":"IF(教学计划表!BH69<>0,教学计划表!HL69,\"\")","v":""},{"$f":"IF(教学计划表!BH69<>0,教学计划表!HM69,\"\")","v":""},{"$f":"IF(教学计划表!BH69<>0,教学计划表!QL69,\"\")","v":""},{"$f":"OFFSET($IY$2,SMALL(IF($IY$2:$IY$72<>\"\",ROW($IY$2:$IY$72),\"\"),ROW(IY53))-2,0)","v":{"$error":"#NUM!"}},{"$f":"OFFSET($IZ$2,SMALL(IF($IZ$2:$IZ$72<>\"\",ROW($IZ$2:$IZ$72),\"\"),ROW(IZ53))-2,0)","v":{"$error":"#NUM!"}},{"$f":"OFFSET($JA$2,SMALL(IF($JA$2:$JA$72<>\"\",ROW($JA$2:$JA$72),\"\"),ROW(JA53))-2,0)","v":{"$error":"#NUM!"}},{"$f":"OFFSET($JB$2,SMALL(IF($JB$2:$JB$72<>\"\",ROW($JB$2:$JB$72),\"\"),ROW(JB53))-2,0)","v":{"$error":"#NUM!"}},{"$f":"OFFSET($JC$2,SMALL(IF($JC$2:$JC$72<>\"\",ROW($JC$2:$JC$72),\"\"),ROW(JC53))-2,0)","v":{"$error":"#NUM!"}},{"$f":"OFFSET($JD$2,SMALL(IF($JD$2:$JD$72<>\"\",ROW($JD$2:$JD$72),\"\"),ROW(JD53))-2,0)","v":{"$error":"#NUM!"}},{"$f":"OFFSET($JE$2,SMALL(IF($JE$2:$JE$72<>\"\",ROW($JE$2:$JE$72),\"\"),ROW(JE53))-2,0)","v":{"$error":"#NUM!"}}]
["","","","","","","",null,"","","",{"$f":"IF(ISERROR(自动生成的开课信息!HB55),\"\",自动生成的开课信息!HB55)","v":""},{"$f":"IF(ISERROR(自动生成的开课信息!HC55),\"\",自动生成的开课信息!HC55)","v":""},{"$f":"IF(ISERROR(自动生成的开课信息!HD55),\"\",自动生成的开课信息!HD55)","v":""},{"$f":"IF(ISERROR(自动生成的开课信息!HE55),\"\",自动生成的开课信息!HE55)","v":""},null,"","","","","","","",null,"","","","","","","",null,"","","","","","","",null,"","","","","","","",null,null,null,null,null,null,null,null,null,null,null,null,null,null,null,null,null,null,null,null,null,null,null,null,null,null,null,null,null,null,null,null,null,null,null,null,null,null,null,null,null,null,null,null,null,null,null,null,null,null,null,null,null,null,null,null,null,null,null,null,null,null,null,null,null,null,null,null,null,null,null,null,null,null,null,null,null,null,null,null,null,null,null,null,null,null,null,null,null,null,null,null,null,null,null,null,null,null,null,null,null,null,null,null,null,null,null,null,null,null,null,null,null,null,null,null,null,null,null,null,null,null,null,null,null,null,null,null,null,null,null,null,null,null,null,null,null,null,{"$f":"IF(AND(教学计划表!N70<>\"\",教学计划表!AS70<>\"\"),教学计划表!I70,\"\")","v":""},{"$f":"IF(教学计划表!AS70<>\"\",教学计划表!N70,\"\")","v":""},{"$f":"IF(GE55<>\"\",IF(SEARCH(\"1\",教学计划表!AB70&\"1\",1)<=LEN(教学计划表!AB70),\"考试\",\"考查\"),\"\")","v":""},{"$f":"IF(教学计划表!DG70<>0,教学计划表!DG70,\"\")","v":""},{"$f":"IF(教学计划表!DG70<>0,教学计划表!DL70,\"\")","v":""},{"$f":"IF(教学计划表!DG70<>0,教学计划表!DM70,\"\")","v":""},{"$f":"IF(教学计划表!DG70<>0,教学计划表!OE70,\"\")","v":""},{"$f":"OFFSET($GD$2,SMALL(IF($GD$2:$GD$72<>\"\",ROW($2:$72),\"\"),ROW(GD54))-2,0)","v":{"$error":"#NUM!"}},{"$f":"OFFSET($GE$2,SMALL(IF($GE$2:$GE$72<>\"\",ROW($2:$72),\"\"),ROW(GE54))-2,0)","v":{"$error":"#NUM!"}},{"$f":"OFFSET($GF$2,SMALL(IF($GF$2:$GF$72<>\"\",ROW($2:$72),\"\"),ROW(GF54))-2,0)","v":{"$error":"#NUM!"}},{"$f":"OFFSET($GG$2,SMALL(IF($GG$2:$GG$72<>\"\",ROW($2:$72),\"\"),ROW(GG54))-2,0)","v":{"$error":"#NUM!"}},{"$f":"OFFSET($GH$2,SMALL(IF($GH$2:$GH$72<>\"\",ROW($2:$72),\"\"),ROW(GH54))-2,0)","v":{"$error":"#NUM!"}},{"$error":"#NUM!"},{"$f":"OFFSET($GJ$2,SMALL(IF($GJ$2:$GJ$72<>\"\",ROW($2:$72),\"\"),ROW(GJ54))-2,0)","v":{"$error":"#NUM!"}},{"$f":"IF(AND(教学计划表!N70<>\"\",教学计划表!AV70<>\"\"),教学计划表!I70,\"\")","v":""},{"$f":"IF(教学计划表!AV70<>\"\",教学计划表!N70,\"\")","v":""},{"$f":"IF(GS55<>\"\",IF(SEARCH(\"2\",教学计划表!AB70&\"2\",1)<=LEN(教学计划表!AB70),\"考试\",\"考查\"),\"\")","v":""},{"$f":"IF(教学计划表!EA70<>0,教学计划表!EA70,\"\")","v":""},{"$f":"IF(教学计划表!EA70<>0,教学计划表!EF70,\"\")","v":""},{"$f":"IF(教学计划表!EA70<>0,教学计划表!EG70,\"\")","v":""},{"$f":"IF(教学计划表!EA70<>0,教学计划表!OQ70,\"\")","v":""},{"$f":"OFFSET($GR$2,SMALL(IF($GR$2:$GR$72<>\"\",ROW($I$2:$K$72),\"\"),ROW(GR54))-2,0)","v":{"$error":"#NUM!"}},{"$f":"OFFSET($GS$2,SMALL(IF($GS$2:$GS$72<>\"\",ROW($I$2:$K$72),\"\"),ROW(GS54))-2,0)","v":{"$error":"#NUM!"}},{"$f":"OFFSET($GT$2,SMALL(IF($GT$2:$GT$72<>\"\",ROW($I$2:$K$72),\"\"),ROW(GT54))-2,0)","v":{"$error":"#NUM!"}},{"$f":"OFFSET($GU$2,SMALL(IF($GU$2:$GU$72<>\"\",ROW($I$2:$K$72),\"\"),ROW(GU54))-2,0)","v":{"$error":"#NUM!"}},{"$f":"OFFSET($GV$2,SMALL(IF($GV$2:$GV$72<>\"\",ROW($GV$2:$GV$72),\"\"),ROW(GV54))-2,0)","v":{"$error":"#NUM!"}},{"$f":"OFFSET($GW$2,SMALL(IF($GW$2:$GW$72<>\"\",ROW($GW$2:$GW$72),\"\"),ROW(GW54))-2,0)","v":{"$error":"#NUM!"}},{"$f":"OFFSET($GX$2,SMALL(IF($GX$2:$GX$72<>\"\",ROW($GX$2:$GX$72),\"\"),ROW(GX54))-2,0)","v":{"$error":"#NUM!"}},{"$f":"IF(AND(教学计划表!N70<>\"\",教学计划表!AY70<>\"\"),教学计划表!I70,\"\")","v":""},{"$f":"IF(教学计划表!AY70<>\"\",教学计划表!N70,\"\")","v":""},{"$f":"IF(HG55<>\"\",IF(SEARCH(\"3\",教学计划表!AB70&\"3\",1)<=LEN(教学计划表!AB70),\"考试\",\"考查\"),\"\")","v":""},{"$f":"IF(教学计划表!EV70<>0,教学计划表!EV70,\"\")","v":""},{"$f":"IF(教学计划表!EV70<>0,教学计划表!FA70,\"\")","v":""},{"$f":"IF(教学计划表!EV70<>0,教学计划表!FB70,\"\")","v":""},{"$f":"IF(教学计划表!EV70<>0,教学计划表!PC70,\"\")","v":""},{"$f":"OFFSET($HF$2,SMALL(IF($HF$2:$HF$72<>\"\",ROW($HF$2:$HF$72),\"\"),ROW(HF54))-2,0)","v":{"$error":"#NUM!"}},{"$f":"OFFSET($HG$2,SMALL(IF($HG$2:$HG$72<>\"\",ROW($HG$2:$HG$72),\"\"),ROW(HG54))-2,0)","v":{"$error":"#NUM!"}},{"$f":"OFFSET($HH$2,SMALL(IF($HH$2:$HH$72<>\"\",ROW($HH$2:$HH$72),\"\"),ROW(HH54))-2,0)","v":{"$error":"#NUM!"}},{"$f":"OFFSET($HI$2,SMALL(IF($HI$2:$HI$72<>\"\",ROW($HI$2:$HI$72),\"\"),ROW(HI54))-2,0)","v":{"$error":"#NUM!"}},{"$f":"OFFSET($HJ$2,SMALL(IF($HJ$2:$HJ$72<>\"\",ROW($HJ$2:$HJ$72),\"\"),ROW(HJ54))-2,0)","v":{"$error":"#NUM!"}},{"$f":"OFFSET($HK$2,SMALL(IF($HK$2:$HK$72<>\"\",ROW($HK$2:$HK$72),\"\"),ROW(HK54))-2,0)","v":{"$error":"#NUM!"}},{"$f":"OFFSET($HL$2,SMALL(IF($HL$2:$HL$72<>\"\",ROW($HL$2:$HL$72),\"\"),ROW(HL54))-2,0)","v":{"$error":"#NUM!"}},{"$f":"IF(AND(教学计划表!N70<>\"\",教学计划表!BB70<>\"\"),教学计划表!I70,\"\")","v":""},{"$f":"IF(教学计划表!BB70<>\"\",教学计划表!N70,\"\")","v":""},{"$f":"IF(HU55<>\"\",IF(SEARCH(\"4\",教学计划表!AB70&\"4\",1)<=LEN(教学计划表!AB70),\"考试\",\"考查\"),\"\")","v":""},{"$f":"IF(教学计划表!FQ70<>0,教学计划表!FQ70,\"\")","v":""},{"$f":"IF(教学计划表!FQ70<>0,教学计划表!FV70,\"\")","v":""},{"$f":"IF(教学计划表!FQ70<>0,教学计划表!FW70,\"\")","v":""},{"$f":"IF(教学计划表!FQ70<>0,教学计划表!PO70,\"\")","v":""},{"$f":"OFFSET($HT$2,SMALL(IF($HT$2:$HT$72<>\"\",ROW($HT$2:$HT$72),\"\"),ROW(HT54))-2,0)","v":{"$error":"#NUM!"}},{"$f":"OFFSET($HU$2,SMALL(IF($HU$2:$HU$72<>\"\",ROW($HU$2:$HU$72),\"\"),ROW(HU54))-2,0)","v":{"$error":"#NUM!"}},{"$f":"OFFSET($HV$2,SMALL(IF($HV$2:$HV$72<>\"\",ROW($HV$2:$HV$72),\"\"),ROW(HV54))-2,0)","v":{"$error":"#NUM!"}},{"$f":"OFFSET($HW$2,SMALL(IF($HW$2:$HW$72<>\"\",ROW($HW$2:$HW$72),\"\"),ROW(HW54))-2,0)","v":{"$error":"#NUM!"}},{"$f":"OFFSET($HX$2,SMALL(IF($HX$2:$HX$72<>\"\",ROW($HX$2:$HX$72),\"\"),ROW(HX54))-2,0)","v":{"$error":"#NUM!"}},{"$f":"OFFSET($HY$2,SMALL(IF($HY$2:$HY$72<>\"\",ROW($HY$2:$HY$72),\"\"),ROW(HY54))-2,0)","v":{"$error":"#NUM!"}},{"$f":"OFFSET($HZ$2,SMALL(IF($HZ$2:$HZ$72<>\"\",ROW($HZ$2:$HZ$72),\"\"),ROW(HZ54))-2,0)","v":{"$error":"#NUM!"}},null,null,{"$f":"IF(AND(教学计划表!N70<>\"\",教学计划表!BE70<>\"\"),教学计划表!I70,\"\")","v":""},{"$f":"IF(教学计划表!BE70<>\"\",教学计划表!N70,\"\")","v":""},{"$f":"IF(IK55<>\"\",IF(SEARCH(\"5\",教学计划表!AB70&\"5\",1)<=LEN(教学计划表!AB70),\"考试\",\"考查\"),\"\")","v":""},{"$f":"IF(教学计划表!GL70<>0,教学计划表!GL70,\"\")","v":""},{"$f":"IF(教学计划表!GL70<>0,教学计划表!GQ70,\"\")","v":""},{"$f":"IF(教学计划表!GL70<>0,教学计划表!GR70,\"\")","v":""},{"$f":"IF(教学计划表!GL70<>0,教学计划表!PZ70,\"\")","v":""},{"$f":"OFFSET($IJ$2,SMALL(IF($IJ$2:$IJ$72<>\"\",ROW($IJ$2:$IJ$72),\"\"),ROW(IJ54))-2,0)","v":{"$error":"#NUM!"}},{"$f":"OFFSET($IK$2,SMALL(IF($IK$2:$IK$72<>\"\",ROW($IK$2:$IK$72),\"\"),ROW(IK54))-2,0)","v":{"$error":"#NUM!"}},{"$f":"OFFSET($IL$2,SMALL(IF($IL$2:$IL$72<>\"\",ROW($IL$2:$IL$72),\"\"),ROW(IL54))-2,0)","v":{"$error":"#NUM!"}},{"$f":"OFFSET($IM$2,SMALL(IF($IM$2:$IM$72<>\"\",ROW($IM$2:$IM$72),\"\"),ROW(IM54))-2,0)","v":{"$error":"#NUM!"}},{"$f":"OFFSET($IN$2,SMALL(IF($IN$2:$IN$72<>\"\",ROW($IN$2:$IN$72),\"\"),ROW(IN54))-2,0)","v":{"$error":"#NUM!"}},{"$f":"OFFSET($IO$2,SMALL(IF($IO$2:$IO$72<>\"\",ROW($IO$2:$IO$72),\"\"),ROW(IO54))-2,0)","v":{"$error":"#NUM!"}},{"$f":"OFFSET($IP$2,SMALL(IF($IP$2:$IP$72<>\"\",ROW($IP$2:$IP$72),\"\"),ROW(IP54))-2,0)","v":{"$error":"#NUM!"}},null,{"$f":"IF(AND(教学计划表!N70<>\"\",教学计划表!BH70<>\"\"),教学计划表!I70,\"\")","v":""},{"$f":"IF(教学计划表!BH70<>\"\",教学计划表!N70,\"\")","v":""},{"$f":"IF(教学计划表!BH70<>\"\",IF(SEARCH(\"6\",教学计划表!AB70&\"6\",1)<=LEN(教学计划表!AB70),\"考试\",\"考查\"),\"\")","v":""},{"$f":"IF(教学计划表!BH70<>0,教学计划表!HG70,\"\")","v":""},{"$f":"IF(教学计划表!BH70<>0,教学计划表!HL70,\"\")","v":""},{"$f":"IF(教学计划表!BH70<>0,教学计划表!HM70,\"\")","v":""},{"$f":"IF(教学计划表!BH70<>0,教学计划表!QL70,\"\")","v":""},{"$f":"OFFSET($IY$2,SMALL(IF($IY$2:$IY$72<>\"\",ROW($IY$2:$IY$72),\"\"),ROW(IY54))-2,0)","v":{"$error":"#NUM!"}},{"$f":"OFFSET($IZ$2,SMALL(IF($IZ$2:$IZ$72<>\"\",ROW($IZ$2:$IZ$72),\"\"),ROW(IZ54))-2,0)","v":{"$error":"#NUM!"}},{"$f":"OFFSET($JA$2,SMALL(IF($JA$2:$JA$72<>\"\",ROW($JA$2:$JA$72),\"\"),ROW(JA54))-2,0)","v":{"$error":"#NUM!"}},{"$f":"OFFSET($JB$2,SMALL(IF($JB$2:$JB$72<>\"\",ROW($JB$2:$JB$72),\"\"),ROW(JB54))-2,0)","v":{"$error":"#NUM!"}},{"$f":"OFFSET($JC$2,SMALL(IF($JC$2:$JC$72<>\"\",ROW($JC$2:$JC$72),\"\"),ROW(JC54))-2,0)","v":{"$error":"#NUM!"}},{"$f":"OFFSET($JD$2,SMALL(IF($JD$2:$JD$72<>\"\",ROW($JD$2:$JD$72),\"\"),ROW(JD54))-2,0)","v":{"$error":"#NUM!"}},{"$f":"OFFSET($JE$2,SMALL(IF($JE$2:$JE$72<>\"\",ROW($JE$2:$JE$72),\"\"),ROW(JE54))-2,0)","v":{"$error":"#NUM!"}}]
["","","","","","","",null,"","","",{"$f":"IF(ISERROR(自动生成的开课信息!HB56),\"\",自动生成的开课信息!HB56)","v":""},{"$f":"IF(ISERROR(自动生成的开课信息!HC56),\"\",自动生成的开课信息!HC56)","v":""},{"$f":"IF(ISERROR(自动生成的开课信息!HD56),\"\",自动生成的开课信息!HD56)","v":""},{"$f":"IF(ISERROR(自动生成的开课信息!HE56),\"\",自动生成的开课信息!HE56)","v":""},null,"","","","","","","",null,"","","","","","","",null,"","","","","","","",null,"","","","","","","",null,null,null,null,null,null,null,null,null,null,null,null,null,null,null,null,null,null,null,null,null,null,null,null,null,null,null,null,null,null,null,null,null,null,null,null,null,null,null,null,null,null,null,null,null,null,null,null,null,null,null,null,null,null,null,null,null,null,null,null,null,null,null,null,null,null,null,null,null,null,null,null,null,null,null,null,null,null,null,null,null,null,null,null,null,null,null,null,null,null,null,null,null,null,null,null,null,null,null,null,null,null,null,null,null,null,null,null,null,null,null,null,null,null,null,null,null,null,null,null,null,null,null,null,null,null,null,null,null,null,null,null,null,null,null,null,null,null,{"$f":"IF(AND(教学计划表!N71<>\"\",教学计划表!AS71<>\"\"),教学计划表!I71,\"\")","v":""},{"$f":"IF(教学计划表!AS71<>\"\",教学计划表!N71,\"\")","v":""},{"$f":"IF(GE56<>\"\",IF(SEARCH(\"1\",教学计划表!AB71&\"1\",1)<=LEN(教学计划表!AB71),\"考试\",\"考查\"),\"\")","v":""},{"$f":"IF(教学计划表!DG71<>0,教学计划表!DG71,\"\")","v":""},{"$f":"IF(教学计划表!DG71<>0,教学计划表!DL71,\"\")","v":""},{"$f":"IF(教学计划表!DG71<>0,教学计划表!DM71,\"\")","v":""},{"$f":"IF(教学计划表!DG71<>0,教学计划表!OE71,\"\")","v":""},{"$f":"OFFSET($GD$2,SMALL(IF($GD$2:$GD$72<>\"\",ROW($2:$72),\"\"),ROW(GD55))-2,0)","v":{"$error":"#NUM!"}},{"$f":"OFFSET($GE$2,SMALL(IF($GE$2:$GE$72<>\"\",ROW($2:$72),\"\"),ROW(GE55))-2,0)","v":{"$error":"#NUM!"}},{"$f":"OFFSET($GF$2,SMALL(IF($GF$2:$GF$72<>\"\",ROW($2:$72),\"\"),ROW(GF55))-2,0)","v":{"$error":"#NUM!"}},{"$f":"OFFSET($GG$2,SMALL(IF($GG$2:$GG$72<>\"\",ROW($2:$72),\"\"),ROW(GG55))-2,0)","v":{"$error":"#NUM!"}},{"$f":"OFFSET($GH$2,SMALL(IF($GH$2:$GH$72<>\"\",ROW($2:$72),\"\"),ROW(GH55))-2,0)","v":{"$error":"#NUM!"}},{"$error":"#NUM!"},{"$f":"OFFSET($GJ$2,SMALL(IF($GJ$2:$GJ$72<>\"\",ROW($2:$72),\"\"),ROW(GJ55))-2,0)","v":{"$error":"#NUM!"}},{"$f":"IF(AND(教学计划表!N71<>\"\",教学计划表!AV71<>\"\"),教学计划表!I71,\"\")","v":""},{"$f":"IF(教学计划表!AV71<>\"\",教学计划表!N71,\"\")","v":""},{"$f":"IF(GS56<>\"\",IF(SEARCH(\"2\",教学计划表!AB71&\"2\",1)<=LEN(教学计划表!AB71),\"考试\",\"考查\"),\"\")","v":""},{"$f":"IF(教学计划表!EA71<>0,教学计划表!EA71,\"\")","v":""},{"$f":"IF(教学计划表!EA71<>0,教学计划表!EF71,\"\")","v":""},{"$f":"IF(教学计划表!EA71<>0,教学计划表!EG71,\"\")","v":""},{"$f":"IF(教学计划表!EA71<>0,教学计划表!OQ71,\"\")","v":""},{"$f":"OFFSET($GR$2,SMALL(IF($GR$2:$GR$72<>\"\",ROW($I$2:$K$72),\"\"),ROW(GR55))-2,0)","v":{"$error":"#NUM!"}},{"$f":"OFFSET($GS$2,SMALL(IF($GS$2:$GS$72<>\"\",ROW($I$2:$K$72),\"\"),ROW(GS55))-2,0)","v":{"$error":"#NUM!"}},{"$f":"OFFSET($GT$2,SMALL(IF($GT$2:$GT$72<>\"\",ROW($I$2:$K$72),\"\"),ROW(GT55))-2,0)","v":{"$error":"#NUM!"}},{"$f":"OFFSET($GU$2,SMALL(IF($GU$2:$GU$72<>\"\",ROW($I$2:$K$72),\"\"),ROW(GU55))-2,0)","v":{"$error":"#NUM!"}},{"$f":"OFFSET($GV$2,SMALL(IF($GV$2:$GV$72<>\"\",ROW($GV$2:$GV$72),\"\"),ROW(GV55))-2,0)","v":{"$error":"#NUM!"}},{"$f":"OFFSET($GW$2,SMALL(IF($GW$2:$GW$72<>\"\",ROW($GW$2:$GW$72),\"\"),ROW(GW55))-2,0)","v":{"$error":"#NUM!"}},{"$f":"OFFSET($GX$2,SMALL(IF($GX$2:$GX$72<>\"\",ROW($GX$2:$GX$72),\"\"),ROW(GX55))-2,0)","v":{"$error":"#NUM!"}},{"$f":"IF(AND(教学计划表!N71<>\"\",教学计划表!AY71<>\"\"),教学计划表!I71,\"\")","v":""},{"$f":"IF(教学计划表!AY71<>\"\",教学计划表!N71,\"\")","v":""},{"$f":"IF(HG56<>\"\",IF(SEARCH(\"3\",教学计划表!AB71&\"3\",1)<=LEN(教学计划表!AB71),\"考试\",\"考查\"),\"\")","v":""},{"$f":"IF(教学计划表!EV71<>0,教学计划表!EV71,\"\")","v":""},{"$f":"IF(教学计划表!EV71<>0,教学计划表!FA71,\"\")","v":""},{"$f":"IF(教学计划表!EV71<>0,教学计划表!FB71,\"\")","v":""},{"$f":"IF(教学计划表!EV71<>0,教学计划表!PC71,\"\")","v":""},{"$f":"OFFSET($HF$2,SMALL(IF($HF$2:$HF$72<>\"\",ROW($HF$2:$HF$72),\"\"),ROW(HF55))-2,0)","v":{"$error":"#NUM!"}},{"$f":"OFFSET($HG$2,SMALL(IF($HG$2:$HG$72<>\"\",ROW($HG$2:$HG$72),\"\"),ROW(HG55))-2,0)","v":{"$error":"#NUM!"}},{"$f":"OFFSET($HH$2,SMALL(IF($HH$2:$HH$72<>\"\",ROW($HH$2:$HH$72),\"\"),ROW(HH55))-2,0)","v":{"$error":"#NUM!"}},{"$f":"OFFSET($HI$2,SMALL(IF($HI$2:$HI$72<>\"\",ROW($HI$2:$HI$72),\"\"),ROW(HI55))-2,0)","v":{"$error":"#NUM!"}},{"$f":"OFFSET($HJ$2,SMALL(IF($HJ$2:$HJ$72<>\"\",ROW($HJ$2:$HJ$72),\"\"),ROW(HJ55))-2,0)","v":{"$error":"#NUM!"}},{"$f":"OFFSET($HK$2,SMALL(IF($HK$2:$HK$72<>\"\",ROW($HK$2:$HK$72),\"\"),ROW(HK55))-2,0)","v":{"$error":"#NUM!"}},{"$f":"OFFSET($HL$2,SMALL(IF($HL$2:$HL$72<>\"\",ROW($HL$2:$HL$72),\"\"),ROW(HL55))-2,0)","v":{"$error":"#NUM!"}},{"$f":"IF(AND(教学计划表!N71<>\"\",教学计划表!BB71<>\"\"),教学计划表!I71,\"\")","v":""},{"$f":"IF(教学计划表!BB71<>\"\",教学计划表!N71,\"\")","v":""},{"$f":"IF(HU56<>\"\",IF(SEARCH(\"4\",教学计划表!AB71&\"4\",1)<=LEN(教学计划表!AB71),\"考试\",\"考查\"),\"\")","v":""},{"$f":"IF(教学计划表!FQ71<>0,教学计划表!FQ71,\"\")","v":""},{"$f":"IF(教学计划表!FQ71<>0,教学计划表!FV71,\"\")","v":""},{"$f":"IF(教学计划表!FQ71<>0,教学计划表!FW71,\"\")","v":""},{"$f":"IF(教学计划表!FQ71<>0,教学计划表!PO71,\"\")","v":""},{"$f":"OFFSET($HT$2,SMALL(IF($HT$2:$HT$72<>\"\",ROW($HT$2:$HT$72),\"\"),ROW(HT55))-2,0)","v":{"$error":"#NUM!"}},{"$f":"OFFSET($HU$2,SMALL(IF($HU$2:$HU$72<>\"\",ROW($HU$2:$HU$72),\"\"),ROW(HU55))-2,0)","v":{"$error":"#NUM!"}},{"$f":"OFFSET($HV$2,SMALL(IF($HV$2:$HV$72<>\"\",ROW($HV$2:$HV$72),\"\"),ROW(HV55))-2,0)","v":{"$error":"#NUM!"}},{"$f":"OFFSET($HW$2,SMALL(IF($HW$2:$HW$72<>\"\",ROW($HW$2:$HW$72),\"\"),ROW(HW55))-2,0)","v":{"$error":"#NUM!"}},{"$f":"OFFSET($HX$2,SMALL(IF($HX$2:$HX$72<>\"\",ROW($HX$2:$HX$72),\"\"),ROW(HX55))-2,0)","v":{"$error":"#NUM!"}},{"$f":"OFFSET($HY$2,SMALL(IF($HY$2:$HY$72<>\"\",ROW($HY$2:$HY$72),\"\"),ROW(HY55))-2,0)","v":{"$error":"#NUM!"}},{"$f":"OFFSET($HZ$2,SMALL(IF($HZ$2:$HZ$72<>\"\",ROW($HZ$2:$HZ$72),\"\"),ROW(HZ55))-2,0)","v":{"$error":"#NUM!"}},null,null,{"$f":"IF(AND(教学计划表!N71<>\"\",教学计划表!BE71<>\"\"),教学计划表!I71,\"\")","v":""},{"$f":"IF(教学计划表!BE71<>\"\",教学计划表!N71,\"\")","v":""},{"$f":"IF(IK56<>\"\",IF(SEARCH(\"5\",教学计划表!AB71&\"5\",1)<=LEN(教学计划表!AB71),\"考试\",\"考查\"),\"\")","v":""},{"$f":"IF(教学计划表!GL71<>0,教学计划表!GL71,\"\")","v":""},{"$f":"IF(教学计划表!GL71<>0,教学计划表!GQ71,\"\")","v":""},{"$f":"IF(教学计划表!GL71<>0,教学计划表!GR71,\"\")","v":""},{"$f":"IF(教学计划表!GL71<>0,教学计划表!PZ71,\"\")","v":""},{"$f":"OFFSET($IJ$2,SMALL(IF($IJ$2:$IJ$72<>\"\",ROW($IJ$2:$IJ$72),\"\"),ROW(IJ55))-2,0)","v":{"$error":"#NUM!"}},{"$f":"OFFSET($IK$2,SMALL(IF($IK$2:$IK$72<>\"\",ROW($IK$2:$IK$72),\"\"),ROW(IK55))-2,0)","v":{"$error":"#NUM!"}},{"$f":"OFFSET($IL$2,SMALL(IF($IL$2:$IL$72<>\"\",ROW($IL$2:$IL$72),\"\"),ROW(IL55))-2,0)","v":{"$error":"#NUM!"}},{"$f":"OFFSET($IM$2,SMALL(IF($IM$2:$IM$72<>\"\",ROW($IM$2:$IM$72),\"\"),ROW(IM55))-2,0)","v":{"$error":"#NUM!"}},{"$f":"OFFSET($IN$2,SMALL(IF($IN$2:$IN$72<>\"\",ROW($IN$2:$IN$72),\"\"),ROW(IN55))-2,0)","v":{"$error":"#NUM!"}},{"$f":"OFFSET($IO$2,SMALL(IF($IO$2:$IO$72<>\"\",ROW($IO$2:$IO$72),\"\"),ROW(IO55))-2,0)","v":{"$error":"#NUM!"}},{"$f":"OFFSET($IP$2,SMALL(IF($IP$2:$IP$72<>\"\",ROW($IP$2:$IP$72),\"\"),ROW(IP55))-2,0)","v":{"$error":"#NUM!"}},null,{"$f":"IF(AND(教学计划表!N71<>\"\",教学计划表!BH71<>\"\"),教学计划表!I71,\"\")","v":""},{"$f":"IF(教学计划表!BH71<>\"\",教学计划表!N71,\"\")","v":""},{"$f":"IF(教学计划表!BH71<>\"\",IF(SEARCH(\"6\",教学计划表!AB71&\"6\",1)<=LEN(教学计划表!AB71),\"考试\",\"考查\"),\"\")","v":""},{"$f":"IF(教学计划表!BH71<>0,教学计划表!HG71,\"\")","v":""},{"$f":"IF(教学计划表!BH71<>0,教学计划表!HL71,\"\")","v":""},{"$f":"IF(教学计划表!BH71<>0,教学计划表!HM71,\"\")","v":""},{"$f":"IF(教学计划表!BH71<>0,教学计划表!QL71,\"\")","v":""},{"$f":"OFFSET($IY$2,SMALL(IF($IY$2:$IY$72<>\"\",ROW($IY$2:$IY$72),\"\"),ROW(IY55))-2,0)","v":{"$error":"#NUM!"}},{"$f":"OFFSET($IZ$2,SMALL(IF($IZ$2:$IZ$72<>\"\",ROW($IZ$2:$IZ$72),\"\"),ROW(IZ55))-2,0)","v":{"$error":"#NUM!"}},{"$f":"OFFSET($JA$2,SMALL(IF($JA$2:$JA$72<>\"\",ROW($JA$2:$JA$72),\"\"),ROW(JA55))-2,0)","v":{"$error":"#NUM!"}},{"$f":"OFFSET($JB$2,SMALL(IF($JB$2:$JB$72<>\"\",ROW($JB$2:$JB$72),\"\"),ROW(JB55))-2,0)","v":{"$error":"#NUM!"}},{"$f":"OFFSET($JC$2,SMALL(IF($JC$2:$JC$72<>\"\",ROW($JC$2:$JC$72),\"\"),ROW(JC55))-2,0)","v":{"$error":"#NUM!"}},{"$f":"OFFSET($JD$2,SMALL(IF($JD$2:$JD$72<>\"\",ROW($JD$2:$JD$72),\"\"),ROW(JD55))-2,0)","v":{"$error":"#NUM!"}},{"$f":"OFFSET($JE$2,SMALL(IF($JE$2:$JE$72<>\"\",ROW($JE$2:$JE$72),\"\"),ROW(JE55))-2,0)","v":{"$error":"#NUM!"}}]
["","","","","","","",null,"","","",{"$f":"IF(ISERROR(自动生成的开课信息!HB57),\"\",自动生成的开课信息!HB57)","v":""},{"$f":"IF(ISERROR(自动生成的开课信息!HC57),\"\",自动生成的开课信息!HC57)","v":""},{"$f":"IF(ISERROR(自动生成的开课信息!HD57),\"\",自动生成的开课信息!HD57)","v":""},{"$f":"IF(ISERROR(自动生成的开课信息!HE57),\"\",自动生成的开课信息!HE57)","v":""},null,"","","","","","","",null,"","","","","","","",null,"","","","","","","",null,"","","","","","","",null,null,null,null,null,null,null,null,null,null,null,null,null,null,null,null,null,null,null,null,null,null,null,null,null,null,null,null,null,null,null,null,null,null,null,null,null,null,null,null,null,null,null,null,null,null,null,null,null,null,null,null,null,null,null,null,null,null,null,null,null,null,null,null,null,null,null,null,null,null,null,null,null,null,null,null,null,null,null,null,null,null,null,null,null,null,null,null,null,null,null,null,null,null,null,null,null,null,null,null,null,null,null,null,null,null,null,null,null,null,null,null,null,null,null,null,null,null,null,null,null,null,null,null,null,null,null,null,null,null,null,null,null,null,null,null,null,null,{"$f":"IF(AND(教学计划表!N72<>\"\",教学计划表!AS72<>\"\"),教学计划表!I72,\"\")","v":""},{"$f":"IF(教学计划表!AS72<>\"\",教学计划表!N72,\"\")","v":""},{"$f":"IF(GE57<>\"\",IF(SEARCH(\"1\",教学计划表!AB72&\"1\",1)<=LEN(教学计划表!AB72),\"考试\",\"考查\"),\"\")","v":""},{"$f":"IF(教学计划表!DG72<>0,教学计划表!DG72,\"\")","v":""},{"$f":"IF(教学计划表!DG72<>0,教学计划表!DL72,\"\")","v":""},{"$f":"IF(教学计划表!DG72<>0,教学计划表!DM72,\"\")","v":""},{"$f":"IF(教学计划表!DG72<>0,教学计划表!OE72,\"\")","v":""},{"$f":"OFFSET($GD$2,SMALL(IF($GD$2:$GD$72<>\"\",ROW($2:$72),\"\"),ROW(GD56))-2,0)","v":{"$error":"#NUM!"}},{"$f":"OFFSET($GE$2,SMALL(IF($GE$2:$GE$72<>\"\",ROW($2:$72),\"\"),ROW(GE56))-2,0)","v":{"$error":"#NUM!"}},{"$f":"OFFSET($GF$2,SMALL(IF($GF$2:$GF$72<>\"\",ROW($2:$72),\"\"),ROW(GF56))-2,0)","v":{"$error":"#NUM!"}},{"$f":"OFFSET($GG$2,SMALL(IF($GG$2:$GG$72<>\"\",ROW($2:$72),\"\"),ROW(GG56))-2,0)","v":{"$error":"#NUM!"}},{"$f":"OFFSET($GH$2,SMALL(IF($GH$2:$GH$72<>\"\",ROW($2:$72),\"\"),ROW(GH56))-2,0)","v":{"$error":"#NUM!"}},{"$error":"#NUM!"},{"$f":"OFFSET($GJ$2,SMALL(IF($GJ$2:$GJ$72<>\"\",ROW($2:$72),\"\"),ROW(GJ56))-2,0)","v":{"$error":"#NUM!"}},{"$f":"IF(AND(教学计划表!N72<>\"\",教学计划表!AV72<>\"\"),教学计划表!I72,\"\")","v":""},{"$f":"IF(教学计划表!AV72<>\"\",教学计划表!N72,\"\")","v":""},{"$f":"IF(GS57<>\"\",IF(SEARCH(\"2\",教学计划表!AB72&\"2\",1)<=LEN(教学计划表!AB72),\"考试\",\"考查\"),\"\")","v":""},{"$f":"IF(教学计划表!EA72<>0,教学计划表!EA72,\"\")","v":""},{"$f":"IF(教学计划表!EA72<>0,教学计划表!EF72,\"\")","v":""},{"$f":"IF(教学计划表!EA72<>0,教学计划表!EG72,\"\")","v":""},{"$f":"IF(教学计划表!EA72<>0,教学计划表!OQ72,\"\")","v":""},{"$f":"OFFSET($GR$2,SMALL(IF($GR$2:$GR$72<>\"\",ROW($I$2:$K$72),\"\"),ROW(GR56))-2,0)","v":{"$error":"#NUM!"}},{"$f":"OFFSET($GS$2,SMALL(IF($GS$2:$GS$72<>\"\",ROW($I$2:$K$72),\"\"),ROW(GS56))-2,0)","v":{"$error":"#NUM!"}},{"$f":"OFFSET($GT$2,SMALL(IF($GT$2:$GT$72<>\"\",ROW($I$2:$K$72),\"\"),ROW(GT56))-2,0)","v":{"$error":"#NUM!"}},{"$f":"OFFSET($GU$2,SMALL(IF($GU$2:$GU$72<>\"\",ROW($I$2:$K$72),\"\"),ROW(GU56))-2,0)","v":{"$error":"#NUM!"}},{"$f":"OFFSET($GV$2,SMALL(IF($GV$2:$GV$72<>\"\",ROW($GV$2:$GV$72),\"\"),ROW(GV56))-2,0)","v":{"$error":"#NUM!"}},{"$f":"OFFSET($GW$2,SMALL(IF($GW$2:$GW$72<>\"\",ROW($GW$2:$GW$72),\"\"),ROW(GW56))-2,0)","v":{"$error":"#NUM!"}},{"$f":"OFFSET($GX$2,SMALL(IF($GX$2:$GX$72<>\"\",ROW($GX$2:$GX$72),\"\"),ROW(GX56))-2,0)","v":{"$error":"#NUM!"}},{"$f":"IF(AND(教学计划表!N72<>\"\",教学计划表!AY72<>\"\"),教学计划表!I72,\"\")","v":""},{"$f":"IF(教学计划表!AY72<>\"\",教学计划表!N72,\"\")","v":""},{"$f":"IF(HG57<>\"\",IF(SEARCH(\"3\",教学计划表!AB72&\"3\",1)<=LEN(教学计划表!AB72),\"考试\",\"考查\"),\"\")","v":""},{"$f":"IF(教学计划表!EV72<>0,教学计划表!EV72,\"\")","v":""},{"$f":"IF(教学计划表!EV72<>0,教学计划表!FA72,\"\")","v":""},{"$f":"IF(教学计划表!EV72<>0,教学计划表!FB72,\"\")","v":""},{"$f":"IF(教学计划表!EV72<>0,教学计划表!PC72,\"\")","v":""},{"$f":"OFFSET($HF$2,SMALL(IF($HF$2:$HF$72<>\"\",ROW($HF$2:$HF$72),\"\"),ROW(HF56))-2,0)","v":{"$error":"#NUM!"}},{"$f":"OFFSET($HG$2,SMALL(IF($HG$2:$HG$72<>\"\",ROW($HG$2:$HG$72),\"\"),ROW(HG56))-2,0)","v":{"$error":"#NUM!"}},{"$f":"OFFSET($HH$2,SMALL(IF($HH$2:$HH$72<>\"\",ROW($HH$2:$HH$72),\"\"),ROW(HH56))-2,0)","v":{"$error":"#NUM!"}},{"$f":"OFFSET($HI$2,SMALL(IF($HI$2:$HI$72<>\"\",ROW($HI$2:$HI$72),\"\"),ROW(HI56))-2,0)","v":{"$error":"#NUM!"}},{"$f":"OFFSET($HJ$2,SMALL(IF($HJ$2:$HJ$72<>\"\",ROW($HJ$2:$HJ$72),\"\"),ROW(HJ56))-2,0)","v":{"$error":"#NUM!"}},{"$f":"OFFSET($HK$2,SMALL(IF($HK$2:$HK$72<>\"\",ROW($HK$2:$HK$72),\"\"),ROW(HK56))-2,0)","v":{"$error":"#NUM!"}},{"$f":"OFFSET($HL$2,SMALL(IF($HL$2:$HL$72<>\"\",ROW($HL$2:$HL$72),\"\"),ROW(HL56))-2,0)","v":{"$error":"#NUM!"}},{"$f":"IF(AND(教学计划表!N72<>\"\",教学计划表!BB72<>\"\"),教学计划表!I72,\"\")","v":""},{"$f":"IF(教学计划表!BB72<>\"\",教学计划表!N72,\"\")","v":""},{"$f":"IF(HU57<>\"\",IF(SEARCH(\"4\",教学计划表!AB72&\"4\",1)<=LEN(教学计划表!AB72),\"考试\",\"考查\"),\"\")","v":""},{"$f":"IF(教学计划表!FQ72<>0,教学计划表!FQ72,\"\")","v":""},{"$f":"IF(教学计划表!FQ72<>0,教学计划表!FV72,\"\")","v":""},{"$f":"IF(教学计划表!FQ72<>0,教学计划表!FW72,\"\")","v":""},{"$f":"IF(教学计划表!FQ72<>0,教学计划表!PO72,\"\")","v":""},{"$f":"OFFSET($HT$2,SMALL(IF($HT$2:$HT$72<>\"\",ROW($HT$2:$HT$72),\"\"),ROW(HT56))-2,0)","v":{"$error":"#NUM!"}},{"$f":"OFFSET($HU$2,SMALL(IF($HU$2:$HU$72<>\"\",ROW($HU$2:$HU$72),\"\"),ROW(HU56))-2,0)","v":{"$error":"#NUM!"}},{"$f":"OFFSET($HV$2,SMALL(IF($HV$2:$HV$72<>\"\",ROW($HV$2:$HV$72),\"\"),ROW(HV56))-2,0)","v":{"$error":"#NUM!"}},{"$f":"OFFSET($HW$2,SMALL(IF($HW$2:$HW$72<>\"\",ROW($HW$2:$HW$72),\"\"),ROW(HW56))-2,0)","v":{"$error":"#NUM!"}},{"$f":"OFFSET($HX$2,SMALL(IF($HX$2:$HX$72<>\"\",ROW($HX$2:$HX$72),\"\"),ROW(HX56))-2,0)","v":{"$error":"#NUM!"}},{"$f":"OFFSET($HY$2,SMALL(IF($HY$2:$HY$72<>\"\",ROW($HY$2:$HY$72),\"\"),ROW(HY56))-2,0)","v":{"$error":"#NUM!"}},{"$f":"OFFSET($HZ$2,SMALL(IF($HZ$2:$HZ$72<>\"\",ROW($HZ$2:$HZ$72),\"\"),ROW(HZ56))-2,0)","v":{"$error":"#NUM!"}},null,null,{"$f":"IF(AND(教学计划表!N72<>\"\",教学计划表!BE72<>\"\"),教学计划表!I72,\"\")","v":""},{"$f":"IF(教学计划表!BE72<>\"\",教学计划表!N72,\"\")","v":""},{"$f":"IF(IK57<>\"\",IF(SEARCH(\"5\",教学计划表!AB72&\"5\",1)<=LEN(教学计划表!AB72),\"考试\",\"考查\"),\"\")","v":""},{"$f":"IF(教学计划表!GL72<>0,教学计划表!GL72,\"\")","v":""},{"$f":"IF(教学计划表!GL72<>0,教学计划表!GQ72,\"\")","v":""},{"$f":"IF(教学计划表!GL72<>0,教学计划表!GR72,\"\")","v":""},{"$f":"IF(教学计划表!GL72<>0,教学计划表!PZ72,\"\")","v":""},{"$f":"OFFSET($IJ$2,SMALL(IF($IJ$2:$IJ$72<>\"\",ROW($IJ$2:$IJ$72),\"\"),ROW(IJ56))-2,0)","v":{"$error":"#NUM!"}},{"$f":"OFFSET($IK$2,SMALL(IF($IK$2:$IK$72<>\"\",ROW($IK$2:$IK$72),\"\"),ROW(IK56))-2,0)","v":{"$error":"#NUM!"}},{"$f":"OFFSET($IL$2,SMALL(IF($IL$2:$IL$72<>\"\",ROW($IL$2:$IL$72),\"\"),ROW(IL56))-2,0)","v":{"$error":"#NUM!"}},{"$f":"OFFSET($IM$2,SMALL(IF($IM$2:$IM$72<>\"\",ROW($IM$2:$IM$72),\"\"),ROW(IM56))-2,0)","v":{"$error":"#NUM!"}},{"$f":"OFFSET($IN$2,SMALL(IF($IN$2:$IN$72<>\"\",ROW($IN$2:$IN$72),\"\"),ROW(IN56))-2,0)","v":{"$error":"#NUM!"}},{"$f":"OFFSET($IO$2,SMALL(IF($IO$2:$IO$72<>\"\",ROW($IO$2:$IO$72),\"\"),ROW(IO56))-2,0)","v":{"$error":"#NUM!"}},{"$f":"OFFSET($IP$2,SMALL(IF($IP$2:$IP$72<>\"\",ROW($IP$2:$IP$72),\"\"),ROW(IP56))-2,0)","v":{"$error":"#NUM!"}},null,{"$f":"IF(AND(教学计划表!N72<>\"\",教学计划表!BH72<>\"\"),教学计划表!I72,\"\")","v":""},{"$f":"IF(教学计划表!BH72<>\"\",教学计划表!N72,\"\")","v":""},{"$f":"IF(教学计划表!BH72<>\"\",IF(SEARCH(\"6\",教学计划表!AB72&\"6\",1)<=LEN(教学计划表!AB72),\"考试\",\"考查\"),\"\")","v":""},{"$f":"IF(教学计划表!BH72<>0,教学计划表!HG72,\"\")","v":""},{"$f":"IF(教学计划表!BH72<>0,教学计划表!HL72,\"\")","v":""},{"$f":"IF(教学计划表!BH72<>0,教学计划表!HM72,\"\")","v":""},{"$f":"IF(教学计划表!BH72<>0,教学计划表!QL72,\"\")","v":""},{"$f":"OFFSET($IY$2,SMALL(IF($IY$2:$IY$72<>\"\",ROW($IY$2:$IY$72),\"\"),ROW(IY56))-2,0)","v":{"$error":"#NUM!"}},{"$f":"OFFSET($IZ$2,SMALL(IF($IZ$2:$IZ$72<>\"\",ROW($IZ$2:$IZ$72),\"\"),ROW(IZ56))-2,0)","v":{"$error":"#NUM!"}},{"$f":"OFFSET($JA$2,SMALL(IF($JA$2:$JA$72<>\"\",ROW($JA$2:$JA$72),\"\"),ROW(JA56))-2,0)","v":{"$error":"#NUM!"}},{"$f":"OFFSET($JB$2,SMALL(IF($JB$2:$JB$72<>\"\",ROW($JB$2:$JB$72),\"\"),ROW(JB56))-2,0)","v":{"$error":"#NUM!"}},{"$f":"OFFSET($JC$2,SMALL(IF($JC$2:$JC$72<>\"\",ROW($JC$2:$JC$72),\"\"),ROW(JC56))-2,0)","v":{"$error":"#NUM!"}},{"$f":"OFFSET($JD$2,SMALL(IF($JD$2:$JD$72<>\"\",ROW($JD$2:$JD$72),\"\"),ROW(JD56))-2,0)","v":{"$error":"#NUM!"}},{"$f":"OFFSET($JE$2,SMALL(IF($JE$2:$JE$72<>\"\",ROW($JE$2:$JE$72),\"\"),ROW(JE56))-2,0)","v":{"$error":"#NUM!"}}]
["","","","","","","",null,"","","",{"$f":"IF(ISERROR(自动生成的开课信息!HB58),\"\",自动生成的开课信息!HB58)","v":""},{"$f":"IF(ISERROR(自动生成的开课信息!HC58),\"\",自动生成的开课信息!HC58)","v":""},{"$f":"IF(ISERROR(自动生成的开课信息!HD58),\"\",自动生成的开课信息!HD58)","v":""},{"$f":"IF(ISERROR(自动生成的开课信息!HE58),\"\",自动生成的开课信息!HE58)","v":""},null,"","","","","","","",null,"","","","","","","",null,"","","","","","","",null,"","","","","","","",null,null,null,null,null,null,null,null,null,null,null,null,null,null,null,null,null,null,null,null,null,null,null,null,null,null,null,null,null,null,null,null,null,null,null,null,null,null,null,null,null,null,null,null,null,null,null,null,null,null,null,null,null,null,null,null,null,null,null,null,null,null,null,null,null,null,null,null,null,null,null,null,null,null,null,null,null,null,null,null,null,null,null,null,null,null,null,null,null,null,null,null,null,null,null,null,null,null,null,null,null,null,null,null,null,null,null,null,null,null,null,null,null,null,null,null,null,null,null,null,null,null,null,null,null,null,null,null,null,null,null,null,null,null,null,null,null,null,{"$f":"IF(AND(教学计划表!N73<>\"\",教学计划表!AS73<>\"\"),教学计划表!I73,\"\")","v":""},{"$f":"IF(教学计划表!AS73<>\"\",教学计划表!N73,\"\")","v":""},{"$f":"IF(GE58<>\"\",IF(SEARCH(\"1\",教学计划表!AB73&\"1\",1)<=LEN(教学计划表!AB73),\"考试\",\"考查\"),\"\")","v":""},{"$f":"IF(教学计划表!DG73<>0,教学计划表!DG73,\"\")","v":""},{"$f":"IF(教学计划表!DG73<>0,教学计划表!DL73,\"\")","v":""},{"$f":"IF(教学计划表!DG73<>0,教学计划表!DM73,\"\")","v":""},{"$f":"IF(教学计划表!DG73<>0,教学计划表!OE73,\"\")","v":""},{"$f":"OFFSET($GD$2,SMALL(IF($GD$2:$GD$72<>\"\",ROW($2:$72),\"\"),ROW(GD57))-2,0)","v":{"$error":"#NUM!"}},{"$f":"OFFSET($GE$2,SMALL(IF($GE$2:$GE$72<>\"\",ROW($2:$72),\"\"),ROW(GE57))-2,0)","v":{"$error":"#NUM!"}},{"$f":"OFFSET($GF$2,SMALL(IF($GF$2:$GF$72<>\"\",ROW($2:$72),\"\"),ROW(GF57))-2,0)","v":{"$error":"#NUM!"}},{"$f":"OFFSET($GG$2,SMALL(IF($GG$2:$GG$72<>\"\",ROW($2:$72),\"\"),ROW(GG57))-2,0)","v":{"$error":"#NUM!"}},{"$f":"OFFSET($GH$2,SMALL(IF($GH$2:$GH$72<>\"\",ROW($2:$72),\"\"),ROW(GH57))-2,0)","v":{"$error":"#NUM!"}},{"$error":"#NUM!"},{"$f":"OFFSET($GJ$2,SMALL(IF($GJ$2:$GJ$72<>\"\",ROW($2:$72),\"\"),ROW(GJ57))-2,0)","v":{"$error":"#NUM!"}},{"$f":"IF(AND(教学计划表!N73<>\"\",教学计划表!AV73<>\"\"),教学计划表!I73,\"\")","v":""},{"$f":"IF(教学计划表!AV73<>\"\",教学计划表!N73,\"\")","v":""},{"$f":"IF(GS58<>\"\",IF(SEARCH(\"2\",教学计划表!AB73&\"2\",1)<=LEN(教学计划表!AB73),\"考试\",\"考查\"),\"\")","v":""},{"$f":"IF(教学计划表!EA73<>0,教学计划表!EA73,\"\")","v":""},{"$f":"IF(教学计划表!EA73<>0,教学计划表!EF73,\"\")","v":""},{"$f":"IF(教学计划表!EA73<>0,教学计划表!EG73,\"\")","v":""},{"$f":"IF(教学计划表!EA73<>0,教学计划表!OQ73,\"\")","v":""},{"$f":"OFFSET($GR$2,SMALL(IF($GR$2:$GR$72<>\"\",ROW($I$2:$K$72),\"\"),ROW(GR57))-2,0)","v":{"$error":"#NUM!"}},{"$f":"OFFSET($GS$2,SMALL(IF($GS$2:$GS$72<>\"\",ROW($I$2:$K$72),\"\"),ROW(GS57))-2,0)","v":{"$error":"#NUM!"}},{"$f":"OFFSET($GT$2,SMALL(IF($GT$2:$GT$72<>\"\",ROW($I$2:$K$72),\"\"),ROW(GT57))-2,0)","v":{"$error":"#NUM!"}},{"$f":"OFFSET($GU$2,SMALL(IF($GU$2:$GU$72<>\"\",ROW($I$2:$K$72),\"\"),ROW(GU57))-2,0)","v":{"$error":"#NUM!"}},{"$f":"OFFSET($GV$2,SMALL(IF($GV$2:$GV$72<>\"\",ROW($GV$2:$GV$72),\"\"),ROW(GV57))-2,0)","v":{"$error":"#NUM!"}},{"$f":"OFFSET($GW$2,SMALL(IF($GW$2:$GW$72<>\"\",ROW($GW$2:$GW$72),\"\"),ROW(GW57))-2,0)","v":{"$error":"#NUM!"}},{"$f":"OFFSET($GX$2,SMALL(IF($GX$2:$GX$72<>\"\",ROW($GX$2:$GX$72),\"\"),ROW(GX57))-2,0)","v":{"$error":"#NUM!"}},{"$f":"IF(AND(教学计划表!N73<>\"\",教学计划表!AY73<>\"\"),教学计划表!I73,\"\")","v":""},{"$f":"IF(教学计划表!AY73<>\"\",教学计划表!N73,\"\")","v":""},{"$f":"IF(HG58<>\"\",IF(SEARCH(\"3\",教学计划表!AB73&\"3\",1)<=LEN(教学计划表!AB73),\"考试\",\"考查\"),\"\")","v":""},{"$f":"IF(教学计划表!EV73<>0,教学计划表!EV73,\"\")","v":""},{"$f":"IF(教学计划表!EV73<>0,教学计划表!FA73,\"\")","v":""},{"$f":"IF(教学计划表!EV73<>0,教学计划表!FB73,\"\")","v":""},{"$f":"IF(教学计划表!EV73<>0,教学计划表!PC73,\"\")","v":""},{"$f":"OFFSET($HF$2,SMALL(IF($HF$2:$HF$72<>\"\",ROW($HF$2:$HF$72),\"\"),ROW(HF57))-2,0)","v":{"$error":"#NUM!"}},{"$f":"OFFSET($HG$2,SMALL(IF($HG$2:$HG$72<>\"\",ROW($HG$2:$HG$72),\"\"),ROW(HG57))-2,0)","v":{"$error":"#NUM!"}},{"$f":"OFFSET($HH$2,SMALL(IF($HH$2:$HH$72<>\"\",ROW($HH$2:$HH$72),\"\"),ROW(HH57))-2,0)","v":{"$error":"#NUM!"}},{"$f":"OFFSET($HI$2,SMALL(IF($HI$2:$HI$72<>\"\",ROW($HI$2:$HI$72),\"\"),ROW(HI57))-2,0)","v":{"$error":"#NUM!"}},{"$f":"OFFSET($HJ$2,SMALL(IF($HJ$2:$HJ$72<>\"\",ROW($HJ$2:$HJ$72),\"\"),ROW(HJ57))-2,0)","v":{"$error":"#NUM!"}},{"$f":"OFFSET($HK$2,SMALL(IF($HK$2:$HK$72<>\"\",ROW($HK$2:$HK$72),\"\"),ROW(HK57))-2,0)","v":{"$error":"#NUM!"}},{"$f":"OFFSET($HL$2,SMALL(IF($HL$2:$HL$72<>\"\",ROW($HL$2:$HL$72),\"\"),ROW(HL57))-2,0)","v":{"$error":"#NUM!"}},{"$f":"IF(AND(教学计划表!N73<>\"\",教学计划表!BB73<>\"\"),教学计划表!I73,\"\")","v":""},{"$f":"IF(教学计划表!BB73<>\"\",教学计划表!N73,\"\")","v":""},{"$f":"IF(HU58<>\"\",IF(SEARCH(\"4\",教学计划表!AB73&\"4\",1)<=LEN(教学计划表!AB73),\"考试\",\"考查\"),\"\")","v":""},{"$f":"IF(教学计划表!FQ73<>0,教学计划表!FQ73,\"\")","v":""},{"$f":"IF(教学计划表!FQ73<>0,教学计划表!FV73,\"\")","v":""},{"$f":"IF(教学计划表!FQ73<>0,教学计划表!FW73,\"\")","v":""},{"$f":"IF(教学计划表!FQ73<>0,教学计划表!PO73,\"\")","v":""},{"$f":"OFFSET($HT$2,SMALL(IF($HT$2:$HT$72<>\"\",ROW($HT$2:$HT$72),\"\"),ROW(HT57))-2,0)","v":{"$error":"#NUM!"}},{"$f":"OFFSET($HU$2,SMALL(IF($HU$2:$HU$72<>\"\",ROW($HU$2:$HU$72),\"\"),ROW(HU57))-2,0)","v":{"$error":"#NUM!"}},{"$f":"OFFSET($HV$2,SMALL(IF($HV$2:$HV$72<>\"\",ROW($HV$2:$HV$72),\"\"),ROW(HV57))-2,0)","v":{"$error":"#NUM!"}},{"$f":"OFFSET($HW$2,SMALL(IF($HW$2:$HW$72<>\"\",ROW($HW$2:$HW$72),\"\"),ROW(HW57))-2,0)","v":{"$error":"#NUM!"}},{"$f":"OFFSET($HX$2,SMALL(IF($HX$2:$HX$72<>\"\",ROW($HX$2:$HX$72),\"\"),ROW(HX57))-2,0)","v":{"$error":"#NUM!"}},{"$f":"OFFSET($HY$2,SMALL(IF($HY$2:$HY$72<>\"\",ROW($HY$2:$HY$72),\"\"),ROW(HY57))-2,0)","v":{"$error":"#NUM!"}},{"$f":"OFFSET($HZ$2,SMALL(IF($HZ$2:$HZ$72<>\"\",ROW($HZ$2:$HZ$72),\"\"),ROW(HZ57))-2,0)","v":{"$error":"#NUM!"}},null,null,{"$f":"IF(AND(教学计划表!N73<>\"\",教学计划表!BE73<>\"\"),教学计划表!I73,\"\")","v":""},{"$f":"IF(教学计划表!BE73<>\"\",教学计划表!N73,\"\")","v":""},{"$f":"IF(IK58<>\"\",IF(SEARCH(\"5\",教学计划表!AB73&\"5\",1)<=LEN(教学计划表!AB73),\"考试\",\"考查\"),\"\")","v":""},{"$f":"IF(教学计划表!GL73<>0,教学计划表!GL73,\"\")","v":""},{"$f":"IF(教学计划表!GL73<>0,教学计划表!GQ73,\"\")","v":""},{"$f":"IF(教学计划表!GL73<>0,教学计划表!GR73,\"\")","v":""},{"$f":"IF(教学计划表!GL73<>0,教学计划表!PZ73,\"\")","v":""},{"$f":"OFFSET($IJ$2,SMALL(IF($IJ$2:$IJ$72<>\"\",ROW($IJ$2:$IJ$72),\"\"),ROW(IJ57))-2,0)","v":{"$error":"#NUM!"}},{"$f":"OFFSET($IK$2,SMALL(IF($IK$2:$IK$72<>\"\",ROW($IK$2:$IK$72),\"\"),ROW(IK57))-2,0)","v":{"$error":"#NUM!"}},{"$f":"OFFSET($IL$2,SMALL(IF($IL$2:$IL$72<>\"\",ROW($IL$2:$IL$72),\"\"),ROW(IL57))-2,0)","v":{"$error":"#NUM!"}},{"$f":"OFFSET($IM$2,SMALL(IF($IM$2:$IM$72<>\"\",ROW($IM$2:$IM$72),\"\"),ROW(IM57))-2,0)","v":{"$error":"#NUM!"}},{"$f":"OFFSET($IN$2,SMALL(IF($IN$2:$IN$72<>\"\",ROW($IN$2:$IN$72),\"\"),ROW(IN57))-2,0)","v":{"$error":"#NUM!"}},{"$f":"OFFSET($IO$2,SMALL(IF($IO$2:$IO$72<>\"\",ROW($IO$2:$IO$72),\"\"),ROW(IO57))-2,0)","v":{"$error":"#NUM!"}},{"$f":"OFFSET($IP$2,SMALL(IF($IP$2:$IP$72<>\"\",ROW($IP$2:$IP$72),\"\"),ROW(IP57))-2,0)","v":{"$error":"#NUM!"}},null,{"$f":"IF(AND(教学计划表!N73<>\"\",教学计划表!BH73<>\"\"),教学计划表!I73,\"\")","v":""},{"$f":"IF(教学计划表!BH73<>\"\",教学计划表!N73,\"\")","v":""},{"$f":"IF(教学计划表!BH73<>\"\",IF(SEARCH(\"6\",教学计划表!AB73&\"6\",1)<=LEN(教学计划表!AB73),\"考试\",\"考查\"),\"\")","v":""},{"$f":"IF(教学计划表!BH73<>0,教学计划表!HG73,\"\")","v":""},{"$f":"IF(教学计划表!BH73<>0,教学计划表!HL73,\"\")","v":""},{"$f":"IF(教学计划表!BH73<>0,教学计划表!HM73,\"\")","v":""},{"$f":"IF(教学计划表!BH73<>0,教学计划表!QL73,\"\")","v":""},{"$f":"OFFSET($IY$2,SMALL(IF($IY$2:$IY$72<>\"\",ROW($IY$2:$IY$72),\"\"),ROW(IY57))-2,0)","v":{"$error":"#NUM!"}},{"$f":"OFFSET($IZ$2,SMALL(IF($IZ$2:$IZ$72<>\"\",ROW($IZ$2:$IZ$72),\"\"),ROW(IZ57))-2,0)","v":{"$error":"#NUM!"}},{"$f":"OFFSET($JA$2,SMALL(IF($JA$2:$JA$72<>\"\",ROW($JA$2:$JA$72),\"\"),ROW(JA57))-2,0)","v":{"$error":"#NUM!"}},{"$f":"OFFSET($JB$2,SMALL(IF($JB$2:$JB$72<>\"\",ROW($JB$2:$JB$72),\"\"),ROW(JB57))-2,0)","v":{"$error":"#NUM!"}},{"$f":"OFFSET($JC$2,SMALL(IF($JC$2:$JC$72<>\"\",ROW($JC$2:$JC$72),\"\"),ROW(JC57))-2,0)","v":{"$error":"#NUM!"}},{"$f":"OFFSET($JD$2,SMALL(IF($JD$2:$JD$72<>\"\",ROW($JD$2:$JD$72),\"\"),ROW(JD57))-2,0)","v":{"$error":"#NUM!"}},{"$f":"OFFSET($JE$2,SMALL(IF($JE$2:$JE$72<>\"\",ROW($JE$2:$JE$72),\"\"),ROW(JE57))-2,0)","v":{"$error":"#NUM!"}}]
["","","","","","","",null,"","","",{"$f":"IF(ISERROR(自动生成的开课信息!HB59),\"\",自动生成的开课信息!HB59)","v":""},{"$f":"IF(ISERROR(自动生成的开课信息!HC59),\"\",自动生成的开课信息!HC59)","v":""},{"$f":"IF(ISERROR(自动生成的开课信息!HD59),\"\",自动生成的开课信息!HD59)","v":""},{"$f":"IF(ISERROR(自动生成的开课信息!HE59),\"\",自动生成的开课信息!HE59)","v":""},null,"","","","","","","",null,"","","","","","","",null,"","","","","","","",null,"","","","","","","",null,null,null,null,null,null,null,null,null,null,null,null,null,null,null,null,null,null,null,null,null,null,null,null,null,null,null,null,null,null,null,null,null,null,null,null,null,null,null,null,null,null,null,null,null,null,null,null,null,null,null,null,null,null,null,null,null,null,null,null,null,null,null,null,null,null,null,null,null,null,null,null,null,null,null,null,null,null,null,null,null,null,null,null,null,null,null,null,null,null,null,null,null,null,null,null,null,null,null,null,null,null,null,null,null,null,null,null,null,null,null,null,null,null,null,null,null,null,null,null,null,null,null,null,null,null,null,null,null,null,null,null,null,null,null,null,null,null,{"$f":"IF(AND(教学计划表!N74<>\"\",教学计划表!AS74<>\"\"),教学计划表!I74,\"\")","v":""},{"$f":"IF(教学计划表!AS74<>\"\",教学计划表!N74,\"\")","v":""},{"$f":"IF(GE59<>\"\",IF(SEARCH(\"1\",教学计划表!AB74&\"1\",1)<=LEN(教学计划表!AB74),\"考试\",\"考查\"),\"\")","v":""},{"$f":"IF(教学计划表!DG74<>0,教学计划表!DG74,\"\")","v":""},{"$f":"IF(教学计划表!DG74<>0,教学计划表!DL74,\"\")","v":""},{"$f":"IF(教学计划表!DG74<>0,教学计划表!DM74,\"\")","v":""},{"$f":"IF(教学计划表!DG74<>0,教学计划表!OE74,\"\")","v":""},{"$f":"OFFSET($GD$2,SMALL(IF($GD$2:$GD$72<>\"\",ROW($2:$72),\"\"),ROW(GD58))-2,0)","v":{"$error":"#NUM!"}},{"$f":"OFFSET($GE$2,SMALL(IF($GE$2:$GE$72<>\"\",ROW($2:$72),\"\"),ROW(GE58))-2,0)","v":{"$error":"#NUM!"}},{"$f":"OFFSET($GF$2,SMALL(IF($GF$2:$GF$72<>\"\",ROW($2:$72),\"\"),ROW(GF58))-2,0)","v":{"$error":"#NUM!"}},{"$f":"OFFSET($GG$2,SMALL(IF($GG$2:$GG$72<>\"\",ROW($2:$72),\"\"),ROW(GG58))-2,0)","v":{"$error":"#NUM!"}},{"$f":"OFFSET($GH$2,SMALL(IF($GH$2:$GH$72<>\"\",ROW($2:$72),\"\"),ROW(GH58))-2,0)","v":{"$error":"#NUM!"}},{"$error":"#NUM!"},{"$f":"OFFSET($GJ$2,SMALL(IF($GJ$2:$GJ$72<>\"\",ROW($2:$72),\"\"),ROW(GJ58))-2,0)","v":{"$error":"#NUM!"}},{"$f":"IF(AND(教学计划表!N74<>\"\",教学计划表!AV74<>\"\"),教学计划表!I74,\"\")","v":""},{"$f":"IF(教学计划表!AV74<>\"\",教学计划表!N74,\"\")","v":""},{"$f":"IF(GS59<>\"\",IF(SEARCH(\"2\",教学计划表!AB74&\"2\",1)<=LEN(教学计划表!AB74),\"考试\",\"考查\"),\"\")","v":""},{"$f":"IF(教学计划表!EA74<>0,教学计划表!EA74,\"\")","v":""},{"$f":"IF(教学计划表!EA74<>0,教学计划表!EF74,\"\")","v":""},{"$f":"IF(教学计划表!EA74<>0,教学计划表!EG74,\"\")","v":""},{"$f":"IF(教学计划表!EA74<>0,教学计划表!OQ74,\"\")","v":""},{"$f":"OFFSET($GR$2,SMALL(IF($GR$2:$GR$72<>\"\",ROW($I$2:$K$72),\"\"),ROW(GR58))-2,0)","v":{"$error":"#NUM!"}},{"$f":"OFFSET($GS$2,SMALL(IF($GS$2:$GS$72<>\"\",ROW($I$2:$K$72),\"\"),ROW(GS58))-2,0)","v":{"$error":"#NUM!"}},{"$f":"OFFSET($GT$2,SMALL(IF($GT$2:$GT$72<>\"\",ROW($I$2:$K$72),\"\"),ROW(GT58))-2,0)","v":{"$error":"#NUM!"}},{"$f":"OFFSET($GU$2,SMALL(IF($GU$2:$GU$72<>\"\",ROW($I$2:$K$72),\"\"),ROW(GU58))-2,0)","v":{"$error":"#NUM!"}},{"$f":"OFFSET($GV$2,SMALL(IF($GV$2:$GV$72<>\"\",ROW($GV$2:$GV$72),\"\"),ROW(GV58))-2,0)","v":{"$error":"#NUM!"}},{"$f":"OFFSET($GW$2,SMALL(IF($GW$2:$GW$72<>\"\",ROW($GW$2:$GW$72),\"\"),ROW(GW58))-2,0)","v":{"$error":"#NUM!"}},{"$f":"OFFSET($GX$2,SMALL(IF($GX$2:$GX$72<>\"\",ROW($GX$2:$GX$72),\"\"),ROW(GX58))-2,0)","v":{"$error":"#NUM!"}},{"$f":"IF(AND(教学计划表!N74<>\"\",教学计划表!AY74<>\"\"),教学计划表!I74,\"\")","v":""},{"$f":"IF(教学计划表!AY74<>\"\",教学计划表!N74,\"\")","v":""},{"$f":"IF(HG59<>\"\",IF(SEARCH(\"3\",教学计划表!AB74&\"3\",1)<=LEN(教学计划表!AB74),\"考试\",\"考查\"),\"\")","v":""},{"$f":"IF(教学计划表!EV74<>0,教学计划表!EV74,\"\")","v":""},{"$f":"IF(教学计划表!EV74<>0,教学计划表!FA74,\"\")","v":""},{"$f":"IF(教学计划表!EV74<>0,教学计划表!FB74,\"\")","v":""},{"$f":"IF(教学计划表!EV74<>0,教学计划表!PC74,\"\")","v":""},{"$f":"OFFSET($HF$2,SMALL(IF($HF$2:$HF$72<>\"\",ROW($HF$2:$HF$72),\"\"),ROW(HF58))-2,0)","v":{"$error":"#NUM!"}},{"$f":"OFFSET($HG$2,SMALL(IF($HG$2:$HG$72<>\"\",ROW($HG$2:$HG$72),\"\"),ROW(HG58))-2,0)","v":{"$error":"#NUM!"}},{"$f":"OFFSET($HH$2,SMALL(IF($HH$2:$HH$72<>\"\",ROW($HH$2:$HH$72),\"\"),ROW(HH58))-2,0)","v":{"$error":"#NUM!"}},{"$f":"OFFSET($HI$2,SMALL(IF($HI$2:$HI$72<>\"\",ROW($HI$2:$HI$72),\"\"),ROW(HI58))-2,0)","v":{"$error":"#NUM!"}},{"$f":"OFFSET($HJ$2,SMALL(IF($HJ$2:$HJ$72<>\"\",ROW($HJ$2:$HJ$72),\"\"),ROW(HJ58))-2,0)","v":{"$error":"#NUM!"}},{"$f":"OFFSET($HK$2,SMALL(IF($HK$2:$HK$72<>\"\",ROW($HK$2:$HK$72),\"\"),ROW(HK58))-2,0)","v":{"$error":"#NUM!"}},{"$f":"OFFSET($HL$2,SMALL(IF($HL$2:$HL$72<>\"\",ROW($HL$2:$HL$72),\"\"),ROW(HL58))-2,0)","v":{"$error":"#NUM!"}},{"$f":"IF(AND(教学计划表!N74<>\"\",教学计划表!BB74<>\"\"),教学计划表!I74,\"\")","v":""},{"$f":"IF(教学计划表!BB74<>\"\",教学计划表!N74,\"\")","v":""},{"$f":"IF(HU59<>\"\",IF(SEARCH(\"4\",教学计划表!AB74&\"4\",1)<=LEN(教学计划表!AB74),\"考试\",\"考查\"),\"\")","v":""},{"$f":"IF(教学计划表!FQ74<>0,教学计划表!FQ74,\"\")","v":""},{"$f":"IF(教学计划表!FQ74<>0,教学计划表!FV74,\"\")","v":""},{"$f":"IF(教学计划表!FQ74<>0,教学计划表!FW74,\"\")","v":""},{"$f":"IF(教学计划表!FQ74<>0,教学计划表!PO74,\"\")","v":""},{"$f":"OFFSET($HT$2,SMALL(IF($HT$2:$HT$72<>\"\",ROW($HT$2:$HT$72),\"\"),ROW(HT58))-2,0)","v":{"$error":"#NUM!"}},{"$f":"OFFSET($HU$2,SMALL(IF($HU$2:$HU$72<>\"\",ROW($HU$2:$HU$72),\"\"),ROW(HU58))-2,0)","v":{"$error":"#NUM!"}},{"$f":"OFFSET($HV$2,SMALL(IF($HV$2:$HV$72<>\"\",ROW($HV$2:$HV$72),\"\"),ROW(HV58))-2,0)","v":{"$error":"#NUM!"}},{"$f":"OFFSET($HW$2,SMALL(IF($HW$2:$HW$72<>\"\",ROW($HW$2:$HW$72),\"\"),ROW(HW58))-2,0)","v":{"$error":"#NUM!"}},{"$f":"OFFSET($HX$2,SMALL(IF($HX$2:$HX$72<>\"\",ROW($HX$2:$HX$72),\"\"),ROW(HX58))-2,0)","v":{"$error":"#NUM!"}},{"$f":"OFFSET($HY$2,SMALL(IF($HY$2:$HY$72<>\"\",ROW($HY$2:$HY$72),\"\"),ROW(HY58))-2,0)","v":{"$error":"#NUM!"}},{"$f":"OFFSET($HZ$2,SMALL(IF($HZ$2:$HZ$72<>\"\",ROW($HZ$2:$HZ$72),\"\"),ROW(HZ58))-2,0)","v":{"$error":"#NUM!"}},null,null,{"$f":"IF(AND(教学计划表!N74<>\"\",教学计划表!BE74<>\"\"),教学计划表!I74,\"\")","v":""},{"$f":"IF(教学计划表!BE74<>\"\",教学计划表!N74,\"\")","v":""},{"$f":"IF(IK59<>\"\",IF(SEARCH(\"5\",教学计划表!AB74&\"5\",1)<=LEN(教学计划表!AB74),\"考试\",\"考查\"),\"\")","v":""},{"$f":"IF(教学计划表!GL74<>0,教学计划表!GL74,\"\")","v":""},{"$f":"IF(教学计划表!GL74<>0,教学计划表!GQ74,\"\")","v":""},{"$f":"IF(教学计划表!GL74<>0,教学计划表!GR74,\"\")","v":""},{"$f":"IF(教学计划表!GL74<>0,教学计划表!PZ74,\"\")","v":""},{"$f":"OFFSET($IJ$2,SMALL(IF($IJ$2:$IJ$72<>\"\",ROW($IJ$2:$IJ$72),\"\"),ROW(IJ58))-2,0)","v":{"$error":"#NUM!"}},{"$f":"OFFSET($IK$2,SMALL(IF($IK$2:$IK$72<>\"\",ROW($IK$2:$IK$72),\"\"),ROW(IK58))-2,0)","v":{"$error":"#NUM!"}},{"$f":"OFFSET($IL$2,SMALL(IF($IL$2:$IL$72<>\"\",ROW($IL$2:$IL$72),\"\"),ROW(IL58))-2,0)","v":{"$error":"#NUM!"}},{"$f":"OFFSET($IM$2,SMALL(IF($IM$2:$IM$72<>\"\",ROW($IM$2:$IM$72),\"\"),ROW(IM58))-2,0)","v":{"$error":"#NUM!"}},{"$f":"OFFSET($IN$2,SMALL(IF($IN$2:$IN$72<>\"\",ROW($IN$2:$IN$72),\"\"),ROW(IN58))-2,0)","v":{"$error":"#NUM!"}},{"$f":"OFFSET($IO$2,SMALL(IF($IO$2:$IO$72<>\"\",ROW($IO$2:$IO$72),\"\"),ROW(IO58))-2,0)","v":{"$error":"#NUM!"}},{"$f":"OFFSET($IP$2,SMALL(IF($IP$2:$IP$72<>\"\",ROW($IP$2:$IP$72),\"\"),ROW(IP58))-2,0)","v":{"$error":"#NUM!"}},null,{"$f":"IF(AND(教学计划表!N74<>\"\",教学计划表!BH74<>\"\"),教学计划表!I74,\"\")","v":""},{"$f":"IF(教学计划表!BH74<>\"\",教学计划表!N74,\"\")","v":""},{"$f":"IF(教学计划表!BH74<>\"\",IF(SEARCH(\"6\",教学计划表!AB74&\"6\",1)<=LEN(教学计划表!AB74),\"考试\",\"考查\"),\"\")","v":""},{"$f":"IF(教学计划表!BH74<>0,教学计划表!HG74,\"\")","v":""},{"$f":"IF(教学计划表!BH74<>0,教学计划表!HL74,\"\")","v":""},{"$f":"IF(教学计划表!BH74<>0,教学计划表!HM74,\"\")","v":""},{"$f":"IF(教学计划表!BH74<>0,教学计划表!QL74,\"\")","v":""},{"$f":"OFFSET($IY$2,SMALL(IF($IY$2:$IY$72<>\"\",ROW($IY$2:$IY$72),\"\"),ROW(IY58))-2,0)","v":{"$error":"#NUM!"}},{"$f":"OFFSET($IZ$2,SMALL(IF($IZ$2:$IZ$72<>\"\",ROW($IZ$2:$IZ$72),\"\"),ROW(IZ58))-2,0)","v":{"$error":"#NUM!"}},{"$f":"OFFSET($JA$2,SMALL(IF($JA$2:$JA$72<>\"\",ROW($JA$2:$JA$72),\"\"),ROW(JA58))-2,0)","v":{"$error":"#NUM!"}},{"$f":"OFFSET($JB$2,SMALL(IF($JB$2:$JB$72<>\"\",ROW($JB$2:$JB$72),\"\"),ROW(JB58))-2,0)","v":{"$error":"#NUM!"}},{"$f":"OFFSET($JC$2,SMALL(IF($JC$2:$JC$72<>\"\",ROW($JC$2:$JC$72),\"\"),ROW(JC58))-2,0)","v":{"$error":"#NUM!"}},{"$f":"OFFSET($JD$2,SMALL(IF($JD$2:$JD$72<>\"\",ROW($JD$2:$JD$72),\"\"),ROW(JD58))-2,0)","v":{"$error":"#NUM!"}},{"$f":"OFFSET($JE$2,SMALL(IF($JE$2:$JE$72<>\"\",ROW($JE$2:$JE$72),\"\"),ROW(JE58))-2,0)","v":{"$error":"#NUM!"}}]
["","","","","","","",null,"","","",{"$f":"IF(ISERROR(自动生成的开课信息!HB60),\"\",自动生成的开课信息!HB60)","v":""},{"$f":"IF(ISERROR(自动生成的开课信息!HC60),\"\",自动生成的开课信息!HC60)","v":""},{"$f":"IF(ISERROR(自动生成的开课信息!HD60),\"\",自动生成的开课信息!HD60)","v":""},{"$f":"IF(ISERROR(自动生成的开课信息!HE60),\"\",自动生成的开课信息!HE60)","v":""},null,"","","","","","","",null,"","","","","","","",null,"","","","","","","",null,"","","","","","","",null,null,null,null,null,null,null,null,null,null,null,null,null,null,null,null,null,null,null,null,null,null,null,null,null,null,null,null,null,null,null,null,null,null,null,null,null,null,null,null,null,null,null,null,null,null,null,null,null,null,null,null,null,null,null,null,null,null,null,null,null,null,null,null,null,null,null,null,null,null,null,null,null,null,null,null,null,null,null,null,null,null,null,null,null,null,null,null,null,null,null,null,null,null,null,null,null,null,null,null,null,null,null,null,null,null,null,null,null,null,null,null,null,null,null,null,null,null,null,null,null,null,null,null,null,null,null,null,null,null,null,null,null,null,null,null,null,null,{"$f":"IF(AND(教学计划表!N75<>\"\",教学计划表!AS75<>\"\"),教学计划表!I75,\"\")","v":""},{"$f":"IF(教学计划表!AS75<>\"\",教学计划表!N75,\"\")","v":""},{"$f":"IF(GE60<>\"\",IF(SEARCH(\"1\",教学计划表!AB75&\"1\",1)<=LEN(教学计划表!AB75),\"考试\",\"考查\"),\"\")","v":""},{"$f":"IF(教学计划表!DG75<>0,教学计划表!DG75,\"\")","v":""},{"$f":"IF(教学计划表!DG75<>0,教学计划表!DL75,\"\")","v":""},{"$f":"IF(教学计划表!DG75<>0,教学计划表!DM75,\"\")","v":""},{"$f":"IF(教学计划表!DG75<>0,教学计划表!OE75,\"\")","v":""},{"$f":"OFFSET($GD$2,SMALL(IF($GD$2:$GD$72<>\"\",ROW($2:$72),\"\"),ROW(GD59))-2,0)","v":{"$error":"#NUM!"}},{"$f":"OFFSET($GE$2,SMALL(IF($GE$2:$GE$72<>\"\",ROW($2:$72),\"\"),ROW(GE59))-2,0)","v":{"$error":"#NUM!"}},{"$f":"OFFSET($GF$2,SMALL(IF($GF$2:$GF$72<>\"\",ROW($2:$72),\"\"),ROW(GF59))-2,0)","v":{"$error":"#NUM!"}},{"$f":"OFFSET($GG$2,SMALL(IF($GG$2:$GG$72<>\"\",ROW($2:$72),\"\"),ROW(GG59))-2,0)","v":{"$error":"#NUM!"}},{"$f":"OFFSET($GH$2,SMALL(IF($GH$2:$GH$72<>\"\",ROW($2:$72),\"\"),ROW(GH59))-2,0)","v":{"$error":"#NUM!"}},{"$error":"#NUM!"},{"$f":"OFFSET($GJ$2,SMALL(IF($GJ$2:$GJ$72<>\"\",ROW($2:$72),\"\"),ROW(GJ59))-2,0)","v":{"$error":"#NUM!"}},{"$f":"IF(AND(教学计划表!N75<>\"\",教学计划表!AV75<>\"\"),教学计划表!I75,\"\")","v":""},{"$f":"IF(教学计划表!AV75<>\"\",教学计划表!N75,\"\")","v":""},{"$f":"IF(GS60<>\"\",IF(SEARCH(\"2\",教学计划表!AB75&\"2\",1)<=LEN(教学计划表!AB75),\"考试\",\"考查\"),\"\")","v":""},{"$f":"IF(教学计划表!EA75<>0,教学计划表!EA75,\"\")","v":""},{"$f":"IF(教学计划表!EA75<>0,教学计划表!EF75,\"\")","v":""},{"$f":"IF(教学计划表!EA75<>0,教学计划表!EG75,\"\")","v":""},{"$f":"IF(教学计划表!EA75<>0,教学计划表!OQ75,\"\")","v":""},{"$f":"OFFSET($GR$2,SMALL(IF($GR$2:$GR$72<>\"\",ROW($I$2:$K$72),\"\"),ROW(GR59))-2,0)","v":{"$error":"#NUM!"}},{"$f":"OFFSET($GS$2,SMALL(IF($GS$2:$GS$72<>\"\",ROW($I$2:$K$72),\"\"),ROW(GS59))-2,0)","v":{"$error":"#NUM!"}},{"$f":"OFFSET($GT$2,SMALL(IF($GT$2:$GT$72<>\"\",ROW($I$2:$K$72),\"\"),ROW(GT59))-2,0)","v":{"$error":"#NUM!"}},{"$f":"OFFSET($GU$2,SMALL(IF($GU$2:$GU$72<>\"\",ROW($I$2:$K$72),\"\"),ROW(GU59))-2,0)","v":{"$error":"#NUM!"}},{"$f":"OFFSET($GV$2,SMALL(IF($GV$2:$GV$72<>\"\",ROW($GV$2:$GV$72),\"\"),ROW(GV59))-2,0)","v":{"$error":"#NUM!"}},{"$f":"OFFSET($GW$2,SMALL(IF($GW$2:$GW$72<>\"\",ROW($GW$2:$GW$72),\"\"),ROW(GW59))-2,0)","v":{"$error":"#NUM!"}},{"$f":"OFFSET($GX$2,SMALL(IF($GX$2:$GX$72<>\"\",ROW($GX$2:$GX$72),\"\"),ROW(GX59))-2,0)","v":{"$error":"#NUM!"}},{"$f":"IF(AND(教学计划表!N75<>\"\",教学计划表!AY75<>\"\"),教学计划表!I75,\"\")","v":""},{"$f":"IF(教学计划表!AY75<>\"\",教学计划表!N75,\"\")","v":""},{"$f":"IF(HG60<>\"\",IF(SEARCH(\"3\",教学计划表!AB75&\"3\",1)<=LEN(教学计划表!AB75),\"考试\",\"考查\"),\"\")","v":""},{"$f":"IF(教学计划表!EV75<>0,教学计划表!EV75,\"\")","v":""},{"$f":"IF(教学计划表!EV75<>0,教学计划表!FA75,\"\")","v":""},{"$f":"IF(教学计划表!EV75<>0,教学计划表!FB75,\"\")","v":""},{"$f":"IF(教学计划表!EV75<>0,教学计划表!PC75,\"\")","v":""},{"$f":"OFFSET($HF$2,SMALL(IF($HF$2:$HF$72<>\"\",ROW($HF$2:$HF$72),\"\"),ROW(HF59))-2,0)","v":{"$error":"#NUM!"}},{"$f":"OFFSET($HG$2,SMALL(IF($HG$2:$HG$72<>\"\",ROW($HG$2:$HG$72),\"\"),ROW(HG59))-2,0)","v":{"$error":"#NUM!"}},{"$f":"OFFSET($HH$2,SMALL(IF($HH$2:$HH$72<>\"\",ROW($HH$2:$HH$72),\"\"),ROW(HH59))-2,0)","v":{"$error":"#NUM!"}},{"$f":"OFFSET($HI$2,SMALL(IF($HI$2:$HI$72<>\"\",ROW($HI$2:$HI$72),\"\"),ROW(HI59))-2,0)","v":{"$error":"#NUM!"}},{"$f":"OFFSET($HJ$2,SMALL(IF($HJ$2:$HJ$72<>\"\",ROW($HJ$2:$HJ$72),\"\"),ROW(HJ59))-2,0)","v":{"$error":"#NUM!"}},{"$f":"OFFSET($HK$2,SMALL(IF($HK$2:$HK$72<>\"\",ROW($HK$2:$HK$72),\"\"),ROW(HK59))-2,0)","v":{"$error":"#NUM!"}},{"$f":"OFFSET($HL$2,SMALL(IF($HL$2:$HL$72<>\"\",ROW($HL$2:$HL$72),\"\"),ROW(HL59))-2,0)","v":{"$error":"#NUM!"}},{"$f":"IF(AND(教学计划表!N75<>\"\",教学计划表!BB75<>\"\"),教学计划表!I75,\"\")","v":""},{"$f":"IF(教学计划表!BB75<>\"\",教学计划表!N75,\"\")","v":""},{"$f":"IF(HU60<>\"\",IF(SEARCH(\"4\",教学计划表!AB75&\"4\",1)<=LEN(教学计划表!AB75),\"考试\",\"考查\"),\"\")","v":""},{"$f":"IF(教学计划表!FQ75<>0,教学计划表!FQ75,\"\")","v":""},{"$f":"IF(教学计划表!FQ75<>0,教学计划表!FV75,\"\")","v":""},{"$f":"IF(教学计划表!FQ75<>0,教学计划表!FW75,\"\")","v":""},{"$f":"IF(教学计划表!FQ75<>0,教学计划表!PO75,\"\")","v":""},{"$f":"OFFSET($HT$2,SMALL(IF($HT$2:$HT$72<>\"\",ROW($HT$2:$HT$72),\"\"),ROW(HT59))-2,0)","v":{"$error":"#NUM!"}},{"$f":"OFFSET($HU$2,SMALL(IF($HU$2:$HU$72<>\"\",ROW($HU$2:$HU$72),\"\"),ROW(HU59))-2,0)","v":{"$error":"#NUM!"}},{"$f":"OFFSET($HV$2,SMALL(IF($HV$2:$HV$72<>\"\",ROW($HV$2:$HV$72),\"\"),ROW(HV59))-2,0)","v":{"$error":"#NUM!"}},{"$f":"OFFSET($HW$2,SMALL(IF($HW$2:$HW$72<>\"\",ROW($HW$2:$HW$72),\"\"),ROW(HW59))-2,0)","v":{"$error":"#NUM!"}},{"$f":"OFFSET($HX$2,SMALL(IF($HX$2:$HX$72<>\"\",ROW($HX$2:$HX$72),\"\"),ROW(HX59))-2,0)","v":{"$error":"#NUM!"}},{"$f":"OFFSET($HY$2,SMALL(IF($HY$2:$HY$72<>\"\",ROW($HY$2:$HY$72),\"\"),ROW(HY59))-2,0)","v":{"$error":"#NUM!"}},{"$f":"OFFSET($HZ$2,SMALL(IF($HZ$2:$HZ$72<>\"\",ROW($HZ$2:$HZ$72),\"\"),ROW(HZ59))-2,0)","v":{"$error":"#NUM!"}},null,null,{"$f":"IF(AND(教学计划表!N75<>\"\",教学计划表!BE75<>\"\"),教学计划表!I75,\"\")","v":""},{"$f":"IF(教学计划表!BE75<>\"\",教学计划表!N75,\"\")","v":""},{"$f":"IF(IK60<>\"\",IF(SEARCH(\"5\",教学计划表!AB75&\"5\",1)<=LEN(教学计划表!AB75),\"考试\",\"考查\"),\"\")","v":""},{"$f":"IF(教学计划表!GL75<>0,教学计划表!GL75,\"\")","v":""},{"$f":"IF(教学计划表!GL75<>0,教学计划表!GQ75,\"\")","v":""},{"$f":"IF(教学计划表!GL75<>0,教学计划表!GR75,\"\")","v":""},{"$f":"IF(教学计划表!GL75<>0,教学计划表!PZ75,\"\")","v":""},{"$f":"OFFSET($IJ$2,SMALL(IF($IJ$2:$IJ$72<>\"\",ROW($IJ$2:$IJ$72),\"\"),ROW(IJ59))-2,0)","v":{"$error":"#NUM!"}},{"$f":"OFFSET($IK$2,SMALL(IF($IK$2:$IK$72<>\"\",ROW($IK$2:$IK$72),\"\"),ROW(IK59))-2,0)","v":{"$error":"#NUM!"}},{"$f":"OFFSET($IL$2,SMALL(IF($IL$2:$IL$72<>\"\",ROW($IL$2:$IL$72),\"\"),ROW(IL59))-2,0)","v":{"$error":"#NUM!"}},{"$f":"OFFSET($IM$2,SMALL(IF($IM$2:$IM$72<>\"\",ROW($IM$2:$IM$72),\"\"),ROW(IM59))-2,0)","v":{"$error":"#NUM!"}},{"$f":"OFFSET($IN$2,SMALL(IF($IN$2:$IN$72<>\"\",ROW($IN$2:$IN$72),\"\"),ROW(IN59))-2,0)","v":{"$error":"#NUM!"}},{"$f":"OFFSET($IO$2,SMALL(IF($IO$2:$IO$72<>\"\",ROW($IO$2:$IO$72),\"\"),ROW(IO59))-2,0)","v":{"$error":"#NUM!"}},{"$f":"OFFSET($IP$2,SMALL(IF($IP$2:$IP$72<>\"\",ROW($IP$2:$IP$72),\"\"),ROW(IP59))-2,0)","v":{"$error":"#NUM!"}},null,{"$f":"IF(AND(教学计划表!N75<>\"\",教学计划表!BH75<>\"\"),教学计划表!I75,\"\")","v":""},{"$f":"IF(教学计划表!BH75<>\"\",教学计划表!N75,\"\")","v":""},{"$f":"IF(教学计划表!BH75<>\"\",IF(SEARCH(\"6\",教学计划表!AB75&\"6\",1)<=LEN(教学计划表!AB75),\"考试\",\"考查\"),\"\")","v":""},{"$f":"IF(教学计划表!BH75<>0,教学计划表!HG75,\"\")","v":""},{"$f":"IF(教学计划表!BH75<>0,教学计划表!HL75,\"\")","v":""},{"$f":"IF(教学计划表!BH75<>0,教学计划表!HM75,\"\")","v":""},{"$f":"IF(教学计划表!BH75<>0,教学计划表!QL75,\"\")","v":""},{"$f":"OFFSET($IY$2,SMALL(IF($IY$2:$IY$72<>\"\",ROW($IY$2:$IY$72),\"\"),ROW(IY59))-2,0)","v":{"$error":"#NUM!"}},{"$f":"OFFSET($IZ$2,SMALL(IF($IZ$2:$IZ$72<>\"\",ROW($IZ$2:$IZ$72),\"\"),ROW(IZ59))-2,0)","v":{"$error":"#NUM!"}},{"$f":"OFFSET($JA$2,SMALL(IF($JA$2:$JA$72<>\"\",ROW($JA$2:$JA$72),\"\"),ROW(JA59))-2,0)","v":{"$error":"#NUM!"}},{"$f":"OFFSET($JB$2,SMALL(IF($JB$2:$JB$72<>\"\",ROW($JB$2:$JB$72),\"\"),ROW(JB59))-2,0)","v":{"$error":"#NUM!"}},{"$f":"OFFSET($JC$2,SMALL(IF($JC$2:$JC$72<>\"\",ROW($JC$2:$JC$72),\"\"),ROW(JC59))-2,0)","v":{"$error":"#NUM!"}},{"$f":"OFFSET($JD$2,SMALL(IF($JD$2:$JD$72<>\"\",ROW($JD$2:$JD$72),\"\"),ROW(JD59))-2,0)","v":{"$error":"#NUM!"}},{"$f":"OFFSET($JE$2,SMALL(IF($JE$2:$JE$72<>\"\",ROW($JE$2:$JE$72),\"\"),ROW(JE59))-2,0)","v":{"$error":"#NUM!"}}]
["","","","","","","",null,"","","",{"$f":"IF(ISERROR(自动生成的开课信息!HB61),\"\",自动生成的开课信息!HB61)","v":""},{"$f":"IF(ISERROR(自动生成的开课信息!HC61),\"\",自动生成的开课信息!HC61)","v":""},{"$f":"IF(ISERROR(自动生成的开课信息!HD61),\"\",自动生成的开课信息!HD61)","v":""},{"$f":"IF(ISERROR(自动生成的开课信息!HE61),\"\",自动生成的开课信息!HE61)","v":""},null,"","","","","","","",null,"","","","","","","",null,"","","","","","","",null,"","","","","","","",null,null,null,null,null,null,null,null,null,null,null,null,null,null,null,null,null,null,null,null,null,null,null,null,null,null,null,null,null,null,null,null,null,null,null,null,null,null,null,null,null,null,null,null,null,null,null,null,null,null,null,null,null,null,null,null,null,null,null,null,null,null,null,null,null,null,null,null,null,null,null,null,null,null,null,null,null,null,null,null,null,null,null,null,null,null,null,null,null,null,null,null,null,null,null,null,null,null,null,null,null,null,null,null,null,null,null,null,null,null,null,null,null,null,null,null,null,null,null,null,null,null,null,null,null,null,null,null,null,null,null,null,null,null,null,null,null,null,{"$f":"IF(AND(教学计划表!N76<>\"\",教学计划表!AS76<>\"\"),教学计划表!I76,\"\")","v":""},{"$f":"IF(教学计划表!AS76<>\"\",教学计划表!N76,\"\")","v":""},{"$f":"IF(GE61<>\"\",IF(SEARCH(\"1\",教学计划表!AB76&\"1\",1)<=LEN(教学计划表!AB76),\"考试\",\"考查\"),\"\")","v":""},{"$f":"IF(教学计划表!DG76<>0,教学计划表!DG76,\"\")","v":""},{"$f":"IF(教学计划表!DG76<>0,教学计划表!DL76,\"\")","v":""},{"$f":"IF(教学计划表!DG76<>0,教学计划表!DM76,\"\")","v":""},{"$f":"IF(教学计划表!DG76<>0,教学计划表!OE76,\"\")","v":""},{"$f":"OFFSET($GD$2,SMALL(IF($GD$2:$GD$72<>\"\",ROW($2:$72),\"\"),ROW(GD60))-2,0)","v":{"$error":"#NUM!"}},{"$f":"OFFSET($GE$2,SMALL(IF($GE$2:$GE$72<>\"\",ROW($2:$72),\"\"),ROW(GE60))-2,0)","v":{"$error":"#NUM!"}},{"$f":"OFFSET($GF$2,SMALL(IF($GF$2:$GF$72<>\"\",ROW($2:$72),\"\"),ROW(GF60))-2,0)","v":{"$error":"#NUM!"}},{"$f":"OFFSET($GG$2,SMALL(IF($GG$2:$GG$72<>\"\",ROW($2:$72),\"\"),ROW(GG60))-2,0)","v":{"$error":"#NUM!"}},{"$f":"OFFSET($GH$2,SMALL(IF($GH$2:$GH$72<>\"\",ROW($2:$72),\"\"),ROW(GH60))-2,0)","v":{"$error":"#NUM!"}},{"$error":"#NUM!"},{"$f":"OFFSET($GJ$2,SMALL(IF($GJ$2:$GJ$72<>\"\",ROW($2:$72),\"\"),ROW(GJ60))-2,0)","v":{"$error":"#NUM!"}},{"$f":"IF(AND(教学计划表!N76<>\"\",教学计划表!AV76<>\"\"),教学计划表!I76,\"\")","v":""},{"$f":"IF(教学计划表!AV76<>\"\",教学计划表!N76,\"\")","v":""},{"$f":"IF(GS61<>\"\",IF(SEARCH(\"2\",教学计划表!AB76&\"2\",1)<=LEN(教学计划表!AB76),\"考试\",\"考查\"),\"\")","v":""},{"$f":"IF(教学计划表!EA76<>0,教学计划表!EA76,\"\")","v":""},{"$f":"IF(教学计划表!EA76<>0,教学计划表!EF76,\"\")","v":""},{"$f":"IF(教学计划表!EA76<>0,教学计划表!EG76,\"\")","v":""},{"$f":"IF(教学计划表!EA76<>0,教学计划表!OQ76,\"\")","v":""},{"$f":"OFFSET($GR$2,SMALL(IF($GR$2:$GR$72<>\"\",ROW($I$2:$K$72),\"\"),ROW(GR60))-2,0)","v":{"$error":"#NUM!"}},{"$f":"OFFSET($GS$2,SMALL(IF($GS$2:$GS$72<>\"\",ROW($I$2:$K$72),\"\"),ROW(GS60))-2,0)","v":{"$error":"#NUM!"}},{"$f":"OFFSET($GT$2,SMALL(IF($GT$2:$GT$72<>\"\",ROW($I$2:$K$72),\"\"),ROW(GT60))-2,0)","v":{"$error":"#NUM!"}},{"$f":"OFFSET($GU$2,SMALL(IF($GU$2:$GU$72<>\"\",ROW($I$2:$K$72),\"\"),ROW(GU60))-2,0)","v":{"$error":"#NUM!"}},{"$f":"OFFSET($GV$2,SMALL(IF($GV$2:$GV$72<>\"\",ROW($GV$2:$GV$72),\"\"),ROW(GV60))-2,0)","v":{"$error":"#NUM!"}},{"$f":"OFFSET($GW$2,SMALL(IF($GW$2:$GW$72<>\"\",ROW($GW$2:$GW$72),\"\"),ROW(GW60))-2,0)","v":{"$error":"#NUM!"}},{"$f":"OFFSET($GX$2,SMALL(IF($GX$2:$GX$72<>\"\",ROW($GX$2:$GX$72),\"\"),ROW(GX60))-2,0)","v":{"$error":"#NUM!"}},{"$f":"IF(AND(教学计划表!N76<>\"\",教学计划表!AY76<>\"\"),教学计划表!I76,\"\")","v":""},{"$f":"IF(教学计划表!AY76<>\"\",教学计划表!N76,\"\")","v":""},{"$f":"IF(HG61<>\"\",IF(SEARCH(\"3\",教学计划表!AB76&\"3\",1)<=LEN(教学计划表!AB76),\"考试\",\"考查\"),\"\")","v":""},{"$f":"IF(教学计划表!EV76<>0,教学计划表!EV76,\"\")","v":""},{"$f":"IF(教学计划表!EV76<>0,教学计划表!FA76,\"\")","v":""},{"$f":"IF(教学计划表!EV76<>0,教学计划表!FB76,\"\")","v":""},{"$f":"IF(教学计划表!EV76<>0,教学计划表!PC76,\"\")","v":""},{"$f":"OFFSET($HF$2,SMALL(IF($HF$2:$HF$72<>\"\",ROW($HF$2:$HF$72),\"\"),ROW(HF60))-2,0)","v":{"$error":"#NUM!"}},{"$f":"OFFSET($HG$2,SMALL(IF($HG$2:$HG$72<>\"\",ROW($HG$2:$HG$72),\"\"),ROW(HG60))-2,0)","v":{"$error":"#NUM!"}},{"$f":"OFFSET($HH$2,SMALL(IF($HH$2:$HH$72<>\"\",ROW($HH$2:$HH$72),\"\"),ROW(HH60))-2,0)","v":{"$error":"#NUM!"}},{"$f":"OFFSET($HI$2,SMALL(IF($HI$2:$HI$72<>\"\",ROW($HI$2:$HI$72),\"\"),ROW(HI60))-2,0)","v":{"$error":"#NUM!"}},{"$f":"OFFSET($HJ$2,SMALL(IF($HJ$2:$HJ$72<>\"\",ROW($HJ$2:$HJ$72),\"\"),ROW(HJ60))-2,0)","v":{"$error":"#NUM!"}},{"$f":"OFFSET($HK$2,SMALL(IF($HK$2:$HK$72<>\"\",ROW($HK$2:$HK$72),\"\"),ROW(HK60))-2,0)","v":{"$error":"#NUM!"}},{"$f":"OFFSET($HL$2,SMALL(IF($HL$2:$HL$72<>\"\",ROW($HL$2:$HL$72),\"\"),ROW(HL60))-2,0)","v":{"$error":"#NUM!"}},{"$f":"IF(AND(教学计划表!N76<>\"\",教学计划表!BB76<>\"\"),教学计划表!I76,\"\")","v":""},{"$f":"IF(教学计划表!BB76<>\"\",教学计划表!N76,\"\")","v":""},{"$f":"IF(HU61<>\"\",IF(SEARCH(\"4\",教学计划表!AB76&\"4\",1)<=LEN(教学计划表!AB76),\"考试\",\"考查\"),\"\")","v":""},{"$f":"IF(教学计划表!FQ76<>0,教学计划表!FQ76,\"\")","v":""},{"$f":"IF(教学计划表!FQ76<>0,教学计划表!FV76,\"\")","v":""},{"$f":"IF(教学计划表!FQ76<>0,教学计划表!FW76,\"\")","v":""},{"$f":"IF(教学计划表!FQ76<>0,教学计划表!PO76,\"\")","v":""},{"$f":"OFFSET($HT$2,SMALL(IF($HT$2:$HT$72<>\"\",ROW($HT$2:$HT$72),\"\"),ROW(HT60))-2,0)","v":{"$error":"#NUM!"}},{"$f":"OFFSET($HU$2,SMALL(IF($HU$2:$HU$72<>\"\",ROW($HU$2:$HU$72),\"\"),ROW(HU60))-2,0)","v":{"$error":"#NUM!"}},{"$f":"OFFSET($HV$2,SMALL(IF($HV$2:$HV$72<>\"\",ROW($HV$2:$HV$72),\"\"),ROW(HV60))-2,0)","v":{"$error":"#NUM!"}},{"$f":"OFFSET($HW$2,SMALL(IF($HW$2:$HW$72<>\"\",ROW($HW$2:$HW$72),\"\"),ROW(HW60))-2,0)","v":{"$error":"#NUM!"}},{"$f":"OFFSET($HX$2,SMALL(IF($HX$2:$HX$72<>\"\",ROW($HX$2:$HX$72),\"\"),ROW(HX60))-2,0)","v":{"$error":"#NUM!"}},{"$f":"OFFSET($HY$2,SMALL(IF($HY$2:$HY$72<>\"\",ROW($HY$2:$HY$72),\"\"),ROW(HY60))-2,0)","v":{"$error":"#NUM!"}},{"$f":"OFFSET($HZ$2,SMALL(IF($HZ$2:$HZ$72<>\"\",ROW($HZ$2:$HZ$72),\"\"),ROW(HZ60))-2,0)","v":{"$error":"#NUM!"}},null,null,{"$f":"IF(AND(教学计划表!N76<>\"\",教学计划表!BE76<>\"\"),教学计划表!I76,\"\")","v":""},{"$f":"IF(教学计划表!BE76<>\"\",教学计划表!N76,\"\")","v":""},{"$f":"IF(IK61<>\"\",IF(SEARCH(\"5\",教学计划表!AB76&\"5\",1)<=LEN(教学计划表!AB76),\"考试\",\"考查\"),\"\")","v":""},{"$f":"IF(教学计划表!GL76<>0,教学计划表!GL76,\"\")","v":""},{"$f":"IF(教学计划表!GL76<>0,教学计划表!GQ76,\"\")","v":""},{"$f":"IF(教学计划表!GL76<>0,教学计划表!GR76,\"\")","v":""},{"$f":"IF(教学计划表!GL76<>0,教学计划表!PZ76,\"\")","v":""},{"$f":"OFFSET($IJ$2,SMALL(IF($IJ$2:$IJ$72<>\"\",ROW($IJ$2:$IJ$72),\"\"),ROW(IJ60))-2,0)","v":{"$error":"#NUM!"}},{"$f":"OFFSET($IK$2,SMALL(IF($IK$2:$IK$72<>\"\",ROW($IK$2:$IK$72),\"\"),ROW(IK60))-2,0)","v":{"$error":"#NUM!"}},{"$f":"OFFSET($IL$2,SMALL(IF($IL$2:$IL$72<>\"\",ROW($IL$2:$IL$72),\"\"),ROW(IL60))-2,0)","v":{"$error":"#NUM!"}},{"$f":"OFFSET($IM$2,SMALL(IF($IM$2:$IM$72<>\"\",ROW($IM$2:$IM$72),\"\"),ROW(IM60))-2,0)","v":{"$error":"#NUM!"}},{"$f":"OFFSET($IN$2,SMALL(IF($IN$2:$IN$72<>\"\",ROW($IN$2:$IN$72),\"\"),ROW(IN60))-2,0)","v":{"$error":"#NUM!"}},{"$f":"OFFSET($IO$2,SMALL(IF($IO$2:$IO$72<>\"\",ROW($IO$2:$IO$72),\"\"),ROW(IO60))-2,0)","v":{"$error":"#NUM!"}},{"$f":"OFFSET($IP$2,SMALL(IF($IP$2:$IP$72<>\"\",ROW($IP$2:$IP$72),\"\"),ROW(IP60))-2,0)","v":{"$error":"#NUM!"}},null,{"$f":"IF(AND(教学计划表!N76<>\"\",教学计划表!BH76<>\"\"),教学计划表!I76,\"\")","v":""},{"$f":"IF(教学计划表!BH76<>\"\",教学计划表!N76,\"\")","v":""},{"$f":"IF(教学计划表!BH76<>\"\",IF(SEARCH(\"6\",教学计划表!AB76&\"6\",1)<=LEN(教学计划表!AB76),\"考试\",\"考查\"),\"\")","v":""},{"$f":"IF(教学计划表!BH76<>0,教学计划表!HG76,\"\")","v":""},{"$f":"IF(教学计划表!BH76<>0,教学计划表!HL76,\"\")","v":""},{"$f":"IF(教学计划表!BH76<>0,教学计划表!HM76,\"\")","v":""},{"$f":"IF(教学计划表!BH76<>0,教学计划表!QL76,\"\")","v":""},{"$f":"OFFSET($IY$2,SMALL(IF($IY$2:$IY$72<>\"\",ROW($IY$2:$IY$72),\"\"),ROW(IY60))-2,0)","v":{"$error":"#NUM!"}},{"$f":"OFFSET($IZ$2,SMALL(IF($IZ$2:$IZ$72<>\"\",ROW($IZ$2:$IZ$72),\"\"),ROW(IZ60))-2,0)","v":{"$error":"#NUM!"}},{"$f":"OFFSET($JA$2,SMALL(IF($JA$2:$JA$72<>\"\",ROW($JA$2:$JA$72),\"\"),ROW(JA60))-2,0)","v":{"$error":"#NUM!"}},{"$f":"OFFSET($JB$2,SMALL(IF($JB$2:$JB$72<>\"\",ROW($JB$2:$JB$72),\"\"),ROW(JB60))-2,0)","v":{"$error":"#NUM!"}},{"$f":"OFFSET($JC$2,SMALL(IF($JC$2:$JC$72<>\"\",ROW($JC$2:$JC$72),\"\"),ROW(JC60))-2,0)","v":{"$error":"#NUM!"}},{"$f":"OFFSET($JD$2,SMALL(IF($JD$2:$JD$72<>\"\",ROW($JD$2:$JD$72),\"\"),ROW(JD60))-2,0)","v":{"$error":"#NUM!"}},{"$f":"OFFSET($JE$2,SMALL(IF($JE$2:$JE$72<>\"\",ROW($JE$2:$JE$72),\"\"),ROW(JE60))-2,0)","v":{"$error":"#NUM!"}}]
["","","","","","","",null,"","","",{"$f":"IF(ISERROR(自动生成的开课信息!HB62),\"\",自动生成的开课信息!HB62)","v":""},{"$f":"IF(ISERROR(自动生成的开课信息!HC62),\"\",自动生成的开课信息!HC62)","v":""},{"$f":"IF(ISERROR(自动生成的开课信息!HD62),\"\",自动生成的开课信息!HD62)","v":""},{"$f":"IF(ISERROR(自动生成的开课信息!HE62),\"\",自动生成的开课信息!HE62)","v":""},null,"","","","","","","",null,"","","","","","","",null,"","","","","","","",null,"","","","","","","",null,null,null,null,null,null,null,null,null,null,null,null,null,null,null,null,null,null,null,null,null,null,null,null,null,null,null,null,null,null,null,null,null,null,null,null,null,null,null,null,null,null,null,null,null,null,null,null,null,null,null,null,null,null,null,null,null,null,null,null,null,null,null,null,null,null,null,null,null,null,null,null,null,null,null,null,null,null,null,null,null,null,null,null,null,null,null,null,null,null,null,null,null,null,null,null,null,null,null,null,null,null,null,null,null,null,null,null,null,null,null,null,null,null,null,null,null,null,null,null,null,null,null,null,null,null,null,null,null,null,null,null,null,null,null,null,null,null,{"$f":"IF(AND(教学计划表!N77<>\"\",教学计划表!AS77<>\"\"),教学计划表!I77,\"\")","v":""},{"$f":"IF(教学计划表!AS77<>\"\",教学计划表!N77,\"\")","v":""},{"$f":"IF(GE62<>\"\",IF(SEARCH(\"1\",教学计划表!AB77&\"1\",1)<=LEN(教学计划表!AB77),\"考试\",\"考查\"),\"\")","v":""},{"$f":"IF(教学计划表!DG77<>0,教学计划表!DG77,\"\")","v":""},{"$f":"IF(教学计划表!DG77<>0,教学计划表!DL77,\"\")","v":""},{"$f":"IF(教学计划表!DG77<>0,教学计划表!DM77,\"\")","v":""},{"$f":"IF(教学计划表!DG77<>0,教学计划表!OE77,\"\")","v":""},{"$f":"OFFSET($GD$2,SMALL(IF($GD$2:$GD$72<>\"\",ROW($2:$72),\"\"),ROW(GD61))-2,0)","v":{"$error":"#NUM!"}},{"$f":"OFFSET($GE$2,SMALL(IF($GE$2:$GE$72<>\"\",ROW($2:$72),\"\"),ROW(GE61))-2,0)","v":{"$error":"#NUM!"}},{"$f":"OFFSET($GF$2,SMALL(IF($GF$2:$GF$72<>\"\",ROW($2:$72),\"\"),ROW(GF61))-2,0)","v":{"$error":"#NUM!"}},{"$f":"OFFSET($GG$2,SMALL(IF($GG$2:$GG$72<>\"\",ROW($2:$72),\"\"),ROW(GG61))-2,0)","v":{"$error":"#NUM!"}},{"$f":"OFFSET($GH$2,SMALL(IF($GH$2:$GH$72<>\"\",ROW($2:$72),\"\"),ROW(GH61))-2,0)","v":{"$error":"#NUM!"}},{"$error":"#NUM!"},{"$f":"OFFSET($GJ$2,SMALL(IF($GJ$2:$GJ$72<>\"\",ROW($2:$72),\"\"),ROW(GJ61))-2,0)","v":{"$error":"#NUM!"}},{"$f":"IF(AND(教学计划表!N77<>\"\",教学计划表!AV77<>\"\"),教学计划表!I77,\"\")","v":""},{"$f":"IF(教学计划表!AV77<>\"\",教学计划表!N77,\"\")","v":""},{"$f":"IF(GS62<>\"\",IF(SEARCH(\"2\",教学计划表!AB77&\"2\",1)<=LEN(教学计划表!AB77),\"考试\",\"考查\"),\"\")","v":""},{"$f":"IF(教学计划表!EA77<>0,教学计划表!EA77,\"\")","v":""},{"$f":"IF(教学计划表!EA77<>0,教学计划表!EF77,\"\")","v":""},{"$f":"IF(教学计划表!EA77<>0,教学计划表!EG77,\"\")","v":""},{"$f":"IF(教学计划表!EA77<>0,教学计划表!OQ77,\"\")","v":""},{"$f":"OFFSET($GR$2,SMALL(IF($GR$2:$GR$72<>\"\",ROW($I$2:$K$72),\"\"),ROW(GR61))-2,0)","v":{"$error":"#NUM!"}},{"$f":"OFFSET($GS$2,SMALL(IF($GS$2:$GS$72<>\"\",ROW($I$2:$K$72),\"\"),ROW(GS61))-2,0)","v":{"$error":"#NUM!"}},{"$f":"OFFSET($GT$2,SMALL(IF($GT$2:$GT$72<>\"\",ROW($I$2:$K$72),\"\"),ROW(GT61))-2,0)","v":{"$error":"#NUM!"}},{"$f":"OFFSET($GU$2,SMALL(IF($GU$2:$GU$72<>\"\",ROW($I$2:$K$72),\"\"),ROW(GU61))-2,0)","v":{"$error":"#NUM!"}},{"$f":"OFFSET($GV$2,SMALL(IF($GV$2:$GV$72<>\"\",ROW($GV$2:$GV$72),\"\"),ROW(GV61))-2,0)","v":{"$error":"#NUM!"}},{"$f":"OFFSET($GW$2,SMALL(IF($GW$2:$GW$72<>\"\",ROW($GW$2:$GW$72),\"\"),ROW(GW61))-2,0)","v":{"$error":"#NUM!"}},{"$f":"OFFSET($GX$2,SMALL(IF($GX$2:$GX$72<>\"\",ROW($GX$2:$GX$72),\"\"),ROW(GX61))-2,0)","v":{"$error":"#NUM!"}},{"$f":"IF(AND(教学计划表!N77<>\"\",教学计划表!AY77<>\"\"),教学计划表!I77,\"\")","v":""},{"$f":"IF(教学计划表!AY77<>\"\",教学计划表!N77,\"\")","v":""},{"$f":"IF(HG62<>\"\",IF(SEARCH(\"3\",教学计划表!AB77&\"3\",1)<=LEN(教学计划表!AB77),\"考试\",\"考查\"),\"\")","v":""},{"$f":"IF(教学计划表!EV77<>0,教学计划表!EV77,\"\")","v":""},{"$f":"IF(教学计划表!EV77<>0,教学计划表!FA77,\"\")","v":""},{"$f":"IF(教学计划表!EV77<>0,教学计划表!FB77,\"\")","v":""},{"$f":"IF(教学计划表!EV77<>0,教学计划表!PC77,\"\")","v":""},{"$f":"OFFSET($HF$2,SMALL(IF($HF$2:$HF$72<>\"\",ROW($HF$2:$HF$72),\"\"),ROW(HF61))-2,0)","v":{"$error":"#NUM!"}},{"$f":"OFFSET($HG$2,SMALL(IF($HG$2:$HG$72<>\"\",ROW($HG$2:$HG$72),\"\"),ROW(HG61))-2,0)","v":{"$error":"#NUM!"}},{"$f":"OFFSET($HH$2,SMALL(IF($HH$2:$HH$72<>\"\",ROW($HH$2:$HH$72),\"\"),ROW(HH61))-2,0)","v":{"$error":"#NUM!"}},{"$f":"OFFSET($HI$2,SMALL(IF($HI$2:$HI$72<>\"\",ROW($HI$2:$HI$72),\"\"),ROW(HI61))-2,0)","v":{"$error":"#NUM!"}},{"$f":"OFFSET($HJ$2,SMALL(IF($HJ$2:$HJ$72<>\"\",ROW($HJ$2:$HJ$72),\"\"),ROW(HJ61))-2,0)","v":{"$error":"#NUM!"}},{"$f":"OFFSET($HK$2,SMALL(IF($HK$2:$HK$72<>\"\",ROW($HK$2:$HK$72),\"\"),ROW(HK61))-2,0)","v":{"$error":"#NUM!"}},{"$f":"OFFSET($HL$2,SMALL(IF($HL$2:$HL$72<>\"\",ROW($HL$2:$HL$72),\"\"),ROW(HL61))-2,0)","v":{"$error":"#NUM!"}},{"$f":"IF(AND(教学计划表!N77<>\"\",教学计划表!BB77<>\"\"),教学计划表!I77,\"\")","v":""},{"$f":"IF(教学计划表!BB77<>\"\",教学计划表!N77,\"\")","v":""},{"$f":"IF(HU62<>\"\",IF(SEARCH(\"4\",教学计划表!AB77&\"4\",1)<=LEN(教学计划表!AB77),\"考试\",\"考查\"),\"\")","v":""},{"$f":"IF(教学计划表!FQ77<>0,教学计划表!FQ77,\"\")","v":""},{"$f":"IF(教学计划表!FQ77<>0,教学计划表!FV77,\"\")","v":""},{"$f":"IF(教学计划表!FQ77<>0,教学计划表!FW77,\"\")","v":""},{"$f":"IF(教学计划表!FQ77<>0,教学计划表!PO77,\"\")","v":""},{"$f":"OFFSET($HT$2,SMALL(IF($HT$2:$HT$72<>\"\",ROW($HT$2:$HT$72),\"\"),ROW(HT61))-2,0)","v":{"$error":"#NUM!"}},{"$f":"OFFSET($HU$2,SMALL(IF($HU$2:$HU$72<>\"\",ROW($HU$2:$HU$72),\"\"),ROW(HU61))-2,0)","v":{"$error":"#NUM!"}},{"$f":"OFFSET($HV$2,SMALL(IF($HV$2:$HV$72<>\"\",ROW($HV$2:$HV$72),\"\"),ROW(HV61))-2,0)","v":{"$error":"#NUM!"}},{"$f":"OFFSET($HW$2,SMALL(IF($HW$2:$HW$72<>\"\",ROW($HW$2:$HW$72),\"\"),ROW(HW61))-2,0)","v":{"$error":"#NUM!"}},{"$f":"OFFSET($HX$2,SMALL(IF($HX$2:$HX$72<>\"\",ROW($HX$2:$HX$72),\"\"),ROW(HX61))-2,0)","v":{"$error":"#NUM!"}},{"$f":"OFFSET($HY$2,SMALL(IF($HY$2:$HY$72<>\"\",ROW($HY$2:$HY$72),\"\"),ROW(HY61))-2,0)","v":{"$error":"#NUM!"}},{"$f":"OFFSET($HZ$2,SMALL(IF($HZ$2:$HZ$72<>\"\",ROW($HZ$2:$HZ$72),\"\"),ROW(HZ61))-2,0)","v":{"$error":"#NUM!"}},null,null,{"$f":"IF(AND(教学计划表!N77<>\"\",教学计划表!BE77<>\"\"),教学计划表!I77,\"\")","v":""},{"$f":"IF(教学计划表!BE77<>\"\",教学计划表!N77,\"\")","v":""},{"$f":"IF(IK62<>\"\",IF(SEARCH(\"5\",教学计划表!AB77&\"5\",1)<=LEN(教学计划表!AB77),\"考试\",\"考查\"),\"\")","v":""},{"$f":"IF(教学计划表!GL77<>0,教学计划表!GL77,\"\")","v":""},{"$f":"IF(教学计划表!GL77<>0,教学计划表!GQ77,\"\")","v":""},{"$f":"IF(教学计划表!GL77<>0,教学计划表!GR77,\"\")","v":""},{"$f":"IF(教学计划表!GL77<>0,教学计划表!PZ77,\"\")","v":""},{"$f":"OFFSET($IJ$2,SMALL(IF($IJ$2:$IJ$72<>\"\",ROW($IJ$2:$IJ$72),\"\"),ROW(IJ61))-2,0)","v":{"$error":"#NUM!"}},{"$f":"OFFSET($IK$2,SMALL(IF($IK$2:$IK$72<>\"\",ROW($IK$2:$IK$72),\"\"),ROW(IK61))-2,0)","v":{"$error":"#NUM!"}},{"$f":"OFFSET($IL$2,SMALL(IF($IL$2:$IL$72<>\"\",ROW($IL$2:$IL$72),\"\"),ROW(IL61))-2,0)","v":{"$error":"#NUM!"}},{"$f":"OFFSET($IM$2,SMALL(IF($IM$2:$IM$72<>\"\",ROW($IM$2:$IM$72),\"\"),ROW(IM61))-2,0)","v":{"$error":"#NUM!"}},{"$f":"OFFSET($IN$2,SMALL(IF($IN$2:$IN$72<>\"\",ROW($IN$2:$IN$72),\"\"),ROW(IN61))-2,0)","v":{"$error":"#NUM!"}},{"$f":"OFFSET($IO$2,SMALL(IF($IO$2:$IO$72<>\"\",ROW($IO$2:$IO$72),\"\"),ROW(IO61))-2,0)","v":{"$error":"#NUM!"}},{"$f":"OFFSET($IP$2,SMALL(IF($IP$2:$IP$72<>\"\",ROW($IP$2:$IP$72),\"\"),ROW(IP61))-2,0)","v":{"$error":"#NUM!"}},null,{"$f":"IF(AND(教学计划表!N77<>\"\",教学计划表!BH77<>\"\"),教学计划表!I77,\"\")","v":""},{"$f":"IF(教学计划表!BH77<>\"\",教学计划表!N77,\"\")","v":""},{"$f":"IF(教学计划表!BH77<>\"\",IF(SEARCH(\"6\",教学计划表!AB77&\"6\",1)<=LEN(教学计划表!AB77),\"考试\",\"考查\"),\"\")","v":""},{"$f":"IF(教学计划表!BH77<>0,教学计划表!HG77,\"\")","v":""},{"$f":"IF(教学计划表!BH77<>0,教学计划表!HL77,\"\")","v":""},{"$f":"IF(教学计划表!BH77<>0,教学计划表!HM77,\"\")","v":""},{"$f":"IF(教学计划表!BH77<>0,教学计划表!QL77,\"\")","v":""},{"$f":"OFFSET($IY$2,SMALL(IF($IY$2:$IY$72<>\"\",ROW($IY$2:$IY$72),\"\"),ROW(IY61))-2,0)","v":{"$error":"#NUM!"}},{"$f":"OFFSET($IZ$2,SMALL(IF($IZ$2:$IZ$72<>\"\",ROW($IZ$2:$IZ$72),\"\"),ROW(IZ61))-2,0)","v":{"$error":"#NUM!"}},{"$f":"OFFSET($JA$2,SMALL(IF($JA$2:$JA$72<>\"\",ROW($JA$2:$JA$72),\"\"),ROW(JA61))-2,0)","v":{"$error":"#NUM!"}},{"$f":"OFFSET($JB$2,SMALL(IF($JB$2:$JB$72<>\"\",ROW($JB$2:$JB$72),\"\"),ROW(JB61))-2,0)","v":{"$error":"#NUM!"}},{"$f":"OFFSET($JC$2,SMALL(IF($JC$2:$JC$72<>\"\",ROW($JC$2:$JC$72),\"\"),ROW(JC61))-2,0)","v":{"$error":"#NUM!"}},{"$f":"OFFSET($JD$2,SMALL(IF($JD$2:$JD$72<>\"\",ROW($JD$2:$JD$72),\"\"),ROW(JD61))-2,0)","v":{"$error":"#NUM!"}},{"$f":"OFFSET($JE$2,SMALL(IF($JE$2:$JE$72<>\"\",ROW($JE$2:$JE$72),\"\"),ROW(JE61))-2,0)","v":{"$error":"#NUM!"}}]
["","","","","","","",null,"","","",{"$f":"IF(ISERROR(自动生成的开课信息!HB63),\"\",自动生成的开课信息!HB63)","v":""},{"$f":"IF(ISERROR(自动生成的开课信息!HC63),\"\",自动生成的开课信息!HC63)","v":""},{"$f":"IF(ISERROR(自动生成的开课信息!HD63),\"\",自动生成的开课信息!HD63)","v":""},{"$f":"IF(ISERROR(自动生成的开课信息!HE63),\"\",自动生成的开课信息!HE63)","v":""},null,"","","","","","","",null,"","","","","","","",null,"","","","","","","",null,"","","","","","","",null,null,null,null,null,null,null,null,null,null,null,null,null,null,null,null,null,null,null,null,null,null,null,null,null,null,null,null,null,null,null,null,null,null,null,null,null,null,null,null,null,null,null,null,null,null,null,null,null,null,null,null,null,null,null,null,null,null,null,null,null,null,null,null,null,null,null,null,null,null,null,null,null,null,null,null,null,null,null,null,null,null,null,null,null,null,null,null,null,null,null,null,null,null,null,null,null,null,null,null,null,null,null,null,null,null,null,null,null,null,null,null,null,null,null,null,null,null,null,null,null,null,null,null,null,null,null,null,null,null,null,null,null,null,null,null,null,null,{"$f":"IF(AND(教学计划表!N78<>\"\",教学计划表!AS78<>\"\"),教学计划表!I78,\"\")","v":""},{"$f":"IF(教学计划表!AS78<>\"\",教学计划表!N78,\"\")","v":""},{"$f":"IF(GE63<>\"\",IF(SEARCH(\"1\",教学计划表!AB78&\"1\",1)<=LEN(教学计划表!AB78),\"考试\",\"考查\"),\"\")","v":""},{"$f":"IF(教学计划表!DG78<>0,教学计划表!DG78,\"\")","v":""},{"$f":"IF(教学计划表!DG78<>0,教学计划表!DL78,\"\")","v":""},{"$f":"IF(教学计划表!DG78<>0,教学计划表!DM78,\"\")","v":""},{"$f":"IF(教学计划表!DG78<>0,教学计划表!OE78,\"\")","v":""},{"$f":"OFFSET($GD$2,SMALL(IF($GD$2:$GD$72<>\"\",ROW($2:$72),\"\"),ROW(GD62))-2,0)","v":{"$error":"#NUM!"}},{"$f":"OFFSET($GE$2,SMALL(IF($GE$2:$GE$72<>\"\",ROW($2:$72),\"\"),ROW(GE62))-2,0)","v":{"$error":"#NUM!"}},{"$f":"OFFSET($GF$2,SMALL(IF($GF$2:$GF$72<>\"\",ROW($2:$72),\"\"),ROW(GF62))-2,0)","v":{"$error":"#NUM!"}},{"$f":"OFFSET($GG$2,SMALL(IF($GG$2:$GG$72<>\"\",ROW($2:$72),\"\"),ROW(GG62))-2,0)","v":{"$error":"#NUM!"}},{"$f":"OFFSET($GH$2,SMALL(IF($GH$2:$GH$72<>\"\",ROW($2:$72),\"\"),ROW(GH62))-2,0)","v":{"$error":"#NUM!"}},{"$error":"#NUM!"},{"$f":"OFFSET($GJ$2,SMALL(IF($GJ$2:$GJ$72<>\"\",ROW($2:$72),\"\"),ROW(GJ62))-2,0)","v":{"$error":"#NUM!"}},{"$f":"IF(AND(教学计划表!N78<>\"\",教学计划表!AV78<>\"\"),教学计划表!I78,\"\")","v":""},{"$f":"IF(教学计划表!AV78<>\"\",教学计划表!N78,\"\")","v":""},{"$f":"IF(GS63<>\"\",IF(SEARCH(\"2\",教学计划表!AB78&\"2\",1)<=LEN(教学计划表!AB78),\"考试\",\"考查\"),\"\")","v":""},{"$f":"IF(教学计划表!EA78<>0,教学计划表!EA78,\"\")","v":""},{"$f":"IF(教学计划表!EA78<>0,教学计划表!EF78,\"\")","v":""},{"$f":"IF(教学计划表!EA78<>0,教学计划表!EG78,\"\")","v":""},{"$f":"IF(教学计划表!EA78<>0,教学计划表!OQ78,\"\")","v":""},{"$f":"OFFSET($GR$2,SMALL(IF($GR$2:$GR$72<>\"\",ROW($I$2:$K$72),\"\"),ROW(GR62))-2,0)","v":{"$error":"#NUM!"}},{"$f":"OFFSET($GS$2,SMALL(IF($GS$2:$GS$72<>\"\",ROW($I$2:$K$72),\"\"),ROW(GS62))-2,0)","v":{"$error":"#NUM!"}},{"$f":"OFFSET($GT$2,SMALL(IF($GT$2:$GT$72<>\"\",ROW($I$2:$K$72),\"\"),ROW(GT62))-2,0)","v":{"$error":"#NUM!"}},{"$f":"OFFSET($GU$2,SMALL(IF($GU$2:$GU$72<>\"\",ROW($I$2:$K$72),\"\"),ROW(GU62))-2,0)","v":{"$error":"#NUM!"}},{"$f":"OFFSET($GV$2,SMALL(IF($GV$2:$GV$72<>\"\",ROW($GV$2:$GV$72),\"\"),ROW(GV62))-2,0)","v":{"$error":"#NUM!"}},{"$f":"OFFSET($GW$2,SMALL(IF($GW$2:$GW$72<>\"\",ROW($GW$2:$GW$72),\"\"),ROW(GW62))-2,0)","v":{"$error":"#NUM!"}},{"$f":"OFFSET($GX$2,SMALL(IF($GX$2:$GX$72<>\"\",ROW($GX$2:$GX$72),\"\"),ROW(GX62))-2,0)","v":{"$error":"#NUM!"}},{"$f":"IF(AND(教学计划表!N78<>\"\",教学计划表!AY78<>\"\"),教学计划表!I78,\"\")","v":""},{"$f":"IF(教学计划表!AY78<>\"\",教学计划表!N78,\"\")","v":""},{"$f":"IF(HG63<>\"\",IF(SEARCH(\"3\",教学计划表!AB78&\"3\",1)<=LEN(教学计划表!AB78),\"考试\",\"考查\"),\"\")","v":""},{"$f":"IF(教学计划表!EV78<>0,教学计划表!EV78,\"\")","v":""},{"$f":"IF(教学计划表!EV78<>0,教学计划表!FA78,\"\")","v":""},{"$f":"IF(教学计划表!EV78<>0,教学计划表!FB78,\"\")","v":""},{"$f":"IF(教学计划表!EV78<>0,教学计划表!PC78,\"\")","v":""},{"$f":"OFFSET($HF$2,SMALL(IF($HF$2:$HF$72<>\"\",ROW($HF$2:$HF$72),\"\"),ROW(HF62))-2,0)","v":{"$error":"#NUM!"}},{"$f":"OFFSET($HG$2,SMALL(IF($HG$2:$HG$72<>\"\",ROW($HG$2:$HG$72),\"\"),ROW(HG62))-2,0)","v":{"$error":"#NUM!"}},{"$f":"OFFSET($HH$2,SMALL(IF($HH$2:$HH$72<>\"\",ROW($HH$2:$HH$72),\"\"),ROW(HH62))-2,0)","v":{"$error":"#NUM!"}},{"$f":"OFFSET($HI$2,SMALL(IF($HI$2:$HI$72<>\"\",ROW($HI$2:$HI$72),\"\"),ROW(HI62))-2,0)","v":{"$error":"#NUM!"}},{"$f":"OFFSET($HJ$2,SMALL(IF($HJ$2:$HJ$72<>\"\",ROW($HJ$2:$HJ$72),\"\"),ROW(HJ62))-2,0)","v":{"$error":"#NUM!"}},{"$f":"OFFSET($HK$2,SMALL(IF($HK$2:$HK$72<>\"\",ROW($HK$2:$HK$72),\"\"),ROW(HK62))-2,0)","v":{"$error":"#NUM!"}},{"$f":"OFFSET($HL$2,SMALL(IF($HL$2:$HL$72<>\"\",ROW($HL$2:$HL$72),\"\"),ROW(HL62))-2,0)","v":{"$error":"#NUM!"}},{"$f":"IF(AND(教学计划表!N78<>\"\",教学计划表!BB78<>\"\"),教学计划表!I78,\"\")","v":""},{"$f":"IF(教学计划表!BB78<>\"\",教学计划表!N78,\"\")","v":""},{"$f":"IF(HU63<>\"\",IF(SEARCH(\"4\",教学计划表!AB78&\"4\",1)<=LEN(教学计划表!AB78),\"考试\",\"考查\"),\"\")","v":""},{"$f":"IF(教学计划表!FQ78<>0,教学计划表!FQ78,\"\")","v":""},{"$f":"IF(教学计划表!FQ78<>0,教学计划表!FV78,\"\")","v":""},{"$f":"IF(教学计划表!FQ78<>0,教学计划表!FW78,\"\")","v":""},{"$f":"IF(教学计划表!FQ78<>0,教学计划表!PO78,\"\")","v":""},{"$f":"OFFSET($HT$2,SMALL(IF($HT$2:$HT$72<>\"\",ROW($HT$2:$HT$72),\"\"),ROW(HT62))-2,0)","v":{"$error":"#NUM!"}},{"$f":"OFFSET($HU$2,SMALL(IF($HU$2:$HU$72<>\"\",ROW($HU$2:$HU$72),\"\"),ROW(HU62))-2,0)","v":{"$error":"#NUM!"}},{"$f":"OFFSET($HV$2,SMALL(IF($HV$2:$HV$72<>\"\",ROW($HV$2:$HV$72),\"\"),ROW(HV62))-2,0)","v":{"$error":"#NUM!"}},{"$f":"OFFSET($HW$2,SMALL(IF($HW$2:$HW$72<>\"\",ROW($HW$2:$HW$72),\"\"),ROW(HW62))-2,0)","v":{"$error":"#NUM!"}},{"$f":"OFFSET($HX$2,SMALL(IF($HX$2:$HX$72<>\"\",ROW($HX$2:$HX$72),\"\"),ROW(HX62))-2,0)","v":{"$error":"#NUM!"}},{"$f":"OFFSET($HY$2,SMALL(IF($HY$2:$HY$72<>\"\",ROW($HY$2:$HY$72),\"\"),ROW(HY62))-2,0)","v":{"$error":"#NUM!"}},{"$f":"OFFSET($HZ$2,SMALL(IF($HZ$2:$HZ$72<>\"\",ROW($HZ$2:$HZ$72),\"\"),ROW(HZ62))-2,0)","v":{"$error":"#NUM!"}},null,null,{"$f":"IF(AND(教学计划表!N78<>\"\",教学计划表!BE78<>\"\"),教学计划表!I78,\"\")","v":""},{"$f":"IF(教学计划表!BE78<>\"\",教学计划表!N78,\"\")","v":""},{"$f":"IF(IK63<>\"\",IF(SEARCH(\"5\",教学计划表!AB78&\"5\",1)<=LEN(教学计划表!AB78),\"考试\",\"考查\"),\"\")","v":""},{"$f":"IF(教学计划表!GL78<>0,教学计划表!GL78,\"\")","v":""},{"$f":"IF(教学计划表!GL78<>0,教学计划表!GQ78,\"\")","v":""},{"$f":"IF(教学计划表!GL78<>0,教学计划表!GR78,\"\")","v":""},{"$f":"IF(教学计划表!GL78<>0,教学计划表!PZ78,\"\")","v":""},{"$f":"OFFSET($IJ$2,SMALL(IF($IJ$2:$IJ$72<>\"\",ROW($IJ$2:$IJ$72),\"\"),ROW(IJ62))-2,0)","v":{"$error":"#NUM!"}},{"$f":"OFFSET($IK$2,SMALL(IF($IK$2:$IK$72<>\"\",ROW($IK$2:$IK$72),\"\"),ROW(IK62))-2,0)","v":{"$error":"#NUM!"}},{"$f":"OFFSET($IL$2,SMALL(IF($IL$2:$IL$72<>\"\",ROW($IL$2:$IL$72),\"\"),ROW(IL62))-2,0)","v":{"$error":"#NUM!"}},{"$f":"OFFSET($IM$2,SMALL(IF($IM$2:$IM$72<>\"\",ROW($IM$2:$IM$72),\"\"),ROW(IM62))-2,0)","v":{"$error":"#NUM!"}},{"$f":"OFFSET($IN$2,SMALL(IF($IN$2:$IN$72<>\"\",ROW($IN$2:$IN$72),\"\"),ROW(IN62))-2,0)","v":{"$error":"#NUM!"}},{"$f":"OFFSET($IO$2,SMALL(IF($IO$2:$IO$72<>\"\",ROW($IO$2:$IO$72),\"\"),ROW(IO62))-2,0)","v":{"$error":"#NUM!"}},{"$f":"OFFSET($IP$2,SMALL(IF($IP$2:$IP$72<>\"\",ROW($IP$2:$IP$72),\"\"),ROW(IP62))-2,0)","v":{"$error":"#NUM!"}},null,{"$f":"IF(AND(教学计划表!N78<>\"\",教学计划表!BH78<>\"\"),教学计划表!I78,\"\")","v":""},{"$f":"IF(教学计划表!BH78<>\"\",教学计划表!N78,\"\")","v":""},{"$f":"IF(教学计划表!BH78<>\"\",IF(SEARCH(\"6\",教学计划表!AB78&\"6\",1)<=LEN(教学计划表!AB78),\"考试\",\"考查\"),\"\")","v":""},{"$f":"IF(教学计划表!BH78<>0,教学计划表!HG78,\"\")","v":""},{"$f":"IF(教学计划表!BH78<>0,教学计划表!HL78,\"\")","v":""},{"$f":"IF(教学计划表!BH78<>0,教学计划表!HM78,\"\")","v":""},{"$f":"IF(教学计划表!BH78<>0,教学计划表!QL78,\"\")","v":""},{"$f":"OFFSET($IY$2,SMALL(IF($IY$2:$IY$72<>\"\",ROW($IY$2:$IY$72),\"\"),ROW(IY62))-2,0)","v":{"$error":"#NUM!"}},{"$f":"OFFSET($IZ$2,SMALL(IF($IZ$2:$IZ$72<>\"\",ROW($IZ$2:$IZ$72),\"\"),ROW(IZ62))-2,0)","v":{"$error":"#NUM!"}},{"$f":"OFFSET($JA$2,SMALL(IF($JA$2:$JA$72<>\"\",ROW($JA$2:$JA$72),\"\"),ROW(JA62))-2,0)","v":{"$error":"#NUM!"}},{"$f":"OFFSET($JB$2,SMALL(IF($JB$2:$JB$72<>\"\",ROW($JB$2:$JB$72),\"\"),ROW(JB62))-2,0)","v":{"$error":"#NUM!"}},{"$f":"OFFSET($JC$2,SMALL(IF($JC$2:$JC$72<>\"\",ROW($JC$2:$JC$72),\"\"),ROW(JC62))-2,0)","v":{"$error":"#NUM!"}},{"$f":"OFFSET($JD$2,SMALL(IF($JD$2:$JD$72<>\"\",ROW($JD$2:$JD$72),\"\"),ROW(JD62))-2,0)","v":{"$error":"#NUM!"}},{"$f":"OFFSET($JE$2,SMALL(IF($JE$2:$JE$72<>\"\",ROW($JE$2:$JE$72),\"\"),ROW(JE62))-2,0)","v":{"$error":"#NUM!"}}]
["","","","","","","",null,"","","",{"$f":"IF(ISERROR(自动生成的开课信息!HB64),\"\",自动生成的开课信息!HB64)","v":""},{"$f":"IF(ISERROR(自动生成的开课信息!HC64),\"\",自动生成的开课信息!HC64)","v":""},{"$f":"IF(ISERROR(自动生成的开课信息!HD64),\"\",自动生成的开课信息!HD64)","v":""},{"$f":"IF(ISERROR(自动生成的开课信息!HE64),\"\",自动生成的开课信息!HE64)","v":""},null,"","","","","","","",null,"","","","","","","",null,"","","","","","","",null,"","","","","","","",null,null,null,null,null,null,null,null,null,null,null,null,null,null,null,null,null,null,null,null,null,null,null,null,null,null,null,null,null,null,null,null,null,null,null,null,null,null,null,null,null,null,null,null,null,null,null,null,null,null,null,null,null,null,null,null,null,null,null,null,null,null,null,null,null,null,null,null,null,null,null,null,null,null,null,null,null,null,null,null,null,null,null,null,null,null,null,null,null,null,null,null,null,null,null,null,null,null,null,null,null,null,null,null,null,null,null,null,null,null,null,null,null,null,null,null,null,null,null,null,null,null,null,null,null,null,null,null,null,null,null,null,null,null,null,null,null,null,{"$f":"IF(AND(教学计划表!N79<>\"\",教学计划表!AS79<>\"\"),教学计划表!I79,\"\")","v":""},{"$f":"IF(教学计划表!AS79<>\"\",教学计划表!N79,\"\")","v":""},{"$f":"IF(GE64<>\"\",IF(SEARCH(\"1\",教学计划表!AB79&\"1\",1)<=LEN(教学计划表!AB79),\"考试\",\"考查\"),\"\")","v":""},{"$f":"IF(教学计划表!DG79<>0,教学计划表!DG79,\"\")","v":""},{"$f":"IF(教学计划表!DG79<>0,教学计划表!DL79,\"\")","v":""},{"$f":"IF(教学计划表!DG79<>0,教学计划表!DM79,\"\")","v":""},{"$f":"IF(教学计划表!DG79<>0,教学计划表!OE79,\"\")","v":""},{"$f":"OFFSET($GD$2,SMALL(IF($GD$2:$GD$72<>\"\",ROW($2:$72),\"\"),ROW(GD63))-2,0)","v":{"$error":"#NUM!"}},{"$f":"OFFSET($GE$2,SMALL(IF($GE$2:$GE$72<>\"\",ROW($2:$72),\"\"),ROW(GE63))-2,0)","v":{"$error":"#NUM!"}},{"$f":"OFFSET($GF$2,SMALL(IF($GF$2:$GF$72<>\"\",ROW($2:$72),\"\"),ROW(GF63))-2,0)","v":{"$error":"#NUM!"}},{"$f":"OFFSET($GG$2,SMALL(IF($GG$2:$GG$72<>\"\",ROW($2:$72),\"\"),ROW(GG63))-2,0)","v":{"$error":"#NUM!"}},{"$f":"OFFSET($GH$2,SMALL(IF($GH$2:$GH$72<>\"\",ROW($2:$72),\"\"),ROW(GH63))-2,0)","v":{"$error":"#NUM!"}},{"$error":"#NUM!"},{"$f":"OFFSET($GJ$2,SMALL(IF($GJ$2:$GJ$72<>\"\",ROW($2:$72),\"\"),ROW(GJ63))-2,0)","v":{"$error":"#NUM!"}},{"$f":"IF(AND(教学计划表!N79<>\"\",教学计划表!AV79<>\"\"),教学计划表!I79,\"\")","v":""},{"$f":"IF(教学计划表!AV79<>\"\",教学计划表!N79,\"\")","v":""},{"$f":"IF(GS64<>\"\",IF(SEARCH(\"2\",教学计划表!AB79&\"2\",1)<=LEN(教学计划表!AB79),\"考试\",\"考查\"),\"\")","v":""},{"$f":"IF(教学计划表!EA79<>0,教学计划表!EA79,\"\")","v":""},{"$f":"IF(教学计划表!EA79<>0,教学计划表!EF79,\"\")","v":""},{"$f":"IF(教学计划表!EA79<>0,教学计划表!EG79,\"\")","v":""},{"$f":"IF(教学计划表!EA79<>0,教学计划表!OQ79,\"\")","v":""},{"$f":"OFFSET($GR$2,SMALL(IF($GR$2:$GR$72<>\"\",ROW($I$2:$K$72),\"\"),ROW(GR63))-2,0)","v":{"$error":"#NUM!"}},{"$f":"OFFSET($GS$2,SMALL(IF($GS$2:$GS$72<>\"\",ROW($I$2:$K$72),\"\"),ROW(GS63))-2,0)","v":{"$error":"#NUM!"}},{"$f":"OFFSET($GT$2,SMALL(IF($GT$2:$GT$72<>\"\",ROW($I$2:$K$72),\"\"),ROW(GT63))-2,0)","v":{"$error":"#NUM!"}},{"$f":"OFFSET($GU$2,SMALL(IF($GU$2:$GU$72<>\"\",ROW($I$2:$K$72),\"\"),ROW(GU63))-2,0)","v":{"$error":"#NUM!"}},{"$f":"OFFSET($GV$2,SMALL(IF($GV$2:$GV$72<>\"\",ROW($GV$2:$GV$72),\"\"),ROW(GV63))-2,0)","v":{"$error":"#NUM!"}},{"$f":"OFFSET($GW$2,SMALL(IF($GW$2:$GW$72<>\"\",ROW($GW$2:$GW$72),\"\"),ROW(GW63))-2,0)","v":{"$error":"#NUM!"}},{"$f":"OFFSET($GX$2,SMALL(IF($GX$2:$GX$72<>\"\",ROW($GX$2:$GX$72),\"\"),ROW(GX63))-2,0)","v":{"$error":"#NUM!"}},{"$f":"IF(AND(教学计划表!N79<>\"\",教学计划表!AY79<>\"\"),教学计划表!I79,\"\")","v":""},{"$f":"IF(教学计划表!AY79<>\"\",教学计划表!N79,\"\")","v":""},{"$f":"IF(HG64<>\"\",IF(SEARCH(\"3\",教学计划表!AB79&\"3\",1)<=LEN(教学计划表!AB79),\"考试\",\"考查\"),\"\")","v":""},{"$f":"IF(教学计划表!EV79<>0,教学计划表!EV79,\"\")","v":""},{"$f":"IF(教学计划表!EV79<>0,教学计划表!FA79,\"\")","v":""},{"$f":"IF(教学计划表!EV79<>0,教学计划表!FB79,\"\")","v":""},{"$f":"IF(教学计划表!EV79<>0,教学计划表!PC79,\"\")","v":""},{"$f":"OFFSET($HF$2,SMALL(IF($HF$2:$HF$72<>\"\",ROW($HF$2:$HF$72),\"\"),ROW(HF63))-2,0)","v":{"$error":"#NUM!"}},{"$f":"OFFSET($HG$2,SMALL(IF($HG$2:$HG$72<>\"\",ROW($HG$2:$HG$72),\"\"),ROW(HG63))-2,0)","v":{"$error":"#NUM!"}},{"$f":"OFFSET($HH$2,SMALL(IF($HH$2:$HH$72<>\"\",ROW($HH$2:$HH$72),\"\"),ROW(HH63))-2,0)","v":{"$error":"#NUM!"}},{"$f":"OFFSET($HI$2,SMALL(IF($HI$2:$HI$72<>\"\",ROW($HI$2:$HI$72),\"\"),ROW(HI63))-2,0)","v":{"$error":"#NUM!"}},{"$f":"OFFSET($HJ$2,SMALL(IF($HJ$2:$HJ$72<>\"\",ROW($HJ$2:$HJ$72),\"\"),ROW(HJ63))-2,0)","v":{"$error":"#NUM!"}},{"$f":"OFFSET($HK$2,SMALL(IF($HK$2:$HK$72<>\"\",ROW($HK$2:$HK$72),\"\"),ROW(HK63))-2,0)","v":{"$error":"#NUM!"}},{"$f":"OFFSET($HL$2,SMALL(IF($HL$2:$HL$72<>\"\",ROW($HL$2:$HL$72),\"\"),ROW(HL63))-2,0)","v":{"$error":"#NUM!"}},{"$f":"IF(AND(教学计划表!N79<>\"\",教学计划表!BB79<>\"\"),教学计划表!I79,\"\")","v":""},{"$f":"IF(教学计划表!BB79<>\"\",教学计划表!N79,\"\")","v":""},{"$f":"IF(HU64<>\"\",IF(SEARCH(\"4\",教学计划表!AB79&\"4\",1)<=LEN(教学计划表!AB79),\"考试\",\"考查\"),\"\")","v":""},{"$f":"IF(教学计划表!FQ79<>0,教学计划表!FQ79,\"\")","v":""},{"$f":"IF(教学计划表!FQ79<>0,教学计划表!FV79,\"\")","v":""},{"$f":"IF(教学计划表!FQ79<>0,教学计划表!FW79,\"\")","v":""},{"$f":"IF(教学计划表!FQ79<>0,教学计划表!PO79,\"\")","v":""},{"$f":"OFFSET($HT$2,SMALL(IF($HT$2:$HT$72<>\"\",ROW($HT$2:$HT$72),\"\"),ROW(HT63))-2,0)","v":{"$error":"#NUM!"}},{"$f":"OFFSET($HU$2,SMALL(IF($HU$2:$HU$72<>\"\",ROW($HU$2:$HU$72),\"\"),ROW(HU63))-2,0)","v":{"$error":"#NUM!"}},{"$f":"OFFSET($HV$2,SMALL(IF($HV$2:$HV$72<>\"\",ROW($HV$2:$HV$72),\"\"),ROW(HV63))-2,0)","v":{"$error":"#NUM!"}},{"$f":"OFFSET($HW$2,SMALL(IF($HW$2:$HW$72<>\"\",ROW($HW$2:$HW$72),\"\"),ROW(HW63))-2,0)","v":{"$error":"#NUM!"}},{"$f":"OFFSET($HX$2,SMALL(IF($HX$2:$HX$72<>\"\",ROW($HX$2:$HX$72),\"\"),ROW(HX63))-2,0)","v":{"$error":"#NUM!"}},{"$f":"OFFSET($HY$2,SMALL(IF($HY$2:$HY$72<>\"\",ROW($HY$2:$HY$72),\"\"),ROW(HY63))-2,0)","v":{"$error":"#NUM!"}},{"$f":"OFFSET($HZ$2,SMALL(IF($HZ$2:$HZ$72<>\"\",ROW($HZ$2:$HZ$72),\"\"),ROW(HZ63))-2,0)","v":{"$error":"#NUM!"}},null,null,{"$f":"IF(AND(教学计划表!N79<>\"\",教学计划表!BE79<>\"\"),教学计划表!I79,\"\")","v":""},{"$f":"IF(教学计划表!BE79<>\"\",教学计划表!N79,\"\")","v":""},{"$f":"IF(IK64<>\"\",IF(SEARCH(\"5\",教学计划表!AB79&\"5\",1)<=LEN(教学计划表!AB79),\"考试\",\"考查\"),\"\")","v":""},{"$f":"IF(教学计划表!GL79<>0,教学计划表!GL79,\"\")","v":""},{"$f":"IF(教学计划表!GL79<>0,教学计划表!GQ79,\"\")","v":""},{"$f":"IF(教学计划表!GL79<>0,教学计划表!GR79,\"\")","v":""},{"$f":"IF(教学计划表!GL79<>0,教学计划表!PZ79,\"\")","v":""},{"$f":"OFFSET($IJ$2,SMALL(IF($IJ$2:$IJ$72<>\"\",ROW($IJ$2:$IJ$72),\"\"),ROW(IJ63))-2,0)","v":{"$error":"#NUM!"}},{"$f":"OFFSET($IK$2,SMALL(IF($IK$2:$IK$72<>\"\",ROW($IK$2:$IK$72),\"\"),ROW(IK63))-2,0)","v":{"$error":"#NUM!"}},{"$f":"OFFSET($IL$2,SMALL(IF($IL$2:$IL$72<>\"\",ROW($IL$2:$IL$72),\"\"),ROW(IL63))-2,0)","v":{"$error":"#NUM!"}},{"$f":"OFFSET($IM$2,SMALL(IF($IM$2:$IM$72<>\"\",ROW($IM$2:$IM$72),\"\"),ROW(IM63))-2,0)","v":{"$error":"#NUM!"}},{"$f":"OFFSET($IN$2,SMALL(IF($IN$2:$IN$72<>\"\",ROW($IN$2:$IN$72),\"\"),ROW(IN63))-2,0)","v":{"$error":"#NUM!"}},{"$f":"OFFSET($IO$2,SMALL(IF($IO$2:$IO$72<>\"\",ROW($IO$2:$IO$72),\"\"),ROW(IO63))-2,0)","v":{"$error":"#NUM!"}},{"$f":"OFFSET($IP$2,SMALL(IF($IP$2:$IP$72<>\"\",ROW($IP$2:$IP$72),\"\"),ROW(IP63))-2,0)","v":{"$error":"#NUM!"}},null,{"$f":"IF(AND(教学计划表!N79<>\"\",教学计划表!BH79<>\"\"),教学计划表!I79,\"\")","v":""},{"$f":"IF(教学计划表!BH79<>\"\",教学计划表!N79,\"\")","v":""},{"$f":"IF(教学计划表!BH79<>\"\",IF(SEARCH(\"6\",教学计划表!AB79&\"6\",1)<=LEN(教学计划表!AB79),\"考试\",\"考查\"),\"\")","v":""},{"$f":"IF(教学计划表!BH79<>0,教学计划表!HG79,\"\")","v":""},{"$f":"IF(教学计划表!BH79<>0,教学计划表!HL79,\"\")","v":""},{"$f":"IF(教学计划表!BH79<>0,教学计划表!HM79,\"\")","v":""},{"$f":"IF(教学计划表!BH79<>0,教学计划表!QL79,\"\")","v":""},{"$f":"OFFSET($IY$2,SMALL(IF($IY$2:$IY$72<>\"\",ROW($IY$2:$IY$72),\"\"),ROW(IY63))-2,0)","v":{"$error":"#NUM!"}},{"$f":"OFFSET($IZ$2,SMALL(IF($IZ$2:$IZ$72<>\"\",ROW($IZ$2:$IZ$72),\"\"),ROW(IZ63))-2,0)","v":{"$error":"#NUM!"}},{"$f":"OFFSET($JA$2,SMALL(IF($JA$2:$JA$72<>\"\",ROW($JA$2:$JA$72),\"\"),ROW(JA63))-2,0)","v":{"$error":"#NUM!"}},{"$f":"OFFSET($JB$2,SMALL(IF($JB$2:$JB$72<>\"\",ROW($JB$2:$JB$72),\"\"),ROW(JB63))-2,0)","v":{"$error":"#NUM!"}},{"$f":"OFFSET($JC$2,SMALL(IF($JC$2:$JC$72<>\"\",ROW($JC$2:$JC$72),\"\"),ROW(JC63))-2,0)","v":{"$error":"#NUM!"}},{"$f":"OFFSET($JD$2,SMALL(IF($JD$2:$JD$72<>\"\",ROW($JD$2:$JD$72),\"\"),ROW(JD63))-2,0)","v":{"$error":"#NUM!"}},{"$f":"OFFSET($JE$2,SMALL(IF($JE$2:$JE$72<>\"\",ROW($JE$2:$JE$72),\"\"),ROW(JE63))-2,0)","v":{"$error":"#NUM!"}}]
["","","","","","","",null,"","","",{"$f":"IF(ISERROR(自动生成的开课信息!HB65),\"\",自动生成的开课信息!HB65)","v":""},{"$f":"IF(ISERROR(自动生成的开课信息!HC65),\"\",自动生成的开课信息!HC65)","v":""},{"$f":"IF(ISERROR(自动生成的开课信息!HD65),\"\",自动生成的开课信息!HD65)","v":""},{"$f":"IF(ISERROR(自动生成的开课信息!HE65),\"\",自动生成的开课信息!HE65)","v":""},null,"","","","","","","",null,"","","","","","","",null,"","","","","","","",null,"","","","","","","",null,null,null,null,null,null,null,null,null,null,null,null,null,null,null,null,null,null,null,null,null,null,null,null,null,null,null,null,null,null,null,null,null,null,null,null,null,null,null,null,null,null,null,null,null,null,null,null,null,null,null,null,null,null,null,null,null,null,null,null,null,null,null,null,null,null,null,null,null,null,null,null,null,null,null,null,null,null,null,null,null,null,null,null,null,null,null,null,null,null,null,null,null,null,null,null,null,null,null,null,null,null,null,null,null,null,null,null,null,null,null,null,null,null,null,null,null,null,null,null,null,null,null,null,null,null,null,null,null,null,null,null,null,null,null,null,null,null,{"$f":"IF(AND(教学计划表!N80<>\"\",教学计划表!AS80<>\"\"),教学计划表!I80,\"\")","v":""},{"$f":"IF(教学计划表!AS80<>\"\",教学计划表!N80,\"\")","v":""},{"$f":"IF(GE65<>\"\",IF(SEARCH(\"1\",教学计划表!AB80&\"1\",1)<=LEN(教学计划表!AB80),\"考试\",\"考查\"),\"\")","v":""},{"$f":"IF(教学计划表!DG80<>0,教学计划表!DG80,\"\")","v":""},{"$f":"IF(教学计划表!DG80<>0,教学计划表!DL80,\"\")","v":""},{"$f":"IF(教学计划表!DG80<>0,教学计划表!DM80,\"\")","v":""},{"$f":"IF(教学计划表!DG80<>0,教学计划表!OE80,\"\")","v":""},{"$f":"OFFSET($GD$2,SMALL(IF($GD$2:$GD$72<>\"\",ROW($2:$72),\"\"),ROW(GD64))-2,0)","v":{"$error":"#NUM!"}},{"$f":"OFFSET($GE$2,SMALL(IF($GE$2:$GE$72<>\"\",ROW($2:$72),\"\"),ROW(GE64))-2,0)","v":{"$error":"#NUM!"}},{"$f":"OFFSET($GF$2,SMALL(IF($GF$2:$GF$72<>\"\",ROW($2:$72),\"\"),ROW(GF64))-2,0)","v":{"$error":"#NUM!"}},{"$f":"OFFSET($GG$2,SMALL(IF($GG$2:$GG$72<>\"\",ROW($2:$72),\"\"),ROW(GG64))-2,0)","v":{"$error":"#NUM!"}},{"$f":"OFFSET($GH$2,SMALL(IF($GH$2:$GH$72<>\"\",ROW($2:$72),\"\"),ROW(GH64))-2,0)","v":{"$error":"#NUM!"}},{"$error":"#NUM!"},{"$f":"OFFSET($GJ$2,SMALL(IF($GJ$2:$GJ$72<>\"\",ROW($2:$72),\"\"),ROW(GJ64))-2,0)","v":{"$error":"#NUM!"}},{"$f":"IF(AND(教学计划表!N80<>\"\",教学计划表!AV80<>\"\"),教学计划表!I80,\"\")","v":""},{"$f":"IF(教学计划表!AV80<>\"\",教学计划表!N80,\"\")","v":""},{"$f":"IF(GS65<>\"\",IF(SEARCH(\"2\",教学计划表!AB80&\"2\",1)<=LEN(教学计划表!AB80),\"考试\",\"考查\"),\"\")","v":""},{"$f":"IF(教学计划表!EA80<>0,教学计划表!EA80,\"\")","v":""},{"$f":"IF(教学计划表!EA80<>0,教学计划表!EF80,\"\")","v":""},{"$f":"IF(教学计划表!EA80<>0,教学计划表!EG80,\"\")","v":""},{"$f":"IF(教学计划表!EA80<>0,教学计划表!OQ80,\"\")","v":""},{"$f":"OFFSET($GR$2,SMALL(IF($GR$2:$GR$72<>\"\",ROW($I$2:$K$72),\"\"),ROW(GR64))-2,0)","v":{"$error":"#NUM!"}},{"$f":"OFFSET($GS$2,SMALL(IF($GS$2:$GS$72<>\"\",ROW($I$2:$K$72),\"\"),ROW(GS64))-2,0)","v":{"$error":"#NUM!"}},{"$f":"OFFSET($GT$2,SMALL(IF($GT$2:$GT$72<>\"\",ROW($I$2:$K$72),\"\"),ROW(GT64))-2,0)","v":{"$error":"#NUM!"}},{"$f":"OFFSET($GU$2,SMALL(IF($GU$2:$GU$72<>\"\",ROW($I$2:$K$72),\"\"),ROW(GU64))-2,0)","v":{"$error":"#NUM!"}},{"$f":"OFFSET($GV$2,SMALL(IF($GV$2:$GV$72<>\"\",ROW($GV$2:$GV$72),\"\"),ROW(GV64))-2,0)","v":{"$error":"#NUM!"}},{"$f":"OFFSET($GW$2,SMALL(IF($GW$2:$GW$72<>\"\",ROW($GW$2:$GW$72),\"\"),ROW(GW64))-2,0)","v":{"$error":"#NUM!"}},{"$f":"OFFSET($GX$2,SMALL(IF($GX$2:$GX$72<>\"\",ROW($GX$2:$GX$72),\"\"),ROW(GX64))-2,0)","v":{"$error":"#NUM!"}},{"$f":"IF(AND(教学计划表!N80<>\"\",教学计划表!AY80<>\"\"),教学计划表!I80,\"\")","v":""},{"$f":"IF(教学计划表!AY80<>\"\",教学计划表!N80,\"\")","v":""},{"$f":"IF(HG65<>\"\",IF(SEARCH(\"3\",教学计划表!AB80&\"3\",1)<=LEN(教学计划表!AB80),\"考试\",\"考查\"),\"\")","v":""},{"$f":"IF(教学计划表!EV80<>0,教学计划表!EV80,\"\")","v":""},{"$f":"IF(教学计划表!EV80<>0,教学计划表!FA80,\"\")","v":""},{"$f":"IF(教学计划表!EV80<>0,教学计划表!FB80,\"\")","v":""},{"$f":"IF(教学计划表!EV80<>0,教学计划表!PC80,\"\")","v":""},{"$f":"OFFSET($HF$2,SMALL(IF($HF$2:$HF$72<>\"\",ROW($HF$2:$HF$72),\"\"),ROW(HF64))-2,0)","v":{"$error":"#NUM!"}},{"$f":"OFFSET($HG$2,SMALL(IF($HG$2:$HG$72<>\"\",ROW($HG$2:$HG$72),\"\"),ROW(HG64))-2,0)","v":{"$error":"#NUM!"}},{"$f":"OFFSET($HH$2,SMALL(IF($HH$2:$HH$72<>\"\",ROW($HH$2:$HH$72),\"\"),ROW(HH64))-2,0)","v":{"$error":"#NUM!"}},{"$f":"OFFSET($HI$2,SMALL(IF($HI$2:$HI$72<>\"\",ROW($HI$2:$HI$72),\"\"),ROW(HI64))-2,0)","v":{"$error":"#NUM!"}},{"$f":"OFFSET($HJ$2,SMALL(IF($HJ$2:$HJ$72<>\"\",ROW($HJ$2:$HJ$72),\"\"),ROW(HJ64))-2,0)","v":{"$error":"#NUM!"}},{"$f":"OFFSET($HK$2,SMALL(IF($HK$2:$HK$72<>\"\",ROW($HK$2:$HK$72),\"\"),ROW(HK64))-2,0)","v":{"$error":"#NUM!"}},{"$f":"OFFSET($HL$2,SMALL(IF($HL$2:$HL$72<>\"\",ROW($HL$2:$HL$72),\"\"),ROW(HL64))-2,0)","v":{"$error":"#NUM!"}},{"$f":"IF(AND(教学计划表!N80<>\"\",教学计划表!BB80<>\"\"),教学计划表!I80,\"\")","v":""},{"$f":"IF(教学计划表!BB80<>\"\",教学计划表!N80,\"\")","v":""},{"$f":"IF(HU65<>\"\",IF(SEARCH(\"4\",教学计划表!AB80&\"4\",1)<=LEN(教学计划表!AB80),\"考试\",\"考查\"),\"\")","v":""},{"$f":"IF(教学计划表!FQ80<>0,教学计划表!FQ80,\"\")","v":""},{"$f":"IF(教学计划表!FQ80<>0,教学计划表!FV80,\"\")","v":""},{"$f":"IF(教学计划表!FQ80<>0,教学计划表!FW80,\"\")","v":""},{"$f":"IF(教学计划表!FQ80<>0,教学计划表!PO80,\"\")","v":""},{"$f":"OFFSET($HT$2,SMALL(IF($HT$2:$HT$72<>\"\",ROW($HT$2:$HT$72),\"\"),ROW(HT64))-2,0)","v":{"$error":"#NUM!"}},{"$f":"OFFSET($HU$2,SMALL(IF($HU$2:$HU$72<>\"\",ROW($HU$2:$HU$72),\"\"),ROW(HU64))-2,0)","v":{"$error":"#NUM!"}},{"$f":"OFFSET($HV$2,SMALL(IF($HV$2:$HV$72<>\"\",ROW($HV$2:$HV$72),\"\"),ROW(HV64))-2,0)","v":{"$error":"#NUM!"}},{"$f":"OFFSET($HW$2,SMALL(IF($HW$2:$HW$72<>\"\",ROW($HW$2:$HW$72),\"\"),ROW(HW64))-2,0)","v":{"$error":"#NUM!"}},{"$f":"OFFSET($HX$2,SMALL(IF($HX$2:$HX$72<>\"\",ROW($HX$2:$HX$72),\"\"),ROW(HX64))-2,0)","v":{"$error":"#NUM!"}},{"$f":"OFFSET($HY$2,SMALL(IF($HY$2:$HY$72<>\"\",ROW($HY$2:$HY$72),\"\"),ROW(HY64))-2,0)","v":{"$error":"#NUM!"}},{"$f":"OFFSET($HZ$2,SMALL(IF($HZ$2:$HZ$72<>\"\",ROW($HZ$2:$HZ$72),\"\"),ROW(HZ64))-2,0)","v":{"$error":"#NUM!"}},null,null,{"$f":"IF(AND(教学计划表!N80<>\"\",教学计划表!BE80<>\"\"),教学计划表!I80,\"\")","v":""},{"$f":"IF(教学计划表!BE80<>\"\",教学计划表!N80,\"\")","v":""},{"$f":"IF(IK65<>\"\",IF(SEARCH(\"5\",教学计划表!AB80&\"5\",1)<=LEN(教学计划表!AB80),\"考试\",\"考查\"),\"\")","v":""},{"$f":"IF(教学计划表!GL80<>0,教学计划表!GL80,\"\")","v":""},{"$f":"IF(教学计划表!GL80<>0,教学计划表!GQ80,\"\")","v":""},{"$f":"IF(教学计划表!GL80<>0,教学计划表!GR80,\"\")","v":""},{"$f":"IF(教学计划表!GL80<>0,教学计划表!PZ80,\"\")","v":""},{"$f":"OFFSET($IJ$2,SMALL(IF($IJ$2:$IJ$72<>\"\",ROW($IJ$2:$IJ$72),\"\"),ROW(IJ64))-2,0)","v":{"$error":"#NUM!"}},{"$f":"OFFSET($IK$2,SMALL(IF($IK$2:$IK$72<>\"\",ROW($IK$2:$IK$72),\"\"),ROW(IK64))-2,0)","v":{"$error":"#NUM!"}},{"$f":"OFFSET($IL$2,SMALL(IF($IL$2:$IL$72<>\"\",ROW($IL$2:$IL$72),\"\"),ROW(IL64))-2,0)","v":{"$error":"#NUM!"}},{"$f":"OFFSET($IM$2,SMALL(IF($IM$2:$IM$72<>\"\",ROW($IM$2:$IM$72),\"\"),ROW(IM64))-2,0)","v":{"$error":"#NUM!"}},{"$f":"OFFSET($IN$2,SMALL(IF($IN$2:$IN$72<>\"\",ROW($IN$2:$IN$72),\"\"),ROW(IN64))-2,0)","v":{"$error":"#NUM!"}},{"$f":"OFFSET($IO$2,SMALL(IF($IO$2:$IO$72<>\"\",ROW($IO$2:$IO$72),\"\"),ROW(IO64))-2,0)","v":{"$error":"#NUM!"}},{"$f":"OFFSET($IP$2,SMALL(IF($IP$2:$IP$72<>\"\",ROW($IP$2:$IP$72),\"\"),ROW(IP64))-2,0)","v":{"$error":"#NUM!"}},null,{"$f":"IF(AND(教学计划表!N80<>\"\",教学计划表!BH80<>\"\"),教学计划表!I80,\"\")","v":""},{"$f":"IF(教学计划表!BH80<>\"\",教学计划表!N80,\"\")","v":""},{"$f":"IF(教学计划表!BH80<>\"\",IF(SEARCH(\"6\",教学计划表!AB80&\"6\",1)<=LEN(教学计划表!AB80),\"考试\",\"考查\"),\"\")","v":""},{"$f":"IF(教学计划表!BH80<>0,教学计划表!HG80,\"\")","v":""},{"$f":"IF(教学计划表!BH80<>0,教学计划表!HL80,\"\")","v":""},{"$f":"IF(教学计划表!BH80<>0,教学计划表!HM80,\"\")","v":""},{"$f":"IF(教学计划表!BH80<>0,教学计划表!QL80,\"\")","v":""},{"$f":"OFFSET($IY$2,SMALL(IF($IY$2:$IY$72<>\"\",ROW($IY$2:$IY$72),\"\"),ROW(IY64))-2,0)","v":{"$error":"#NUM!"}},{"$f":"OFFSET($IZ$2,SMALL(IF($IZ$2:$IZ$72<>\"\",ROW($IZ$2:$IZ$72),\"\"),ROW(IZ64))-2,0)","v":{"$error":"#NUM!"}},{"$f":"OFFSET($JA$2,SMALL(IF($JA$2:$JA$72<>\"\",ROW($JA$2:$JA$72),\"\"),ROW(JA64))-2,0)","v":{"$error":"#NUM!"}},{"$f":"OFFSET($JB$2,SMALL(IF($JB$2:$JB$72<>\"\",ROW($JB$2:$JB$72),\"\"),ROW(JB64))-2,0)","v":{"$error":"#NUM!"}},{"$f":"OFFSET($JC$2,SMALL(IF($JC$2:$JC$72<>\"\",ROW($JC$2:$JC$72),\"\"),ROW(JC64))-2,0)","v":{"$error":"#NUM!"}},{"$f":"OFFSET($JD$2,SMALL(IF($JD$2:$JD$72<>\"\",ROW($JD$2:$JD$72),\"\"),ROW(JD64))-2,0)","v":{"$error":"#NUM!"}},{"$f":"OFFSET($JE$2,SMALL(IF($JE$2:$JE$72<>\"\",ROW($JE$2:$JE$72),\"\"),ROW(JE64))-2,0)","v":{"$error":"#NUM!"}}]
["","","","","","","",null,"","","",{"$f":"IF(ISERROR(自动生成的开课信息!HB66),\"\",自动生成的开课信息!HB66)","v":""},{"$f":"IF(ISERROR(自动生成的开课信息!HC66),\"\",自动生成的开课信息!HC66)","v":""},{"$f":"IF(ISERROR(自动生成的开课信息!HD66),\"\",自动生成的开课信息!HD66)","v":""},{"$f":"IF(ISERROR(自动生成的开课信息!HE66),\"\",自动生成的开课信息!HE66)","v":""},null,"","","","","","","",null,"","","","","","","",null,"","","","","","","",null,"","","","","","","",null,null,null,null,null,null,null,null,null,null,null,null,null,null,null,null,null,null,null,null,null,null,null,null,null,null,null,null,null,null,null,null,null,null,null,null,null,null,null,null,null,null,null,null,null,null,null,null,null,null,null,null,null,null,null,null,null,null,null,null,null,null,null,null,null,null,null,null,null,null,null,null,null,null,null,null,null,null,null,null,null,null,null,null,null,null,null,null,null,null,null,null,null,null,null,null,null,null,null,null,null,null,null,null,null,null,null,null,null,null,null,null,null,null,null,null,null,null,null,null,null,null,null,null,null,null,null,null,null,null,null,null,null,null,null,null,null,null,{"$f":"IF(AND(教学计划表!N81<>\"\",教学计划表!AS81<>\"\"),教学计划表!I81,\"\")","v":""},{"$f":"IF(教学计划表!AS81<>\"\",教学计划表!N81,\"\")","v":""},{"$f":"IF(GE66<>\"\",IF(SEARCH(\"1\",教学计划表!AB81&\"1\",1)<=LEN(教学计划表!AB81),\"考试\",\"考查\"),\"\")","v":""},{"$f":"IF(教学计划表!DG81<>0,教学计划表!DG81,\"\")","v":""},{"$f":"IF(教学计划表!DG81<>0,教学计划表!DL81,\"\")","v":""},{"$f":"IF(教学计划表!DG81<>0,教学计划表!DM81,\"\")","v":""},{"$f":"IF(教学计划表!DG81<>0,教学计划表!OE81,\"\")","v":""},{"$f":"OFFSET($GD$2,SMALL(IF($GD$2:$GD$72<>\"\",ROW($2:$72),\"\"),ROW(GD65))-2,0)","v":{"$error":"#NUM!"}},{"$f":"OFFSET($GE$2,SMALL(IF($GE$2:$GE$72<>\"\",ROW($2:$72),\"\"),ROW(GE65))-2,0)","v":{"$error":"#NUM!"}},{"$f":"OFFSET($GF$2,SMALL(IF($GF$2:$GF$72<>\"\",ROW($2:$72),\"\"),ROW(GF65))-2,0)","v":{"$error":"#NUM!"}},{"$f":"OFFSET($GG$2,SMALL(IF($GG$2:$GG$72<>\"\",ROW($2:$72),\"\"),ROW(GG65))-2,0)","v":{"$error":"#NUM!"}},{"$f":"OFFSET($GH$2,SMALL(IF($GH$2:$GH$72<>\"\",ROW($2:$72),\"\"),ROW(GH65))-2,0)","v":{"$error":"#NUM!"}},{"$error":"#NUM!"},{"$f":"OFFSET($GJ$2,SMALL(IF($GJ$2:$GJ$72<>\"\",ROW($2:$72),\"\"),ROW(GJ65))-2,0)","v":{"$error":"#NUM!"}},{"$f":"IF(AND(教学计划表!N81<>\"\",教学计划表!AV81<>\"\"),教学计划表!I81,\"\")","v":""},{"$f":"IF(教学计划表!AV81<>\"\",教学计划表!N81,\"\")","v":""},{"$f":"IF(GS66<>\"\",IF(SEARCH(\"2\",教学计划表!AB81&\"2\",1)<=LEN(教学计划表!AB81),\"考试\",\"考查\"),\"\")","v":""},{"$f":"IF(教学计划表!EA81<>0,教学计划表!EA81,\"\")","v":""},{"$f":"IF(教学计划表!EA81<>0,教学计划表!EF81,\"\")","v":""},{"$f":"IF(教学计划表!EA81<>0,教学计划表!EG81,\"\")","v":""},{"$f":"IF(教学计划表!EA81<>0,教学计划表!OQ81,\"\")","v":""},{"$f":"OFFSET($GR$2,SMALL(IF($GR$2:$GR$72<>\"\",ROW($I$2:$K$72),\"\"),ROW(GR65))-2,0)","v":{"$error":"#NUM!"}},{"$f":"OFFSET($GS$2,SMALL(IF($GS$2:$GS$72<>\"\",ROW($I$2:$K$72),\"\"),ROW(GS65))-2,0)","v":{"$error":"#NUM!"}},{"$f":"OFFSET($GT$2,SMALL(IF($GT$2:$GT$72<>\"\",ROW($I$2:$K$72),\"\"),ROW(GT65))-2,0)","v":{"$error":"#NUM!"}},{"$f":"OFFSET($GU$2,SMALL(IF($GU$2:$GU$72<>\"\",ROW($I$2:$K$72),\"\"),ROW(GU65))-2,0)","v":{"$error":"#NUM!"}},{"$f":"OFFSET($GV$2,SMALL(IF($GV$2:$GV$72<>\"\",ROW($GV$2:$GV$72),\"\"),ROW(GV65))-2,0)","v":{"$error":"#NUM!"}},{"$f":"OFFSET($GW$2,SMALL(IF($GW$2:$GW$72<>\"\",ROW($GW$2:$GW$72),\"\"),ROW(GW65))-2,0)","v":{"$error":"#NUM!"}},{"$f":"OFFSET($GX$2,SMALL(IF($GX$2:$GX$72<>\"\",ROW($GX$2:$GX$72),\"\"),ROW(GX65))-2,0)","v":{"$error":"#NUM!"}},{"$f":"IF(AND(教学计划表!N81<>\"\",教学计划表!AY81<>\"\"),教学计划表!I81,\"\")","v":""},{"$f":"IF(教学计划表!AY81<>\"\",教学计划表!N81,\"\")","v":""},{"$f":"IF(HG66<>\"\",IF(SEARCH(\"3\",教学计划表!AB81&\"3\",1)<=LEN(教学计划表!AB81),\"考试\",\"考查\"),\"\")","v":""},{"$f":"IF(教学计划表!EV81<>0,教学计划表!EV81,\"\")","v":""},{"$f":"IF(教学计划表!EV81<>0,教学计划表!FA81,\"\")","v":""},{"$f":"IF(教学计划表!EV81<>0,教学计划表!FB81,\"\")","v":""},{"$f":"IF(教学计划表!EV81<>0,教学计划表!PC81,\"\")","v":""},{"$f":"OFFSET($HF$2,SMALL(IF($HF$2:$HF$72<>\"\",ROW($HF$2:$HF$72),\"\"),ROW(HF65))-2,0)","v":{"$error":"#NUM!"}},{"$f":"OFFSET($HG$2,SMALL(IF($HG$2:$HG$72<>\"\",ROW($HG$2:$HG$72),\"\"),ROW(HG65))-2,0)","v":{"$error":"#NUM!"}},{"$f":"OFFSET($HH$2,SMALL(IF($HH$2:$HH$72<>\"\",ROW($HH$2:$HH$72),\"\"),ROW(HH65))-2,0)","v":{"$error":"#NUM!"}},{"$f":"OFFSET($HI$2,SMALL(IF($HI$2:$HI$72<>\"\",ROW($HI$2:$HI$72),\"\"),ROW(HI65))-2,0)","v":{"$error":"#NUM!"}},{"$f":"OFFSET($HJ$2,SMALL(IF($HJ$2:$HJ$72<>\"\",ROW($HJ$2:$HJ$72),\"\"),ROW(HJ65))-2,0)","v":{"$error":"#NUM!"}},{"$f":"OFFSET($HK$2,SMALL(IF($HK$2:$HK$72<>\"\",ROW($HK$2:$HK$72),\"\"),ROW(HK65))-2,0)","v":{"$error":"#NUM!"}},{"$f":"OFFSET($HL$2,SMALL(IF($HL$2:$HL$72<>\"\",ROW($HL$2:$HL$72),\"\"),ROW(HL65))-2,0)","v":{"$error":"#NUM!"}},{"$f":"IF(AND(教学计划表!N81<>\"\",教学计划表!BB81<>\"\"),教学计划表!I81,\"\")","v":""},{"$f":"IF(教学计划表!BB81<>\"\",教学计划表!N81,\"\")","v":""},{"$f":"IF(HU66<>\"\",IF(SEARCH(\"4\",教学计划表!AB81&\"4\",1)<=LEN(教学计划表!AB81),\"考试\",\"考查\"),\"\")","v":""},{"$f":"IF(教学计划表!FQ81<>0,教学计划表!FQ81,\"\")","v":""},{"$f":"IF(教学计划表!FQ81<>0,教学计划表!FV81,\"\")","v":""},{"$f":"IF(教学计划表!FQ81<>0,教学计划表!FW81,\"\")","v":""},{"$f":"IF(教学计划表!FQ81<>0,教学计划表!PO81,\"\")","v":""},{"$f":"OFFSET($HT$2,SMALL(IF($HT$2:$HT$72<>\"\",ROW($HT$2:$HT$72),\"\"),ROW(HT65))-2,0)","v":{"$error":"#NUM!"}},{"$f":"OFFSET($HU$2,SMALL(IF($HU$2:$HU$72<>\"\",ROW($HU$2:$HU$72),\"\"),ROW(HU65))-2,0)","v":{"$error":"#NUM!"}},{"$f":"OFFSET($HV$2,SMALL(IF($HV$2:$HV$72<>\"\",ROW($HV$2:$HV$72),\"\"),ROW(HV65))-2,0)","v":{"$error":"#NUM!"}},{"$f":"OFFSET($HW$2,SMALL(IF($HW$2:$HW$72<>\"\",ROW($HW$2:$HW$72),\"\"),ROW(HW65))-2,0)","v":{"$error":"#NUM!"}},{"$f":"OFFSET($HX$2,SMALL(IF($HX$2:$HX$72<>\"\",ROW($HX$2:$HX$72),\"\"),ROW(HX65))-2,0)","v":{"$error":"#NUM!"}},{"$f":"OFFSET($HY$2,SMALL(IF($HY$2:$HY$72<>\"\",ROW($HY$2:$HY$72),\"\"),ROW(HY65))-2,0)","v":{"$error":"#NUM!"}},{"$f":"OFFSET($HZ$2,SMALL(IF($HZ$2:$HZ$72<>\"\",ROW($HZ$2:$HZ$72),\"\"),ROW(HZ65))-2,0)","v":{"$error":"#NUM!"}},null,null,{"$f":"IF(AND(教学计划表!N81<>\"\",教学计划表!BE81<>\"\"),教学计划表!I81,\"\")","v":""},{"$f":"IF(教学计划表!BE81<>\"\",教学计划表!N81,\"\")","v":""},{"$f":"IF(IK66<>\"\",IF(SEARCH(\"5\",教学计划表!AB81&\"5\",1)<=LEN(教学计划表!AB81),\"考试\",\"考查\"),\"\")","v":""},{"$f":"IF(教学计划表!GL81<>0,教学计划表!GL81,\"\")","v":""},{"$f":"IF(教学计划表!GL81<>0,教学计划表!GQ81,\"\")","v":""},{"$f":"IF(教学计划表!GL81<>0,教学计划表!GR81,\"\")","v":""},{"$f":"IF(教学计划表!GL81<>0,教学计划表!PZ81,\"\")","v":""},{"$f":"OFFSET($IJ$2,SMALL(IF($IJ$2:$IJ$72<>\"\",ROW($IJ$2:$IJ$72),\"\"),ROW(IJ65))-2,0)","v":{"$error":"#NUM!"}},{"$f":"OFFSET($IK$2,SMALL(IF($IK$2:$IK$72<>\"\",ROW($IK$2:$IK$72),\"\"),ROW(IK65))-2,0)","v":{"$error":"#NUM!"}},{"$f":"OFFSET($IL$2,SMALL(IF($IL$2:$IL$72<>\"\",ROW($IL$2:$IL$72),\"\"),ROW(IL65))-2,0)","v":{"$error":"#NUM!"}},{"$f":"OFFSET($IM$2,SMALL(IF($IM$2:$IM$72<>\"\",ROW($IM$2:$IM$72),\"\"),ROW(IM65))-2,0)","v":{"$error":"#NUM!"}},{"$f":"OFFSET($IN$2,SMALL(IF($IN$2:$IN$72<>\"\",ROW($IN$2:$IN$72),\"\"),ROW(IN65))-2,0)","v":{"$error":"#NUM!"}},{"$f":"OFFSET($IO$2,SMALL(IF($IO$2:$IO$72<>\"\",ROW($IO$2:$IO$72),\"\"),ROW(IO65))-2,0)","v":{"$error":"#NUM!"}},{"$f":"OFFSET($IP$2,SMALL(IF($IP$2:$IP$72<>\"\",ROW($IP$2:$IP$72),\"\"),ROW(IP65))-2,0)","v":{"$error":"#NUM!"}},null,{"$f":"IF(AND(教学计划表!N81<>\"\",教学计划表!BH81<>\"\"),教学计划表!I81,\"\")","v":""},{"$f":"IF(教学计划表!BH81<>\"\",教学计划表!N81,\"\")","v":""},{"$f":"IF(教学计划表!BH81<>\"\",IF(SEARCH(\"6\",教学计划表!AB81&\"6\",1)<=LEN(教学计划表!AB81),\"考试\",\"考查\"),\"\")","v":""},{"$f":"IF(教学计划表!BH81<>0,教学计划表!HG81,\"\")","v":""},{"$f":"IF(教学计划表!BH81<>0,教学计划表!HL81,\"\")","v":""},{"$f":"IF(教学计划表!BH81<>0,教学计划表!HM81,\"\")","v":""},{"$f":"IF(教学计划表!BH81<>0,教学计划表!QL81,\"\")","v":""},{"$f":"OFFSET($IY$2,SMALL(IF($IY$2:$IY$72<>\"\",ROW($IY$2:$IY$72),\"\"),ROW(IY65))-2,0)","v":{"$error":"#NUM!"}},{"$f":"OFFSET($IZ$2,SMALL(IF($IZ$2:$IZ$72<>\"\",ROW($IZ$2:$IZ$72),\"\"),ROW(IZ65))-2,0)","v":{"$error":"#NUM!"}},{"$f":"OFFSET($JA$2,SMALL(IF($JA$2:$JA$72<>\"\",ROW($JA$2:$JA$72),\"\"),ROW(JA65))-2,0)","v":{"$error":"#NUM!"}},{"$f":"OFFSET($JB$2,SMALL(IF($JB$2:$JB$72<>\"\",ROW($JB$2:$JB$72),\"\"),ROW(JB65))-2,0)","v":{"$error":"#NUM!"}},{"$f":"OFFSET($JC$2,SMALL(IF($JC$2:$JC$72<>\"\",ROW($JC$2:$JC$72),\"\"),ROW(JC65))-2,0)","v":{"$error":"#NUM!"}},{"$f":"OFFSET($JD$2,SMALL(IF($JD$2:$JD$72<>\"\",ROW($JD$2:$JD$72),\"\"),ROW(JD65))-2,0)","v":{"$error":"#NUM!"}},{"$f":"OFFSET($JE$2,SMALL(IF($JE$2:$JE$72<>\"\",ROW($JE$2:$JE$72),\"\"),ROW(JE65))-2,0)","v":{"$error":"#NUM!"}}]
["","","","","","","",null,"","","",{"$f":"IF(ISERROR(自动生成的开课信息!HB67),\"\",自动生成的开课信息!HB67)","v":""},{"$f":"IF(ISERROR(自动生成的开课信息!HC67),\"\",自动生成的开课信息!HC67)","v":""},{"$f":"IF(ISERROR(自动生成的开课信息!HD67),\"\",自动生成的开课信息!HD67)","v":""},{"$f":"IF(ISERROR(自动生成的开课信息!HE67),\"\",自动生成的开课信息!HE67)","v":""},null,"","","","","","","",null,"","","","","","","",null,"","","","","","","",null,"","","","","","","",null,null,null,null,null,null,null,null,null,null,null,null,null,null,null,null,null,null,null,null,null,null,null,null,null,null,null,null,null,null,null,null,null,null,null,null,null,null,null,null,null,null,null,null,null,null,null,null,null,null,null,null,null,null,null,null,null,null,null,null,null,null,null,null,null,null,null,null,null,null,null,null,null,null,null,null,null,null,null,null,null,null,null,null,null,null,null,null,null,null,null,null,null,null,null,null,null,null,null,null,null,null,null,null,null,null,null,null,null,null,null,null,null,null,null,null,null,null,null,null,null,null,null,null,null,null,null,null,null,null,null,null,null,null,null,null,null,null,{"$f":"IF(AND(教学计划表!N82<>\"\",教学计划表!AS82<>\"\"),教学计划表!I82,\"\")","v":""},{"$f":"IF(教学计划表!AS82<>\"\",教学计划表!N82,\"\")","v":""},{"$f":"IF(GE67<>\"\",IF(SEARCH(\"1\",教学计划表!AB82&\"1\",1)<=LEN(教学计划表!AB82),\"考试\",\"考查\"),\"\")","v":""},{"$f":"IF(教学计划表!DG82<>0,教学计划表!DG82,\"\")","v":""},{"$f":"IF(教学计划表!DG82<>0,教学计划表!DL82,\"\")","v":""},{"$f":"IF(教学计划表!DG82<>0,教学计划表!DM82,\"\")","v":""},{"$f":"IF(教学计划表!DG82<>0,教学计划表!OE82,\"\")","v":""},{"$f":"OFFSET($GD$2,SMALL(IF($GD$2:$GD$72<>\"\",ROW($2:$72),\"\"),ROW(GD66))-2,0)","v":{"$error":"#NUM!"}},{"$f":"OFFSET($GE$2,SMALL(IF($GE$2:$GE$72<>\"\",ROW($2:$72),\"\"),ROW(GE66))-2,0)","v":{"$error":"#NUM!"}},{"$f":"OFFSET($GF$2,SMALL(IF($GF$2:$GF$72<>\"\",ROW($2:$72),\"\"),ROW(GF66))-2,0)","v":{"$error":"#NUM!"}},{"$f":"OFFSET($GG$2,SMALL(IF($GG$2:$GG$72<>\"\",ROW($2:$72),\"\"),ROW(GG66))-2,0)","v":{"$error":"#NUM!"}},{"$f":"OFFSET($GH$2,SMALL(IF($GH$2:$GH$72<>\"\",ROW($2:$72),\"\"),ROW(GH66))-2,0)","v":{"$error":"#NUM!"}},{"$f":"GN67*GO67","v":{"$error":"#NUM!"}},{"$f":"OFFSET($GJ$2,SMALL(IF($GJ$2:$GJ$72<>\"\",ROW($2:$72),\"\"),ROW(GJ66))-2,0)","v":{"$error":"#NUM!"}},{"$f":"IF(AND(教学计划表!N82<>\"\",教学计划表!AV82<>\"\"),教学计划表!I82,\"\")","v":""},{"$f":"IF(教学计划表!AV82<>\"\",教学计划表!N82,\"\")","v":""},{"$f":"IF(GS67<>\"\",IF(SEARCH(\"2\",教学计划表!AB82&\"2\",1)<=LEN(教学计划表!AB82),\"考试\",\"考查\"),\"\")","v":""},{"$f":"IF(教学计划表!EA82<>0,教学计划表!EA82,\"\")","v":""},{"$f":"IF(教学计划表!EA82<>0,教学计划表!EF82,\"\")","v":""},{"$f":"IF(教学计划表!EA82<>0,教学计划表!EG82,\"\")","v":""},{"$f":"IF(教学计划表!EA82<>0,教学计划表!OQ82,\"\")","v":""},{"$f":"OFFSET($GR$2,SMALL(IF($GR$2:$GR$72<>\"\",ROW($I$2:$K$72),\"\"),ROW(GR66))-2,0)","v":{"$error":"#NUM!"}},{"$f":"OFFSET($GS$2,SMALL(IF($GS$2:$GS$72<>\"\",ROW($I$2:$K$72),\"\"),ROW(GS66))-2,0)","v":{"$error":"#NUM!"}},{"$f":"OFFSET($GT$2,SMALL(IF($GT$2:$GT$72<>\"\",ROW($I$2:$K$72),\"\"),ROW(GT66))-2,0)","v":{"$error":"#NUM!"}},{"$f":"OFFSET($GU$2,SMALL(IF($GU$2:$GU$72<>\"\",ROW($I$2:$K$72),\"\"),ROW(GU66))-2,0)","v":{"$error":"#NUM!"}},{"$f":"OFFSET($GV$2,SMALL(IF($GV$2:$GV$72<>\"\",ROW($GV$2:$GV$72),\"\"),ROW(GV66))-2,0)","v":{"$error":"#NUM!"}},{"$f":"OFFSET($GW$2,SMALL(IF($GW$2:$GW$72<>\"\",ROW($GW$2:$GW$72),\"\"),ROW(GW66))-2,0)","v":{"$error":"#NUM!"}},{"$f":"OFFSET($GX$2,SMALL(IF($GX$2:$GX$72<>\"\",ROW($GX$2:$GX$72),\"\"),ROW(GX66))-2,0)","v":{"$error":"#NUM!"}},{"$f":"IF(AND(教学计划表!N82<>\"\",教学计划表!AY82<>\"\"),教学计划表!I82,\"\")","v":""},{"$f":"IF(教学计划表!AY82<>\"\",教学计划表!N82,\"\")","v":""},{"$f":"IF(HG67<>\"\",IF(SEARCH(\"3\",教学计划表!AB82&\"3\",1)<=LEN(教学计划表!AB82),\"考试\",\"考查\"),\"\")","v":""},{"$f":"IF(教学计划表!EV82<>0,教学计划表!EV82,\"\")","v":""},{"$f":"IF(教学计划表!EV82<>0,教学计划表!FA82,\"\")","v":""},{"$f":"IF(教学计划表!EV82<>0,教学计划表!FB82,\"\")","v":""},{"$f":"IF(教学计划表!EV82<>0,教学计划表!PC82,\"\")","v":""},{"$f":"OFFSET($HF$2,SMALL(IF($HF$2:$HF$72<>\"\",ROW($HF$2:$HF$72),\"\"),ROW(HF66))-2,0)","v":{"$error":"#NUM!"}},{"$f":"OFFSET($HG$2,SMALL(IF($HG$2:$HG$72<>\"\",ROW($HG$2:$HG$72),\"\"),ROW(HG66))-2,0)","v":{"$error":"#NUM!"}},{"$f":"OFFSET($HH$2,SMALL(IF($HH$2:$HH$72<>\"\",ROW($HH$2:$HH$72),\"\"),ROW(HH66))-2,0)","v":{"$error":"#NUM!"}},{"$f":"OFFSET($HI$2,SMALL(IF($HI$2:$HI$72<>\"\",ROW($HI$2:$HI$72),\"\"),ROW(HI66))-2,0)","v":{"$error":"#NUM!"}},{"$f":"OFFSET($HJ$2,SMALL(IF($HJ$2:$HJ$72<>\"\",ROW($HJ$2:$HJ$72),\"\"),ROW(HJ66))-2,0)","v":{"$error":"#NUM!"}},{"$f":"OFFSET($HK$2,SMALL(IF($HK$2:$HK$72<>\"\",ROW($HK$2:$HK$72),\"\"),ROW(HK66))-2,0)","v":{"$error":"#NUM!"}},{"$f":"OFFSET($HL$2,SMALL(IF($HL$2:$HL$72<>\"\",ROW($HL$2:$HL$72),\"\"),ROW(HL66))-2,0)","v":{"$error":"#NUM!"}},{"$f":"IF(AND(教学计划表!N82<>\"\",教学计划表!BB82<>\"\"),教学计划表!I82,\"\")","v":""},{"$f":"IF(教学计划表!BB82<>\"\",教学计划表!N82,\"\")","v":""},{"$f":"IF(HU67<>\"\",IF(SEARCH(\"4\",教学计划表!AB82&\"4\",1)<=LEN(教学计划表!AB82),\"考试\",\"考查\"),\"\")","v":""},{"$f":"IF(教学计划表!FQ82<>0,教学计划表!FQ82,\"\")","v":""},{"$f":"IF(教学计划表!FQ82<>0,教学计划表!FV82,\"\")","v":""},{"$f":"IF(教学计划表!FQ82<>0,教学计划表!FW82,\"\")","v":""},{"$f":"IF(教学计划表!FQ82<>0,教学计划表!PO82,\"\")","v":""},{"$f":"OFFSET($HT$2,SMALL(IF($HT$2:$HT$72<>\"\",ROW($HT$2:$HT$72),\"\"),ROW(HT66))-2,0)","v":{"$error":"#NUM!"}},{"$f":"OFFSET($HU$2,SMALL(IF($HU$2:$HU$72<>\"\",ROW($HU$2:$HU$72),\"\"),ROW(HU66))-2,0)","v":{"$error":"#NUM!"}},{"$f":"OFFSET($HV$2,SMALL(IF($HV$2:$HV$72<>\"\",ROW($HV$2:$HV$72),\"\"),ROW(HV66))-2,0)","v":{"$error":"#NUM!"}},{"$f":"OFFSET($HW$2,SMALL(IF($HW$2:$HW$72<>\"\",ROW($HW$2:$HW$72),\"\"),ROW(HW66))-2,0)","v":{"$error":"#NUM!"}},{"$f":"OFFSET($HX$2,SMALL(IF($HX$2:$HX$72<>\"\",ROW($HX$2:$HX$72),\"\"),ROW(HX66))-2,0)","v":{"$error":"#NUM!"}},{"$f":"OFFSET($HY$2,SMALL(IF($HY$2:$HY$72<>\"\",ROW($HY$2:$HY$72),\"\"),ROW(HY66))-2,0)","v":{"$error":"#NUM!"}},{"$f":"OFFSET($HZ$2,SMALL(IF($HZ$2:$HZ$72<>\"\",ROW($HZ$2:$HZ$72),\"\"),ROW(HZ66))-2,0)","v":{"$error":"#NUM!"}},null,null,{"$f":"IF(AND(教学计划表!N82<>\"\",教学计划表!BE82<>\"\"),教学计划表!I82,\"\")","v":""},{"$f":"IF(教学计划表!BE82<>\"\",教学计划表!N82,\"\")","v":""},{"$f":"IF(IK67<>\"\",IF(SEARCH(\"5\",教学计划表!AB82&\"5\",1)<=LEN(教学计划表!AB82),\"考试\",\"考查\"),\"\")","v":""},{"$f":"IF(教学计划表!GL82<>0,教学计划表!GL82,\"\")","v":""},{"$f":"IF(教学计划表!GL82<>0,教学计划表!GQ82,\"\")","v":""},{"$f":"IF(教学计划表!GL82<>0,教学计划表!GR82,\"\")","v":""},{"$f":"IF(教学计划表!GL82<>0,教学计划表!PZ82,\"\")","v":""},{"$f":"OFFSET($IJ$2,SMALL(IF($IJ$2:$IJ$72<>\"\",ROW($IJ$2:$IJ$72),\"\"),ROW(IJ66))-2,0)","v":{"$error":"#NUM!"}},{"$f":"OFFSET($IK$2,SMALL(IF($IK$2:$IK$72<>\"\",ROW($IK$2:$IK$72),\"\"),ROW(IK66))-2,0)","v":{"$error":"#NUM!"}},{"$f":"OFFSET($IL$2,SMALL(IF($IL$2:$IL$72<>\"\",ROW($IL$2:$IL$72),\"\"),ROW(IL66))-2,0)","v":{"$error":"#NUM!"}},{"$f":"OFFSET($IM$2,SMALL(IF($IM$2:$IM$72<>\"\",ROW($IM$2:$IM$72),\"\"),ROW(IM66))-2,0)","v":{"$error":"#NUM!"}},{"$f":"OFFSET($IN$2,SMALL(IF($IN$2:$IN$72<>\"\",ROW($IN$2:$IN$72),\"\"),ROW(IN66))-2,0)","v":{"$error":"#NUM!"}},{"$f":"OFFSET($IO$2,SMALL(IF($IO$2:$IO$72<>\"\",ROW($IO$2:$IO$72),\"\"),ROW(IO66))-2,0)","v":{"$error":"#NUM!"}},{"$f":"OFFSET($IP$2,SMALL(IF($IP$2:$IP$72<>\"\",ROW($IP$2:$IP$72),\"\"),ROW(IP66))-2,0)","v":{"$error":"#NUM!"}},null,{"$f":"IF(AND(教学计划表!N82<>\"\",教学计划表!BH82<>\"\"),教学计划表!I82,\"\")","v":""},{"$f":"IF(教学计划表!BH82<>\"\",教学计划表!N82,\"\")","v":""},{"$f":"IF(教学计划表!BH82<>\"\",IF(SEARCH(\"6\",教学计划表!AB82&\"6\",1)<=LEN(教学计划表!AB82),\"考试\",\"考查\"),\"\")","v":""},{"$f":"IF(教学计划表!BH82<>0,教学计划表!HG82,\"\")","v":""},{"$f":"IF(教学计划表!BH82<>0,教学计划表!HL82,\"\")","v":""},{"$f":"IF(教学计划表!BH82<>0,教学计划表!HM82,\"\")","v":""},{"$f":"IF(教学计划表!BH82<>0,教学计划表!QL82,\"\")","v":""},{"$f":"OFFSET($IY$2,SMALL(IF($IY$2:$IY$72<>\"\",ROW($IY$2:$IY$72),\"\"),ROW(IY66))-2,0)","v":{"$error":"#NUM!"}},{"$f":"OFFSET($IZ$2,SMALL(IF($IZ$2:$IZ$72<>\"\",ROW($IZ$2:$IZ$72),\"\"),ROW(IZ66))-2,0)","v":{"$error":"#NUM!"}},{"$f":"OFFSET($JA$2,SMALL(IF($JA$2:$JA$72<>\"\",ROW($JA$2:$JA$72),\"\"),ROW(JA66))-2,0)","v":{"$error":"#NUM!"}},{"$f":"OFFSET($JB$2,SMALL(IF($JB$2:$JB$72<>\"\",ROW($JB$2:$JB$72),\"\"),ROW(JB66))-2,0)","v":{"$error":"#NUM!"}},{"$f":"OFFSET($JC$2,SMALL(IF($JC$2:$JC$72<>\"\",ROW($JC$2:$JC$72),\"\"),ROW(JC66))-2,0)","v":{"$error":"#NUM!"}},{"$f":"OFFSET($JD$2,SMALL(IF($JD$2:$JD$72<>\"\",ROW($JD$2:$JD$72),\"\"),ROW(JD66))-2,0)","v":{"$error":"#NUM!"}},{"$f":"OFFSET($JE$2,SMALL(IF($JE$2:$JE$72<>\"\",ROW($JE$2:$JE$72),\"\"),ROW(JE66))-2,0)","v":{"$error":"#NUM!"}}]
[null,null,null,null,null,null,null,null,0,null,null,null,null,null,null,null,0,null,null,null,null,null,null,null,{"$f":"IF(ISERROR(IA68),\"\",IA68)","v":0},null,null,null,null,null,null,null,0,null,null,null,null,null,null,null,0]
[null,null,null,null,null,null,null,null,0,null,null,null,null,null,null,null,0,null,null,null,null,null,null,null,0,null,null,null,null,null,null,null,0,null,null,null,null,null,null,null,0]
[null,null,null,null,null,null,null,null,0,null,null,null,null,null,null,null,0,null,null,null,null,null,null,null,0,null,null,null,null,null,null,null,0,null,null,null,null,null,null,null,0]
[null,null,null,null,null,null,null,null,0,null,null,null,null,null,null,null,0,null,null,null,null,null,null,null,0,null,null,null,null,null,null,null,0,null,null,null,null,null,null,null,0]
[null,null,null,null,null,null,null,null,0,null,null,null,null,null,null,null,0,null,null,null,null,null,null,null,0,null,null,null,null,null,null,null,0,null,null,null,null,null,null,null,0]

{"sheet":"序号","index":3,"n_rows":70,"n_cols":3,"rows_kept":70,"cut":false,"hidden":true,"merged":[]}
[]
[{"$f":"IF(教学计划表!N18<>\"\",教学计划表!N18,\"\")","v":""},{"$f":"IF(A2<>\"\",1,0)","v":0},{"$f":"IF(A2<>\"\",C1+B2,C1)","v":0}]
[{"$f":"IF(教学计划表!N19<>\"\",教学计划表!N19,\"\")","v":""},{"$f":"IF(A3<>\"\",1,0)","v":0},{"$f":"IF(A3<>\"\",C2+B3,C2)","v":0}]
[{"$f":"IF(教学计划表!N20<>\"\",教学计划表!N20,\"\")","v":""},0,0]
[{"$f":"IF(教学计划表!N21<>\"\",教学计划表!N21,\"\")","v":""},0,0]
[{"$f":"IF(教学计划表!N22<>\"\",教学计划表!N22,\"\")","v":""},0,0]
[{"$f":"IF(教学计划表!N23<>\"\",教学计划表!N23,\"\")","v":""},0,0]
[{"$f":"IF(教学计划表!N24<>\"\",教学计划表!N24,\"\")","v":""},0,0]
[{"$f":"IF(教学计划表!N25<>\"\",教学计划表!N25,\"\")","v":""},0,0]
[{"$f":"IF(教学计划表!N26<>\"\",教学计划表!N26,\"\")","v":""},0,0]
[{"$f":"IF(教学计划表!N27<>\"\",教学计划表!N27,\"\")","v":""},0,0]
[{"$f":"IF(教学计划表!N28<>\"\",教学计划表!N28,\"\")","v":""},0,0]
[{"$f":"IF(教学计划表!N29<>\"\",教学计划表!N29,\"\")","v":""},0,0]
[{"$f":"IF(教学计划表!N30<>\"\",教学计划表!N30,\"\")","v":""},0,0]
[{"$f":"IF(教学计划表!N31<>\"\",教学计划表!N31,\"\")","v":""},0,0]
[{"$f":"IF(教学计划表!N32<>\"\",教学计划表!N32,\"\")","v":""},0,0]
[{"$f":"IF(教学计划表!N33<>\"\",教学计划表!N33,\"\")","v":""},0,0]
[{"$f":"IF(教学计划表!N34<>\"\",教学计划表!N34,\"\")","v":""},0,0]
[{"$f":"IF(教学计划表!N35<>\"\",教学计划表!N35,\"\")","v":""},0,0]
[{"$f":"IF(教学计划表!N36<>\"\",教学计划表!N36,\"\")","v":""},0,0]
[{"$f":"IF(教学计划表!N37<>\"\",教学计划表!N37,\"\")","v":""},0,0]
[{"$f":"IF(教学计划表!N38<>\"\",教学计划表!N38,\"\")","v":""},0,0]
[{"$f":"IF(教学计划表!N39<>\"\",教学计划表!N39,\"\")","v":""},0,0]
[{"$f":"IF(教学计划表!N40<>\"\",教学计划表!N40,\"\")","v":""},0,0]
[{"$f":"IF(教学计划表!N41<>\"\",教学计划表!N41,\"\")","v":""},0,0]
[{"$f":"IF(教学计划表!N42<>\"\",教学计划表!N42,\"\")","v":""},0,0]
[{"$f":"IF(教学计划表!N43<>\"\",教学计划表!N43,\"\")","v":""},0,0]
[{"$f":"IF(教学计划表!N44<>\"\",教学计划表!N44,\"\")","v":""},0,0]
[{"$f":"IF(教学计划表!N45<>\"\",教学计划表!N45,\"\")","v":""},0,0]
[{"$f":"IF(教学计划表!N46<>\"\",教学计划表!N46,\"\")","v":""},0,0]
[{"$f":"IF(教学计划表!N47<>\"\",教学计划表!N47,\"\")","v":""},0,0]
[{"$f":"IF(教学计划表!N48<>\"\",教学计划表!N48,\"\")","v":""},0,0]
[{"$f":"IF(教学计划表!N49<>\"\",教学计划表!N49,\"\")","v":""},0,0]
[{"$f":"IF(教学计划表!N50<>\"\",教学计划表!N50,\"\")","v":""},0,0]
[{"$f":"IF(教学计划表!N51<>\"\",教学计划表!N51,\"\")","v":""},0,0]
[{"$f":"IF(教学计划表!N52<>\"\",教学计划表!N52,\"\")","v":""},0,0]
[{"$f":"IF(教学计划表!N53<>\"\",教学计划表!N53,\"\")","v":""},0,0]
[{"$f":"IF(教学计划表!N54<>\"\",教学计划表!N54,\"\")","v":""},0,0]
[{"$f":"IF(教学计划表!N55<>\"\",教学计划表!N55,\"\")","v":""},0,0]
[{"$f":"IF(教学计划表!N56<>\"\",教学计划表!N56,\"\")","v":""},0,0]
[{"$f":"IF(教学计划表!N57<>\"\",教学计划表!N57,\"\")","v":""},0,0]
[{"$f":"IF(教学计划表!N58<>\"\",教学计划表!N58,\"\")","v":""},0,0]
[{"$f":"IF(教学计划表!N59<>\"\",教学计划表!N59,\"\")","v":""},0,0]
[{"$f":"IF(教学计划表!N60<>\"\",教学计划表!N60,\"\")","v":""},0,0]
[{"$f":"IF(教学计划表!N61<>\"\",教学计划表!N61,\"\")","v":""},0,0]
[{"$f":"IF(教学计划表!N62<>\"\",教学计划表!N62,\"\")","v":""},0,0]
[{"$f":"IF(教学计划表!N63<>\"\",教学计划表!N63,\"\")","v":""},0,0]
[{"$f":"IF(教学计划表!N64<>\"\",教学计划表!N64,\"\")","v":""},0,0]
[{"$f":"IF(教学计划表!N65<>\"\",教学计划表!N65,\"\")","v":""},0,0]
[{"$f":"IF(教学计划表!N66<>\"\",教学计划表!N66,\"\")","v":""},0,0]
[{"$f":"IF(教学计划表!N67<>\"\",教学计划表!N67,\"\")","v":""},0,0]
[{"$f":"IF(教学计划表!N68<>\"\",教学计划表!N68,\"\")","v":""},0,0]
[{"$f":"IF(教学计划表!N69<>\"\",教学计划表!N69,\"\")","v":""},0,0]
[{"$f":"IF(教学计划表!N70<>\"\",教学计划表!N70,\"\")","v":""},0,0]
[{"$f":"IF(教学计划表!N71<>\"\",教学计划表!N71,\"\")","v":""},0,0]
[{"$f":"IF(教学计划表!N72<>\"\",教学计划表!N72,\"\")","v":""},0,0]
[{"$f":"IF(教学计划表!N73<>\"\",教学计划表!N73,\"\")","v":""},0,0]
[{"$f":"IF(教学计划表!N74<>\"\",教学计划表!N74,\"\")","v":""},0,0]
[{"$f":"IF(教学计划表!N75<>\"\",教学计划表!N75,\"\")","v":""},0,0]
[{"$f":"IF(教学计划表!N76<>\"\",教学计划表!N76,\"\")","v":""},0,0]
[{"$f":"IF(教学计划表!N77<>\"\",教学计划表!N77,\"\")","v":""},0,0]
[{"$f":"IF(教学计划表!N78<>\"\",教学计划表!N78,\"\")","v":""},0,0]
[{"$f":"IF(教学计划表!N79<>\"\",教学计划表!N79,\"\")","v":""},0,0]
[{"$f":"IF(教学计划表!N80<>\"\",教学计划表!N80,\"\")","v":""},0,0]
[{"$f":"IF(教学计划表!N81<>\"\",教学计划表!N81,\"\")","v":""},0,0]
[{"$f":"IF(教学计划表!N82<>\"\",教学计划表!N82,\"\")","v":""},0,0]
[{"$f":"IF(教学计划表!N83<>\"\",教学计划表!N83,\"\")","v":""},{"$f":"IF(A67<>\"\",1,0)","v":0},{"$f":"IF(A67<>\"\",C66+B67,C66)","v":0}]
[{"$f":"IF(教学计划表!N84<>\"\",教学计划表!N84,\"\")","v":""},0,0]
[{"$f":"IF(教学计划表!N85<>\"\",教学计划表!N85,\"\")","v":""},0,0]
[{"$f":"IF(教学计划表!N86<>\"\",教学计划表!N86,\"\")","v":""},0,0]